{"text_format":"1","workbook":"xlsx","n_sheets":17,"sheets":["印刷メニュー","コントロールシート","参照シート","表紙","目次","1. BCP基本方針の検討","名簿一覧","2. 災害対策要員名簿","3. 水害リスクの把握","4. 避難の計画","業務","5. 重要業務と必要資源の選定・確認","6. 重要業務継続のための対策","7. BCP発動基準","8. BCPの定着・見直し","9. 備蓄品リスト","10. 資料編"],"not_rendered":{"charts":0,"images":30,"macros":1,"external_links":0,"defined_names":44,"comments":0,"pivot_tables":0},"unopened":[],"bounds":{"document_bytes":16777216,"sheet_cells":100000,"rows_first":2000,"rows_last":500,"rows_between":2000,"halvings":0,"cell_chars":16384,"cell_head_chars":4096},"cells_cut":0,"cells_raw":0,"read":"whole","date_system":"1900"}

{"sheet":"印刷メニュー","index":0,"n_rows":35,"n_cols":21,"rows_kept":35,"cut":false,"hidden":false,"merged":[[3,1,3,10]]}
[]
[null,null,null,null,null,null,null,null,null,null,null,null,null,null,{"$f":"COUNTIF(N:N,TRUE)","v":0}]
[]
[null,"印刷するカテゴリーに チェック を入れてください"]
[]
[]
[null,null,null,"表　紙",null,null,null,null,null,null,null,null,null,{"$f":"IF(B7=\"✓\",TRUE,\"\")","v":""},101,null,null,null,null,"✓","表紙"]
[null,null,null,"目　次",null,null,null,null,null,null,null,null,null,{"$f":"IF(B8=\"✓\",TRUE,\"\")","v":""},102,null,null,null,null,"✓","目次"]
[null,null,null,null,null,null,null,null,null,null,null,null,null,""]
[null,null,"1.","BCP基本方針の検討",null,null,null,null,null,null,1,null,null,"",103,{"$f":"目次!M5","v":2},null,null,null,"✓","1. BCP基本方針の検討"]
[null,null,null,"1.1 計画の目的"]
[null,null,null,"1.2 計画の基本方針"]
[null,null,null,"1.3 計画の適用範囲"]
[null,null,"2.","災害対策要員名簿",null,null,null,null,null,null,{"$f":"SUM($P$2:P13)+1","v":3},null,null,"",104,{"$f":"コントロールシート!AY108+2","v":2},"頁可変",null,null,"✓","2. 災害対策要員名簿"]
[null,null,"3.","水害リスクの把握",null,null,null,null,null,null,{"$f":"SUM($P$2:P14)+1","v":5},null,null,"",105,2,null,null,null,"✓","3. 水害リスクの把握"]
[null,null,"4.","避難の計画",null,null,null,null,null,null,{"$f":"SUM($P$2:P15)+1","v":7},null,null,"",106,2,null,null,null,"✓","4. 避難の計画"]
[null,null,"5.","重要業務と必要資源の選定・確認",null,null,null,null,null,null,{"$f":"SUM($P$2:P16)+1","v":9},null,null,"",107,{"$f":"IF(K_MAX=2,2,3)","v":2},"頁可変",null,null,"✓","5. 重要業務と必要資源の選定・確認"]
[null,null,null,"5.1 重要業務の選定"]
[null,null,null,"5.2 重要業務に必要な資源と想定被害の確認"]
[null,null,"6.","重要業務継続のための対策",null,null,null,null,null,null,{"$f":"SUM($P$2:P19)+1","v":11},null,null,"",108,{"$f":"IF(コントロールシート!AO394<=26,1,2)+1","v":2},"頁可変",null,null,"✓","6. 重要業務継続のための対策"]
[null,null,null,"6.1 対策の検討"]
[null,null,null,"6.2 水災害発生直前の対策"]
[null,null,"7.","BCP発動基準",null,null,null,null,null,null,{"$f":"SUM($P$2:P22)+1","v":13},null,null,"",109,{"$f":"IF(コントロールシート!AO600<=8,0,IF(コントロールシート!AO600<=26,1,2))+2","v":2},"頁可変",null,null,"✓","7. BCP発動基準"]
[null,null,null,"7.1 安全な避難と浸水対策に要する時間"]
[null,null,null,"7.2 BCP発動基準"]
[null,null,"8.","BCPの定着・見直し",null,null,null,null,null,null,{"$f":"SUM($P$2:P25)+1","v":15},null,null,"",110,{"$f":"2+IF(コントロールシート!AP394<=24,1,2)","v":3},"頁可変",null,null,"✓","8. BCPの定着・見直し"]
[null,null,null,"8.1 水防災タイムライン"]
[null,null,null,"8.2 BCPの定着・見直し"]
[null,null,"9.","備蓄品リスト",null,null,null,null,null,null,{"$f":"SUM($P$2:P28)+1","v":18},null,null,"",111,2,null,null,null,"✓","9. 備蓄品リスト"]
[null,null,"10.","資料編",null,null,null,null,null,null,{"$f":"SUM($P$2:P29)+1","v":20},null,null,"",112,{"$f":"IF(コントロールシート!AO464<=10,1,ROUNDUP((コントロールシート!AO464-10)/11,0)+1)","v":1},"頁可変",null,null,"✓","10. 資料編"]
[]
[]
[]
[null,null,null,null,null,null,null,null,null,null,"　　　　　※ 【印刷プレビュー】 ボタンをクリックすると、プレビュー画面が表示されます"]
[null,null,null,null,null,null,null,null,null,null,"※ 印刷する場合はプレビュー画面左上のメニューより 「印刷」 をクリックしてください"]

{"sheet":"コントロールシート","index":1,"n_rows":1223,"n_cols":63,"rows_kept":1223,"cut":false,"hidden":false,"merged":[[353,7,353,34],[597,4,597,36],[681,11,681,20],[681,21,681,22],[681,23,681,24],[681,25,681,29],[681,30,681,32],[681,5,681,10],[658,13,658,25],[677,9,677,10],[68,9,69,12],[78,4,78,22],[1209,5,1209,10],[1209,11,1209,16],[1209,17,1209,25],[1209,26,1209,34],[1202,5,1202,10],[1202,11,1202,16],[1202,17,1202,25],[1202,26,1202,34],[1204,5,1204,6],[1204,7,1204,10],[1204,11,1204,21],[1204,22,1204,34],[1205,5,1205,10],[1205,11,1205,16],[1205,17,1205,25],[1205,26,1205,34],[1206,5,1206,10],[1206,11,1206,16],[1206,17,1206,25],[1206,26,1206,34],[1196,5,1196,6],[1196,7,1196,10],[1196,11,1196,21],[1196,22,1196,34],[1197,5,1197,10],[1197,11,1197,16],[1210,5,1210,10],[1210,11,1210,16],[1210,17,1210,25],[1210,26,1210,34],[1218,5,1218,10],[1218,11,1218,16],[1218,17,1218,25],[1218,26,1218,34],[1212,5,1212,6],[1212,7,1212,10],[1212,11,1212,21],[1212,22,1212,34],[1213,5,1213,10],[1213,11,1213,16],[1213,17,1213,25],[1213,26,1213,34],[1214,5,1214,10],[1214,11,1214,16],[1214,17,1214,25],[1214,26,1214,34],[1216,5,1216,6],[1216,7,1216,10],[1216,11,1216,21],[1216,22,1216,34],[1217,5,1217,10],[1217,11,1217,16],[1217,17,1217,25],[1217,26,1217,34],[1197,17,1197,25],[1197,26,1197,34],[1198,5,1198,10],[1198,11,1198,16],[1198,17,1198,25],[1198,26,1198,34],[1200,5,1200,6],[1200,7,1200,10],[1200,11,1200,21],[1200,22,1200,34],[1201,5,1201,10],[1201,11,1201,16],[1201,17,1201,25],[1201,26,1201,34],[1208,5,1208,6],[1208,7,1208,10],[1208,11,1208,21],[1208,22,1208,34],[1189,5,1189,10],[1189,11,1189,16],[1189,17,1189,25],[1189,26,1189,34],[1190,5,1190,10],[1190,11,1190,16],[1190,17,1190,25],[1190,26,1190,34],[1192,5,1192,6],[1192,7,1192,10],[1192,11,1192,21],[1192,22,1192,34],[1193,5,1193,10],[1193,11,1193,16],[1193,17,1193,25],[1193,26,1193,34],[1194,5,1194,10],[1194,11,1194,16],[1194,17,1194,25],[1194,26,1194,34],[1182,5,1182,10],[1182,11,1182,16],[1182,17,1182,25],[1182,26,1182,34],[1184,5,1184,6],[1184,7,1184,10],[1184,11,1184,21],[1184,22,1184,34],[1185,5,1185,10],[1185,11,1185,16],[1185,17,1185,25],[1185,26,1185,34],[1186,5,1186,10],[1186,11,1186,16],[1186,17,1186,25],[1186,26,1186,34],[1188,5,1188,6],[1188,7,1188,10],[1188,11,1188,21],[1188,22,1188,34],[1176,5,1176,6],[1176,7,1176,10],[1176,11,1176,21],[1176,22,1176,34],[1177,5,1177,10],[1177,11,1177,16],[1177,17,1177,25],[1177,26,1177,34],[1178,5,1178,10],[1178,11,1178,16],[1178,17,1178,25],[1178,26,1178,34],[1180,5,1180,6],[1180,7,1180,10],[1180,11,1180,21],[1180,22,1180,34],[1181,5,1181,10],[1181,11,1181,16],[1181,17,1181,25],[1181,26,1181,34],[1169,5,1169,10],[1169,11,1169,16],[1169,17,1169,25],[1169,26,1169,34],[1170,5,1170,10],[1170,11,1170,16],[1170,17,1170,25],[1170,26,1170,34],[1172,5,1172,6],[1172,7,1172,10],[1172,11,1172,21],[1172,22,1172,34],[1173,5,1173,10],[1173,11,1173,16],[1173,17,1173,25],[1173,26,1173,34],[1174,5,1174,10],[1174,11,1174,16],[1174,17,1174,25],[1174,26,1174,34],[1162,5,1162,10],[1162,11,1162,16],[1162,17,1162,25],[1162,26,1162,34],[1164,5,1164,6],[1164,7,1164,10],[1164,11,1164,21],[1164,22,1164,34],[1165,5,1165,10],[1165,11,1165,16],[1165,17,1165,25],[1165,26,1165,34],[1166,5,1166,10],[1166,11,1166,16],[1166,17,1166,25],[1166,26,1166,34],[1168,5,1168,6],[1168,7,1168,10],[1168,11,1168,21],[1168,22,1168,34],[1156,5,1156,6],[1156,7,1156,10],[1156,11,1156,21],[1156,22,1156,34],[1157,5,1157,10],[1157,11,1157,16],[1157,17,1157,25],[1157,26,1157,34],[1158,5,1158,10],[1158,11,1158,16],[1158,17,1158,25],[1158,26,1158,34],[1160,5,1160,6],[1160,7,1160,10],[1160,11,1160,21],[1160,22,1160,34],[1161,5,1161,10],[1161,11,1161,16],[1161,17,1161,25],[1161,26,1161,34],[1149,5,1149,10],[1149,11,1149,16],[1149,17,1149,25],[1149,26,1149,34],[1150,5,1150,10],[1150,11,1150,16],[1150,17,1150,25],[1150,26,1150,34],[1152,5,1152,6],[1152,7,1152,10],[1152,11,1152,21],[1152,22,1152,34],[1153,5,1153,10],[1153,11,1153,16],[1153,17,1153,25],[1153,26,1153,34],[1154,5,1154,10],[1154,11,1154,16],[1154,17,1154,25],[1154,26,1154,34],[1142,5,1142,10],[1142,11,1142,16],[1142,17,1142,25],[1142,26,1142,34],[1144,5,1144,6],[1144,7,1144,10],[1144,11,1144,21],[1144,22,1144,34],[1145,5,1145,10],[1145,11,1145,16],[1145,17,1145,25],[1145,26,1145,34],[1146,5,1146,10],[1146,11,1146,16],[1146,17,1146,25],[1146,26,1146,34],[1148,5,1148,6],[1148,7,1148,10],[1148,11,1148,21],[1148,22,1148,34],[1136,5,1136,6],[1136,7,1136,10],[1136,11,1136,21],[1136,22,1136,34],[1137,5,1137,10],[1137,11,1137,16],[1137,17,1137,25],[1137,26,1137,34],[1138,5,1138,10],[1138,11,1138,16],[1138,17,1138,25],[1138,26,1138,34],[1140,5,1140,6],[1140,7,1140,10],[1140,11,1140,21],[1140,22,1140,34],[1141,5,1141,10],[1141,11,1141,16],[1141,17,1141,25],[1141,26,1141,34],[1129,5,1129,10],[1129,11,1129,16],[1129,17,1129,25],[1129,26,1129,34],[1130,5,1130,10],[1130,11,1130,16],[1130,17,1130,25],[1130,26,1130,34],[1132,5,1132,6],[1132,7,1132,10],[1132,11,1132,21],[1132,22,1132,34],[1133,5,1133,10],[1133,11,1133,16],[1133,17,1133,25],[1133,26,1133,34],[1134,5,1134,10],[1134,11,1134,16],[1134,17,1134,25],[1134,26,1134,34],[1122,5,1122,10],[1122,11,1122,16],[1122,17,1122,25],[1122,26,1122,34],[1124,5,1124,6],[1124,7,1124,10],[1124,11,1124,21],[1124,22,1124,34],[1125,5,1125,10],[1125,11,1125,16],[1125,17,1125,25],[1125,26,1125,34],[1126,5,1126,10],[1126,11,1126,16],[1126,17,1126,25],[1126,26,1126,34],[1128,5,1128,6],[1128,7,1128,10],[1128,11,1128,21],[1128,22,1128,34],[1116,5,1116,6],[1116,7,1116,10],[1116,11,1116,21],[1116,22,1116,34],[1117,5,1117,10],[1117,11,1117,16],[1117,17,1117,25],[1117,26,1117,34],[1118,5,1118,10],[1118,11,1118,16],[1118,17,1118,25],[1118,26,1118,34],[1120,5,1120,6],[1120,7,1120,10],[1120,11,1120,21],[1120,22,1120,34],[1121,5,1121,10],[1121,11,1121,16],[1121,17,1121,25],[1121,26,1121,34],[1108,7,1108,10],[1108,11,1108,21],[1108,22,1108,34],[1077,11,1077,16],[1077,17,1077,25],[1077,26,1077,34],[1078,5,1078,10],[1078,11,1078,16],[1112,5,1112,6],[1112,7,1112,10],[1112,11,1112,21],[1112,22,1112,34],[1113,5,1113,10],[1113,11,1113,16],[1113,17,1113,25],[1113,26,1113,34],[1114,5,1114,10],[1114,11,1114,16],[1114,17,1114,25],[1114,26,1114,34],[1081,5,1081,10],[1081,11,1081,16],[1081,17,1081,25],[1081,26,1081,34],[1088,5,1088,6],[1088,7,1088,10],[1088,11,1088,21],[1088,22,1088,34],[1092,11,1092,21],[1092,22,1092,34],[1092,5,1092,6],[1092,7,1092,10],[868,11,868,21],[868,22,868,33],[868,34,868,36],[869,5,869,6],[869,7,869,10],[869,11,869,21],[869,22,869,33],[869,34,869,36],[1109,5,1109,10],[1109,11,1109,16],[1109,17,1109,25],[1109,26,1109,34],[1110,5,1110,10],[1110,11,1110,16],[1110,17,1110,25],[1110,26,1110,34],[1073,11,1073,16],[1073,17,1073,25],[1073,26,1073,34],[1074,5,1074,10],[1074,11,1074,16],[1074,17,1074,25],[1082,5,1082,10],[1082,11,1082,16],[1082,17,1082,25],[1082,26,1082,34],[1076,11,1076,21],[1076,22,1076,34],[1076,5,1076,6],[1076,7,1076,10],[1077,5,1077,10],[1108,5,1108,6],[864,5,864,6],[864,7,864,10],[864,11,864,21],[864,22,864,33],[864,34,864,36],[865,5,865,6],[865,7,865,10],[865,11,865,21],[865,22,865,33],[865,34,865,36],[870,5,870,6],[870,7,870,10],[870,11,870,21],[870,22,870,33],[870,34,870,36],[871,5,871,6],[871,7,871,10],[871,11,871,21],[871,22,871,33],[871,34,871,36],[866,5,866,6],[866,7,866,10],[866,11,866,21],[866,22,866,33],[866,34,866,36],[867,5,867,6],[867,7,867,10],[867,11,867,21],[867,22,867,33],[867,34,867,36],[868,5,868,6],[868,7,868,10],[860,5,860,6],[860,7,860,10],[860,11,860,21],[860,22,860,33],[860,34,860,36],[861,5,861,6],[861,7,861,10],[861,11,861,21],[861,22,861,33],[861,34,861,36],[862,5,862,6],[862,7,862,10],[862,11,862,21],[862,22,862,33],[862,34,862,36],[863,5,863,6],[863,7,863,10],[863,11,863,21],[863,22,863,33],[863,34,863,36],[856,5,856,6],[856,7,856,10],[856,11,856,21],[856,22,856,33],[856,34,856,36],[857,5,857,6],[857,7,857,10],[857,11,857,21],[857,22,857,33],[857,34,857,36],[858,5,858,6],[858,7,858,10],[858,11,858,21],[858,22,858,33],[858,34,858,36],[859,5,859,6],[859,7,859,10],[859,11,859,21],[859,22,859,33],[859,34,859,36],[852,5,852,6],[852,7,852,10],[852,11,852,21],[852,22,852,33],[852,34,852,36],[853,5,853,6],[853,7,853,10],[853,11,853,21],[853,22,853,33],[853,34,853,36],[854,5,854,6],[854,7,854,10],[854,11,854,21],[854,22,854,33],[854,34,854,36],[855,5,855,6],[855,7,855,10],[855,11,855,21],[855,22,855,33],[855,34,855,36],[848,5,848,6],[848,7,848,10],[848,11,848,21],[848,22,848,33],[848,34,848,36],[849,5,849,6],[849,7,849,10],[849,11,849,21],[849,22,849,33],[849,34,849,36],[850,5,850,6],[850,7,850,10],[850,11,850,21],[850,22,850,33],[850,34,850,36],[851,5,851,6],[851,7,851,10],[851,11,851,21],[851,22,851,33],[851,34,851,36],[846,5,846,6],[846,7,846,10],[846,11,846,21],[846,22,846,33],[846,34,846,36],[818,34,818,36],[655,36,655,37],[658,5,658,6],[588,4,588,36],[590,22,590,23],[591,22,591,23],[591,26,591,31],[591,32,591,33],[586,36,586,37],[847,5,847,6],[847,7,847,10],[847,11,847,21],[847,22,847,33],[847,34,847,36],[820,34,820,36],[801,36,801,37],[658,9,658,12],[653,4,653,5],[667,36,667,37],[666,36,666,37],[808,10,808,11],[808,6,808,7],[677,5,677,8],[624,4,624,5],[622,4,622,5],[660,5,661,24],[819,5,819,6],[576,4,576,5],[576,6,576,8],[576,9,576,16],[576,17,576,24],[576,25,576,27],[576,28,576,30],[576,31,576,33],[576,34,576,36],[573,4,573,5],[573,6,573,8],[573,9,573,16],[573,17,573,24],[573,25,573,27],[573,28,573,30],[573,31,573,33],[573,34,573,36],[574,4,574,5],[574,6,574,8],[574,9,574,16],[574,17,574,24],[574,25,574,27],[574,28,574,30],[574,31,574,33],[574,34,574,36],[575,4,575,5],[575,6,575,8],[575,9,575,16],[575,17,575,24],[575,25,575,27],[575,28,575,30],[575,31,575,33],[575,34,575,36],[570,4,570,5],[570,6,570,8],[570,9,570,16],[570,17,570,24],[570,25,570,27],[570,28,570,30],[570,31,570,33],[570,34,570,36],[571,4,571,5],[571,6,571,8],[571,9,571,16],[571,17,571,24],[571,25,571,27],[571,28,571,30],[571,31,571,33],[571,34,571,36],[572,4,572,5],[572,6,572,8],[572,9,572,16],[572,17,572,24],[572,25,572,27],[572,28,572,30],[572,31,572,33],[572,34,572,36],[567,4,567,5],[567,6,567,8],[567,9,567,16],[567,17,567,24],[567,25,567,27],[567,28,567,30],[567,31,567,33],[567,34,567,36],[568,4,568,5],[568,6,568,8],[568,9,568,16],[568,17,568,24],[568,25,568,27],[568,28,568,30],[568,31,568,33],[568,34,568,36],[569,4,569,5],[569,6,569,8],[569,9,569,16],[569,17,569,24],[569,25,569,27],[569,28,569,30],[569,31,569,33],[569,34,569,36],[564,4,564,5],[564,6,564,8],[564,9,564,16],[564,17,564,24],[564,25,564,27],[564,28,564,30],[564,31,564,33],[564,34,564,36],[565,4,565,5],[565,6,565,8],[565,9,565,16],[565,17,565,24],[565,25,565,27],[565,28,565,30],[565,31,565,33],[565,34,565,36],[566,4,566,5],[566,6,566,8],[566,9,566,16],[566,17,566,24],[566,25,566,27],[566,28,566,30],[566,31,566,33],[566,34,566,36],[561,4,561,5],[561,6,561,8],[561,9,561,16],[561,17,561,24],[561,25,561,27],[561,28,561,30],[561,31,561,33],[561,34,561,36],[562,4,562,5],[562,6,562,8],[562,9,562,16],[562,17,562,24],[562,25,562,27],[562,28,562,30],[562,31,562,33],[562,34,562,36],[563,4,563,5],[563,6,563,8],[563,9,563,16],[563,17,563,24],[563,25,563,27],[563,28,563,30],[563,31,563,33],[563,34,563,36],[558,4,558,5],[558,6,558,8],[558,9,558,16],[558,17,558,24],[558,25,558,27],[558,28,558,30],[558,31,558,33],[558,34,558,36],[559,4,559,5],[559,6,559,8],[559,9,559,16],[559,17,559,24],[559,25,559,27],[559,28,559,30],[559,31,559,33],[559,34,559,36],[560,4,560,5],[560,6,560,8],[560,9,560,16],[560,17,560,24],[560,25,560,27],[560,28,560,30],[560,31,560,33],[560,34,560,36],[555,4,555,5],[555,6,555,8],[555,9,555,16],[555,17,555,24],[555,25,555,27],[555,28,555,30],[555,31,555,33],[555,34,555,36],[556,4,556,5],[556,6,556,8],[556,9,556,16],[556,17,556,24],[556,25,556,27],[556,28,556,30],[556,31,556,33],[556,34,556,36],[557,4,557,5],[557,6,557,8],[557,9,557,16],[557,17,557,24],[557,25,557,27],[557,28,557,30],[557,31,557,33],[557,34,557,36],[552,34,552,36],[553,4,553,5],[553,6,553,8],[553,9,553,16],[553,17,553,24],[553,25,553,27],[553,28,553,30],[553,31,553,33],[553,34,553,36],[554,4,554,5],[554,6,554,8],[554,9,554,16],[554,17,554,24],[554,25,554,27],[554,28,554,30],[554,31,554,33],[554,34,554,36],[532,25,532,27],[533,25,533,27],[534,25,534,27],[535,25,535,27],[538,9,538,16],[539,9,539,16],[540,9,540,16],[541,9,541,16],[542,9,542,16],[529,17,529,24],[530,17,530,24],[535,17,535,24],[532,17,532,24],[550,28,550,30],[549,9,549,16],[549,17,549,24],[549,25,549,27],[549,28,549,30],[545,28,545,30],[523,4,523,8],[523,9,523,16],[523,17,523,24],[523,25,523,27],[524,25,524,27],[525,25,525,27],[526,25,526,27],[527,25,527,27],[528,25,528,27],[529,25,529,27],[530,25,530,27],[527,6,527,8],[528,6,528,8],[529,6,529,8],[530,6,530,8],[531,6,531,8],[524,6,524,8],[525,6,525,8],[526,6,526,8],[526,9,526,16],[527,9,527,16],[531,17,531,24],[528,9,528,16],[529,9,529,16],[530,9,530,16],[531,9,531,16],[528,4,528,5],[531,25,531,27],[533,6,533,8],[534,6,534,8],[535,6,535,8],[536,6,536,8],[537,6,537,8],[538,6,538,8],[540,6,540,8],[541,6,541,8],[542,6,542,8],[543,6,543,8],[544,6,544,8],[593,26,593,31],[577,17,577,24],[536,25,536,27],[537,25,537,27],[538,25,538,27],[577,6,577,8],[546,9,546,16],[547,9,547,16],[548,9,548,16],[577,9,577,16],[546,25,546,27],[547,25,547,27],[548,25,548,27],[577,25,577,27],[546,17,546,24],[547,17,547,24],[548,17,548,24],[541,31,541,33],[579,25,579,27],[579,28,579,30],[579,31,579,33],[1074,26,1074,34],[1065,5,1065,10],[1065,11,1065,16],[1065,17,1065,25],[1065,26,1065,34],[1066,5,1066,10],[1066,11,1066,16],[1066,17,1066,25],[1066,26,1066,34],[1068,11,1068,21],[1068,22,1068,34],[1068,5,1068,6],[1068,7,1068,10],[1069,5,1069,10],[1069,11,1069,16],[1069,17,1069,25],[1069,26,1069,34],[1070,5,1070,10],[1070,11,1070,16],[1070,17,1070,25],[1070,26,1070,34],[1072,11,1072,21],[1072,22,1072,34],[1072,5,1072,6],[1072,7,1072,10],[1073,5,1073,10],[549,34,549,36],[550,4,550,5],[550,6,550,8],[550,9,550,16],[550,17,550,24],[550,25,550,27],[550,31,550,33],[550,34,550,36],[551,4,551,5],[551,6,551,8],[551,9,551,16],[1078,17,1078,25],[1078,26,1078,34],[1080,11,1080,21],[1080,22,1080,34],[1080,5,1080,6],[1080,7,1080,10],[551,17,551,24],[551,25,551,27],[551,28,551,30],[551,31,551,33],[551,34,551,36],[549,4,549,5],[549,6,549,8],[549,31,549,33],[552,4,552,5],[552,6,552,8],[552,9,552,16],[552,17,552,24],[552,25,552,27],[552,28,552,30],[552,31,552,33],[1060,5,1060,6],[1060,7,1060,10],[1060,11,1060,21],[1060,22,1060,34],[1061,5,1061,10],[1061,11,1061,16],[1061,17,1061,25],[1061,26,1061,34],[1062,5,1062,10],[1062,11,1062,16],[1062,17,1062,25],[1062,26,1062,34],[1064,11,1064,21],[1064,22,1064,34],[1064,5,1064,6],[1064,7,1064,10],[1056,11,1056,21],[1056,22,1056,34],[1056,5,1056,6],[1056,7,1056,10],[1057,5,1057,10],[1057,11,1057,16],[1057,17,1057,25],[1057,26,1057,34],[1058,5,1058,10],[1058,11,1058,16],[1058,17,1058,25],[1058,26,1058,34],[546,4,546,5],[546,28,546,30],[546,31,546,33],[546,34,546,36],[623,4,623,5],[612,4,612,5],[618,4,618,5],[613,4,613,5],[614,4,614,5],[615,4,615,5],[620,4,620,5],[621,4,621,5],[619,4,619,5],[617,6,617,8],[618,6,618,8],[619,6,619,8],[620,6,620,8],[546,6,546,8],[547,6,547,8],[548,6,548,8],[604,4,604,5],[600,17,600,24],[601,17,601,24],[602,17,602,24],[603,17,603,24],[604,17,604,24],[598,4,599,8],[598,9,599,16],[606,4,606,5],[611,4,611,5],[610,4,610,5],[593,32,593,33],[545,34,545,36],[544,4,544,5],[544,28,544,30],[543,4,543,5],[543,28,543,30],[543,31,543,33],[542,4,542,5],[543,34,543,36],[545,9,545,16],[543,25,543,27],[544,25,544,27],[545,25,545,27],[543,17,543,24],[544,17,544,24],[538,31,538,33],[538,34,538,36],[545,17,545,24],[545,6,545,8],[543,9,543,16],[544,9,544,16],[544,34,544,36],[541,25,541,27],[542,25,542,27],[545,4,545,5],[326,4,326,7],[329,4,329,19],[331,12,331,16],[331,17,331,18],[298,36,298,37],[277,14,277,16],[271,5,271,11],[271,14,271,16],[271,26,271,28],[273,5,273,7],[273,10,273,12],[273,14,273,16],[268,36,268,37],[306,9,306,12],[307,9,307,12],[283,5,283,7],[291,5,291,7],[291,10,291,12],[291,14,291,16],[293,5,293,7],[293,10,293,12],[293,14,293,16],[295,5,295,7],[295,10,295,12],[295,14,295,16],[322,7,322,34],[265,6,265,8],[265,9,265,11],[265,12,265,16],[265,17,265,19],[265,20,265,22],[265,27,265,28],[265,31,265,33],[265,34,265,36],[267,22,267,36],[309,16,309,32],[310,16,310,32],[311,16,311,32],[312,16,312,32],[313,16,313,32],[314,16,314,32],[315,16,315,32],[316,16,316,32],[279,14,279,16],[281,5,281,7],[281,10,281,12],[281,14,281,16],[277,10,277,12],[259,31,259,33],[259,34,259,36],[261,34,261,36],[263,6,263,8],[263,9,263,11],[263,12,263,16]],"merged_total":4600,"flags":["merged_cut"]}
[null,null,null,null,null,null,null,null,null,null,null,null,null,null,null,null,null,"▼",null,null,null,"▼",null,null,null,"▼",null,null,null,"▼",null,null,null,"▼"]
[null,null,null,null,null,null,null,null,null,null,null,null,null,null,null,null,null,"①",null,null,null,"②",null,null,null,"③",null,null,null,"④",null,null,null,"⑤",null,null,null,null,"SOL"]
[]
[null,null,null,null,null,null,null,null,null,null,null,null,null,null,null,null,null,null,null,"▼",null,null,null,"▼",null,null,null,"▼",null,null,null,"▼",null,null,null,"▼"]
[null,null,null,null,null,null,null,null,null,null,null,null,null,null,null,null,null,null,null,"⑥",null,null,null,"⑦",null,null,null,"⑧",null,null,null,"⑨",null,null,null,"⑩"]
[null,null,null,null,null,null,null,null,null,null,null,null,null,null,null,null,null,null,null,null,null,null,null,null,null,null,null,null,null,null,null,null,null,null,null,null,null,null,null,"cate","check1","check2","check3","alert","連番1","連番2","連番3","連番4","連番5","参考値1","参考値2","参考値3","参考値4","参考値5",null,null,null,"表示flag1","表示flag2"]
[null,null,null,"「使用上の注意」",null,null,null,null,null,null,null,null,null,null,null,null,null,null,null,null,null,null,null,null,null,null,null,null,null,null,null,null,null,null,null,null,null,null,null,null,null,null,null,null,null,null,null,null,null,null,null,null,null,null,null,null,null,1,1]
[null,null,null,"① 本ツールは、水害版BCPを普及させるための無料の支援ツールです。そのため、本ツール利用による損害等や計画した内容に関する損害等の責任は負いかねます。\n② 法改正等に伴い必要に応じて修正をしてください。\n③ コントロールシートに必要事項を記入すると、内容が反映され、各施設の水害版BCPとなります。\n④ 記入にあたっては、別添 「水害版BCP作成の手引き」 を参照しながら作成してください。",null,null,null,null,null,null,null,null,null,null,null,null,null,null,null,null,null,null,null,null,null,null,null,null,null,null,null,null,null,null,null,null,null,null,null,null,null,null,null,null,null,null,null,null,null,null,null,null,null,null,null,null,null,1,1]
[null,null,null,"上記使用上の注意をご理解頂いた場合は、 【同意する】 を選択してください。",null,null,null,null,null,null,null,null,null,null,null,null,null,null,null,null,null,null,null,null,null,null,null,null,null,null,null,null,null,null,null,null,null,null,null,null,null,null,null,null,null,null,null,null,null,null,null,null,null,null,null,null,null,1,1]
[null,null,null,null,null,null,{"$f":"IF(AO10=\"有\",\"\",\"◯\")","v":"◯"}," 同意する",null,null,null,{"$f":"IF(AO10=\"無\",\"\",\"◯\")","v":""}," 同意しません",null,null,null,null,null,null,null,null,null,null,null,null,null,null,null,null,null,null,null,null,null,null,null,null,null,null,null,"無",null,null,null,null,null,null,null,null,null,null,null,null,null,null,null,null,1,1]
[null,null,null,null,null,null,null,null,null,null,null,null,null,null,null,null,null,null,null,null,null,null,null,null,null,null,null,null,null,null,null,null,null,null,null,null,null,null,null,null,null,null,null,null,null,null,null,null,null,null,null,null,null,null,null,null,null,1,1]
[null,null,null,"使用上の注意に同意した場合、以下に記入に必要なフォームが表示されます。",null,null,null,null,null,null,null,null,null,null,null,null,null,null,null,null,null,null,null,null,null,null,null,null,null,null,null,null,null,null,null,null,null,null,null,null,null,null,null,null,null,null,null,null,null,null,null,null,null,null,null,null,null,1,1]
[null,null,null,null,null,null,null,null,null,null,null,null,null,null,null,null,null,null,null,null,null,null,null,null,null,null,null,null,null,null,null,null,null,null,null,null,null,null,null,null,null,null,null,null,null,null,null,null,null,null,null,null,null,null,null,null,null,1,1]
[null,null,null,"作成者記入欄\n※各企業にて、ご確認の上、ご記入ください。",null,null,null,null,null,null,null,null,null,null,null,null,null,null,null,null,null,null,null,null,null,null,null,null,null,null,null,null,null,null,null,null,null,null,null,null,null,null,null,null,null,null,null,null,null,null,null,null,null,null,null,null,null,1,"SOL"]
[null,null,null,null,"●BCPが対象とする施設が位置する市町を記入してください",null,null,null,null,null,null,null,null,null,null,null,null,null,null,null,null,null,null,null,null,null,null,null,null,null,null,null,null,null,null,null,null,null,null,null,null,null,null,null,null,null,null,null,null,null,null,null,null,null,null,null,null,1]
[null,null,null,null,null,null,"名古屋市（中村区）",null,null,null,null,null,null,null,null,null,null,null,null,null,null,null,null,null,null,null,null,null,null,null,null,null,null,null,null,null,null,null,null,null,null,null,null,null,null,null,null,null,null,null,null,null,null,null,null,null,null,1]
[null,null,null,null,null,null,null,null,null,null,null,null,null,null,null,null,null,null,null,null,null,null,null,null,null,null,null,null,null,null,null,null,null,null,null,null,null,null,null,null,null,null,null,null,null,null,null,null,null,null,null,null,null,null,null,null,null,1]
[null,null,null,"表紙",null,null,null,null,null,null,null,null,null,null,null,null,null,null,null,null,null,null,null,null,null,null,null,null,null,null,null,null,null,null,null,null,null,null,null,null,null,null,null,null,null,null,null,null,null,null,null,null,null,null,null,null,null,1]
[null,null,null,null,null,null,null,null,null,null,null,null,null,null,null,null,null,null,null,null,null,null,null,null,null,null,null,null,null,null,null,null,null,null,null,null,null,null,null,null,null,null,null,null,null,null,null,null,null,null,null,null,null,null,null,null,null,1]
[null,null,null,null,"企業名：",null,"流域治水運輸（株）",null,null,null,null,null,null,null,null,null,null,null,null,null,null,null,null,null,null,null,null,null,null,null,null,null,null,null,null,null,null,null,null,null,null,null,null,null,null,null,null,null,null,null,null,null,null,null,null,null,null,1]
[null,null,null,null,null,null,2022,null,"年",11,null,"月　作成",null,null,null,null,null,null,null,null,null,null,null,null,null,null,null,null,null,null,null,null,null,null,null,null,null,null,null,null,null,null,null,null,null,null,null,null,null,null,null,null,null,null,null,null,null,1]
[null,null,null,null,null,null,null,null,null,null,null,null,null,null,null,null,null,null,null,null,null,null,null,null,null,null,null,null,null,null,null,null,null,null,null,null,null,null,null,null,null,null,null,null,null,null,null,null,null,null,null,null,null,null,null,null,null,1]
[null,null,null,"1. BCP基本方針の検討",null,null,null,null,null,null,null,null,null,null,null,null,null,null,null,null,null,null,null,null,null,null,null,null,null,null,null,null,null,null,null,null,null,null,null,"①",null,null,null,null,null,null,null,null,null,null,null,null,null,null,null,null,null,1]
[null,null,null,"1.1 計画の目的",null,null,null,null,null,null,null,null,null,null,null,null,null,null,null,null,null,null,null,null,null,null,null,null,null,null,null,null,null,null,null,null,null,null,null,null,null,null,null,null,null,null,null,null,null,null,null,null,null,null,null,null,null,1]
[null,null,null,null,"計画の目的の記入例を以下に示しています。内容をご確認いただき、問題がなければ、チェックボックスにチェックを入れてください。\n独自に目的を定める場合は、記入欄に記入してください。\n　※ チェックを入れ、かつ＜独自に定める場合＞に記入した場合、補足事項として追記されます",null,null,null,null,null,null,null,null,null,null,null,null,null,null,null,null,null,null,null,null,null,null,null,null,null,null,null,null,null,null,null,null,null,null,null,null,null,null,null,null,null,null,null,null,null,null,null,null,null,null,null,null,1]
[null,null,null,null,null,"✓","本計画は、水災害の発生時においても、従業員の安全を確保しつつ、自社の事業を継続することを目的として策定したものである。",null,null,null,null,null,null,null,null,null,null,null,null,null,null,null,null,null,null,null,null,null,null,null,null,null,null,null,null,null,null,null,null,null,{"$f":"IF(F26<>\"\",TRUE,\"\")","v":true},null,null,null,null,null,null,null,null,null,null,null,null,null,null,null,null,1]
[null,null,null,null,null,"＜独自に定める場合＞",null,null,null,null,null,null,null,null,null,null,null,null,null,null,null,null,null,null,null,null,null,null,null,null,null,null,null,null,null,null,null,null,null,null,null,null,null,null,null,null,null,null,null,null,null,null,null,null,null,null,null,1]
[null,null,null,null,null,null,null,null,null,null,null,null,null,null,null,null,null,null,null,null,null,null,null,null,null,null,null,null,null,null,null,null,null,null,null,null,null,null,null,null,null,null,null,null,null,null,null,null,null,null,null,null,null,null,null,null,null,1]
[null,null,null,null,null,null,null,null,null,null,null,null,null,null,null,null,null,null,null,null,null,null,null,null,null,null,null,null,null,null,null,null,null,null,null,null,null,null,null,null,null,null,null,null,null,null,null,null,null,null,null,null,null,null,null,null,null,1]
[null,null,null,"1.2 計画の基本方針",null,null,null,null,null,null,null,null,null,null,null,null,null,null,null,null,null,null,null,null,null,null,null,null,null,null,null,null,null,null,null,null,null,null,null,null,null,null,null,null,null,null,null,null,null,null,null,null,null,null,null,null,null,1]
[null,null,null,null,"計画の基本方針の記入例を以下に示しています。内容をご確認いただき、問題がなければ、チェックボックスにチェックを入れてください。\n独自に基本方針を定める場合は、記入欄に記入してください。\n　※ チェックを入れ、かつ＜独自に定める場合＞に記入した場合、補足事項として追記されます",null,null,null,null,null,null,null,null,null,null,null,null,null,null,null,null,null,null,null,null,null,null,null,null,null,null,null,null,null,null,null,null,null,null,null,null,null,null,null,null,null,null,null,null,null,null,null,null,null,null,null,null,1]
[null,null,null,null,null,"✓","人命（従業員・顧客）の安全を守る。",null,null,null,null,null,null,null,null,null,null,null,null,null,null,null,null,null,null,null,null,null,null,null,null,null,null,null,null,null,null,null,null,null,{"$f":"IF(F32<>\"\",TRUE,\"\")","v":true},null,null,null,null,null,null,null,null,null,null,null,null,null,null,null,null,1]
[null,null,null,null,null,null,"自社の経営を維持する。",null,null,null,null,null,null,null,null,null,null,null,null,null,null,null,null,null,null,null,null,null,null,null,null,null,null,null,null,null,null,null,null,null,"",null,null,null,null,null,null,null,null,null,null,null,null,null,null,null,null,1]
[null,null,null,null,null,"✓","顧客からの信用を守る。",null,null,null,null,null,null,null,null,null,null,null,null,null,null,null,null,null,null,null,null,null,null,null,null,null,null,null,null,null,null,null,null,null,true,null,null,null,null,null,null,null,null,null,null,null,null,null,null,null,null,1]
[null,null,null,null,null,null,"供給責任を果たし、従業員の雇用を守る。",null,null,null,null,null,null,null,null,null,null,null,null,null,null,null,null,null,null,null,null,null,null,null,null,null,null,null,null,null,null,null,null,null,"",null,null,null,null,null,null,null,null,null,null,null,null,null,null,null,null,1]
[null,null,null,null,null,"✓","地域経済の基盤強靭化に寄与する。",null,null,null,null,null,null,null,null,null,null,null,null,null,null,null,null,null,null,null,null,null,null,null,null,null,null,null,null,null,null,null,null,null,true,null,null,null,null,null,null,null,null,null,null,null,null,null,null,null,null,1]
[null,null,null,null,null,"＜独自に定める場合＞",null,null,null,null,null,null,null,null,null,null,null,null,null,null,null,null,null,null,null,null,null,null,null,null,null,null,null,null,null,null,null,null,null,null,null,null,null,null,null,null,null,null,null,null,null,null,null,null,null,null,null,1]
[null,null,null,null,null,null,null,null,null,null,null,null,null,null,null,null,null,null,null,null,null,null,null,null,null,null,null,null,null,null,null,null,null,null,null,null,null,null,null,null,{"$f":"IF(F38=\"\",\"\",TRUE)","v":""},null,null,null,null,null,null,null,null,null,null,null,null,null,null,null,null,1]
[null,null,null,null,null,null,null,null,null,null,null,null,null,null,null,null,null,null,null,null,null,null,null,null,null,null,null,null,null,null,null,null,null,null,null,null,null,null,null,null,null,null,null,null,null,null,null,null,null,null,null,null,null,null,null,null,null,1]
[null,null,null,"1.3 計画の適用範囲",null,null,null,null,null,null,null,null,null,null,null,null,null,null,null,null,null,null,null,null,null,null,null,null,null,null,null,null,null,null,null,null,null,null,null,null,null,null,null,null,null,null,null,null,null,null,null,null,null,null,null,null,null,1]
[null,null,null,null,null,null,null,null,null,null,null,null,null,null,null,null,null,null,null,null,null,null,null,null,null,null,null,null,null,null,null,null,null,null,null,null,null,null,null,null,null,null,null,null,null,null,null,null,null,null,null,null,null,null,null,null,null,1]
[null,null,null,null,"この計画は、御社に勤務又は利用する全ての方に適用するものとします。",null,null,null,null,null,null,null,null,null,null,null,null,null,null,null,null,null,null,null,null,null,null,null,null,null,null,null,null,null,null,null,null,null,null,null,null,null,null,null,null,null,null,null,null,null,null,null,null,null,null,null,null,1]
[null,null,null,null,"この計画は、河川氾濫が発生する恐れがあるときに適用するものであり、高潮や津波、土砂災害などその他の災害は対象外とします。",null,null,null,null,null,null,null,null,null,null,null,null,null,null,null,null,null,null,null,null,null,null,null,null,null,null,null,null,null,null,null,null,null,null,null,null,null,null,null,null,null,null,null,null,null,null,null,null,null,null,null,null,1]
[null,null,null,null,null,"●社内状況",null,null,null,null,null,null,null,null,null,null,null,null,null,null,null,null,null,null,null,null,null,null,null,null,null,null,null,null,null,null,null,null,null,null,null,null,null,null,null,null,null,null,null,null,null,null,null,null,null,null,null,1]
[null,null,null,null,null,"昼間　利用者",null,null,null,"約","0",null,"名",null,null,null,null,null,null,null,null,null,null,null,null,null,null,null,null,null,null,null,null,null,null,null,null,null,null,null,null,null,null,null,null,null,null,null,null,null,null,null,null,null,null,null,null,1]
[null,null,null,null,null,"昼間　従業員",null,null,null,"約","10",null,"名","※従業員数が日によって変化する場合は、危険側（対応できる人数が最も少ない人数）を想定し、記入してください。",null,null,null,null,null,null,null,null,null,null,null,null,null,null,null,null,null,null,null,null,null,null,null,null,null,null,null,null,null,null,null,null,null,null,null,null,null,null,null,null,null,null,null,1]
[null,null,null,null,null,"夜間　利用者",null,null,null,"約","0",null,"名",null,null,null,null,null,null,null,null,null,null,null,null,null,null,null,null,null,null,null,null,null,null,null,null,null,null,null,null,null,null,null,null,null,null,null,null,null,null,null,null,null,null,null,null,1]
[null,null,null,null,null,"夜間　従業員",null,null,null,"約","0",null,"名",null,null,null,null,null,null,null,null,null,null,null,null,null,null,null,null,null,null,null,null,null,null,null,null,null,null,null,null,null,null,null,null,null,null,null,null,null,null,null,null,null,null,null,null,1]
[null,null,null,null,null,"休日　利用者",null,null,null,"約",null,null,"名","※休日に利用者数が大きく変化する場合は記入してください。",null,null,null,null,null,null,null,null,null,null,null,null,null,null,null,null,null,null,null,null,null,null,null,null,null,null,null,null,null,null,null,null,null,null,null,null,null,null,null,null,null,null,null,1]
[null,null,null,null,null,"休日　従業員",null,null,null,"約",null,null,"名","※休日に従業員数が大きく変化する場合は記入してください。",null,null,null,null,null,null,null,null,null,null,null,null,null,null,null,null,null,null,null,null,null,null,null,null,null,null,null,null,null,null,null,null,null,null,null,null,null,null,null,null,null,null,null,1]
[null,null,null,null,null,null,null,null,null,null,null,null,null,null,null,null,null,null,null,null,null,null,null,null,null,null,null,null,null,null,null,null,null,null,null,null,null,null,null,null,null,null,null,null,null,null,null,null,null,null,null,null,null,null,null,null,null,1]
[null,null,null,null,null,"（",2022,null,"年",11,null,"月",1,null,"日付）",null,null,null,null,null,null,null,null,null,null,null,null,null,null,null,null,null,null,null,null,null,null,null,null,null,null,null,null,null,null,null,null,null,null,null,null,null,null,null,null,null,null,1]
[null,null,null,null,null,null,null,null,null,null,null,null,null,null,null,null,null,null,null,null,null,null,null,null,null,null,null,null,null,null,null,null,null,null,null,null,null,null,null,null,null,null,null,null,null,null,null,null,null,null,null,null,null,null,null,null,null,1]
[null,null,null,null,null,"●臨時休業の判断について",null,null,null,null,null,null,null,null,null,null,null,null,null,null,null,null,null,null,null,null,null,null,null,null,null,null,null,null,null,null,null,null,null,null,null,null,null,null,null,null,null,null,null,null,null,null,null,null,null,null,null,1]
[null,null,null,null,null,null,"※警戒レベルについての詳細は気象庁の 「防災気象情報と警戒レベルとの対応について」 を参照してください。（QRコード①）",null,null,null,null,null,null,null,null,null,null,null,null,null,null,null,null,null,null,null,null,null,null,null,null,null,null,null,null,null,null,null,null,null,null,null,null,null,null,null,null,null,null,null,null,null,null,null,null,null,null,1]
[null,null,null,null,null,"✓","勢力の強い台風の接近が予想され、公共交通機関の計画運休が予期される場合は、臨時休業とする。",null,null,null,null,null,null,null,null,null,null,null,null,null,null,null,null,null,null,null,null,null,null,null,null,null,null,null,null,null,null,null,null,null,{"$f":"IF(F56<>\"\",TRUE,\"\")","v":true},null,null,null,null,null,null,null,null,null,null,null,null,null,null,null,null,1]
[null,null,null,null,null,"✓","午前",8,null,"時の時点で、",null,null,"名古屋市（中村区）",null,null,null,"に","警戒レベル３",null,null," 相当以上が発令されている場合は、臨時休業とする。",null,null,null,null,null,null,null,null,null,null,null,null,null,null,null,null,null,null,null,true,null,null,null,null,null,null,null,null,null,null,null,null,null,null,null,null,1]
[null,null,null,null,null,null,null,null,null,null,null,null,null,null,null,null,null,null,null,null,null,null,null,null,null,null,null,null,null,null,null,null,null,null,null,null,null,null,null,null,null,null,null,null,null,null,null,null,null,null,null,null,null,null,null,null,null,1]
[null,null,null,null,null,null,"その他",null,null,null,null,null,null,null,null,null,null,null,null,null,null,null,null,null,null,null,null,null,null,null,null,null,null,null,null,null,null,null,null,null,{"$f":"IF(F59<>\"\",TRUE,\"\")","v":""},null,null,null,null,null,null,null,null,null,null,null,null,null,null,null,null,1]
[null,null,null,null,null,null,null,null,null,null,null,null,null,null,null,null,null,null,null,null,null,null,null,null,null,null,null,null,null,null,null,null,null,null,null,null,null,null,null,null,null,null,null,null,null,null,null,null,null,null,null,null,null,null,null,null,null,1]
[null,null,null,"2. 体制の検討",null,null,null,null,null,null,null,null,null,null,null,null,null,null,null,null,null,null,null,null,null,null,null,null,null,null,null,null,null,null,null,null,null,null,null,"②",null,null,null,null,null,null,null,null,null,null,null,null,null,null,null,null,null,1]
[null,null,null,"2.1 災害対策要員名簿",null,null,null,null,null,null,null,null,null,null,null,null,null,null,null,null,null,null,null,null,null,null,null,null,null,null,null,null,null,null,null,null,null,null,null,null,null,null,null,null,null,null,null,null,null,null,null,null,null,null,null,null,null,0]
[null,null,null,null,null,null,null,null,null,null,null,null,null,null,null,null,null,null,null,null,null,null,null,null,null,null,null,null,null,null,null,null,null,null,null,null,null,null,null,null,null,null,null,null,null,null,null,null,null,null,null,null,null,null,null,null,null,1]
[null,null,null,null,"御社の対策要員の状況（対策要員数・災害対策本部人員数）について整理してください。",null,null,null,null,null,null,null,null,null,null,null,null,null,null,null,null,null,null,null,null,null,null,null,"災害対策本部役職\n（左：本部役職、右：代替職（者））",null,null,null,null,null,null,null,null,null,null,null,null,null,null,null,null,null,null,null,null,null,null,null,null,null,null,null,null,1]
[null,null,null,null,"地震版BCPなど、他の計画を作成している場合はそれに準じることも可能です。",null,null,null,null,null,null,null,null,null,null,null,null,null,null,null,null,null,null,null,"班名",null,null,null,null,null,null,null,null,null,null,null,null,null,null,null,null,null,null,null,null,null,null,null,null,null,null,null,null,null,null,null,null,1]
[null,null,null,null,"※ その場合は、他の計画の内容をもとに記入してください。",null,null,null,null,null,null,null,null,null,null,null,null,null,null,null,null,null,null,null,null,null,null,null,"本部長",null,null,null,null,"副本部長",null,null,null,null,null,null,null,null,null,null,null,null,null,null,null,null,null,null,null,null,null,null,null,1]
[null,null,null,null,null,null,null,null,null,null,null,null,null,null,null,null,null,null,null,null,null,null,null,null,null,null,null,null,"副本部長",null,null,null,null,"総務班長",null,null,null,null,null,null,null,null,null,null,null,null,null,null,null,null,null,null,null,null,null,null,null,1]
[null,null,null,null,null,null,null,null,null,null,null,null,null,null,null,null,null,null,null,null,null,null,null,null,"総務班",null,null,null,"総務班長",null,null,null,null,null,null,null,null,null,null,null,null,null,null,null,null,null,null,null,null,null,null,null,null,null,null,null,null,1]
[null,null,null,null,null,"名簿作成年月日",null,null,null,"2022/11/1",null,null,null,null,null,null,null,null,null,null,null,null,null,null,"情報収集班",null,null,null,"情報収集班長",null,null,null,null,null,null,null,null,null,null,null,null,null,null,null,null,null,null,null,null,null,null,null,null,null,null,null,null,1]
[null,null,null,null,null,null,null,null,null,null,null,null,null,null,null,null,null,null,null,null,null,null,null,null,"広報班",null,null,null,"広報班長",null,null,null,null,null,null,null,null,null,null,null,null,null,null,null,null,null,null,null,null,null,null,null,null,null,null,null,null,1]
[null,null,null,null,null,null,null,null,null,null,null,null,null,null,null,null,null,null,null,null,null,null,null,null,"復旧対策班",null,null,null,"復旧対策班長",null,null,null,null,null,null,null,null,null,null,null,null,null,null,null,null,null,null,null,null,null,null,null,null,null,null,null,null,1]
[null,null,null,null,"下記名簿は、災害対策本部で従事する対策要員の情報を記入するためのものです。",null,null,null,null,null,null,null,null,null,null,null,null,null,null,null,null,null,null,null,"安否確認班",null,null,null,"安否確認班長",null,null,null,null,null,null,null,null,null,null,null,null,null,null,null,null,null,null,null,null,null,null,null,null,null,null,null,null,1]
[null,null,null,null,"　※ 本名簿は150名まで記入できますが、上限を超える場合は別途個別に作成してください。",null,null,null,null,null,null,null,null,null,null,null,null,null,null,null,null,null,null,null,"システム班",null,null,null,"システム班長",null,null,null,null,null,null,null,null,null,null,null,null,null,null,null,null,null,null,null,null,null,null,null,null,null,null,null,null,1]
[null,null,null,null,"災害対策本部に従事しない従業員名簿（緊急連絡先名簿など）は、既に作成済みの場合が多いと",null,null,null,null,null,null,null,null,null,null,null,null,null,null,null,null,null,null,null,"顧客対応班",null,null,null,"顧客対応班長",null,null,null,null,null,null,null,null,null,null,null,null,null,null,null,null,null,null,null,null,null,null,null,null,null,null,null,null,1]
[null,null,null,null,"想定されるため、別途管理してください。",null,null,null,null,null,null,null,null,null,null,null,null,null,null,null,null,null,null,null,"避難誘導班",null,null,null,"避難誘導班長",null,null,null,null,null,null,null,null,null,null,null,null,null,null,null,null,null,null,null,null,null,null,null,null,null,null,null,null,1]
[null,null,null,null,"　※ 総従業員数が150名以下の場合は、従業員名簿として使用しても構いません。",null,null,null,null,null,null,null,null,null,null,null,null,null,null,null,null,null,null,null,null,null,null,null,null,null,null,null,null,null,null,null,null,null,null,null,null,null,null,"※左の欄で設定した従業員数と下記の従業員名簿の人数が整合していません。",null,null,null,null,null,null,null,null,null,null,null,null,null,1]
[null,null,null,null,"災害対策本部の役職を兼務する場合は、下の行に 「役職者名」 と 「所属」 を同じ内容で記入し，",null,null,null,null,null,null,null,null,null,null,null,null,null,null,null,null,null,null,null,null,null,null,null,null,null,null,null,null,null,null,null,null,null,null,null,null,null,null,"※左の欄で設定した従業員数と下記の従業員名簿の人数は整合しています。",null,null,null,null,null,null,null,null,null,null,null,null,null,1]
[null,null,null,null,"「災害対策本部役職」 に追加する兼務役職を選択して下さい。",null,null,null,null,null,null,null,null,null,null,null,null,null,null,null,null,null,null,null,"※これらの役職は、地震BCPなどを参考に必要に応じて書き換えてください",null,null,null,null,null,null,null,null,null,null,null,null,null,null,null,null,null,null,null,null,null,null,null,null,null,null,null,null,null,null,null,null,1]
[null,null,null,null,"　※ 各対策班に所属する対策要員は 「災害対策本部要員」 右下の [追加] ボタンを押すごとに\n　　　30名分ずつ表が作成されます。（最大150名分まで）",null,null,null,null,null,null,null,null,null,null,null,null,null,null,null,null,null,null,null,null,null,null,null,null,null,null,null,null,null,null,null,null,null,null,null,null,null,null,null,null,null,null,null,null,null,null,null,null,null,null,null,null,1]
[null,null,null,null,"　　",null,null,null,null,null,null,null,null,null,null,null,null,null,null,null,null,null,null,null,null,null,null,null,null,null,null,null,null,null,null,null,null,null,null,null,null,null,null,"※左の欄で設定した災害対策本部人員数と下記の従業員名簿の災害対策本部役職の人数が整合していません。",null,null,null,null,null,null,null,null,null,null,null,null,null,1]
[null,null,null,null,null,null,"※ ここでの下記従業員数とは全社員ということではなく　　　従業員数＝災害対策本部 [役職者] 人員数（上の表）＋ 緊急時対応従業員 [班所属員] 人員数（下の表）",null,null,null,null,null,null,null,null,null,null,null,null,null,null,null,null,null,null,null,null,null,null,null,null,null,null,null,null,null,null,null,null,null,null,null,null,"※左の欄で設定した災害対策本部人員数と下記の従業員名簿の災害対策本部役職の人数は整合しています。",null,null,null,null,null,null,null,null,null,null,null,null,null,0]
[null,null,null,null,null,"従業員数",null,null,null,"人","災害対策本部人員数\n（BCP体制に必要な人員）",null,null,null,null,null,null,"人",{"$f":"IF($H$82<>$AX$83,$AR$76,IF($H$82=$AX$83,$AR$77))","v":"※左の欄で設定した従業員数と下記の従業員名簿の人数が整合していません。"},null,null,null,null,null,null,null,null,null,null,null,null,null,null,null,null,null,null,null,null,null,null,null,null,null,null,null,null,null,null,null,null,null,null,null,null,null,null,0]
[null,null,null,null,null,null,null,null,null,null,null,null,null,null,null,null,null,null,{"$f":"IF($P$82<>$AY$83,$AR$80,IF($P$82=$AY$83,$AR$81))","v":"※左の欄で設定した災害対策本部人員数と下記の従業員名簿の災害対策本部役職の人数が整合していません。"},null,null,null,null,null,null,null,null,null,null,null,null,null,null,null,null,null,null,null,null,null,null,null,null,null,null,null,null,null,null,{"$f":"COUNTA($G$87:$I$106,G109:I138,G141:I170,G173:I202,G205:I234,G237:I266)","v":12},{"$f":"COUNTA($AF$87:$AF$106)","v":10},null,null,null,null,null,null,0]
[null,null,null,null,null,null,null,null,null,null,null,null,null,null,null,null,null,null,null,null,null,null,null,null,null,null,null,null,null,null,null,null,null,null,null,null,null,null,null,null,null,null,null,null,null,null,null,null,null,null,null,null,null,null,null,null,null,1]
[null,null,null,null,null,null,null,null,null,null,null,null,null,null,null,null,null,null,null,null,null,null,null,null,null,null,null,null,null,null,null,null,null,null,null,"※「非常時参集手段」 で [徒歩] を選んだ場合 時速5キロ、[自転車] の場合は 時速10キロで換算し、「非常時参集時間」 に算出します",null,null,null,null,null,null,null,null,null,null,null,null,null,null,null,null,null,null,null,null,null,1]
[null,null,null,null,null,null,"災害対策本部\n役職者",null,null,"所属（役職）",null,null,"住所",null,null,null,null,"電話番号",null,null,"緊急連絡先",null,null,"勤務先まで\nの距離",null,"通常の\n通勤時間",null,"非常時\n参集手段",null,"非常時\n参集時間",null,"災害対策\n本部役職",null,null,"代替者",null,null,null,null,null,null,null,null,null,null,null,null,null,null,null,null,null,null,null,null,null,null,1]
[null,null,null,null,null,1,"流域　太郎",null,null,"社長",null,null,"名古屋市中村区・・・",null,null,null,null,"052-XXXX-XXXX",null,null,"070-YYYY-YYYY",null,null,1,"km",null,"ｈ","徒歩",null,{"$f":"IF(AB87=\"\",\"\",IF(AB87=\"徒歩\",(X87/5),IF(AB87=\"自転車\",(X87/10))))","v":0.2},"ｈ","本部長",null,null,{"$f":"IFERROR(VLOOKUP(AF87,$AC$66:$AK$77,6,FALSE)&\"\",\"\")","v":"副本部長"},null,null,null,null,null,null,null,null,null,null,null,null,null,null,null,null,null,null,null,null,null,null,1]
[null,null,null,null,null,2,"流域　一郎",null,null,"専務",null,null,"名古屋市中村区・・・",null,null,null,null,"052-XXXX-XXXX",null,null,"070-YYYY-YYYY",null,null,1.5,"km",null,"ｈ","徒歩",null,{"$f":"IF(AB88=\"\",\"\",IF(AB88=\"徒歩\",(X88/5),IF(AB88=\"自転車\",(X88/10))))","v":0.3},"ｈ","副本部長",null,null,{"$f":"IFERROR(VLOOKUP(AF88,$AC$66:$AK$77,6,FALSE)&\"\",\"\")","v":"総務班長"},null,null,null,null,null,null,null,null,null,null,null,null,null,null,null,null,null,null,null,null,null,null,1]
[null,null,null,null,null,3,"流域　次郎",null,null,"常務",null,null,"名古屋市中村区・・・",null,null,null,null,"052-XXXX-XXXX",null,null,"070-YYYY-YYYY",null,null,3,"km",null,"ｈ","徒歩",null,{"$f":"IF(AB89=\"\",\"\",IF(AB89=\"徒歩\",(X89/5),IF(AB89=\"自転車\",(X89/10))))","v":0.6},"ｈ","総務班長",null,null,"",null,null,null,null,null,null,null,null,null,null,null,null,null,null,null,null,null,null,null,null,null,null,1]
[null,null,null,null,null,4,"流域　三郎",null,null,"総務部長",null,null,"名古屋市中村区・・・",null,null,null,null,"052-XXXX-XXXX",null,null,"070-YYYY-YYYY",null,null,8,"km",null,"ｈ","自転車",null,{"$f":"IF(AB90=\"\",\"\",IF(AB90=\"徒歩\",(X90/5),IF(AB90=\"自転車\",(X90/10))))","v":0.8},"ｈ","情報収集班長",null,null,"",null,null,null,null,null,null,null,null,null,null,null,null,null,null,null,null,null,null,null,null,null,null,1]
[null,null,null,null,null,5,"流域　四郎",null,null,"人事部長",null,null,"名古屋市中村区・・・",null,null,null,null,"052-XXXX-XXXX",null,null,"070-YYYY-YYYY",null,null,2.5,"km",null,"ｈ","徒歩",null,{"$f":"IF(AB91=\"\",\"\",IF(AB91=\"徒歩\",(X91/5),IF(AB91=\"自転車\",(X91/10))))","v":0.5},"ｈ","広報班長",null,null,"",null,null,null,null,null,null,null,null,null,null,null,null,null,null,null,null,null,null,null,null,null,null,1]
[null,null,null,null,null,6,"流域　五郎",null,null,"管理部長",null,null,"名古屋市中村区・・・",null,null,null,null,"052-XXXX-XXXX",null,null,"070-YYYY-YYYY",null,null,5,"km",null,"ｈ","自転車",null,{"$f":"IF(AB92=\"\",\"\",IF(AB92=\"徒歩\",(X92/5),IF(AB92=\"自転車\",(X92/10))))","v":0.5},"ｈ","復旧対策班長",null,null,"",null,null,null,null,null,null,null,null,null,null,null,null,null,null,null,null,null,null,null,null,null,null,1]
[null,null,null,null,null,7,"流域　六郎",null,null,"法務部長",null,null,"名古屋市中村区・・・",null,null,null,null,"052-XXXX-XXXX",null,null,"070-YYYY-YYYY",null,null,2,"km",null,"ｈ","徒歩",null,0.4,"ｈ","安否確認班長",null,null,"",null,null,null,null,null,null,null,null,null,null,null,null,null,null,null,null,null,null,null,null,null,null,1]
[null,null,null,null,null,8,"流域　七郎",null,null,"経理部長",null,null,"名古屋市中村区・・・",null,null,null,null,"052-XXXX-XXXX",null,null,"070-YYYY-YYYY",null,null,4,"km",null,"ｈ","徒歩",null,0.8,"ｈ","システム班長",null,null,"",null,null,null,null,null,null,null,null,null,null,null,null,null,null,null,null,null,null,null,null,null,null,1]
[null,null,null,null,null,9,"流域　八郎",null,null,"財務部長",null,null,"名古屋市中村区・・・",null,null,null,null,"052-XXXX-XXXX",null,null,"070-YYYY-YYYY",null,null,8,"km",null,"ｈ","自転車",null,0.8,"ｈ","顧客対応班長",null,null,"",null,null,null,null,null,null,null,null,null,null,null,null,null,null,null,null,null,null,null,null,null,null,1]
[null,null,null,null,null,10,"流域　九郎",null,null,"経営企画部長",null,null,"名古屋市中村区・・・",null,null,null,null,"052-XXXX-XXXX",null,null,"070-YYYY-YYYY",null,null,2,"km",null,"ｈ","徒歩",null,0.4,"ｈ","避難誘導班長",null,null,"",null,null,null,null,null,null,null,null,null,null,null,null,null,null,null,null,null,null,null,null,null,null,1]
[null,null,null,null,null,11,null,null,null,null,null,null,null,null,null,null,null,null,null,null,null,null,null,null,"km",null,"ｈ",null,null,"","ｈ",null,null,null,"",null,null,null,null,null,null,null,null,null,null,null,null,null,null,null,null,null,null,null,null,null,null,1]
[null,null,null,null,null,12,null,null,null,null,null,null,null,null,null,null,null,null,null,null,null,null,null,null,"km",null,"ｈ",null,null,"","ｈ",null,null,null,"",null,null,null,null,null,null,null,null,null,null,null,null,null,null,null,null,null,null,null,null,null,null,1]
[null,null,null,null,null,13,null,null,null,null,null,null,null,null,null,null,null,null,null,null,null,null,null,null,"km",null,"ｈ",null,null,"","ｈ",null,null,null,"",null,null,null,null,null,null,null,null,null,null,null,null,null,null,null,null,null,null,null,null,null,null,1]
[null,null,null,null,null,14,null,null,null,null,null,null,null,null,null,null,null,null,null,null,null,null,null,null,"km",null,"ｈ",null,null,"","ｈ",null,null,null,"",null,null,null,null,null,null,null,null,null,null,null,null,null,null,null,null,null,null,null,null,null,null,1]
[null,null,null,null,null,15,null,null,null,null,null,null,null,null,null,null,null,null,null,null,null,null,null,null,"km",null,"ｈ",null,null,"","ｈ",null,null,null,"",null,null,null,null,null,null,null,null,null,null,null,null,null,null,null,null,null,null,null,null,null,null,1]
[null,null,null,null,null,16,null,null,null,null,null,null,null,null,null,null,null,null,null,null,null,null,null,null,"km",null,"ｈ",null,null,"","ｈ",null,null,null,"",null,null,null,null,null,null,null,null,null,null,null,null,null,null,null,null,null,null,null,null,null,null,1]
[null,null,null,null,null,17,null,null,null,null,null,null,null,null,null,null,null,null,null,null,null,null,null,null,"km",null,"ｈ",null,null,"","ｈ",null,null,null,"",null,null,null,null,null,null,null,null,null,null,null,null,null,null,null,null,null,null,null,null,null,null,1]
[null,null,null,null,null,18,null,null,null,null,null,null,null,null,null,null,null,null,null,null,null,null,null,null,"km",null,"ｈ",null,null,"","ｈ",null,null,null,"",null,null,null,null,null,null,null,null,null,null,null,null,null,null,null,null,null,null,null,null,null,null,1]
[null,null,null,null,null,19,null,null,null,null,null,null,null,null,null,null,null,null,null,null,null,null,null,null,"km",null,"ｈ",null,null,"","ｈ",null,null,null,"",null,null,null,null,null,null,null,null,null,null,null,null,null,null,null,null,null,null,null,null,null,null,1]
[null,null,null,null,null,20,null,null,null,null,null,null,null,null,null,null,null,null,null,null,null,null,null,null,"km",null,"ｈ",null,null,"","ｈ",null,null,null,"",null,null,null,null,null,null,null,null,null,null,null,null,null,null,null,null,null,null,null,null,null,null,1]
[null,null,null,null,null,null,null,null,null,null,null,null,null,null,null,null,null,null,null,null,null,null,null,null,null,null,null,null,null,null,null,null,null,null,null,null,null,null,null,null,null,null,null,null,null,null,null,null,null,null,null,null,null,null,null,null,null,1]
[null,null,null,null,null,null,"災害対策\n本部要員",null,null,"所属（役職）",null,null,"住所",null,null,null,null,"電話番号",null,null,"緊急連絡先",null,null,"勤務先まで\nの距離",null,"通常の\n通勤時間",null,"非常時\n参集手段",null,"非常時\n参集時間",null,"災害対策本部\n所属班",null,null,null,null,null,null,null,null,null,null,null,null,null,null,null,null,null,{"$f":"SUBTOTAL(104,F108:F266)","v":0},{"$f":"AX140+AX172+AX204+AX236","v":0},null,null,null,null,null,null,1]
[null,null,null,null,null,1,"流域　守 ",null,null,null,null,null,"名古屋市中村区・・・",null,null,null,null,"052-XXXX-XXXX",null,null,"070-YYYY-YYYY",null,null,5,"km",null,"ｈ","自転車",null,0.5,"ｈ","総務班",null,null,null,null,null,null,null,null,null,null,null,null,null,null,null,null,null,null,null,null,null,null,null,null,null,1]
[null,null,null,null,null,2,"流域　花子",null,null,null,null,null,"名古屋市中村区・・・",null,null,null,null,"052-XXXX-XXXX",null,null,"070-YYYY-YYYY",null,null,2,"km",null,"ｈ","徒歩",null,0.4,"ｈ","情報収集班",null,null,null,null,null,null,null,null,null,null,null,null,null,null,null,null,null,null,null,null,null,null,null,null,null,1]
[null,null,null,null,null,3,null,null,null,null,null,null,null,null,null,null,null,null,null,null,null,null,null,null,"km",null,"ｈ",null,null,"","ｈ",null,null,null,null,null,null,null,null,null,null,null,null,null,null,null,null,null,null,null,null,null,null,null,null,null,null,1]
[null,null,null,null,null,4,null,null,null,null,null,null,null,null,null,null,null,null,null,null,null,null,null,null,"km",null,"ｈ",null,null,"","ｈ",null,null,null,null,null,null,null,null,null,null,null,null,null,null,null,null,null,null,null,null,null,null,null,null,null,null,1]
[null,null,null,null,null,5,null,null,null,null,null,null,null,null,null,null,null,null,null,null,null,null,null,null,"km",null,"ｈ",null,null,"","ｈ",null,null,null,null,null,null,null,null,null,null,null,null,null,null,null,null,null,null,null,null,null,null,null,null,null,null,1]
[null,null,null,null,null,6,null,null,null,null,null,null,null,null,null,null,null,null,null,null,null,null,null,null,"km",null,"ｈ",null,null,"","ｈ",null,null,null,null,null,null,null,null,null,null,null,null,null,null,null,null,null,null,null,null,null,null,null,null,null,null,1]
[null,null,null,null,null,7,null,null,null,null,null,null,null,null,null,null,null,null,null,null,null,null,null,null,"km",null,"ｈ",null,null,"","ｈ",null,null,null,null,null,null,null,null,null,null,null,null,null,null,null,null,null,null,null,null,null,null,null,null,null,null,1]
[null,null,null,null,null,8,null,null,null,null,null,null,null,null,null,null,null,null,null,null,null,null,null,null,"km",null,"ｈ",null,null,"","ｈ",null,null,null,null,null,null,null,null,null,null,null,null,null,null,null,null,null,null,null,null,null,null,null,null,null,null,1]
[null,null,null,null,null,9,null,null,null,null,null,null,null,null,null,null,null,null,null,null,null,null,null,null,"km",null,"ｈ",null,null,"","ｈ",null,null,null,null,null,null,null,null,null,null,null,null,null,null,null,null,null,null,null,null,null,null,null,null,null,null,1]
[null,null,null,null,null,10,null,null,null,null,null,null,null,null,null,null,null,null,null,null,null,null,null,null,"km",null,"ｈ",null,null,"","ｈ",null,null,null,null,null,null,null,null,null,null,null,null,null,null,null,null,null,null,null,null,null,null,null,null,null,null,1]
[null,null,null,null,null,11,null,null,null,null,null,null,null,null,null,null,null,null,null,null,null,null,null,null,"km",null,"ｈ",null,null,"","ｈ",null,null,null,null,null,null,null,null,null,null,null,null,null,null,null,null,null,null,null,null,null,null,null,null,null,null,1]
[null,null,null,null,null,12,null,null,null,null,null,null,null,null,null,null,null,null,null,null,null,null,null,null,"km",null,"ｈ",null,null,"","ｈ",null,null,null,null,null,null,null,null,null,null,null,null,null,null,null,null,null,null,null,null,null,null,null,null,null,null,1]
[null,null,null,null,null,13,null,null,null,null,null,null,null,null,null,null,null,null,null,null,null,null,null,null,"km",null,"ｈ",null,null,"","ｈ",null,null,null,null,null,null,null,null,null,null,null,null,null,null,null,null,null,null,null,null,null,null,null,null,null,null,1]
[null,null,null,null,null,14,null,null,null,null,null,null,null,null,null,null,null,null,null,null,null,null,null,null,"km",null,"ｈ",null,null,"","ｈ",null,null,null,null,null,null,null,null,null,null,null,null,null,null,null,null,null,null,null,null,null,null,null,null,null,null,1]
[null,null,null,null,null,15,null,null,null,null,null,null,null,null,null,null,null,null,null,null,null,null,null,null,"km",null,"ｈ",null,null,"","ｈ",null,null,null,null,null,null,null,null,null,null,null,null,null,null,null,null,null,null,null,null,null,null,null,null,null,null,1]
[null,null,null,null,null,16,null,null,null,null,null,null,null,null,null,null,null,null,null,null,null,null,null,null,"km",null,"ｈ",null,null,"","ｈ",null,null,null,null,null,null,null,null,null,null,null,null,null,null,null,null,null,null,null,null,null,null,null,null,null,null,1]
[null,null,null,null,null,17,null,null,null,null,null,null,null,null,null,null,null,null,null,null,null,null,null,null,"km",null,"ｈ",null,null,"","ｈ",null,null,null,null,null,null,null,null,null,null,null,null,null,null,null,null,null,null,null,null,null,null,null,null,null,null,1]
[null,null,null,null,null,18,null,null,null,null,null,null,null,null,null,null,null,null,null,null,null,null,null,null,"km",null,"ｈ",null,null,"","ｈ",null,null,null,null,null,null,null,null,null,null,null,null,null,null,null,null,null,null,null,null,null,null,null,null,null,null,1]
[null,null,null,null,null,19,null,null,null,null,null,null,null,null,null,null,null,null,null,null,null,null,null,null,"km",null,"ｈ",null,null,"","ｈ",null,null,null,null,null,null,null,null,null,null,null,null,null,null,null,null,null,null,null,null,null,null,null,null,null,null,1]
[null,null,null,null,null,20,null,null,null,null,null,null,null,null,null,null,null,null,null,null,null,null,null,null,"km",null,"ｈ",null,null,"","ｈ",null,null,null,null,null,null,null,null,null,null,null,null,null,null,null,null,null,null,null,null,null,null,null,null,null,null,1]
[null,null,null,null,null,21,null,null,null,null,null,null,null,null,null,null,null,null,null,null,null,null,null,null,"km",null,"ｈ",null,null,"","ｈ",null,null,null,null,null,null,null,null,null,null,null,null,null,null,null,null,null,null,null,null,null,null,null,null,null,null,1]
[null,null,null,null,null,22,null,null,null,null,null,null,null,null,null,null,null,null,null,null,null,null,null,null,"km",null,"ｈ",null,null,"","ｈ",null,null,null,null,null,null,null,null,null,null,null,null,null,null,null,null,null,null,null,null,null,null,null,null,null,null,1]
[null,null,null,null,null,23,null,null,null,null,null,null,null,null,null,null,null,null,null,null,null,null,null,null,"km",null,"ｈ",null,null,"","ｈ",null,null,null,null,null,null,null,null,null,null,null,null,null,null,null,null,null,null,null,null,null,null,null,null,null,null,1]
[null,null,null,null,null,24,null,null,null,null,null,null,null,null,null,null,null,null,null,null,null,null,null,null,"km",null,"ｈ",null,null,"","ｈ",null,null,null,null,null,null,null,null,null,null,null,null,null,null,null,null,null,null,null,null,null,null,null,null,null,null,1]
[null,null,null,null,null,25,null,null,null,null,null,null,null,null,null,null,null,null,null,null,null,null,null,null,"km",null,"ｈ",null,null,"","ｈ",null,null,null,null,null,null,null,null,null,null,null,null,null,null,null,null,null,null,null,null,null,null,null,null,null,null,1]
[null,null,null,null,null,26,null,null,null,null,null,null,null,null,null,null,null,null,null,null,null,null,null,null,"km",null,"ｈ",null,null,{"$f":"IF(AB134=\"\",\"\",IF(AB134=\"徒歩\",(X134/5),IF(AB134=\"自転車\",(X134/10))))","v":""},"ｈ",null,null,null,null,null,null,null,null,null,null,null,null,null,null,null,null,null,null,null,null,null,null,null,null,null,null,1]
[null,null,null,null,null,27,null,null,null,null,null,null,null,null,null,null,null,null,null,null,null,null,null,null,"km",null,"ｈ",null,null,{"$f":"IF(AB135=\"\",\"\",IF(AB135=\"徒歩\",(X135/5),IF(AB135=\"自転車\",(X135/10))))","v":""},"ｈ",null,null,null,null,null,null,null,null,null,null,null,null,null,null,null,null,null,null,null,null,null,null,null,null,null,null,1]
[null,null,null,null,null,28,null,null,null,null,null,null,null,null,null,null,null,null,null,null,null,null,null,null,"km",null,"ｈ",null,null,"","ｈ",null,null,null,null,null,null,null,null,null,null,null,null,null,null,null,null,null,null,null,null,null,null,null,null,null,null,1]
[null,null,null,null,null,29,null,null,null,null,null,null,null,null,null,null,null,null,null,null,null,null,null,null,"km",null,"ｈ",null,null,"","ｈ",null,null,null,null,null,null,null,null,null,null,null,null,null,null,null,null,null,null,null,null,null,null,null,null,null,null,1]
[null,null,null,null,null,30,null,null,null,null,null,null,null,null,null,null,null,null,null,null,null,null,null,null,"km",null,"ｈ",null,null,"","ｈ",null,null,null,null,null,null,null,null,null,null,null,null,null,null,null,null,null,null,null,null,null,null,null,null,null,null,1]
[null,null,null,null,null,null,null,null,null,null,null,null,null,null,null,null,null,null,null,null,null,null,null,null,null,null,null,null,null,null,null,null,null,null,null,null,null,null,null,null,null,null,null,null,null,null,null,null,null,null,null,null,null,null,null,null,null,0]
[null,null,null,null,null,null,"災害対策\n本部要員",null,null,"所属（役職）",null,null,"住所",null,null,null,null,"電話番号",null,null,"緊急連絡先",null,null,"勤務先まで\nの距離",null,"通常の\n通勤時間",null,"非常時\n参集手段",null,"非常時\n参集時間",null,"災害対策本部\n所属班",null,null,null,null,null,null,null,null,null,null,null,null,null,null,null,null,null,{"$f":"IF(COUNTIF(G141:W170,\"<>\")>0,1,0)","v":0},null,null,null,null,null,null,null,0]
[null,null,null,null,null,31,null,null,null,null,null,null,null,null,null,null,null,null,null,null,null,null,null,null,"km",null,"ｈ",null,null,{"$f":"IF(AB141=\"\",\"\",IF(AB141=\"徒歩\",(X141/5),IF(AB141=\"自転車\",(X141/10))))","v":""},"ｈ",null,null,null,null,null,null,null,null,null,null,null,null,null,null,null,null,null,null,null,null,null,null,null,null,null,null,0]
[null,null,null,null,null,32,null,null,null,null,null,null,null,null,null,null,null,null,null,null,null,null,null,null,"km",null,"ｈ",null,null,"","ｈ",null,null,null,null,null,null,null,null,null,null,null,null,null,null,null,null,null,null,null,null,null,null,null,null,null,null,0]
[null,null,null,null,null,33,null,null,null,null,null,null,null,null,null,null,null,null,null,null,null,null,null,null,"km",null,"ｈ",null,null,"","ｈ",null,null,null,null,null,null,null,null,null,null,null,null,null,null,null,null,null,null,null,null,null,null,null,null,null,null,0]
[null,null,null,null,null,34,null,null,null,null,null,null,null,null,null,null,null,null,null,null,null,null,null,null,"km",null,"ｈ",null,null,"","ｈ",null,null,null,null,null,null,null,null,null,null,null,null,null,null,null,null,null,null,null,null,null,null,null,null,null,null,0]
[null,null,null,null,null,35,null,null,null,null,null,null,null,null,null,null,null,null,null,null,null,null,null,null,"km",null,"ｈ",null,null,"","ｈ",null,null,null,null,null,null,null,null,null,null,null,null,null,null,null,null,null,null,null,null,null,null,null,null,null,null,0]
[null,null,null,null,null,36,null,null,null,null,null,null,null,null,null,null,null,null,null,null,null,null,null,null,"km",null,"ｈ",null,null,"","ｈ",null,null,null,null,null,null,null,null,null,null,null,null,null,null,null,null,null,null,null,null,null,null,null,null,null,null,0]
[null,null,null,null,null,37,null,null,null,null,null,null,null,null,null,null,null,null,null,null,null,null,null,null,"km",null,"ｈ",null,null,"","ｈ",null,null,null,null,null,null,null,null,null,null,null,null,null,null,null,null,null,null,null,null,null,null,null,null,null,null,0]
[null,null,null,null,null,38,null,null,null,null,null,null,null,null,null,null,null,null,null,null,null,null,null,null,"km",null,"ｈ",null,null,"","ｈ",null,null,null,null,null,null,null,null,null,null,null,null,null,null,null,null,null,null,null,null,null,null,null,null,null,null,0]
[null,null,null,null,null,39,null,null,null,null,null,null,null,null,null,null,null,null,null,null,null,null,null,null,"km",null,"ｈ",null,null,"","ｈ",null,null,null,null,null,null,null,null,null,null,null,null,null,null,null,null,null,null,null,null,null,null,null,null,null,null,0]
[null,null,null,null,null,40,null,null,null,null,null,null,null,null,null,null,null,null,null,null,null,null,null,null,"km",null,"ｈ",null,null,"","ｈ",null,null,null,null,null,null,null,null,null,null,null,null,null,null,null,null,null,null,null,null,null,null,null,null,null,null,0]
[null,null,null,null,null,41,null,null,null,null,null,null,null,null,null,null,null,null,null,null,null,null,null,null,"km",null,"ｈ",null,null,"","ｈ",null,null,null,null,null,null,null,null,null,null,null,null,null,null,null,null,null,null,null,null,null,null,null,null,null,null,0]
[null,null,null,null,null,42,null,null,null,null,null,null,null,null,null,null,null,null,null,null,null,null,null,null,"km",null,"ｈ",null,null,"","ｈ",null,null,null,null,null,null,null,null,null,null,null,null,null,null,null,null,null,null,null,null,null,null,null,null,null,null,0]
[null,null,null,null,null,43,null,null,null,null,null,null,null,null,null,null,null,null,null,null,null,null,null,null,"km",null,"ｈ",null,null,"","ｈ",null,null,null,null,null,null,null,null,null,null,null,null,null,null,null,null,null,null,null,null,null,null,null,null,null,null,0]
[null,null,null,null,null,44,null,null,null,null,null,null,null,null,null,null,null,null,null,null,null,null,null,null,"km",null,"ｈ",null,null,"","ｈ",null,null,null,null,null,null,null,null,null,null,null,null,null,null,null,null,null,null,null,null,null,null,null,null,null,null,0]
[null,null,null,null,null,45,null,null,null,null,null,null,null,null,null,null,null,null,null,null,null,null,null,null,"km",null,"ｈ",null,null,"","ｈ",null,null,null,null,null,null,null,null,null,null,null,null,null,null,null,null,null,null,null,null,null,null,null,null,null,null,0]
[null,null,null,null,null,46,null,null,null,null,null,null,null,null,null,null,null,null,null,null,null,null,null,null,"km",null,"ｈ",null,null,"","ｈ",null,null,null,null,null,null,null,null,null,null,null,null,null,null,null,null,null,null,null,null,null,null,null,null,null,null,0]
[null,null,null,null,null,47,null,null,null,null,null,null,null,null,null,null,null,null,null,null,null,null,null,null,"km",null,"ｈ",null,null,"","ｈ",null,null,null,null,null,null,null,null,null,null,null,null,null,null,null,null,null,null,null,null,null,null,null,null,null,null,0]
[null,null,null,null,null,48,null,null,null,null,null,null,null,null,null,null,null,null,null,null,null,null,null,null,"km",null,"ｈ",null,null,"","ｈ",null,null,null,null,null,null,null,null,null,null,null,null,null,null,null,null,null,null,null,null,null,null,null,null,null,null,0]
[null,null,null,null,null,49,null,null,null,null,null,null,null,null,null,null,null,null,null,null,null,null,null,null,"km",null,"ｈ",null,null,"","ｈ",null,null,null,null,null,null,null,null,null,null,null,null,null,null,null,null,null,null,null,null,null,null,null,null,null,null,0]
[null,null,null,null,null,50,null,null,null,null,null,null,null,null,null,null,null,null,null,null,null,null,null,null,"km",null,"ｈ",null,null,"","ｈ",null,null,null,null,null,null,null,null,null,null,null,null,null,null,null,null,null,null,null,null,null,null,null,null,null,null,0]
[null,null,null,null,null,51,null,null,null,null,null,null,null,null,null,null,null,null,null,null,null,null,null,null,"km",null,"ｈ",null,null,"","ｈ",null,null,null,null,null,null,null,null,null,null,null,null,null,null,null,null,null,null,null,null,null,null,null,null,null,null,0]
[null,null,null,null,null,52,null,null,null,null,null,null,null,null,null,null,null,null,null,null,null,null,null,null,"km",null,"ｈ",null,null,"","ｈ",null,null,null,null,null,null,null,null,null,null,null,null,null,null,null,null,null,null,null,null,null,null,null,null,null,null,0]
[null,null,null,null,null,53,null,null,null,null,null,null,null,null,null,null,null,null,null,null,null,null,null,null,"km",null,"ｈ",null,null,"","ｈ",null,null,null,null,null,null,null,null,null,null,null,null,null,null,null,null,null,null,null,null,null,null,null,null,null,null,0]
[null,null,null,null,null,54,null,null,null,null,null,null,null,null,null,null,null,null,null,null,null,null,null,null,"km",null,"ｈ",null,null,"","ｈ",null,null,null,null,null,null,null,null,null,null,null,null,null,null,null,null,null,null,null,null,null,null,null,null,null,null,0]
[null,null,null,null,null,55,null,null,null,null,null,null,null,null,null,null,null,null,null,null,null,null,null,null,"km",null,"ｈ",null,null,"","ｈ",null,null,null,null,null,null,null,null,null,null,null,null,null,null,null,null,null,null,null,null,null,null,null,null,null,null,0]
[null,null,null,null,null,56,null,null,null,null,null,null,null,null,null,null,null,null,null,null,null,null,null,null,"km",null,"ｈ",null,null,"","ｈ",null,null,null,null,null,null,null,null,null,null,null,null,null,null,null,null,null,null,null,null,null,null,null,null,null,null,0]
[null,null,null,null,null,57,null,null,null,null,null,null,null,null,null,null,null,null,null,null,null,null,null,null,"km",null,"ｈ",null,null,"","ｈ",null,null,null,null,null,null,null,null,null,null,null,null,null,null,null,null,null,null,null,null,null,null,null,null,null,null,0]
[null,null,null,null,null,58,null,null,null,null,null,null,null,null,null,null,null,null,null,null,null,null,null,null,"km",null,"ｈ",null,null,"","ｈ",null,null,null,null,null,null,null,null,null,null,null,null,null,null,null,null,null,null,null,null,null,null,null,null,null,null,0]
[null,null,null,null,null,59,null,null,null,null,null,null,null,null,null,null,null,null,null,null,null,null,null,null,"km",null,"ｈ",null,null,"","ｈ",null,null,null,null,null,null,null,null,null,null,null,null,null,null,null,null,null,null,null,null,null,null,null,null,null,null,0]
[null,null,null,null,null,60,null,null,null,null,null,null,null,null,null,null,null,null,null,null,null,null,null,null,"km",null,"ｈ",null,null,"","ｈ",null,null,null,null,null,null,null,null,null,null,null,null,null,null,null,null,null,null,null,null,null,null,null,null,null,null,0]
[null,null,null,null,null,null,null,null,null,null,null,null,null,null,null,null,null,null,null,null,null,null,null,null,null,null,null,null,null,null,null,null,null,null,null,null,null,null,null,null,null,null,null,null,null,null,null,null,null,null,null,null,null,null,null,null,null,0]
[null,null,null,null,null,null,"災害対策\n本部要員",null,null,"所属（役職）",null,null,"住所",null,null,null,null,"電話番号",null,null,"緊急連絡先",null,null,"勤務先まで\nの距離",null,"通常の\n通勤時間",null,"非常時\n参集手段",null,"非常時\n参集時間",null,"災害対策本部\n所属班",null,null,null,null,null,null,null,null,null,null,null,null,null,null,null,null,null,{"$f":"IF(COUNTIF(G173:W202,\"<>\")>0,1,0)","v":0},null,null,null,null,null,null,null,0]
[null,null,null,null,null,61,null,null,null,null,null,null,null,null,null,null,null,null,null,null,null,null,null,null,"km",null,"ｈ",null,null,{"$f":"IF(AB173=\"\",\"\",IF(AB173=\"徒歩\",(X173/5),IF(AB173=\"自転車\",(X173/10))))","v":""},"ｈ",null,null,null,null,null,null,null,null,null,null,null,null,null,null,null,null,null,null,null,null,null,null,null,null,null,null,0]
[null,null,null,null,null,62,null,null,null,null,null,null,null,null,null,null,null,null,null,null,null,null,null,null,"km",null,"ｈ",null,null,"","ｈ",null,null,null,null,null,null,null,null,null,null,null,null,null,null,null,null,null,null,null,null,null,null,null,null,null,null,0]
[null,null,null,null,null,63,null,null,null,null,null,null,null,null,null,null,null,null,null,null,null,null,null,null,"km",null,"ｈ",null,null,"","ｈ",null,null,null,null,null,null,null,null,null,null,null,null,null,null,null,null,null,null,null,null,null,null,null,null,null,null,0]
[null,null,null,null,null,64,null,null,null,null,null,null,null,null,null,null,null,null,null,null,null,null,null,null,"km",null,"ｈ",null,null,"","ｈ",null,null,null,null,null,null,null,null,null,null,null,null,null,null,null,null,null,null,null,null,null,null,null,null,null,null,0]
[null,null,null,null,null,65,null,null,null,null,null,null,null,null,null,null,null,null,null,null,null,null,null,null,"km",null,"ｈ",null,null,"","ｈ",null,null,null,null,null,null,null,null,null,null,null,null,null,null,null,null,null,null,null,null,null,null,null,null,null,null,0]
[null,null,null,null,null,66,null,null,null,null,null,null,null,null,null,null,null,null,null,null,null,null,null,null,"km",null,"ｈ",null,null,"","ｈ",null,null,null,null,null,null,null,null,null,null,null,null,null,null,null,null,null,null,null,null,null,null,null,null,null,null,0]
[null,null,null,null,null,67,null,null,null,null,null,null,null,null,null,null,null,null,null,null,null,null,null,null,"km",null,"ｈ",null,null,"","ｈ",null,null,null,null,null,null,null,null,null,null,null,null,null,null,null,null,null,null,null,null,null,null,null,null,null,null,0]
[null,null,null,null,null,68,null,null,null,null,null,null,null,null,null,null,null,null,null,null,null,null,null,null,"km",null,"ｈ",null,null,"","ｈ",null,null,null,null,null,null,null,null,null,null,null,null,null,null,null,null,null,null,null,null,null,null,null,null,null,null,0]
[null,null,null,null,null,69,null,null,null,null,null,null,null,null,null,null,null,null,null,null,null,null,null,null,"km",null,"ｈ",null,null,"","ｈ",null,null,null,null,null,null,null,null,null,null,null,null,null,null,null,null,null,null,null,null,null,null,null,null,null,null,0]
[null,null,null,null,null,70,null,null,null,null,null,null,null,null,null,null,null,null,null,null,null,null,null,null,"km",null,"ｈ",null,null,"","ｈ",null,null,null,null,null,null,null,null,null,null,null,null,null,null,null,null,null,null,null,null,null,null,null,null,null,null,0]
[null,null,null,null,null,71,null,null,null,null,null,null,null,null,null,null,null,null,null,null,null,null,null,null,"km",null,"ｈ",null,null,"","ｈ",null,null,null,null,null,null,null,null,null,null,null,null,null,null,null,null,null,null,null,null,null,null,null,null,null,null,0]
[null,null,null,null,null,72,null,null,null,null,null,null,null,null,null,null,null,null,null,null,null,null,null,null,"km",null,"ｈ",null,null,"","ｈ",null,null,null,null,null,null,null,null,null,null,null,null,null,null,null,null,null,null,null,null,null,null,null,null,null,null,0]
[null,null,null,null,null,73,null,null,null,null,null,null,null,null,null,null,null,null,null,null,null,null,null,null,"km",null,"ｈ",null,null,"","ｈ",null,null,null,null,null,null,null,null,null,null,null,null,null,null,null,null,null,null,null,null,null,null,null,null,null,null,0]
[null,null,null,null,null,74,null,null,null,null,null,null,null,null,null,null,null,null,null,null,null,null,null,null,"km",null,"ｈ",null,null,"","ｈ",null,null,null,null,null,null,null,null,null,null,null,null,null,null,null,null,null,null,null,null,null,null,null,null,null,null,0]
[null,null,null,null,null,75,null,null,null,null,null,null,null,null,null,null,null,null,null,null,null,null,null,null,"km",null,"ｈ",null,null,"","ｈ",null,null,null,null,null,null,null,null,null,null,null,null,null,null,null,null,null,null,null,null,null,null,null,null,null,null,0]
[null,null,null,null,null,76,null,null,null,null,null,null,null,null,null,null,null,null,null,null,null,null,null,null,"km",null,"ｈ",null,null,"","ｈ",null,null,null,null,null,null,null,null,null,null,null,null,null,null,null,null,null,null,null,null,null,null,null,null,null,null,0]
[null,null,null,null,null,77,null,null,null,null,null,null,null,null,null,null,null,null,null,null,null,null,null,null,"km",null,"ｈ",null,null,"","ｈ",null,null,null,null,null,null,null,null,null,null,null,null,null,null,null,null,null,null,null,null,null,null,null,null,null,null,0]
[null,null,null,null,null,78,null,null,null,null,null,null,null,null,null,null,null,null,null,null,null,null,null,null,"km",null,"ｈ",null,null,"","ｈ",null,null,null,null,null,null,null,null,null,null,null,null,null,null,null,null,null,null,null,null,null,null,null,null,null,null,0]
[null,null,null,null,null,79,null,null,null,null,null,null,null,null,null,null,null,null,null,null,null,null,null,null,"km",null,"ｈ",null,null,"","ｈ",null,null,null,null,null,null,null,null,null,null,null,null,null,null,null,null,null,null,null,null,null,null,null,null,null,null,0]
[null,null,null,null,null,80,null,null,null,null,null,null,null,null,null,null,null,null,null,null,null,null,null,null,"km",null,"ｈ",null,null,"","ｈ",null,null,null,null,null,null,null,null,null,null,null,null,null,null,null,null,null,null,null,null,null,null,null,null,null,null,0]
[null,null,null,null,null,81,null,null,null,null,null,null,null,null,null,null,null,null,null,null,null,null,null,null,"km",null,"ｈ",null,null,"","ｈ",null,null,null,null,null,null,null,null,null,null,null,null,null,null,null,null,null,null,null,null,null,null,null,null,null,null,0]
[null,null,null,null,null,82,null,null,null,null,null,null,null,null,null,null,null,null,null,null,null,null,null,null,"km",null,"ｈ",null,null,"","ｈ",null,null,null,null,null,null,null,null,null,null,null,null,null,null,null,null,null,null,null,null,null,null,null,null,null,null,0]
[null,null,null,null,null,83,null,null,null,null,null,null,null,null,null,null,null,null,null,null,null,null,null,null,"km",null,"ｈ",null,null,"","ｈ",null,null,null,null,null,null,null,null,null,null,null,null,null,null,null,null,null,null,null,null,null,null,null,null,null,null,0]
[null,null,null,null,null,84,null,null,null,null,null,null,null,null,null,null,null,null,null,null,null,null,null,null,"km",null,"ｈ",null,null,"","ｈ",null,null,null,null,null,null,null,null,null,null,null,null,null,null,null,null,null,null,null,null,null,null,null,null,null,null,0]
[null,null,null,null,null,85,null,null,null,null,null,null,null,null,null,null,null,null,null,null,null,null,null,null,"km",null,"ｈ",null,null,"","ｈ",null,null,null,null,null,null,null,null,null,null,null,null,null,null,null,null,null,null,null,null,null,null,null,null,null,null,0]
[null,null,null,null,null,86,null,null,null,null,null,null,null,null,null,null,null,null,null,null,null,null,null,null,"km",null,"ｈ",null,null,"","ｈ",null,null,null,null,null,null,null,null,null,null,null,null,null,null,null,null,null,null,null,null,null,null,null,null,null,null,0]
[null,null,null,null,null,87,null,null,null,null,null,null,null,null,null,null,null,null,null,null,null,null,null,null,"km",null,"ｈ",null,null,"","ｈ",null,null,null,null,null,null,null,null,null,null,null,null,null,null,null,null,null,null,null,null,null,null,null,null,null,null,0]
[null,null,null,null,null,88,null,null,null,null,null,null,null,null,null,null,null,null,null,null,null,null,null,null,"km",null,"ｈ",null,null,"","ｈ",null,null,null,null,null,null,null,null,null,null,null,null,null,null,null,null,null,null,null,null,null,null,null,null,null,null,0]
[null,null,null,null,null,89,null,null,null,null,null,null,null,null,null,null,null,null,null,null,null,null,null,null,"km",null,"ｈ",null,null,"","ｈ",null,null,null,null,null,null,null,null,null,null,null,null,null,null,null,null,null,null,null,null,null,null,null,null,null,null,0]
[null,null,null,null,null,90,null,null,null,null,null,null,null,null,null,null,null,null,null,null,null,null,null,null,"km",null,"ｈ",null,null,"","ｈ",null,null,null,null,null,null,null,null,null,null,null,null,null,null,null,null,null,null,null,null,null,null,null,null,null,null,0]
[null,null,null,null,null,null,null,null,null,null,null,null,null,null,null,null,null,null,null,null,null,null,null,null,null,null,null,null,null,null,null,null,null,null,null,null,null,null,null,null,null,null,null,null,null,null,null,null,null,null,null,null,null,null,null,null,null,0]
[null,null,null,null,null,null,"災害対策\n本部要員",null,null,"所属（役職）",null,null,"住所",null,null,null,null,"電話番号",null,null,"緊急連絡先",null,null,"勤務先まで\nの距離",null,"通常の\n通勤時間",null,"非常時\n参集手段",null,"非常時\n参集時間",null,"災害対策本部\n所属班",null,null,null,null,null,null,null,null,null,null,null,null,null,null,null,null,null,{"$f":"IF(COUNTIF(G205:W234,\"<>\")>0,1,0)","v":0},null,null,null,null,null,null,null,0]
[null,null,null,null,null,91,null,null,null,null,null,null,null,null,null,null,null,null,null,null,null,null,null,null,"km",null,"ｈ",null,null,{"$f":"IF(AB205=\"\",\"\",IF(AB205=\"徒歩\",(X205/5),IF(AB205=\"自転車\",(X205/10))))","v":""},"ｈ",null,null,null,null,null,null,null,null,null,null,null,null,null,null,null,null,null,null,null,null,null,null,null,null,null,null,0]
[null,null,null,null,null,92,null,null,null,null,null,null,null,null,null,null,null,null,null,null,null,null,null,null,"km",null,"ｈ",null,null,"","ｈ",null,null,null,null,null,null,null,null,null,null,null,null,null,null,null,null,null,null,null,null,null,null,null,null,null,null,0]
[null,null,null,null,null,93,null,null,null,null,null,null,null,null,null,null,null,null,null,null,null,null,null,null,"km",null,"ｈ",null,null,"","ｈ",null,null,null,null,null,null,null,null,null,null,null,null,null,null,null,null,null,null,null,null,null,null,null,null,null,null,0]
[null,null,null,null,null,94,null,null,null,null,null,null,null,null,null,null,null,null,null,null,null,null,null,null,"km",null,"ｈ",null,null,"","ｈ",null,null,null,null,null,null,null,null,null,null,null,null,null,null,null,null,null,null,null,null,null,null,null,null,null,null,0]
[null,null,null,null,null,95,null,null,null,null,null,null,null,null,null,null,null,null,null,null,null,null,null,null,"km",null,"ｈ",null,null,"","ｈ",null,null,null,null,null,null,null,null,null,null,null,null,null,null,null,null,null,null,null,null,null,null,null,null,null,null,0]
[null,null,null,null,null,96,null,null,null,null,null,null,null,null,null,null,null,null,null,null,null,null,null,null,"km",null,"ｈ",null,null,"","ｈ",null,null,null,null,null,null,null,null,null,null,null,null,null,null,null,null,null,null,null,null,null,null,null,null,null,null,0]
[null,null,null,null,null,97,null,null,null,null,null,null,null,null,null,null,null,null,null,null,null,null,null,null,"km",null,"ｈ",null,null,"","ｈ",null,null,null,null,null,null,null,null,null,null,null,null,null,null,null,null,null,null,null,null,null,null,null,null,null,null,0]
[null,null,null,null,null,98,null,null,null,null,null,null,null,null,null,null,null,null,null,null,null,null,null,null,"km",null,"ｈ",null,null,"","ｈ",null,null,null,null,null,null,null,null,null,null,null,null,null,null,null,null,null,null,null,null,null,null,null,null,null,null,0]
[null,null,null,null,null,99,null,null,null,null,null,null,null,null,null,null,null,null,null,null,null,null,null,null,"km",null,"ｈ",null,null,"","ｈ",null,null,null,null,null,null,null,null,null,null,null,null,null,null,null,null,null,null,null,null,null,null,null,null,null,null,0]
[null,null,null,null,null,100,null,null,null,null,null,null,null,null,null,null,null,null,null,null,null,null,null,null,"km",null,"ｈ",null,null,"","ｈ",null,null,null,null,null,null,null,null,null,null,null,null,null,null,null,null,null,null,null,null,null,null,null,null,null,null,0]
[null,null,null,null,null,101,null,null,null,null,null,null,null,null,null,null,null,null,null,null,null,null,null,null,"km",null,"ｈ",null,null,"","ｈ",null,null,null,null,null,null,null,null,null,null,null,null,null,null,null,null,null,null,null,null,null,null,null,null,null,null,0]
[null,null,null,null,null,102,null,null,null,null,null,null,null,null,null,null,null,null,null,null,null,null,null,null,"km",null,"ｈ",null,null,"","ｈ",null,null,null,null,null,null,null,null,null,null,null,null,null,null,null,null,null,null,null,null,null,null,null,null,null,null,0]
[null,null,null,null,null,103,null,null,null,null,null,null,null,null,null,null,null,null,null,null,null,null,null,null,"km",null,"ｈ",null,null,"","ｈ",null,null,null,null,null,null,null,null,null,null,null,null,null,null,null,null,null,null,null,null,null,null,null,null,null,null,0]
[null,null,null,null,null,104,null,null,null,null,null,null,null,null,null,null,null,null,null,null,null,null,null,null,"km",null,"ｈ",null,null,"","ｈ",null,null,null,null,null,null,null,null,null,null,null,null,null,null,null,null,null,null,null,null,null,null,null,null,null,null,0]
[null,null,null,null,null,105,null,null,null,null,null,null,null,null,null,null,null,null,null,null,null,null,null,null,"km",null,"ｈ",null,null,"","ｈ",null,null,null,null,null,null,null,null,null,null,null,null,null,null,null,null,null,null,null,null,null,null,null,null,null,null,0]
[null,null,null,null,null,106,null,null,null,null,null,null,null,null,null,null,null,null,null,null,null,null,null,null,"km",null,"ｈ",null,null,"","ｈ",null,null,null,null,null,null,null,null,null,null,null,null,null,null,null,null,null,null,null,null,null,null,null,null,null,null,0]
[null,null,null,null,null,107,null,null,null,null,null,null,null,null,null,null,null,null,null,null,null,null,null,null,"km",null,"ｈ",null,null,"","ｈ",null,null,null,null,null,null,null,null,null,null,null,null,null,null,null,null,null,null,null,null,null,null,null,null,null,null,0]
[null,null,null,null,null,108,null,null,null,null,null,null,null,null,null,null,null,null,null,null,null,null,null,null,"km",null,"ｈ",null,null,"","ｈ",null,null,null,null,null,null,null,null,null,null,null,null,null,null,null,null,null,null,null,null,null,null,null,null,null,null,0]
[null,null,null,null,null,109,null,null,null,null,null,null,null,null,null,null,null,null,null,null,null,null,null,null,"km",null,"ｈ",null,null,"","ｈ",null,null,null,null,null,null,null,null,null,null,null,null,null,null,null,null,null,null,null,null,null,null,null,null,null,null,0]
[null,null,null,null,null,110,null,null,null,null,null,null,null,null,null,null,null,null,null,null,null,null,null,null,"km",null,"ｈ",null,null,"","ｈ",null,null,null,null,null,null,null,null,null,null,null,null,null,null,null,null,null,null,null,null,null,null,null,null,null,null,0]
[null,null,null,null,null,111,null,null,null,null,null,null,null,null,null,null,null,null,null,null,null,null,null,null,"km",null,"ｈ",null,null,"","ｈ",null,null,null,null,null,null,null,null,null,null,null,null,null,null,null,null,null,null,null,null,null,null,null,null,null,null,0]
[null,null,null,null,null,112,null,null,null,null,null,null,null,null,null,null,null,null,null,null,null,null,null,null,"km",null,"ｈ",null,null,"","ｈ",null,null,null,null,null,null,null,null,null,null,null,null,null,null,null,null,null,null,null,null,null,null,null,null,null,null,0]
[null,null,null,null,null,113,null,null,null,null,null,null,null,null,null,null,null,null,null,null,null,null,null,null,"km",null,"ｈ",null,null,"","ｈ",null,null,null,null,null,null,null,null,null,null,null,null,null,null,null,null,null,null,null,null,null,null,null,null,null,null,0]
[null,null,null,null,null,114,null,null,null,null,null,null,null,null,null,null,null,null,null,null,null,null,null,null,"km",null,"ｈ",null,null,"","ｈ",null,null,null,null,null,null,null,null,null,null,null,null,null,null,null,null,null,null,null,null,null,null,null,null,null,null,0]
[null,null,null,null,null,115,null,null,null,null,null,null,null,null,null,null,null,null,null,null,null,null,null,null,"km",null,"ｈ",null,null,"","ｈ",null,null,null,null,null,null,null,null,null,null,null,null,null,null,null,null,null,null,null,null,null,null,null,null,null,null,0]
[null,null,null,null,null,116,null,null,null,null,null,null,null,null,null,null,null,null,null,null,null,null,null,null,"km",null,"ｈ",null,null,"","ｈ",null,null,null,null,null,null,null,null,null,null,null,null,null,null,null,null,null,null,null,null,null,null,null,null,null,null,0]
[null,null,null,null,null,117,null,null,null,null,null,null,null,null,null,null,null,null,null,null,null,null,null,null,"km",null,"ｈ",null,null,"","ｈ",null,null,null,null,null,null,null,null,null,null,null,null,null,null,null,null,null,null,null,null,null,null,null,null,null,null,0]
[null,null,null,null,null,118,null,null,null,null,null,null,null,null,null,null,null,null,null,null,null,null,null,null,"km",null,"ｈ",null,null,"","ｈ",null,null,null,null,null,null,null,null,null,null,null,null,null,null,null,null,null,null,null,null,null,null,null,null,null,null,0]
[null,null,null,null,null,119,null,null,null,null,null,null,null,null,null,null,null,null,null,null,null,null,null,null,"km",null,"ｈ",null,null,"","ｈ",null,null,null,null,null,null,null,null,null,null,null,null,null,null,null,null,null,null,null,null,null,null,null,null,null,null,0]
[null,null,null,null,null,120,null,null,null,null,null,null,null,null,null,null,null,null,null,null,null,null,null,null,"km",null,"ｈ",null,null,"","ｈ",null,null,null,null,null,null,null,null,null,null,null,null,null,null,null,null,null,null,null,null,null,null,null,null,null,null,0]
[null,null,null,null,null,null,null,null,null,null,null,null,null,null,null,null,null,null,null,null,null,null,null,null,null,null,null,null,null,null,null,null,null,null,null,null,null,null,null,null,null,null,null,null,null,null,null,null,null,null,null,null,null,null,null,null,null,0]
[null,null,null,null,null,null,"災害対策\n本部要員",null,null,"所属（役職）",null,null,"住所",null,null,null,null,"電話番号",null,null,"緊急連絡先",null,null,"勤務先まで\nの距離",null,"通常の\n通勤時間",null,"非常時\n参集手段",null,"非常時\n参集時間",null,"災害対策本部\n所属班",null,null,null,null,null,null,null,null,null,null,null,null,null,null,null,null,null,{"$f":"IF(COUNTIF(G237:W266,\"<>\")>0,1,0)","v":0},null,null,null,null,null,null,null,0]
[null,null,null,null,null,121,null,null,null,null,null,null,null,null,null,null,null,null,null,null,null,null,null,null,"km",null,"ｈ",null,null,{"$f":"IF(AB237=\"\",\"\",IF(AB237=\"徒歩\",(X237/5),IF(AB237=\"自転車\",(X237/10))))","v":""},"ｈ",null,null,null,null,null,null,null,null,null,null,null,null,null,null,null,null,null,null,null,null,null,null,null,null,null,null,0]
[null,null,null,null,null,122,null,null,null,null,null,null,null,null,null,null,null,null,null,null,null,null,null,null,"km",null,"ｈ",null,null,"","ｈ",null,null,null,null,null,null,null,null,null,null,null,null,null,null,null,null,null,null,null,null,null,null,null,null,null,null,0]
[null,null,null,null,null,123,null,null,null,null,null,null,null,null,null,null,null,null,null,null,null,null,null,null,"km",null,"ｈ",null,null,"","ｈ",null,null,null,null,null,null,null,null,null,null,null,null,null,null,null,null,null,null,null,null,null,null,null,null,null,null,0]
[null,null,null,null,null,124,null,null,null,null,null,null,null,null,null,null,null,null,null,null,null,null,null,null,"km",null,"ｈ",null,null,"","ｈ",null,null,null,null,null,null,null,null,null,null,null,null,null,null,null,null,null,null,null,null,null,null,null,null,null,null,0]
[null,null,null,null,null,125,null,null,null,null,null,null,null,null,null,null,null,null,null,null,null,null,null,null,"km",null,"ｈ",null,null,"","ｈ",null,null,null,null,null,null,null,null,null,null,null,null,null,null,null,null,null,null,null,null,null,null,null,null,null,null,0]
[null,null,null,null,null,126,null,null,null,null,null,null,null,null,null,null,null,null,null,null,null,null,null,null,"km",null,"ｈ",null,null,"","ｈ",null,null,null,null,null,null,null,null,null,null,null,null,null,null,null,null,null,null,null,null,null,null,null,null,null,null,0]
[null,null,null,null,null,127,null,null,null,null,null,null,null,null,null,null,null,null,null,null,null,null,null,null,"km",null,"ｈ",null,null,"","ｈ",null,null,null,null,null,null,null,null,null,null,null,null,null,null,null,null,null,null,null,null,null,null,null,null,null,null,0]
[null,null,null,null,null,128,null,null,null,null,null,null,null,null,null,null,null,null,null,null,null,null,null,null,"km",null,"ｈ",null,null,"","ｈ",null,null,null,null,null,null,null,null,null,null,null,null,null,null,null,null,null,null,null,null,null,null,null,null,null,null,0]
[null,null,null,null,null,129,null,null,null,null,null,null,null,null,null,null,null,null,null,null,null,null,null,null,"km",null,"ｈ",null,null,"","ｈ",null,null,null,null,null,null,null,null,null,null,null,null,null,null,null,null,null,null,null,null,null,null,null,null,null,null,0]
[null,null,null,null,null,130,null,null,null,null,null,null,null,null,null,null,null,null,null,null,null,null,null,null,"km",null,"ｈ",null,null,"","ｈ",null,null,null,null,null,null,null,null,null,null,null,null,null,null,null,null,null,null,null,null,null,null,null,null,null,null,0]
[null,null,null,null,null,131,null,null,null,null,null,null,null,null,null,null,null,null,null,null,null,null,null,null,"km",null,"ｈ",null,null,"","ｈ",null,null,null,null,null,null,null,null,null,null,null,null,null,null,null,null,null,null,null,null,null,null,null,null,null,null,0]
[null,null,null,null,null,132,null,null,null,null,null,null,null,null,null,null,null,null,null,null,null,null,null,null,"km",null,"ｈ",null,null,"","ｈ",null,null,null,null,null,null,null,null,null,null,null,null,null,null,null,null,null,null,null,null,null,null,null,null,null,null,0]
[null,null,null,null,null,133,null,null,null,null,null,null,null,null,null,null,null,null,null,null,null,null,null,null,"km",null,"ｈ",null,null,"","ｈ",null,null,null,null,null,null,null,null,null,null,null,null,null,null,null,null,null,null,null,null,null,null,null,null,null,null,0]
[null,null,null,null,null,134,null,null,null,null,null,null,null,null,null,null,null,null,null,null,null,null,null,null,"km",null,"ｈ",null,null,"","ｈ",null,null,null,null,null,null,null,null,null,null,null,null,null,null,null,null,null,null,null,null,null,null,null,null,null,null,0]
[null,null,null,null,null,135,null,null,null,null,null,null,null,null,null,null,null,null,null,null,null,null,null,null,"km",null,"ｈ",null,null,"","ｈ",null,null,null,null,null,null,null,null,null,null,null,null,null,null,null,null,null,null,null,null,null,null,null,null,null,null,0]
[null,null,null,null,null,136,null,null,null,null,null,null,null,null,null,null,null,null,null,null,null,null,null,null,"km",null,"ｈ",null,null,"","ｈ",null,null,null,null,null,null,null,null,null,null,null,null,null,null,null,null,null,null,null,null,null,null,null,null,null,null,0]
[null,null,null,null,null,137,null,null,null,null,null,null,null,null,null,null,null,null,null,null,null,null,null,null,"km",null,"ｈ",null,null,"","ｈ",null,null,null,null,null,null,null,null,null,null,null,null,null,null,null,null,null,null,null,null,null,null,null,null,null,null,0]
[null,null,null,null,null,138,null,null,null,null,null,null,null,null,null,null,null,null,null,null,null,null,null,null,"km",null,"ｈ",null,null,"","ｈ",null,null,null,null,null,null,null,null,null,null,null,null,null,null,null,null,null,null,null,null,null,null,null,null,null,null,0]
[null,null,null,null,null,139,null,null,null,null,null,null,null,null,null,null,null,null,null,null,null,null,null,null,"km",null,"ｈ",null,null,"","ｈ",null,null,null,null,null,null,null,null,null,null,null,null,null,null,null,null,null,null,null,null,null,null,null,null,null,null,0]
[null,null,null,null,null,140,null,null,null,null,null,null,null,null,null,null,null,null,null,null,null,null,null,null,"km",null,"ｈ",null,null,"","ｈ",null,null,null,null,null,null,null,null,null,null,null,null,null,null,null,null,null,null,null,null,null,null,null,null,null,null,0]
[null,null,null,null,null,141,null,null,null,null,null,null,null,null,null,null,null,null,null,null,null,null,null,null,"km",null,"ｈ",null,null,"","ｈ",null,null,null,null,null,null,null,null,null,null,null,null,null,null,null,null,null,null,null,null,null,null,null,null,null,null,0]
[null,null,null,null,null,142,null,null,null,null,null,null,null,null,null,null,null,null,null,null,null,null,null,null,"km",null,"ｈ",null,null,"","ｈ",null,null,null,null,null,null,null,null,null,null,null,null,null,null,null,null,null,null,null,null,null,null,null,null,null,null,0]
[null,null,null,null,null,143,null,null,null,null,null,null,null,null,null,null,null,null,null,null,null,null,null,null,"km",null,"ｈ",null,null,"","ｈ",null,null,null,null,null,null,null,null,null,null,null,null,null,null,null,null,null,null,null,null,null,null,null,null,null,null,0]
[null,null,null,null,null,144,null,null,null,null,null,null,null,null,null,null,null,null,null,null,null,null,null,null,"km",null,"ｈ",null,null,"","ｈ",null,null,null,null,null,null,null,null,null,null,null,null,null,null,null,null,null,null,null,null,null,null,null,null,null,null,0]
[null,null,null,null,null,145,null,null,null,null,null,null,null,null,null,null,null,null,null,null,null,null,null,null,"km",null,"ｈ",null,null,"","ｈ",null,null,null,null,null,null,null,null,null,null,null,null,null,null,null,null,null,null,null,null,null,null,null,null,null,null,0]
[null,null,null,null,null,146,null,null,null,null,null,null,null,null,null,null,null,null,null,null,null,null,null,null,"km",null,"ｈ",null,null,"","ｈ",null,null,null,null,null,null,null,null,null,null,null,null,null,null,null,null,null,null,null,null,null,null,null,null,null,null,0]
[null,null,null,null,null,147,null,null,null,null,null,null,null,null,null,null,null,null,null,null,null,null,null,null,"km",null,"ｈ",null,null,"","ｈ",null,null,null,null,null,null,null,null,null,null,null,null,null,null,null,null,null,null,null,null,null,null,null,null,null,null,0]
[null,null,null,null,null,148,null,null,null,null,null,null,null,null,null,null,null,null,null,null,null,null,null,null,"km",null,"ｈ",null,null,"","ｈ",null,null,null,null,null,null,null,null,null,null,null,null,null,null,null,null,null,null,null,null,null,null,null,null,null,null,0]
[null,null,null,null,null,149,null,null,null,null,null,null,null,null,null,null,null,null,null,null,null,null,null,null,"km",null,"ｈ",null,null,"","ｈ",null,null,null,null,null,null,null,null,null,null,null,null,null,null,null,null,null,null,null,null,null,null,null,null,null,null,0]
[null,null,null,null,null,150,null,null,null,null,null,null,null,null,null,null,null,null,null,null,null,null,null,null,"km",null,"ｈ",null,null,"","ｈ",null,null,null,null,null,null,null,null,null,null,null,null,null,null,null,null,null,null,null,null,null,null,null,null,null,null,0]
[null,null,null,null,null,null,null,null,null,null,null,null,null,null,null,null,null,null,null,null,null,null,null,null,null,null,null,null,null,"[災害対策本部要員] 名簿表 ⇒",null,null,null,null,null,null,null,null,null,null,null,null,null,null,null,null,null,null,null,null,null,null,null,null,null,null,null,1]
[null,null,null,null,null,null,null,null,null,null,null,null,null,null,null,null,null,null,null,null,null,null,"※ [追加] [削除] で 30名分の単位で、表が増減されます（最大150名分まで）\n　　[削除] をクリックした場合，削除対象となる表に記述してある内容も、削除されます",null,null,null,null,null,null,null,null,null,null,null,null,null,null,null,null,null,null,null,null,null,null,null,null,null,null,null,null,null,null,null,null,null,null,1]
[null,null,null,"2.2 災害対策本部体制",null,null,null,null,null,null,null,null,null,null,null,null,null,null,null,null,null,null,null,null,null,null,null,null,null,null,null,null,null,null,null,null,null,null,null,null,null,null,null,null,null,null,null,null,null,null,null,null,null,null,null,null,null,0]
[null,null,null,null,null,null,null,null,null,null,null,null,null,null,null,null,null,null,null,null,null,null,null,null,null,null,null,null,null,null,null,null,null,null,null,null,null,null,null,null,null,null,null,null,null,null,null,null,null,null,null,null,null,null,null,null,null,0]
[null,null,null,null,null,null,null,null,null,null,null,null,null,null,null,null,null,null,null,null,null,null,null,null,null,null,null,null,null,null,null,null,null,null,null,null,null,null,null,null,null,null,null,null,null,null,null,null,null,null,null,null,null,null,null,null,null,0]
[null,null,null,null,null,null,null,null,null,null,null,null,null,null,null,null,null,null,null,null,null,null,null,null,null,null,null,null,null,null,null,null,null,null,null,null,null,null,null,null,null,null,null,null,null,null,null,null,null,null,null,null,null,null,null,null,null,0]
[null,null,null,null,null,null,null,null,null,null,null,null,null,null,null,null,null,null,null,null,null,null,null,null,null,null,null,null,null,null,null,null,null,null,null,null,null,null,null,null,null,null,null,null,null,null,null,null,null,null,null,null,null,null,null,null,null,0]
[null,null,null,null,null,null,null,null,null,null,null,null,null,null,null,null,null,null,null,null,null,null,null,null,null,null,null,null,null,null,null,null,null,null,null,null,null,null,null,null,null,null,null,null,null,null,null,null,null,null,null,null,null,null,null,null,null,0]
[null,null,null,null,null,null,null,null,null,null,null,null,null,null,null,null,null,null,null,null,null,null,null,null,null,null,null,null,null,null,null,null,null,null,null,null,null,null,null,null,null,null,null,null,null,null,null,null,null,null,null,null,null,null,null,null,null,0]
[null,null,null,null,null,null,null,null,null,null,null,null,null,null,null,null,null,null,null,null,null,null,null,null,null,null,null,null,null,null,null,null,null,null,null,null,null,null,null,null,null,null,null,null,null,null,null,null,null,null,null,null,null,null,null,null,null,0]
[null,null,null,null,null,null,null,null,null,null,null,null,null,null,null,null,null,null,null,null,null,null,null,null,null,null,null,null,null,null,null,null,null,null,null,null,null,null,null,null,null,null,null,null,null,null,null,null,null,null,null,null,null,null,null,null,null,0]
[null,null,null,null,null,null,null,null,null,null,null,null,null,null,null,null,null,null,null,null,null,null,null,null,null,null,null,null,null,null,null,null,null,null,null,null,null,null,null,null,null,null,null,null,null,null,null,null,null,null,null,null,null,null,null,null,null,0]
[null,null,null,null,null,null,null,null,null,null,null,null,null,null,null,null,null,null,null,null,null,null,null,null,null,null,null,null,null,null,null,null,null,null,null,null,null,null,null,null,null,null,null,null,null,null,null,null,null,null,null,null,null,null,null,null,null,0]
[null,null,null,null,null,null,null,null,null,null,null,null,null,null,null,null,null,null,null,null,null,null,null,null,null,null,null,null,null,null,null,null,null,null,null,null,null,null,null,null,null,null,null,null,null,null,null,null,null,null,null,null,null,null,null,null,null,0]
[null,null,null,null,null,null,null,null,null,null,null,null,null,null,null,null,null,null,null,null,null,null,null,null,null,null,null,null,null,null,null,null,null,null,null,null,null,null,null,null,null,null,null,null,null,null,null,null,null,null,null,null,null,null,null,null,null,0]
[null,null,null,null,null,null,null,null,null,null,null,null,null,null,null,null,null,null,null,null,null,null,null,null,null,null,null,null,null,null,null,null,null,null,null,null,null,null,null,null,null,null,null,null,null,null,null,null,null,null,null,null,null,null,null,null,null,0]
[null,null,null,null,null,null,null,null,null,null,null,null,null,null,null,null,null,null,null,null,null,null,null,null,null,null,null,null,null,null,null,null,null,null,null,null,null,null,null,null,null,null,null,null,null,null,null,null,null,null,null,null,null,null,null,null,null,0]
[null,null,null,null,null,null,null,null,null,null,null,null,null,null,null,null,null,null,null,null,null,null,null,null,null,null,null,null,null,null,null,null,null,null,null,null,null,null,null,null,null,null,null,null,null,null,null,null,null,null,null,null,null,null,null,null,null,0]
[null,null,null,null,null,null,null,null,null,null,null,null,null,null,null,null,null,null,null,null,null,null,null,null,null,null,null,null,null,null,null,null,null,null,null,null,null,null,null,null,null,null,null,null,null,null,null,null,null,null,null,null,null,null,null,null,null,0]
[null,null,null,null,null,null,null,null,null,null,null,null,null,null,null,null,null,null,null,null,null,null,null,null,null,null,null,null,null,null,null,null,null,null,null,null,null,null,null,null,null,null,null,null,null,null,null,null,null,null,null,null,null,null,null,null,null,0]
[null,null,null,null,null,null,null,null,null,null,null,null,null,null,null,null,null,null,null,null,null,null,null,null,null,null,null,null,null,null,null,null,null,null,null,null,null,null,null,null,null,null,null,null,null,null,null,null,null,null,null,null,null,null,null,null,null,0]
[null,null,null,null,null,null,null,null,null,null,null,null,null,null,null,null,null,null,null,null,null,null,null,null,null,null,null,null,null,null,null,null,null,null,null,null,null,null,null,null,null,null,null,null,null,null,null,null,null,null,null,null,null,null,null,null,null,0]
[null,null,null,null,null,null,null,null,null,null,null,null,null,null,null,null,null,null,null,null,null,null,null,null,null,null,null,null,null,null,null,null,null,null,null,null,null,null,null,null,null,null,null,null,null,null,null,null,null,null,null,null,null,null,null,null,null,0]
[null,null,null,null,null,null,null,null,null,null,null,null,null,null,null,null,null,null,null,null,null,null,null,null,null,null,null,null,null,null,null,null,null,null,null,null,null,null,null,null,null,null,null,null,null,null,null,null,null,null,null,null,null,null,null,null,null,0]
[null,null,null,null,null,null,null,null,null,null,null,null,null,null,null,null,null,null,null,null,null,null,null,null,null,null,null,null,null,null,null,null,null,null,null,null,null,null,null,null,null,null,null,null,null,null,null,null,null,null,null,null,null,null,null,null,null,0]
[null,null,null,null,null,null,null,null,null,null,null,null,null,null,null,null,null,null,null,null,null,null,null,null,null,null,null,null,null,null,null,null,null,null,null,null,null,null,null,null,null,null,null,null,null,null,null,null,null,null,null,null,null,null,null,null,null,0]
[null,null,null,null,null,null,null,null,null,null,null,null,null,null,null,null,null,null,null,null,null,null,null,null,null,null,null,null,null,null,null,null,null,null,null,null,null,null,null,null,null,null,null,null,null,null,null,null,null,null,null,null,null,null,null,null,null,{"$f":"IF(F294=\"\",0,1)","v":0}]
[null,null,null,null,null,null,null,null,null,null,null,null,null,null,null,null,null,null,null,null,null,null,null,null,null,null,null,null,null,null,null,null,null,null,null,null,null,null,null,null,null,null,null,null,null,null,null,null,null,null,null,null,null,null,null,null,null,{"$f":"IF(F294=\"\",0,1)","v":0}]
[null,null,null,null,null,null,null,null,null,null,null,null,null,null,null,null,null,null,null,null,null,null,null,null,null,null,null,null,null,null,null,null,null,null,null,null,null,null,null,null,null,null,null,null,null,null,null,null,null,null,null,null,null,null,null,null,null,{"$f":"IF(F296=\"\",0,1)","v":0}]
[null,null,null,null,null,null,null,null,null,null,null,null,null,null,null,null,null,null,null,null,null,null,null,null,null,null,null,null,null,null,null,null,null,null,null,null,null,null,null,null,null,null,null,null,null,null,null,null,null,null,null,null,null,null,null,null,null,{"$f":"IF(F296=\"\",0,1)","v":0}]
[null,null,null,null,null,null,null,null,null,null,null,null,null,null,null,null,null,null,null,null,null,null,null,null,null,null,null,null,null,null,null,null,null,null,null,null,null,null,null,null,null,null,null,null,null,null,null,null,null,null,null,null,null,null,null,null,null,0]
[null,null,null,null,null,null,null,null,null,null,null,null,null,null,null,null,null,null,null,null,null,null,null,null,null,null,null,null,null,null,null,null,null,null,null,null,null,null,null,null,null,null,null,null,null,null,null,null,null,null,null,null,null,null,null,null,null,0]
[null,null,null,"3. 水害リスクの把握",null,null,null,null,null,null,null,null,null,null,null,null,null,null,null,null,null,null,null,null,null,null,null,null,null,null,null,null,null,null,null,null,null,null,null,"③",null,null,null,null,null,null,null,null,null,null,null,null,null,null,null,null,null,1]
[null,null,null,null,null,null,null,null,null,null,null,null,null,null,null,null,null,null,null,null,null,null,null,null,null,null,null,null,null,null,null,null,null,null,null,null,null,null,null,null,null,null,null,null,null,null,null,null,null,null,null,null,null,null,null,null,null,1]
[null,null,null,null,"洪水氾濫は「外水氾濫」と「内水氾濫」の大きく2つに分類されます。\n「外水氾濫」は、多量の雨により河川の水が溢れたり、堤防が決壊したりすることで市街地に水が流れ込む現象です。\n「内水氾濫」は2つのパターンに分けることができます。\n　1. 短時間強雨により都市部の排水能力が追い付かずに冠水が広がる「氾濫型」\n　2. 河川の増水により排水路を逆流することで発生する「湛水型」",null,null,null,null,null,null,null,null,null,null,null,null,null,null,null,null,null,null,null,null,null,null,null,null,null,null,null,null,null,null,null,null,null,null,null,null,null,null,null,null,null,null,null,null,null,null,null,null,null,null,null,null,1]
[null,null,null,null,null,null,null,null,null,null,null,null,null,null,null,null,null,null,null,null,null,null,null,null,null,null,null,null,null,null,null,null,null,null,null,null,null,null,null,null,null,null,null,null,null,null,null,null,null,null,null,null,null,null,null,null,null,1]
[null,null,null,null,"外水氾濫",null,null,null,null,null,null,null,null,null,null,null,null,null,null,null,null,null,null,null,null,null,null,null,null,null,null,null,null,null,null,null,null,null,null,null,null,null,null,null,null,null,null,null,null,null,null,null,null,null,"外水氾濫",null,null,1]
[null,null,null,null,"御社周辺の浸水想定については以下のサイトの洪水想定区域（想定最大規模）のハザードマップを参照してください。\n　「ハザードマップ　ポータルサイト」（QRコード②）",null,null,null,null,null,null,null,null,null,null,null,null,null,null,null,null,null,null,null,null,null,null,null,null,null,null,null,null,null,null,null,null,null,null,null,null,null,null,null,null,null,null,null,null,null,null,null,null,null,null,null,null,1]
[null,null,null,null,null,null,null,null,null,null,null,null,null,null,null,null,null,null,null,null,null,null,null,null,null,null,null,null,null,null,null,null,null,null,null,null,null,null,null,null,null,null,null,null,null,null,null,null,null,null,null,null,null,null,null,null,null,1]
[null,null,null,null,null,null,null,null,null,null,null,null,null,null,null,null,null,null,null,null,null,null,null,null,null,null,null,null,null,null,null,null,null,null,null,null,null,null,null,null,null,null,null,null,null,null,null,null,null,null,null,null,null,null,null,null,null,1]
[null,null,null,null,null,null,null,"施設の階数",null,"3階",null,null,null,null,null,null,null,null,null,null,null,null,null,null,null,null,null,null,null,null,null,null,null,null,null,null,null,null,null,null,null,null,null,null,null,null,null,null,null,{"$f":"VALUE(LEFT(J307,1))","v":3},null,null,null,null,null,null,null,1]
[null,null,null,null,null,null,"想定される\n最大浸水深",null,null,"3.0m～5.0m",null,null,null,null,null,null,null,null,null,null,null,null,null,null,null,null,null,null,null,null,null,null,null,null,null,null,null,null,null,null,null,null,null,null,null,null,null,null,null,{"$f":"VALUE(VLOOKUP(J308,参照シート!H11:I19,2,FALSE))","v":2},{"$f":"IFERROR(VALUE(VLOOKUP(J308,参照シート!H11:J19,3,FALSE)),\"無\")","v":3},null,null,null,null,null,null,1]
[null,null,null,null,null,null,null,null,null,null,null,null,null,null,null,null,null,null,null,null,null,null,null,null,null,null,null,null,null,null,null,null,null,null,null,null,null,null,null,null,null,null,null,null,null,null,null,null,null,null,null,null,null,null,null,null,null,1]
[null,null,null,null,null,"浸水深",null,null,null,null,null,null,null,null,null,null,"建物の浸水イメージ",null,null,null,null,null,null,null,null,null,null,null,null,null,null,null,null,null,null,null,null,null,null,null,null,null,null,null,null,null,null,null,null,null,null,null,null,null,null,null,null,1]
[null,null,null,null,null,"20.0m ～",null,null,null,null,null,null,null,null,null,null,null,null,null,null,null,null,null,null,null,null,null,null,null,null,null,null,null,null,null,null,null,null,null,null,null,null,null,null,null,null,null,null,null,null,20,null,null,null,null,null,null,1]
[null,null,null,null,null,"10.0m ～ 20.0m",null,null,null,null,null,null,null,null,null,null,null,null,null,null,null,null,null,null,null,null,null,null,null,null,null,null,null,null,null,null,null,null,null,null,null,null,null,null,null,null,null,null,null,null,10,null,null,null,null,null,null,1]
[null,null,null,null,null,"5.0m ～ 10.0m",null,null,null,null,null,null,null,null,null,null,null,null,null,null,null,null,null,null,null,null,null,null,null,null,null,null,null,null,null,null,null,null,null,null,null,null,null,null,null,null,null,null,null,null,5,null,null,null,null,null,null,1]
[null,null,null,null,null,"3.0m ～ 5.0m",null,null,null,null,null,null,null,null,null,null,null,null,null,null,null,null,null,null,null,null,null,null,null,null,null,null,null,null,null,null,null,null,null,null,null,null,null,null,null,null,null,null,null,null,3,null,null,null,null,null,null,1]
[null,null,null,null,null,"1.0m ～ 3.0m",null,null,null,null,null,null,null,null,null,null,null,null,null,null,null,null,null,null,null,null,null,null,null,null,null,null,null,null,null,null,null,null,null,null,null,null,null,null,null,null,null,null,null,null,1,null,null,null,null,null,null,1]
[null,null,null,null,null,"0.5m ～ 1.0m",null,null,null,null,null,null,null,null,null,null,null,null,null,null,null,null,null,null,null,null,null,null,null,null,null,null,null,null,null,null,null,null,null,null,null,null,null,null,null,null,null,null,null,null,0.5,null,null,null,null,null,null,1]
[null,null,null,null,null,"0.3m ～ 0.5m",null,null,null,null,null,null,null,null,null,null,null,null,null,null,null,null,null,null,null,null,null,null,null,null,null,null,null,null,null,null,null,null,null,null,null,null,null,null,null,null,null,null,null,null,0.3,null,null,null,null,null,null,1]
[null,null,null,null,null,"　　　　 ～ 0.3m ",null,null,null,null,null,null,null,null,null,null,null,null,null,null,null,null,null,null,null,null,null,null,null,null,null,null,null,null,null,null,null,null,null,null,null,null,null,null,null,null,null,null,null,null,null,null,null,null,null,null,null,1]
[null,null,null,null,null,null,null,null,null,null,null,null,null,null,null,null,null,null,null,null,null,null,null,null,null,null,null,null,null,null,null,null,null,null,null,null,null,null,null,null,null,null,null,null,null,null,null,null,null,null,null,null,null,null,null,null,null,1]
[null,null,null,null,null,null,"御社が屋内安全確保（垂直避難）をすることは",null,null,null,null,null,null,null,null,null,null,"※垂直避難を「避けてください」と表示される場合は、最寄りの避難所に避難してください。",null,null,null,null,null,null,null,null,null,null,null,null,null,null,null,null,null,null,null,null,null,null,null,null,null,null,null,null,null,null,null,null,null,null,null,null,null,null,null,1]
[null,null,null,null,null,null,null,null,{"$f":"IFERROR(IF($AX$307>AX308,\"可能です\",\"避けてください\"),\"\")","v":"可能です"},null,null,null,null,null,null,null,null,null,null,null,null,null,null,null,null,null,null,null,null,null,null,null,null,null,null,null,null,null,null,null,null,null,null,{"$f":"I321","v":"可能です"},null,null,null,null,null,null,null,null,null,null,null,null,null,1]
[null,null,null,null,null,null,null,null,null,null,null,null,null,null,null,null,null,null,null,null,null,null,null,null,null,null,null,null,null,null,null,null,null,null,null,null,null,null,null,null,null,null,null,null,null,null,null,null,null,null,null,null,null,null,null,null,null,1]
[null,null,null,null,null,null,"※","「垂直避難が可能」 は必ずしも垂直避難を推奨するものではありません。\n従業員を収容できるスペースの確保、衛生面（水・食料・排泄・保温用備品）などの備蓄、\n情報入手・伝達手段と予備電源（停電する可能性があるため）などの十分な備えをする必要があります。\nまた、下記の 「浸水継続時間」 が長い場合や、大きな川の周辺で建物や道路が損傷をうける可能性がある地域は、\n屋内に留まることは命の危険が高まります。\n浸水がすぐに引いて移動が可能となるような場所以外では、あくまで緊急的な避難先とすることが考えられます。",null,null,null,null,null,null,null,null,null,null,null,null,null,null,null,null,null,null,null,null,null,null,null,null,null,null,null,null,null,null,null,null,null,null,null,null,null,null,null,null,null,null,null,null,null,null,null,null,null,1]
[null,null,null,null,null,null,null,null,null,null,null,null,null,null,null,null,null,null,null,null,null,null,null,null,null,null,null,null,null,null,null,null,null,null,null,null,null,null,null,null,null,null,null,null,null,null,null,null,null,{"$f":"IF($AP$321=\"避けてください\",\"－\",H324)","v":0},null,null,null,null,null,null,null,0]
[null,null,null,null,null,null,null,null,null,null,null,null,null,null,null,null,null,null,null,null,null,null,null,null,null,null,null,null,null,null,null,null,null,null,null,null,null,null,null,null,null,null,null,null,null,null,null,null,null,{"$f":"IF($AP$321=\"避けてください\",\"－\",H325)","v":0},null,null,null,null,null,null,null,0]
[null,null,null,null,null,null,null,null,null,null,null,null,null,null,null,null,null,null,null,null,null,null,null,null,null,null,null,null,null,null,null,null,null,null,null,null,null,null,null,null,null,null,null,null,null,null,null,null,null,null,null,null,null,null,null,null,null,1]
[null,null,null,null,"浸水継続時間",null,null,null,null,null,null,null,null,null,null,null,null,null,null,null,null,null,null,null,null,null,null,null,null,null,null,null,null,null,null,null,null,null,null,null,null,null,null,null,null,null,null,null,null,null,null,null,null,null,null,null,null,1]
[null,null,null,null,null,null,null,null,null,null,null,null,null,null,null,null,null,null,null,null,null,null,null,null,null,null,null,null,null,null,null,null,null,null,null,null,null,null,null,null,null,null,null,null,null,null,null,null,null,null,null,null,null,null,null,null,null,1]
[null,null,null,null,"「浸水継続時間」とは外水氾濫による氾濫水が到達後、浸水深 が 0.5ｍ に達してからその浸水深を下回るまでの時間です。",null,null,null,null,null,null,null,null,null,null,null,null,null,null,null,null,null,null,null,null,null,null,null,null,null,null,null,null,null,null,null,null,null,null,null,null,null,null,null,null,null,null,null,null,null,null,null,null,null,null,null,null,1]
[null,null,null,null,"御社周辺の浸水継続時間については以下のサイトを参照してください。\n　「庄内川水系図庄内川・矢田川　洪水浸水想定区域図（浸水継続時間）」（QRコード③）",null,null,null,null,null,null,null,null,null,null,null,null,null,null,null,null,null,null,null,null,null,null,null,null,null,null,null,null,null,null,null,null,null,null,null,null,null,null,null,null,null,null,null,null,null,null,null,null,null,null,null,null,1]
[null,null,null,null,null,null,null,null,null,null,null,null,null,null,null,null,null,null,null,null,null,null,null,null,null,null,null,null,null,null,null,null,null,null,null,null,null,null,null,null,null,null,null,null,null,null,null,null,null,null,null,null,null,null,null,null,null,1]
[null,null,null,null,null,"御社周辺の浸水継続時間は",null,null,null,null,null,null,"12時間未満",null,null,null,null,"です。",null,null,null,null,null,null,null,null,null,null,null,null,null,null,null,null,null,null,null,null,null,null,null,null,null,null,null,null,null,null,null,null,null,null,null,null,null,null,null,1]
[null,null,null,null,null,null,null,null,null,null,null,null,null,null,null,null,null,null,null,null,null,null,null,null,null,null,null,null,null,null,null,null,null,null,null,null,null,null,null,null,null,null,null,null,null,null,null,null,null,null,null,null,null,null,null,null,null,1]
[null,null,null,null,null,null,null,null,null,null,null,null,null,null,null,null,null,null,null,null,null,null,null,null,null,null,null,null,null,null,null,null,null,null,null,null,null,null,null,null,null,null,null,null,null,null,null,null,null,null,null,null,null,null,null,null,null,1]
[null,null,null,null,"内水氾濫",null,null,null,null,null,null,null,null,null,null,null,null,null,null,null,null,null,null,null,null,null,null,null,null,null,null,null,null,null,null,null,null,null,null,null,null,null,null,null,null,null,null,null,null,null,null,null,null,null,"内水氾濫",null,null,1]
[null,null,null,null,null,null,null,null,null,null,null,null,null,null,null,null,null,null,null,null,null,null,null,null,null,null,null,null,null,null,null,null,null,null,null,null,null,null,null,null,null,null,null,null,null,null,null,null,null,null,null,null,null,null,null,null,null,1]
[null,null,null,null,"施設の階数",null,null,null,null,{"$f":"J307&\"\"","v":"3階"},null,null,null,null,null,null,null,null,null,null,null,null,null,null,null,null,null,null,null,null,null,null,null,null,null,null,null,null,null,null,null,null,null,null,null,null,null,null,null,{"$f":"VALUE(LEFT(J337,1))","v":3},null,null,null,null,null,null,null,1]
[null,null,null,null,"想定される最大浸水深",null,null,null,null,"0.5m～1.0m",null,null,null,null,null,null,null,null,null,null,null,null,null,null,null,null,null,null,null,null,null,null,null,null,null,null,null,null,null,null,null,null,null,null,null,null,null,null,null,{"$f":"VALUE(VLOOKUP(J338,参照シート!H21:J27,2,FALSE))","v":1},{"$f":"IFERROR(VALUE(VLOOKUP(J338,参照シート!H21:J27,3,FALSE)),\"無\")","v":0.5},null,null,null,null,null,null,1]
[null,null,null,null,null,null,null,null,null,null,null,null,null,null,null,null,null,null,null,null,null,null,null,null,null,null,null,null,null,null,null,null,null,null,null,null,null,null,null,null,null,null,null,null,null,null,null,null,null,null,null,null,null,null,null,null,null,1]
[null,null,null,null,null,"浸水深",null,null,null,null,null,null,null,null,null,null,"建物の浸水イメージ",null,null,null,null,null,null,null,null,null,null,null,null,null,null,null,null,null,null,null,null,null,null,null,null,null,null,null,null,null,null,null,null,null,null,null,null,null,null,null,null,1]
[null,null,null,null,null,null,null,null,null,null,null,null,null,null,null,null,null,null,null,null,null,null,null,null,null,null,null,null,null,null,null,null,null,null,null,null,null,null,null,null,null,null,null,null,null,null,null,null,null,null,null,null,null,null,null,null,null,1]
[null,null,null,null,null,"5.0m ～ 10.0m",null,null,null,null,null,null,null,null,null,null,null,null,null,null,null,null,null,null,null,null,null,null,null,null,null,null,null,null,null,null,null,null,null,null,null,null,null,null,null,null,null,null,null,null,5,null,null,null,null,null,null,1]
[null,null,null,null,null,"3.0m ～ 5.0m",null,null,null,null,null,null,null,null,null,null,null,null,null,null,null,null,null,null,null,null,null,null,null,null,null,null,null,null,null,null,null,null,null,null,null,null,null,null,null,null,null,null,null,null,3,null,null,null,null,null,null,1]
[null,null,null,null,null,"1.0m ～ 3.0m",null,null,null,null,null,null,null,null,null,null,null,null,null,null,null,null,null,null,null,null,null,null,null,null,null,null,null,null,null,null,null,null,null,null,null,null,null,null,null,null,null,null,null,null,1,null,null,null,null,null,null,1]
[null,null,null,null,null,"0.5m ～ 1.0m",null,null,null,null,null,null,null,null,null,null,null,null,null,null,null,null,null,null,null,null,null,null,null,null,null,null,null,null,null,null,null,null,null,null,null,null,null,null,null,null,null,null,null,null,0.5,null,null,null,null,null,null,1]
[null,null,null,null,null,"0.3m ～ 0.5m",null,null,null,null,null,null,null,null,null,null,null,null,null,null,null,null,null,null,null,null,null,null,null,null,null,null,null,null,null,null,null,null,null,null,null,null,null,null,null,null,null,null,null,null,0.3,null,null,null,null,null,null,1]
[null,null,null,null,null,"　　　　 ～ 0.3m ",null,null,null,null,null,null,null,null,null,null,null,null,null,null,null,null,null,null,null,null,null,null,null,null,null,null,null,null,null,null,null,null,null,null,null,null,null,null,null,null,null,null,null,null,null,null,null,null,null,null,null,1]
[null,null,null,null,null,null,null,null,null,null,null,null,null,null,null,null,null,null,null,null,null,null,null,null,null,null,null,null,null,null,null,null,null,null,null,null,null,null,null,null,null,null,null,null,null,null,null,null,null,null,null,null,null,null,null,null,null,1]
[null,null,null,null,null,"※建物の階数より浸水深が深い場合は、屋内安全確保（垂直避難）は危険です。",null,null,null,null,null,null,null,null,null,null,null,null,null,null,null,null,null,null,null,null,null,null,null,null,null,null,null,null,null,null,null,null,null,null,null,null,null,null,null,null,null,null,null,null,null,null,null,null,null,null,null,1]
[null,null,null,null,null,null,null,null,null,null,null,null,null,null,null,null,null,null,null,null,null,null,null,null,null,null,null,null,null,null,null,null,null,null,null,null,null,null,null,null,null,null,null,null,null,null,null,null,null,null,null,null,null,null,null,null,null,1]
[null,null,null,null,null,"　 垂直避難は、大きい川の近く企業の場合、建物が流される可能性があるため、注意してください。",null,null,null,null,null,null,null,null,null,null,null,null,null,null,null,null,null,null,null,null,null,null,null,null,null,null,null,null,null,null,null,null,null,null,null,null,null,null,null,null,null,null,null,null,null,null,null,null,null,null,null,1]
[null,null,null,null,null,null,"御社が屋内安全確保（垂直避難）をすることは",null,null,null,null,null,null,null,null,null,null,null,null,null,null,null,null,null,null,null,null,null,null,null,null,null,null,null,null,null,null,null,null,null,null,null,null,null,null,null,null,null,null,null,null,null,null,null,null,null,null,1]
[null,null,null,null,null,null,null,null,{"$f":"IFERROR(IF($AX$337>$AX$338,\"可能です\",\"避けてください\"),\"\")","v":"可能です"},null,null,null,null,null,null,null,null,null,null,null,null,null,null,null,null,null,null,null,null,null,null,null,null,null,null,null,null,null,null,null,null,null,null,{"$f":"I353","v":"可能です"},null,null,null,null,null,null,null,null,null,null,null,null,null,1]
[null,null,null,null,null,null,"\n※","\n内水氾濫を想定した避難は、局地的な大雨により道路や低い土地が冠水するなど、\n避難する時間が極端に短い場合を想定しています。\n河川の水位が上がっている状態では、「外水氾濫」 を想定した避難先へ移動してください。",null,null,null,null,null,null,null,null,null,null,null,null,null,null,null,null,null,null,null,null,null,null,null,null,null,null,null,null,null,null,null,null,null,null,null,null,null,null,null,null,null,null,null,null,null,null,null,null,null,1]
[null,null,null,"4. 避難の計画",null,null,null,null,null,null,null,null,null,null,null,null,null,null,null,null,null,null,null,null,null,null,null,null,null,null,null,null,null,null,null,null,null,null,null,"④",null,null,null,null,null,null,null,null,null,null,null,null,null,null,null,null,null,1]
[null,null,null,null,null,null,null,null,null,null,null,null,null,null,null,null,null,null,null,null,null,null,null,null,null,null,null,null,null,null,null,null,null,null,null,null,null,null,null,null,null,null,null,null,null,null,null,null,null,null,null,null,null,null,null,null,null,1]
[null,null,null,null,"●社屋から避難場所までの経路を示す避難経路図を作成し、＜4.避難の計画＞のカテゴリーシートに添付してください。",null,null,null,null,null,null,null,null,null,null,null,null,null,null,null,null,null,null,null,null,null,null,null,null,null,null,null,null,null,null,null,null,null,null,null,null,null,null,null,null,null,null,null,null,null,null,null,null,null,null,null,null,1]
[null,null,null,null,"ハザードマップで社屋の位置を確認してください。画像はプリントスクリーンでも大丈夫です。\nハザードマップの上に社屋の位置、避難経路、避難所を記入してください。",null,null,null,null,null,null,null,null,null,null,null,null,null,null,null,null,null,null,null,null,null,null,null,null,null,null,null,null,null,null,null,null,null,null,null,null,null,null,null,null,null,null,null,null,null,null,null,null,null,null,null,null,1]
[null,null,null,null,"●避難路や避難時間について",null,null,null,null,null,null,null,null,null,null,null,null,null,null,null,null,null,null,null,null,null,null,null,null,null,null,null,null,null,null,null,null,null,null,null,null,null,null,null,null,null,null,null,null,null,null,null,null,null,null,null,null,1]
[null,null,null,null,"避難場所（社屋からの移動距離）",null,null,null,null,null,null,"※直線距離とは異なります。",null,null,null,null,null,null,null,null,null,null,null,null,null,null,null,null,null,null,null,null,null,null,null,null,null,null,null,null,null,null,null,null,null,null,null,null,null,null,null,null,null,null,null,null,null,1]
[null,null,null,null,null,"名称",null,"○○学校（指定避難所）",null,null,null,null,null,"（",null,null,null,"ｍ）",null,"※ [名称] を自社内とする場合、会議室名や階数など、具体的に記入してください",null,null,null,null,null,null,null,null,null,null,null,null,null,null,null,null,null,null,null,null,null,null,null,null,null,null,null,null,null,null,null,null,null,null,null,null,null,1]
[null,null,null,null,null,null,null,null,null,null,null,null,null,null,null,null,null,null,null,null,null,null,null,null,null,null,null,null,null,null,null,null,null,null,null,null,null,null,null,null,null,null,null,null,null,null,null,null,null,null,null,null,null,null,null,null,null,1]
[null,null,null,null,null,"移動手段",null,null,"✓","徒歩",null,null,null,null,null,"※施設が該当する手段にチェックを入れてください。\n※避難所が浸水域の場合、車は水没する可能性があります。",null,null,null,null,null,null,null,null,null,null,null,null,null,null,null,null,null,null,null,null,null,null,null,null,{"$f":"IF(I363<>\"\",TRUE,\"\")","v":true},null,null,null,null,null,null,null,null,null,null,null,null,null,null,null,null,1]
[null,null,null,null,null,null,null,null,null,"車両","（",null,null,"）台",null,null,null,null,null,null,null,null,null,null,null,null,null,null,null,null,null,null,null,null,null,null,null,null,null,null,{"$f":"IF(I364<>\"\",TRUE,\"\")","v":""},null,null,null,null,null,null,null,null,null,null,null,null,null,null,null,null,1]
[null,null,null,null,null,null,null,null,null,null,null,null,null,null,null,"※避難準備時間とは、社員を作業室等から施設外等に移動させ、すぐに避難できる状態になるまでにかかる時間です。\n　 避難準備時間と避難時間を正確に把握するために訓練等で検証することを推奨します。",null,null,null,null,null,null,null,null,null,null,null,null,null,null,null,null,null,null,null,null,null,null,null,null,null,null,null,null,null,null,null,null,null,null,null,null,null,null,null,null,null,1]
[null,null,null,null,null,"避難準備時間",null,null,"（",5,null,"）分",null,null,null,null,null,null,null,null,null,null,null,null,null,null,null,null,null,null,null,null,null,null,null,null,null,null,null,null,null,null,null,null,null,null,null,null,null,null,null,null,null,null,null,null,null,1]
[null,null,null,null,null,"避難時間",null,null,"（",5,null,"）分",null,null,null,"※社屋から避難先までの避難に要する時間を記入してください。\n　 避難に必要な時間が確保されているかどうかを自動的に以下で判断します。",null,null,null,null,null,null,null,null,null,null,null,null,null,null,null,null,null,null,null,null,null,null,null,null,null,null,null,null,null,null,null,null,null,null,null,null,null,null,null,null,null,1]
[null,null,null,null,null,null,null,null,null,null,null,null,null,null,null,null,null,null,null,null,null,null,null,null,null,null,null,null,null,null,null,null,null,null,null,null,null,null,null,null,null,null,null,null,null,null,null,null,null,null,null,null,null,null,null,null,null,1]
[null,null,null,null,null,"※ 福祉施設等であれば記入は必要ありません。避難確保計画を参照してください。",null,null,null,null,null,null,null,null,null,null,null,null,null,null,null,null,null,null,null,null,null,null,null,null,null,null,null,null,null,null,null,null,null,null,null,null,null,null,null,null,null,null,null,null,null,null,null,null,null,null,null,1]
[null,null,null,null,null,null,null,null,null,null,null,null,null,null,null,null,null,null,null,null,null,null,null,null,null,null,null,null,null,null,null,null,null,null,null,null,null,null,null,null,null,null,null,null,null,null,null,null,null,null,null,null,null,null,null,null,null,1]
[null,null,null,null,"●避難行動を開始する基準となる警戒レベルを設定してください。",null,null,null,null,null,null,null,null,null,null,null,null,null,null,null,null,null,null,null,null,null,null,null,null,null,null,null,null,null,null,null,null,null,null,null,null,null,null,null,null,null,null,null,null,null,null,null,null,null,null,null,null,1]
[null,null,null,null,null,"名古屋市（中村区）",null,null,null,"によって、",null,"警戒レベル3",null,null,null,"　相当以上が発令された場合、本計画に従って避難行動を開始する。",null,null,null,null,null,null,null,null,null,null,null,null,null,null,null,null,null,null,null,null,null,null,null,null,null,null,null,"※警戒レベル3 相当は､大雨警報（土砂災害）や洪水警報、氾濫警戒情報等が出され、自治体からは 「高齢者等避難」 が発令される段階です。",null,null,null,null,null,null,null,null,null,null,null,null,null,1]
[null,null,null,null,null,{"$f":"IF($L$372=\"警戒レベル4\",$AR$373,IF($L$372=\"警戒レベル3\",$AR$372)&\"\")","v":"※警戒レベル3 相当は､大雨警報（土砂災害）や洪水警報、氾濫警戒情報等が出され、自治体からは 「高齢者等避難」 が発令される段階です。"},null,null,null,null,null,null,null,null,null,null,null,null,null,null,null,null,null,null,null,null,null,null,null,null,null,null,null,null,null,null,null,null,null,null,null,null,null,"※警戒レベル4 相当は、土砂災害警戒情報や氾濫危険情報等が出され、自治体からは 「避難指示」 が発令される段階です。",null,null,null,null,null,null,null,null,null,null,null,null,null,1]
[null,null,null,null,null,"※警戒レベルについての詳細は気象庁の「防災気象情報と警戒レベルとの対応について」を参照してください。（QRコード⑤）\n",null,null,null,null,null,null,null,null,null,null,null,null,null,null,null,null,null,null,null,null,null,null,null,null,null,null,null,null,null,null,null,null,null,null,null,null,null,null,null,null,null,null,null,null,null,null,null,null,null,null,null,1]
[null,null,null,null,null,null,null,null,null,null,null,null,null,null,null,null,null,null,null,null,null,null,null,null,null,null,null,null,null,null,null,null,null,null,null,null,null,null,null,null,null,null,null,null,null,null,null,null,null,null,null,null,null,null,null,null,null,1]
[null,null,null,null,null,null,null,null,null,null,null,null,null,null,null,null,null,null,null,null,null,null,null,null,null,null,null,null,null,null,null,null,null,null,null,null,null,null,null,null,null,null,null,null,null,null,null,null,null,null,null,null,null,null,null,null,null,1]
[null,null,null,null,"この基準に従って避難行動を開始した場合の 猶予時間（目安）は、",null,null,null,null,null,null,null,null,null,null,null,null,{"$f":"IF(L372=\"警戒レベル3\",90,IF(L372=\"警戒レベル4\",60,\"\"))","v":90},"分未満です。",null,null,{"$f":"IF(($R$377-R378)<0,$AR$378,\"\")","v":""},null,null,null,null,null,null,null,null,null,null,null,null,null,null,null,null,null,null,null,null,null,null,null,null,null,null,null,null,null,null,null,null,null,null,null,1]
[null,null,null,null,"御社の一人当たりの避難にかかる時間（避難準備時間+避難時間）は、",null,null,null,null,null,null,null,null,null,null,null,null,{"$f":"J366+J367","v":10},"分です。",null,null,null,null,null,null,null,null,null,null,null,null,null,null,null,null,null,null,null,null,null,null,null,null,"※避難完了までに必要な時間が不足しているので、「避難行動を開始する基準\n　 となる警戒レベルを下げる」　もしくは 「避難準備時間を短くする（最適化\n　 する）」 などの対処を行ってください",null,null,null,null,null,null,null,null,null,null,null,null,null,1]
[null,null,null,null,null,null,null,null,null,null,null,null,null,null,null,null,null,null,null,null,null,null,null,null,null,null,null,null,null,null,null,null,null,null,null,null,null,null,null,null,null,null,null,null,null,null,null,null,null,null,null,null,null,null,null,null,null,1]
[null,null,null,null,null,"猶予時間とは…\n　河川の水位が避難判断水位（警戒レベル３相当）や氾濫危険水位（警戒レベル４相当）に達した時点から、\n  氾濫が発生するまでの目安の時間です。もっと短い場合や、警戒レベル４相当が突然発令される可能性もあります。\n　この時間内に避難を完了できなければ、洪水の被害にあってしまいます。",null,null,null,null,null,null,null,null,null,null,null,null,null,null,null,null,null,null,null,null,null,null,null,null,null,null,null,null,null,null,null,null,null,null,null,null,null,null,null,null,null,null,null,null,null,null,null,null,null,null,null,1]
[null,null,null,null,null,null,null,null,null,null,null,null,null,null,null,null,null,null,null,null,null,null,null,null,null,null,null,null,null,null,null,null,null,null,null,null,null,null,null,null,null,null,null,null,null,null,null,null,null,null,null,null,null,null,null,null,null,1]
[null,null,null,null,null,null,null,null,null,null,null,null,null,null,null,null,null,null,null,null,null,null,null,null,null,null,null,null,null,null,null,null,null,null,null,null,null,null,null,null,null,null,null,null,null,null,null,null,null,null,null,null,null,null,null,null,null,1]
[null,null,null,null,null,"※避難を必要とする従業員や来訪者の中に避難行動要支援者が含まれる場合は、警戒レベル３相当 時点で\n   避難行動要支援者の避難を開始してください。",null,null,null,null,null,null,null,null,null,null,null,null,null,null,null,null,null,null,null,null,null,null,null,null,null,null,null,null,null,null,null,null,null,null,null,null,null,null,null,null,null,null,null,null,null,null,null,null,null,null,null,1]
[null,null,null,null,null,null,null,null,null,null,null,null,null,null,null,null,null,null,null,null,null,null,null,null,null,null,null,null,null,null,null,null,null,null,null,null,null,null,null,null,null,null,null,null,null,null,null,null,null,null,null,null,null,null,null,null,null,1]
[null,null,null,"5. 重要業務と必要資源の選定・確認",null,null,null,null,null,null,null,null,null,null,null,null,null,null,null,null,null,null,null,null,null,null,null,null,null,null,null,null,null,null,null,null,null,null,null,"⑤",null,null,null,null,null,null,null,null,null,null,null,null,null,null,null,null,null,1]
[null,null,null,"5.1 重要業務の選定",null,null,null,null,null,null,null,null,null,null,null,null,null,null,null,null,null,null,null,null,null,null,null,null,null,null,null,null,null,null,null,null,null,null,null,null,null,null,null,null,null,null,null,null,null,null,null,null,null,null,null,null,null,1]
[null,null,null,null,"災害時には、限りある人員や資機材の範囲内で、御社の事業を継続させ、基本方針を実現しなければなりません。\nこのため、限られた資源を優先的に充当する製品やサービス（以下、「重要業務」という）を事前に決めておく必要があります。",null,null,null,null,null,null,null,null,null,null,null,null,null,null,null,null,null,null,null,null,null,null,null,null,null,null,null,null,null,null,null,null,null,null,null,null,null,null,null,null,null,null,null,null,null,null,null,null,null,null,null,null,1]
[null,null,null,null,null,"御社において最も優先すべき重要業務を記入してください。",null,null,null,null,null,null,null,null,null,null,null,null,null,null,null,null,null,null,null,null,null,null,null,null,null,null,null,null,null,null,null,null,null,null,null,null,null,null,null,null,null,null,null,null,null,null,null,null,null,null,null,1]
[null,null,null,null,null,"●●会社への△△部品運送業務",null,null,null,null,null,null,null,null,null,null,null,null,null,null,null,null,null,null,null,null,null,null,null,null,null,null,null,null,null,null,null,null,null,null,null,null,null,null,null,null,null,null,null,null,null,null,null,null,null,null,null,1]
[null,null,null,null,null,null,null,null,null,null,null,null,null,null,null,null,null,null,null,null,null,null,null,null,null,null,null,null,null,null,null,null,null,null,null,null,null,null,null,null,null,null,null,null,null,null,null,null,null,null,null,null,null,null,null,null,null,1]
[null,null,null,"5.2 重要業務に必要な資源と想定被害の確認",null,null,null,null,null,null,null,null,null,null,null,null,null,null,null,null,null,null,null,null,null,null,null,null,null,null,null,null,null,null,null,null,null,null,null,null,null,null,null,null,null,null,null,null,null,null,null,null,null,null,null,null,null,1]
[null,null,null,null,"前項で選定した重要業務継続に必要な資源に、想定される浸水被害の内容を記入してください。\nまた、資源に想定される浸水被害に対し、対策を講じることが可能か不可能か、いずれかにチェックを入れてください。",null,null,null,null,null,null,null,null,null,null,null,null,null,null,null,null,null,null,null,null,null,null,null,null,null,null,null,null,null,null,null,null,null,null,null,null,null,null,null,null,null,null,null,null,null,null,null,null,null,null,null,null,1]
[null,null,null,null,"●インフラへの影響",null,null,null,null,null,null,null,null,null,null,null,null,null,null,null,null,null,null,null,null,null,null,null,null,null,null,null,null,null,null,null,null,null,null,null,null,null,null,null,null,{"$f":"MAX(AS395:AS455)","v":3},{"$f":"MAX(AT395:AT455)","v":5},{"$f":"MAX(AU395:AU455)","v":9},{"$f":"MAX(AV395:AV455)","v":11},null,null,null,null,null,null,null,null,1]
[null,null,null,null,null,"重要業務の継続に必要な経営資源",null,null,null,null,null,null,null,"想定される浸水被害",null,null,null,null,null,null,null,null,null,null,null,null,null,null,null,null,null,null,null,null,null,null,null,null,null,null,{"$f":"COUNTIF(AO395:AO455,TRUE)","v":9},{"$f":"COUNTIF(AP395:AP455,TRUE)","v":2},null,null,"インフラ","人","物","情報","その他",null,null,null,null,null,5.2,null,null,1,null,null,"✓"]
[null,null,{"$f":"AZ395","v":1},null,null,"インフラ",null,null,"電気",null,null,null,null,"電気が供給されない",null,null,null,null,null,null,null,null,null,null,null,null,null,null,null,null,null,null,null,null,"✓",null,null,null,null,null,{"$f":"IF(AI395=\"✓\",TRUE,\"\")","v":true},{"$f":"IF(AK395=\"✓\",TRUE,\"\")","v":""},null,null,{"$f":"IF(AND($AX395=AS$394,$N395<>\"\"),MAX(AS$393:AS394)+1,\"\")","v":1},null,null,null,null,"インフラ",{"$f":"ROW(AY465)","v":465},{"$f":"MAX(AS395:AW395)","v":1},null,null,null,null,null,1,null,null,null,null,"✓"]
[null,null,{"$f":"AZ396","v":2},null,null,null,null,null,"水道",null,null,null,null,"飲料水や生活用水が供給されない",null,null,null,null,null,null,null,null,null,null,null,null,null,null,null,null,null,null,null,null,"✓",null,null,null,null,null,{"$f":"IF(AI396=\"✓\",TRUE,\"\")","v":true},{"$f":"IF(AK396=\"✓\",TRUE,\"\")","v":""},null,null,{"$f":"IF(AND($AX396=AS$394,$N396<>\"\"),MAX(AS$393:AS395)+1,\"\")","v":2},null,null,null,null,"インフラ",{"$f":"ROW(AY466)","v":466},{"$f":"MAX(AS396:AW396)","v":2},null,null,null,null,null,1]
[null,null,3,null,null,null,null,null,"道路",null,null,null,null,"道路が通行止めとなる",null,null,null,null,null,null,null,null,null,null,null,null,null,null,null,null,null,null,null,null,null,null,"✓",null,null,null,"",true,null,null,{"$f":"IF(AND($AX397=AS$394,$N397<>\"\"),MAX(AS$393:AS396)+1,\"\")","v":3},null,null,null,null,"インフラ",467,3,null,null,null,null,null,1]
[null,null,0,null,null,null,null,null,null,null,null,null,null,null,null,null,null,null,null,null,null,null,null,null,null,null,null,null,null,null,null,null,null,null,null,null,null,null,null,null,"","",null,null,{"$f":"IF(AND($AX398=AS$394,$N398<>\"\"),MAX(AS$393:AS397)+1,\"\")","v":""},null,null,null,null,"インフラ",468,0,null,null,null,null,null,1]
[null,null,0,null,null,null,null,null,null,null,null,null,null,null,null,null,null,null,null,null,null,null,null,null,null,null,null,null,null,null,null,null,null,null,null,null,null,null,null,null,"","",null,null,{"$f":"IF(AND($AX399=AS$394,$N399<>\"\"),MAX(AS$393:AS398)+1,\"\")","v":""},null,null,null,null,"インフラ",469,0,null,null,null,null,null,1]
[null,null,0,null,null,null,null,null,null,null,null,null,null,null,null,null,null,null,null,null,null,null,null,null,null,null,null,null,null,null,null,null,null,null,null,null,null,null,null,null,"","",null,null,{"$f":"IF(AND($AX400=AS$394,$N400<>\"\"),MAX(AS$393:AS399)+1,\"\")","v":""},null,null,null,null,"インフラ",470,0,null,null,null,null,null,1]
[null,null,0,null,null,null,null,null,null,null,null,null,null,null,null,null,null,null,null,null,null,null,null,null,null,null,null,null,null,null,null,null,null,null,null,null,null,null,null,null,null,null,null,null,null,null,null,null,null,null,null,0,null,null,null,null,null,1]
[null,null,0,null,"●御社への影響",null,null,null,null,null,null,null,null,null,null,null,null,null,null,null,null,null,null,null,null,null,null,null,null,null,null,null,null,null,null,null,null,null,null,null,null,null,null,null,null,null,null,null,null,null,null,0,null,null,null,null,null,1]
[null,null,0,null,null,"重要業務の継続に必要な経営資源",null,null,null,null,null,null,null,"想定される浸水被害",null,null,null,null,null,null,null,null,null,null,null,null,null,null,null,null,null,null,null,null,null,null,null,null,null,null,null,null,null,null,null,null,null,null,null,null,null,0,null,null,null,null,null,1]
[null,null,4,null,null,"人",null,null,"従業員（管理者）",null,null,null,null,"通行規制等により、本社への参集が不可能となる",null,null,null,null,null,null,null,null,null,null,null,null,null,null,null,null,null,null,null,null,"✓",null,null,null,null,null,{"$f":"IF(AI404=\"✓\",TRUE,\"\")","v":true},{"$f":"IF(AK404=\"✓\",TRUE,\"\")","v":""},null,null,null,{"$f":"IF(AND($AX404=AT$394,$N404<>\"\"),MAX(AT$393:AT403)+1,\"\")","v":4},null,null,null,"人",{"$f":"ROW(AY471)","v":471},4,null,null,null,null,null,1]
[null,null,5,null,null,null,null,null,"従業員（作業員）",null,null,null,null,"従業員が出勤できない",null,null,null,null,null,null,null,null,null,null,null,null,null,null,null,null,null,null,null,null,"✓",null,null,null,null,null,true,"",null,null,null,{"$f":"IF(AND($AX405=AT$394,$N405<>\"\"),MAX(AT$393:AT404)+1,\"\")","v":5},null,null,null,"人",{"$f":"ROW(AY472)","v":472},5,null,null,null,null,null,1]
[null,null,0,null,null,null,null,null,null,null,null,null,null,null,null,null,null,null,null,null,null,null,null,null,null,null,null,null,null,null,null,null,null,null,null,null,null,null,null,null,"","",null,null,null,{"$f":"IF(AND($AX406=AT$394,$N406<>\"\"),MAX(AT$393:AT405)+1,\"\")","v":""},null,null,null,"人",473,0,null,null,null,null,null,1]
[null,null,0,null,null,null,null,null,null,null,null,null,null,null,null,null,null,null,null,null,null,null,null,null,null,null,null,null,null,null,null,null,null,null,null,null,null,null,null,null,null,null,null,null,null,null,null,null,null,null,null,0,null,null,null,null,null,1]
[null,null,6,null,null,"物","施設\n拠点",null,"事務所",null,null,null,null,"浸水により、本社は2階まで使用不可",null,null,null,null,null,null,null,null,null,null,null,null,null,null,null,null,null,null,null,null,null,null,"✓",null,null,null,{"$f":"IF(AI408=\"✓\",TRUE,\"\")","v":""},{"$f":"IF(AK408=\"✓\",TRUE,\"\")","v":true},null,null,null,null,{"$f":"IF(AND($AX408=AU$394,$N408<>\"\"),MAX(AU$393:AU407)+1,\"\")","v":6},null,null,"物",{"$f":"ROW(AY474)","v":474},6,null,null,null,null,null,1]
[null,null,0,null,null,null,null,null,null,null,null,null,null,null,null,null,null,null,null,null,null,null,null,null,null,null,null,null,null,null,null,null,null,null,null,null,null,null,null,null,"","",null,null,null,null,{"$f":"IF(AND($AX409=AU$394,$N409<>\"\"),MAX(AU$393:AU408)+1,\"\")","v":""},null,null,"物",{"$f":"ROW(AY475)","v":475},0,null,null,null,null,null,1]
[null,null,0,null,null,null,null,null,null,null,null,null,null,null,null,null,null,null,null,null,null,null,null,null,null,null,null,null,null,null,null,null,null,null,null,null,null,null,null,null,"","",null,null,null,null,{"$f":"IF(AND($AX410=AU$394,$N410<>\"\"),MAX(AU$393:AU409)+1,\"\")","v":""},null,null,"物",476,0,null,null,null,null,null,1]
[null,null,7,null,null,null,"設備",null,"社用車",null,null,null,null,"トラックが流出・水没による故障が発生する",null,null,null,null,null,null,null,null,null,null,null,null,null,null,null,null,null,null,null,null,"✓",null,null,null,null,null,true,"",null,null,null,null,{"$f":"IF(AND($AX411=AU$394,$N411<>\"\"),MAX(AU$393:AU410)+1,\"\")","v":7},null,null,"物",477,7,null,null,null,null,null,1]
[null,null,0,null,null,null,null,null,null,null,null,null,null,null,null,null,null,null,null,null,null,null,null,null,null,null,null,null,null,null,null,null,null,null,null,null,null,null,null,null,"","",null,null,null,null,{"$f":"IF(AND($AX412=AU$394,$N412<>\"\"),MAX(AU$393:AU411)+1,\"\")","v":""},null,null,"物",478,0,null,null,null,null,null,1]
[null,null,0,null,null,null,null,null,null,null,null,null,null,null,null,null,null,null,null,null,null,null,null,null,null,null,null,null,null,null,null,null,null,null,null,null,null,null,null,null,"","",null,null,null,null,{"$f":"IF(AND($AX413=AU$394,$N413<>\"\"),MAX(AU$393:AU412)+1,\"\")","v":""},null,null,"物",479,0,null,null,null,null,null,1]
[null,null,0,null,null,null,null,null,null,null,null,null,null,null,null,null,null,null,null,null,null,null,null,null,null,null,null,null,null,null,null,null,null,null,null,null,null,null,null,null,"","",null,null,null,null,{"$f":"IF(AND($AX414=AU$394,$N414<>\"\"),MAX(AU$393:AU413)+1,\"\")","v":""},null,null,"物",480,0,null,null,null,null,null,1]
[null,null,8,null,null,null,"商品\n備品\n原材料",null,"原材料",null,null,null,null,"ガソリンが流出する",null,null,null,null,null,null,null,null,null,null,null,null,null,null,null,null,null,null,null,null,"✓",null,null,null,null,null,true,"",null,null,null,null,{"$f":"IF(AND($AX415=AU$394,$N415<>\"\"),MAX(AU$393:AU414)+1,\"\")","v":8},null,null,"物",481,8,null,null,null,null,null,1]
[null,null,9,null,null,null,null,null,"その他",null,null,null,null,"小分けした部品が浸水により流出する",null,null,null,null,null,null,null,null,null,null,null,null,null,null,null,null,null,null,null,null,"✓",null,null,null,null,null,true,"",null,null,null,null,{"$f":"IF(AND($AX416=AU$394,$N416<>\"\"),MAX(AU$393:AU415)+1,\"\")","v":9},null,null,"物",482,9,null,null,null,null,null,1]
[null,null,0,null,null,null,null,null,null,null,null,null,null,null,null,null,null,null,null,null,null,null,null,null,null,null,null,null,null,null,null,null,null,null,null,null,null,null,null,null,"","",null,null,null,null,{"$f":"IF(AND($AX417=AU$394,$N417<>\"\"),MAX(AU$393:AU416)+1,\"\")","v":""},null,null,"物",483,0,null,null,null,null,null,1]
[null,null,0,null,null,null,null,null,null,null,null,null,null,null,null,null,null,null,null,null,null,null,null,null,null,null,null,null,null,null,null,null,null,null,null,null,null,null,null,null,"","",null,null,null,null,{"$f":"IF(AND($AX418=AU$394,$N418<>\"\"),MAX(AU$393:AU417)+1,\"\")","v":""},null,null,"物",484,0,null,null,null,null,null,1]
[null,null,0,null,null,null,null,null,null,null,null,null,null,null,null,null,null,null,null,null,null,null,null,null,null,null,null,null,null,null,null,null,null,null,null,null,null,null,null,null,null,null,null,null,null,null,null,null,null,null,null,0,null,null,null,null,null,1]
[null,null,10,null,null,"情報","電子機器",null,"事務処理用PC",null,null,null,null,"事務処理用PCが使用できなくなる",null,null,null,null,null,null,null,null,null,null,null,null,null,null,null,null,null,null,null,null,"✓",null,null,null,null,null,{"$f":"IF(AI420=\"✓\",TRUE,\"\")","v":true},{"$f":"IF(AK420=\"✓\",TRUE,\"\")","v":""},null,null,null,null,null,{"$f":"IF(AND($AX420=AV$394,$N420<>\"\"),MAX(AV$393:AV419)+1,\"\")","v":10},null,"情報",{"$f":"ROW(AY485)","v":485},10,null,null,null,null,null,1]
[null,null,0,null,null,null,null,null,null,null,null,null,null,null,null,null,null,null,null,null,null,null,null,null,null,null,null,null,null,null,null,null,null,null,null,null,null,null,null,null,"","",null,null,null,null,null,{"$f":"IF(AND($AX421=AV$394,$N421<>\"\"),MAX(AV$393:AV420)+1,\"\")","v":""},null,"情報",{"$f":"ROW(AY486)","v":486},0,null,null,null,null,null,1]
[null,null,11,null,null,null,"データ",null,"顧客情報",null,null,null,null,"PCから顧客情報が呼び出せなくなる",null,null,null,null,null,null,null,null,null,null,null,null,null,null,null,null,null,null,null,null,"✓",null,null,null,null,null,true,"",null,null,null,null,null,{"$f":"IF(AND($AX422=AV$394,$N422<>\"\"),MAX(AV$393:AV421)+1,\"\")","v":11},null,"情報",487,11,null,null,null,null,null,1]
[null,null,0,null,null,null,null,null,null,null,null,null,null,null,null,null,null,null,null,null,null,null,null,null,null,null,null,null,null,null,null,null,null,null,null,null,null,null,null,null,"","",null,null,null,null,null,{"$f":"IF(AND($AX423=AV$394,$N423<>\"\"),MAX(AV$393:AV422)+1,\"\")","v":""},null,"情報",488,0,null,null,null,null,null,1]
[null,null,0,null,null,null,null,null,null,null,null,null,null,null,null,null,null,null,null,null,null,null,null,null,null,null,null,null,null,null,null,null,null,null,null,null,null,null,null,null,null,null,null,null,null,null,null,null,null,null,null,0,null,null,null,null,null,1]
[null,null,0,null,null,"その他必要な資源（自由記述）",null,null,null,null,null,null,null,null,null,null,null,null,null,null,null,null,null,null,null,null,null,null,null,null,null,null,null,null,null,null,null,null,null,null,null,null,null,{"$f":"SUBTOTAL(104,AR426:AR455)","v":0},null,null,null,null,null,null,null,0,null,null,null,null,null,1]
[null,null,0,null,null,null,null,null,null,null,null,null,null,null,null,null,null,null,null,null,null,null,null,null,null,null,null,null,null,null,null,null,null,null,null,null,null,null,null,null,{"$f":"IF(AI426=\"✓\",TRUE,\"\")","v":""},{"$f":"IF(AK426=\"✓\",TRUE,\"\")","v":""},null,1,{"$f":"IF(AND($AX426=AS$394,$N426<>\"\"),MAX(AS$393:AS425)+1,\"\")","v":""},{"$f":"IF(AND($AX426=AT$394,$N426<>\"\"),MAX(AT$393:AT425)+1,\"\")","v":""},{"$f":"IF(AND($AX426=AU$394,$N426<>\"\"),MAX(AU$393:AU425)+1,\"\")","v":""},{"$f":"IF(AND($AX426=AV$394,$N426<>\"\"),MAX(AV$393:AV425)+1,\"\")","v":""},{"$f":"IF(AND($N426<>\"\",SUM(AS426:AV426)<1),MAX(AW$393:AW425)+1,\"\")","v":""},{"$f":"F426&\"\"","v":""},{"$f":"ROW(AY489)","v":489},0,null,null,null,null,null,1]
[null,null,0,null,null,null,null,null,null,null,null,null,null,null,null,null,null,null,null,null,null,null,null,null,null,null,null,null,null,null,null,null,null,null,null,null,null,null,null,null,"","",null,2,{"$f":"IF(AND($AX427=AS$394,$N427<>\"\"),MAX(AS$393:AS426)+1,\"\")","v":""},{"$f":"IF(AND($AX427=AT$394,$N427<>\"\"),MAX(AT$393:AT426)+1,\"\")","v":""},{"$f":"IF(AND($AX427=AU$394,$N427<>\"\"),MAX(AU$393:AU426)+1,\"\")","v":""},{"$f":"IF(AND($AX427=AV$394,$N427<>\"\"),MAX(AV$393:AV426)+1,\"\")","v":""},{"$f":"IF(AND($N427<>\"\",SUM(AS427:AV427)<1),MAX(AW$393:AW426)+1,\"\")","v":""},{"$f":"F427&\"\"","v":""},490,0,null,null,null,null,null,1]
[null,null,0,null,null,null,null,null,null,null,null,null,null,null,null,null,null,null,null,null,null,null,null,null,null,null,null,null,null,null,null,null,null,null,null,null,null,null,null,null,"","",null,3,{"$f":"IF(AND($AX428=AS$394,$N428<>\"\"),MAX(AS$393:AS427)+1,\"\")","v":""},{"$f":"IF(AND($AX428=AT$394,$N428<>\"\"),MAX(AT$393:AT427)+1,\"\")","v":""},{"$f":"IF(AND($AX428=AU$394,$N428<>\"\"),MAX(AU$393:AU427)+1,\"\")","v":""},{"$f":"IF(AND($AX428=AV$394,$N428<>\"\"),MAX(AV$393:AV427)+1,\"\")","v":""},{"$f":"IF(AND($N428<>\"\",SUM(AS428:AV428)<1),MAX(AW$393:AW427)+1,\"\")","v":""},"",491,0,null,null,null,null,null,0]
[null,null,0,null,null,null,null,null,null,null,null,null,null,null,null,null,null,null,null,null,null,null,null,null,null,null,null,null,null,null,null,null,null,null,null,null,null,null,null,null,"","",null,4,{"$f":"IF(AND($AX429=AS$394,$N429<>\"\"),MAX(AS$393:AS428)+1,\"\")","v":""},{"$f":"IF(AND($AX429=AT$394,$N429<>\"\"),MAX(AT$393:AT428)+1,\"\")","v":""},{"$f":"IF(AND($AX429=AU$394,$N429<>\"\"),MAX(AU$393:AU428)+1,\"\")","v":""},{"$f":"IF(AND($AX429=AV$394,$N429<>\"\"),MAX(AV$393:AV428)+1,\"\")","v":""},{"$f":"IF(AND($N429<>\"\",SUM(AS429:AV429)<1),MAX(AW$393:AW428)+1,\"\")","v":""},"",492,0,null,null,null,null,null,0]
[null,null,0,null,null,null,null,null,null,null,null,null,null,null,null,null,null,null,null,null,null,null,null,null,null,null,null,null,null,null,null,null,null,null,null,null,null,null,null,null,"","",null,5,{"$f":"IF(AND($AX430=AS$394,$N430<>\"\"),MAX(AS$393:AS429)+1,\"\")","v":""},{"$f":"IF(AND($AX430=AT$394,$N430<>\"\"),MAX(AT$393:AT429)+1,\"\")","v":""},{"$f":"IF(AND($AX430=AU$394,$N430<>\"\"),MAX(AU$393:AU429)+1,\"\")","v":""},{"$f":"IF(AND($AX430=AV$394,$N430<>\"\"),MAX(AV$393:AV429)+1,\"\")","v":""},{"$f":"IF(AND($N430<>\"\",SUM(AS430:AV430)<1),MAX(AW$393:AW429)+1,\"\")","v":""},"",493,0,null,null,null,null,null,0]
[null,null,0,null,null,null,null,null,null,null,null,null,null,null,null,null,null,null,null,null,null,null,null,null,null,null,null,null,null,null,null,null,null,null,null,null,null,null,null,null,"","",null,6,{"$f":"IF(AND($AX431=AS$394,$N431<>\"\"),MAX(AS$393:AS430)+1,\"\")","v":""},{"$f":"IF(AND($AX431=AT$394,$N431<>\"\"),MAX(AT$393:AT430)+1,\"\")","v":""},{"$f":"IF(AND($AX431=AU$394,$N431<>\"\"),MAX(AU$393:AU430)+1,\"\")","v":""},{"$f":"IF(AND($AX431=AV$394,$N431<>\"\"),MAX(AV$393:AV430)+1,\"\")","v":""},{"$f":"IF(AND($N431<>\"\",SUM(AS431:AV431)<1),MAX(AW$393:AW430)+1,\"\")","v":""},"",494,0,null,null,null,null,null,0]
[null,null,0,null,null,null,null,null,null,null,null,null,null,null,null,null,null,null,null,null,null,null,null,null,null,null,null,null,null,null,null,null,null,null,null,null,null,null,null,null,"","",null,7,{"$f":"IF(AND($AX432=AS$394,$N432<>\"\"),MAX(AS$393:AS431)+1,\"\")","v":""},{"$f":"IF(AND($AX432=AT$394,$N432<>\"\"),MAX(AT$393:AT431)+1,\"\")","v":""},{"$f":"IF(AND($AX432=AU$394,$N432<>\"\"),MAX(AU$393:AU431)+1,\"\")","v":""},{"$f":"IF(AND($AX432=AV$394,$N432<>\"\"),MAX(AV$393:AV431)+1,\"\")","v":""},{"$f":"IF(AND($N432<>\"\",SUM(AS432:AV432)<1),MAX(AW$393:AW431)+1,\"\")","v":""},"",495,0,null,null,null,null,null,0]
[null,null,0,null,null,null,null,null,null,null,null,null,null,null,null,null,null,null,null,null,null,null,null,null,null,null,null,null,null,null,null,null,null,null,null,null,null,null,null,null,"","",null,8,{"$f":"IF(AND($AX433=AS$394,$N433<>\"\"),MAX(AS$393:AS432)+1,\"\")","v":""},{"$f":"IF(AND($AX433=AT$394,$N433<>\"\"),MAX(AT$393:AT432)+1,\"\")","v":""},{"$f":"IF(AND($AX433=AU$394,$N433<>\"\"),MAX(AU$393:AU432)+1,\"\")","v":""},{"$f":"IF(AND($AX433=AV$394,$N433<>\"\"),MAX(AV$393:AV432)+1,\"\")","v":""},{"$f":"IF(AND($N433<>\"\",SUM(AS433:AV433)<1),MAX(AW$393:AW432)+1,\"\")","v":""},"",496,0,null,null,null,null,null,0]
[null,null,0,null,null,null,null,null,null,null,null,null,null,null,null,null,null,null,null,null,null,null,null,null,null,null,null,null,null,null,null,null,null,null,null,null,null,null,null,null,"","",null,9,{"$f":"IF(AND($AX434=AS$394,$N434<>\"\"),MAX(AS$393:AS433)+1,\"\")","v":""},{"$f":"IF(AND($AX434=AT$394,$N434<>\"\"),MAX(AT$393:AT433)+1,\"\")","v":""},{"$f":"IF(AND($AX434=AU$394,$N434<>\"\"),MAX(AU$393:AU433)+1,\"\")","v":""},{"$f":"IF(AND($AX434=AV$394,$N434<>\"\"),MAX(AV$393:AV433)+1,\"\")","v":""},{"$f":"IF(AND($N434<>\"\",SUM(AS434:AV434)<1),MAX(AW$393:AW433)+1,\"\")","v":""},"",497,0,null,null,null,null,null,0]
[null,null,0,null,null,null,null,null,null,null,null,null,null,null,null,null,null,null,null,null,null,null,null,null,null,null,null,null,null,null,null,null,null,null,null,null,null,null,null,null,"","",null,10,{"$f":"IF(AND($AX435=AS$394,$N435<>\"\"),MAX(AS$393:AS434)+1,\"\")","v":""},{"$f":"IF(AND($AX435=AT$394,$N435<>\"\"),MAX(AT$393:AT434)+1,\"\")","v":""},{"$f":"IF(AND($AX435=AU$394,$N435<>\"\"),MAX(AU$393:AU434)+1,\"\")","v":""},{"$f":"IF(AND($AX435=AV$394,$N435<>\"\"),MAX(AV$393:AV434)+1,\"\")","v":""},{"$f":"IF(AND($N435<>\"\",SUM(AS435:AV435)<1),MAX(AW$393:AW434)+1,\"\")","v":""},"",498,0,null,null,null,null,null,0]
[null,null,0,null,null,null,null,null,null,null,null,null,null,null,null,null,null,null,null,null,null,null,null,null,null,null,null,null,null,null,null,null,null,null,null,null,null,null,null,null,"","",null,11,{"$f":"IF(AND($AX436=AS$394,$N436<>\"\"),MAX(AS$393:AS435)+1,\"\")","v":""},{"$f":"IF(AND($AX436=AT$394,$N436<>\"\"),MAX(AT$393:AT435)+1,\"\")","v":""},{"$f":"IF(AND($AX436=AU$394,$N436<>\"\"),MAX(AU$393:AU435)+1,\"\")","v":""},{"$f":"IF(AND($AX436=AV$394,$N436<>\"\"),MAX(AV$393:AV435)+1,\"\")","v":""},{"$f":"IF(AND($N436<>\"\",SUM(AS436:AV436)<1),MAX(AW$393:AW435)+1,\"\")","v":""},"",499,0,null,null,null,null,null,0]
[null,null,0,null,null,null,null,null,null,null,null,null,null,null,null,null,null,null,null,null,null,null,null,null,null,null,null,null,null,null,null,null,null,null,null,null,null,null,null,null,"","",null,12,{"$f":"IF(AND($AX437=AS$394,$N437<>\"\"),MAX(AS$393:AS436)+1,\"\")","v":""},{"$f":"IF(AND($AX437=AT$394,$N437<>\"\"),MAX(AT$393:AT436)+1,\"\")","v":""},{"$f":"IF(AND($AX437=AU$394,$N437<>\"\"),MAX(AU$393:AU436)+1,\"\")","v":""},{"$f":"IF(AND($AX437=AV$394,$N437<>\"\"),MAX(AV$393:AV436)+1,\"\")","v":""},{"$f":"IF(AND($N437<>\"\",SUM(AS437:AV437)<1),MAX(AW$393:AW436)+1,\"\")","v":""},"",500,0,null,null,null,null,null,0]
[null,null,0,null,null,null,null,null,null,null,null,null,null,null,null,null,null,null,null,null,null,null,null,null,null,null,null,null,null,null,null,null,null,null,null,null,null,null,null,null,"","",null,13,{"$f":"IF(AND($AX438=AS$394,$N438<>\"\"),MAX(AS$393:AS437)+1,\"\")","v":""},{"$f":"IF(AND($AX438=AT$394,$N438<>\"\"),MAX(AT$393:AT437)+1,\"\")","v":""},{"$f":"IF(AND($AX438=AU$394,$N438<>\"\"),MAX(AU$393:AU437)+1,\"\")","v":""},{"$f":"IF(AND($AX438=AV$394,$N438<>\"\"),MAX(AV$393:AV437)+1,\"\")","v":""},{"$f":"IF(AND($N438<>\"\",SUM(AS438:AV438)<1),MAX(AW$393:AW437)+1,\"\")","v":""},"",501,0,null,null,null,null,null,0]
[null,null,0,null,null,null,null,null,null,null,null,null,null,null,null,null,null,null,null,null,null,null,null,null,null,null,null,null,null,null,null,null,null,null,null,null,null,null,null,null,"","",null,14,{"$f":"IF(AND($AX439=AS$394,$N439<>\"\"),MAX(AS$393:AS438)+1,\"\")","v":""},{"$f":"IF(AND($AX439=AT$394,$N439<>\"\"),MAX(AT$393:AT438)+1,\"\")","v":""},{"$f":"IF(AND($AX439=AU$394,$N439<>\"\"),MAX(AU$393:AU438)+1,\"\")","v":""},{"$f":"IF(AND($AX439=AV$394,$N439<>\"\"),MAX(AV$393:AV438)+1,\"\")","v":""},{"$f":"IF(AND($N439<>\"\",SUM(AS439:AV439)<1),MAX(AW$393:AW438)+1,\"\")","v":""},"",502,0,null,null,null,null,null,0]
[null,null,0,null,null,null,null,null,null,null,null,null,null,null,null,null,null,null,null,null,null,null,null,null,null,null,null,null,null,null,null,null,null,null,null,null,null,null,null,null,"","",null,15,{"$f":"IF(AND($AX440=AS$394,$N440<>\"\"),MAX(AS$393:AS439)+1,\"\")","v":""},{"$f":"IF(AND($AX440=AT$394,$N440<>\"\"),MAX(AT$393:AT439)+1,\"\")","v":""},{"$f":"IF(AND($AX440=AU$394,$N440<>\"\"),MAX(AU$393:AU439)+1,\"\")","v":""},{"$f":"IF(AND($AX440=AV$394,$N440<>\"\"),MAX(AV$393:AV439)+1,\"\")","v":""},{"$f":"IF(AND($N440<>\"\",SUM(AS440:AV440)<1),MAX(AW$393:AW439)+1,\"\")","v":""},"",503,0,null,null,null,null,null,0]
[null,null,0,null,null,null,null,null,null,null,null,null,null,null,null,null,null,null,null,null,null,null,null,null,null,null,null,null,null,null,null,null,null,null,null,null,null,null,null,null,"","",null,16,{"$f":"IF(AND($AX441=AS$394,$N441<>\"\"),MAX(AS$393:AS440)+1,\"\")","v":""},{"$f":"IF(AND($AX441=AT$394,$N441<>\"\"),MAX(AT$393:AT440)+1,\"\")","v":""},{"$f":"IF(AND($AX441=AU$394,$N441<>\"\"),MAX(AU$393:AU440)+1,\"\")","v":""},{"$f":"IF(AND($AX441=AV$394,$N441<>\"\"),MAX(AV$393:AV440)+1,\"\")","v":""},{"$f":"IF(AND($N441<>\"\",SUM(AS441:AV441)<1),MAX(AW$393:AW440)+1,\"\")","v":""},"",504,0,null,null,null,null,null,0]
[null,null,0,null,null,null,null,null,null,null,null,null,null,null,null,null,null,null,null,null,null,null,null,null,null,null,null,null,null,null,null,null,null,null,null,null,null,null,null,null,"","",null,17,{"$f":"IF(AND($AX442=AS$394,$N442<>\"\"),MAX(AS$393:AS441)+1,\"\")","v":""},{"$f":"IF(AND($AX442=AT$394,$N442<>\"\"),MAX(AT$393:AT441)+1,\"\")","v":""},{"$f":"IF(AND($AX442=AU$394,$N442<>\"\"),MAX(AU$393:AU441)+1,\"\")","v":""},{"$f":"IF(AND($AX442=AV$394,$N442<>\"\"),MAX(AV$393:AV441)+1,\"\")","v":""},{"$f":"IF(AND($N442<>\"\",SUM(AS442:AV442)<1),MAX(AW$393:AW441)+1,\"\")","v":""},{"$f":"F442&\"\"","v":""},505,0,null,null,null,null,null,0]
[null,null,0,null,null,null,null,null,null,null,null,null,null,null,null,null,null,null,null,null,null,null,null,null,null,null,null,null,null,null,null,null,null,null,null,null,null,null,null,null,"","",null,18,{"$f":"IF(AND($AX443=AS$394,$N443<>\"\"),MAX(AS$393:AS442)+1,\"\")","v":""},{"$f":"IF(AND($AX443=AT$394,$N443<>\"\"),MAX(AT$393:AT442)+1,\"\")","v":""},{"$f":"IF(AND($AX443=AU$394,$N443<>\"\"),MAX(AU$393:AU442)+1,\"\")","v":""},{"$f":"IF(AND($AX443=AV$394,$N443<>\"\"),MAX(AV$393:AV442)+1,\"\")","v":""},{"$f":"IF(AND($N443<>\"\",SUM(AS443:AV443)<1),MAX(AW$393:AW442)+1,\"\")","v":""},{"$f":"F443&\"\"","v":""},506,0,null,null,null,null,null,0]
[null,null,0,null,null,null,null,null,null,null,null,null,null,null,null,null,null,null,null,null,null,null,null,null,null,null,null,null,null,null,null,null,null,null,null,null,null,null,null,null,"","",null,19,{"$f":"IF(AND($AX444=AS$394,$N444<>\"\"),MAX(AS$393:AS443)+1,\"\")","v":""},{"$f":"IF(AND($AX444=AT$394,$N444<>\"\"),MAX(AT$393:AT443)+1,\"\")","v":""},{"$f":"IF(AND($AX444=AU$394,$N444<>\"\"),MAX(AU$393:AU443)+1,\"\")","v":""},{"$f":"IF(AND($AX444=AV$394,$N444<>\"\"),MAX(AV$393:AV443)+1,\"\")","v":""},{"$f":"IF(AND($N444<>\"\",SUM(AS444:AV444)<1),MAX(AW$393:AW443)+1,\"\")","v":""},"",507,0,null,null,null,null,null,0]
[null,null,0,null,null,null,null,null,null,null,null,null,null,null,null,null,null,null,null,null,null,null,null,null,null,null,null,null,null,null,null,null,null,null,null,null,null,null,null,null,"","",null,20,{"$f":"IF(AND($AX445=AS$394,$N445<>\"\"),MAX(AS$393:AS444)+1,\"\")","v":""},{"$f":"IF(AND($AX445=AT$394,$N445<>\"\"),MAX(AT$393:AT444)+1,\"\")","v":""},{"$f":"IF(AND($AX445=AU$394,$N445<>\"\"),MAX(AU$393:AU444)+1,\"\")","v":""},{"$f":"IF(AND($AX445=AV$394,$N445<>\"\"),MAX(AV$393:AV444)+1,\"\")","v":""},{"$f":"IF(AND($N445<>\"\",SUM(AS445:AV445)<1),MAX(AW$393:AW444)+1,\"\")","v":""},"",508,0,null,null,null,null,null,0]
[null,null,0,null,null,null,null,null,null,null,null,null,null,null,null,null,null,null,null,null,null,null,null,null,null,null,null,null,null,null,null,null,null,null,null,null,null,null,null,null,"","",null,21,{"$f":"IF(AND($AX446=AS$394,$N446<>\"\"),MAX(AS$393:AS445)+1,\"\")","v":""},{"$f":"IF(AND($AX446=AT$394,$N446<>\"\"),MAX(AT$393:AT445)+1,\"\")","v":""},{"$f":"IF(AND($AX446=AU$394,$N446<>\"\"),MAX(AU$393:AU445)+1,\"\")","v":""},{"$f":"IF(AND($AX446=AV$394,$N446<>\"\"),MAX(AV$393:AV445)+1,\"\")","v":""},{"$f":"IF(AND($N446<>\"\",SUM(AS446:AV446)<1),MAX(AW$393:AW445)+1,\"\")","v":""},"",509,0,null,null,null,null,null,0]
[null,null,0,null,null,null,null,null,null,null,null,null,null,null,null,null,null,null,null,null,null,null,null,null,null,null,null,null,null,null,null,null,null,null,null,null,null,null,null,null,"","",null,22,{"$f":"IF(AND($AX447=AS$394,$N447<>\"\"),MAX(AS$393:AS446)+1,\"\")","v":""},{"$f":"IF(AND($AX447=AT$394,$N447<>\"\"),MAX(AT$393:AT446)+1,\"\")","v":""},{"$f":"IF(AND($AX447=AU$394,$N447<>\"\"),MAX(AU$393:AU446)+1,\"\")","v":""},{"$f":"IF(AND($AX447=AV$394,$N447<>\"\"),MAX(AV$393:AV446)+1,\"\")","v":""},{"$f":"IF(AND($N447<>\"\",SUM(AS447:AV447)<1),MAX(AW$393:AW446)+1,\"\")","v":""},"",510,0,null,null,null,null,null,0]
[null,null,0,null,null,null,null,null,null,null,null,null,null,null,null,null,null,null,null,null,null,null,null,null,null,null,null,null,null,null,null,null,null,null,"",null,"",null,null,null,"","",null,23,{"$f":"IF(AND($AX448=AS$394,$N448<>\"\"),MAX(AS$393:AS447)+1,\"\")","v":""},{"$f":"IF(AND($AX448=AT$394,$N448<>\"\"),MAX(AT$393:AT447)+1,\"\")","v":""},{"$f":"IF(AND($AX448=AU$394,$N448<>\"\"),MAX(AU$393:AU447)+1,\"\")","v":""},{"$f":"IF(AND($AX448=AV$394,$N448<>\"\"),MAX(AV$393:AV447)+1,\"\")","v":""},{"$f":"IF(AND($N448<>\"\",SUM(AS448:AV448)<1),MAX(AW$393:AW447)+1,\"\")","v":""},"",511,0,null,null,null,null,null,0]
[null,null,0,null,null,null,null,null,null,null,null,null,null,null,null,null,null,null,null,null,null,null,null,null,null,null,null,null,null,null,null,null,null,null,"",null,"",null,null,null,"","",null,24,{"$f":"IF(AND($AX449=AS$394,$N449<>\"\"),MAX(AS$393:AS448)+1,\"\")","v":""},{"$f":"IF(AND($AX449=AT$394,$N449<>\"\"),MAX(AT$393:AT448)+1,\"\")","v":""},{"$f":"IF(AND($AX449=AU$394,$N449<>\"\"),MAX(AU$393:AU448)+1,\"\")","v":""},{"$f":"IF(AND($AX449=AV$394,$N449<>\"\"),MAX(AV$393:AV448)+1,\"\")","v":""},{"$f":"IF(AND($N449<>\"\",SUM(AS449:AV449)<1),MAX(AW$393:AW448)+1,\"\")","v":""},"",512,0,null,null,null,null,null,0]
[null,null,0,null,null,null,null,null,null,null,null,null,null,null,null,null,null,null,null,null,null,null,null,null,null,null,null,null,null,null,null,null,null,null,"",null,"",null,null,null,"","",null,25,{"$f":"IF(AND($AX450=AS$394,$N450<>\"\"),MAX(AS$393:AS449)+1,\"\")","v":""},{"$f":"IF(AND($AX450=AT$394,$N450<>\"\"),MAX(AT$393:AT449)+1,\"\")","v":""},{"$f":"IF(AND($AX450=AU$394,$N450<>\"\"),MAX(AU$393:AU449)+1,\"\")","v":""},{"$f":"IF(AND($AX450=AV$394,$N450<>\"\"),MAX(AV$393:AV449)+1,\"\")","v":""},{"$f":"IF(AND($N450<>\"\",SUM(AS450:AV450)<1),MAX(AW$393:AW449)+1,\"\")","v":""},"",513,0,null,null,null,null,null,0]
[null,null,0,null,null,null,null,null,null,null,null,null,null,null,null,null,null,null,null,null,null,null,null,null,null,null,null,null,null,null,null,null,null,null,"",null,"",null,null,null,"","",null,26,{"$f":"IF(AND($AX451=AS$394,$N451<>\"\"),MAX(AS$393:AS450)+1,\"\")","v":""},{"$f":"IF(AND($AX451=AT$394,$N451<>\"\"),MAX(AT$393:AT450)+1,\"\")","v":""},{"$f":"IF(AND($AX451=AU$394,$N451<>\"\"),MAX(AU$393:AU450)+1,\"\")","v":""},{"$f":"IF(AND($AX451=AV$394,$N451<>\"\"),MAX(AV$393:AV450)+1,\"\")","v":""},{"$f":"IF(AND($N451<>\"\",SUM(AS451:AV451)<1),MAX(AW$393:AW450)+1,\"\")","v":""},"",514,0,null,null,null,null,null,0]
[null,null,0,null,null,null,null,null,null,null,null,null,null,null,null,null,null,null,null,null,null,null,null,null,null,null,null,null,null,null,null,null,null,null,"",null,"",null,null,null,"","",null,27,{"$f":"IF(AND($AX452=AS$394,$N452<>\"\"),MAX(AS$393:AS451)+1,\"\")","v":""},{"$f":"IF(AND($AX452=AT$394,$N452<>\"\"),MAX(AT$393:AT451)+1,\"\")","v":""},{"$f":"IF(AND($AX452=AU$394,$N452<>\"\"),MAX(AU$393:AU451)+1,\"\")","v":""},{"$f":"IF(AND($AX452=AV$394,$N452<>\"\"),MAX(AV$393:AV451)+1,\"\")","v":""},{"$f":"IF(AND($N452<>\"\",SUM(AS452:AV452)<1),MAX(AW$393:AW451)+1,\"\")","v":""},"",515,0,null,null,null,null,null,0]
[null,null,0,null,null,null,null,null,null,null,null,null,null,null,null,null,null,null,null,null,null,null,null,null,null,null,null,null,null,null,null,null,null,null,"",null,"",null,null,null,"","",null,28,{"$f":"IF(AND($AX453=AS$394,$N453<>\"\"),MAX(AS$393:AS452)+1,\"\")","v":""},{"$f":"IF(AND($AX453=AT$394,$N453<>\"\"),MAX(AT$393:AT452)+1,\"\")","v":""},{"$f":"IF(AND($AX453=AU$394,$N453<>\"\"),MAX(AU$393:AU452)+1,\"\")","v":""},{"$f":"IF(AND($AX453=AV$394,$N453<>\"\"),MAX(AV$393:AV452)+1,\"\")","v":""},{"$f":"IF(AND($N453<>\"\",SUM(AS453:AV453)<1),MAX(AW$393:AW452)+1,\"\")","v":""},"",516,0,null,null,null,null,null,0]
[null,null,0,null,null,null,null,null,null,null,null,null,null,null,null,null,null,null,null,null,null,null,null,null,null,null,null,null,null,null,null,null,null,null,"",null,"",null,null,null,"","",null,29,{"$f":"IF(AND($AX454=AS$394,$N454<>\"\"),MAX(AS$393:AS453)+1,\"\")","v":""},{"$f":"IF(AND($AX454=AT$394,$N454<>\"\"),MAX(AT$393:AT453)+1,\"\")","v":""},{"$f":"IF(AND($AX454=AU$394,$N454<>\"\"),MAX(AU$393:AU453)+1,\"\")","v":""},{"$f":"IF(AND($AX454=AV$394,$N454<>\"\"),MAX(AV$393:AV453)+1,\"\")","v":""},{"$f":"IF(AND($N454<>\"\",SUM(AS454:AV454)<1),MAX(AW$393:AW453)+1,\"\")","v":""},"",{"$f":"ROW(AY517)","v":517},0,null,null,null,null,null,0]
[null,null,0,null,null,null,null,null,null,null,null,null,null,null,null,null,null,null,null,null,null,null,null,null,null,null,null,null,null,null,null,null,null,null,null,null,null,null,null,null,"","",null,30,{"$f":"IF(AND($AX455=AS$394,$N455<>\"\"),MAX(AS$393:AS454)+1,\"\")","v":""},{"$f":"IF(AND($AX455=AT$394,$N455<>\"\"),MAX(AT$393:AT454)+1,\"\")","v":""},{"$f":"IF(AND($AX455=AU$394,$N455<>\"\"),MAX(AU$393:AU454)+1,\"\")","v":""},{"$f":"IF(AND($AX455=AV$394,$N455<>\"\"),MAX(AV$393:AV454)+1,\"\")","v":""},{"$f":"IF(AND($N455<>\"\",SUM(AS455:AV455)<1),MAX(AW$393:AW454)+1,\"\")","v":""},"",518,{"$f":"MAX(AS455:AW455)","v":0},null,null,null,null,null,0]
[null,null,null,null,null,null,null,null,null,null,null,null,null,"⇐ その他項目の　追加／削除　（最大30項目分）",null,null,null,null,null,null,null,null,null,null,null,null,null,null,null,null,null,null,null,null,null,null,null,null,null,null,null,null,null,null,null,null,null,null,null,null,null,null,null,null,null,null,null,1]
[null,null,null,null,"●上記で対策可にチェックを入れた項目については「6. 重要業務継続のための対策」で具体的な対策内容の整理を行います。\n　　対策不可にチェックを入れた項目については「8. BCPの定着・見直し」で今後の課題として検討します。",null,null,null,null,null,null,null,null,null,null,null,null,null,null,null,null,null,null,null,null,null,null,null,null,null,null,null,null,null,null,null,null,null,null,null,null,null,null,null,null,null,null,null,null,null,null,null,null,null,null,null,null,1]
[null,null,null,null,null,null,null,null,null,null,null,null,null,null,null,null,null,null,null,null,null,null,null,null,null,null,null,null,null,null,null,null,null,null,null,null,null,null,null,null,null,null,null,null,null,null,null,null,null,null,null,null,null,null,null,null,null,1]
[null,null,null,"6. 重要業務継続のための対策",null,null,null,null,null,null,null,null,null,null,null,null,null,null,null,null,null,null,null,null,null,null,null,null,null,null,null,null,null,null,null,null,null,null,null,"⑥",null,null,null,null,null,null,null,null,null,null,null,null,null,null,null,null,null,1]
[null,null,null,"6.1 対策の検討",null,null,null,null,null,null,null,null,null,null,null,null,null,null,null,null,null,null,null,null,null,null,null,null,null,null,null,null,null,null,null,null,null,null,null,null,null,null,null,null,null,null,null,null,null,null,null,null,null,null,null,null,null,1]
[null,null,null,null,"●前項で想定した資源への浸水被害に対する具体的な対策を記入してください。",null,null,null,null,null,null,null,null,null,null,null,null,null,null,null,null,null,null,null,null,null,null,null,null,null,null,null,null,null,null,null,null,null,null,null,null,null,null,null,null,null,null,null,null,null,null,null,null,null,null,null,null,1]
[null,null,null,null,"前項で「対策可」にチェックを入れた項目が表示されています。\n想定した浸水被害に対する 「具体的な対策内容」 と 「対応班」 を記入し、該当する 「対策時期」 にチェックを入れてください。\n「事前」 にチェックを入れた項目は 【10. 資料編】 に転記されますので、いつ・誰が・どのように行うか、などの詳細は 【10. 資料編】 で整理します。",null,null,null,null,null,null,null,null,null,null,null,null,null,null,null,null,null,null,null,null,null,null,null,null,null,null,null,null,null,null,null,null,null,null,null,null,null,null,null,null,null,null,null,null,null,null,null,null,null,null,null,null,1]
[null,null,null,null,null,null,null,null,null,null,null,null,null,null,null,null,null,null,null,null,null,null,null,null,null,null,null,null,null,null,null,null,null,null,"対策時期",null,null,null,null,null,null,null,null,null,null,null,null,null,null,null,null,null,null,null,null,null,null,1]
[null,null,null,null,null,"重要事業に必要な資源",null,null,null,null,null,"想定される浸水被害",null,null,null,null,null,null,null,null,null,"具体的な対策内容",null,null,null,null,null,null,null,null,null,"対応班",null,null,"事前","直前","事後",null,null,null,{"$f":"COUNTIF(AO465:AO518,TRUE)","v":4},{"$f":"COUNTIF(AP465:AP518,TRUE)","v":5},{"$f":"COUNTIF(AQ465:AQ518,TRUE)","v":0},null,null,null,null,null,null,null,null,null,null,null,6.1,null,null,1,null,null,"✓"]
[null,null,null,null,null,{"$f":"AX395&\"\"","v":"インフラ"},null,{"$f":"I395&\"\"","v":"電気"},null,null,null,{"$f":"N395&\"\"","v":"電気が供給されない"},null,null,null,null,null,null,null,null,null,"発電機を購入する",null,null,null,null,null,null,null,null,null,null,null,null,"✓",null,null,null,null,null,{"$f":"IF(AI465=\"✓\",TRUE,\"\")","v":true},{"$f":"IF(AJ465=\"✓\",TRUE,\"\")","v":""},{"$f":"IF(AK465=\"✓\",TRUE,\"\")","v":""},null,1,null,null,null,null,null,null,{"$f":"AZ395","v":1},null,null,null,null,null,{"$f":"IF(AO395=TRUE,1,0)","v":1},null,null,null,"✓"]
[null,null,null,null,null,"インフラ",null,"水道",null,null,null,{"$f":"N396&\"\"","v":"飲料水や生活用水が供給されない"},null,null,null,null,null,null,null,null,null,"必要な水を高台にある営業所に備蓄する",null,null,null,null,null,null,null,null,null,null,null,null,"✓","","",null,null,null,{"$f":"IF(AI466=\"✓\",TRUE,\"\")","v":true},{"$f":"IF(AJ466=\"✓\",TRUE,\"\")","v":""},{"$f":"IF(AK466=\"✓\",TRUE,\"\")","v":""},null,2,null,null,null,null,null,null,2,null,null,null,null,null,1,null,null,null,null,"✓"]
[null,null,null,null,null,"インフラ",null,"道路",null,null,null,"道路が通行止めとなる",null,null,null,null,null,null,null,null,null,null,null,null,null,null,null,null,null,null,null,null,null,null,null,null,null,null,null,null,"","","",null,3,null,null,null,null,null,null,3,null,null,null,null,null,0]
[null,null,null,null,null,"インフラ",null,"",null,null,null,"",null,null,null,null,null,null,null,null,null,null,null,null,null,null,null,null,null,null,null,null,null,null,null,null,null,null,null,null,"","","",null,4,null,null,null,null,null,null,0,null,null,null,null,null,0]
[null,null,null,null,null,"インフラ",null,"",null,null,null,"",null,null,null,null,null,null,null,null,null,null,null,null,null,null,null,null,null,null,null,null,null,null,null,null,null,null,null,null,"","","",null,5,null,null,null,null,null,null,0,null,null,null,null,null,0]
[null,null,null,null,null,"インフラ",null,"",null,null,null,"",null,null,null,null,null,null,null,null,null,null,null,null,null,null,null,null,null,null,null,null,null,null,null,null,null,null,null,null,"","","",null,6,null,null,null,null,null,null,0,null,null,null,null,null,0]
[null,null,null,null,null,{"$f":"AX404&\"\"","v":"人"},null,{"$f":"I404&\"\"","v":"従業員（管理者）"},null,null,null,{"$f":"N404&\"\"","v":"通行規制等により、本社への参集が不可能となる"},null,null,null,null,null,null,null,null,null,"通行規制が予期される場合、本社ではなく、高台営業所に参集するよう連絡する",null,null,null,null,null,null,null,null,null,"避難誘導班",null,null,null,"✓",null,null,null,null,"",true,"",null,7,null,null,null,null,null,null,{"$f":"AZ404","v":4},null,null,null,null,null,{"$f":"IF(AO404=TRUE,1,0)","v":1}]
[null,null,null,null,null,{"$f":"AX405&\"\"","v":"人"},null,{"$f":"I405&\"\"","v":"従業員（作業員）"},null,null,null,{"$f":"N405&\"\"","v":"従業員が出勤できない"},null,null,null,null,null,null,null,null,null,"従業員のクロストレーニングを実施する",null,null,null,null,null,null,null,null,null,null,null,null,"✓",null,null,null,null,null,true,"","",null,8,null,null,null,null,null,null,{"$f":"AZ405","v":5},null,null,null,null,null,{"$f":"IF(AO405=TRUE,1,0)","v":1}]
[null,null,null,null,null,{"$f":"AX406&\"\"","v":"人"},null,{"$f":"I406&\"\"","v":""},null,null,null,{"$f":"N406&\"\"","v":""},null,null,null,null,null,null,null,null,null,null,null,null,null,null,null,null,null,null,null,null,null,null,null,null,null,null,null,null,"","","",null,9,null,null,null,null,null,null,{"$f":"AZ406","v":0},null,null,null,null,null,{"$f":"IF(AO406=TRUE,1,0)","v":0}]
[null,null,null,null,null,{"$f":"AX408&\"\"","v":"物"},null,{"$f":"I408&\"\"","v":"事務所"},null,null,null,{"$f":"N408&\"\"","v":"浸水により、本社は2階まで使用不可"},null,null,null,null,null,null,null,null,null,null,null,null,null,null,null,null,null,null,null,null,null,null,null,null,null,null,null,null,"","","",null,10,null,null,null,null,null,null,{"$f":"AZ408","v":6},null,null,null,null,null,{"$f":"IF(AO408=TRUE,1,0)","v":0}]
[null,null,null,null,null,"物",null,"",null,null,null,"",null,null,null,null,null,null,null,null,null,null,null,null,null,null,null,null,null,null,null,null,null,null,null,null,null,null,null,null,"","","",null,11,null,null,null,null,null,null,0,null,null,null,null,null,0]
[null,null,null,null,null,"物",null,"",null,null,null,"",null,null,null,null,null,null,null,null,null,null,null,null,null,null,null,null,null,null,null,null,null,null,null,null,null,null,null,null,"","","",null,12,null,null,null,null,null,null,0,null,null,null,null,null,0]
[null,null,null,null,null,"物",null,"社用車",null,null,null,"トラックが流出・水没による故障が発生する",null,null,null,null,null,null,null,null,null,"トラックを本社から高台営業所に移動させる",null,null,null,null,null,null,null,null,null,"復旧対策班",null,null,null,"✓",null,null,null,null,"",true,"",null,13,null,null,null,null,null,null,7,null,null,null,null,null,1]
[null,null,null,null,null,"物",null,"",null,null,null,"",null,null,null,null,null,null,null,null,null,null,null,null,null,null,null,null,null,null,null,null,null,null,null,null,null,null,null,null,"","","",null,14,null,null,null,null,null,null,0,null,null,null,null,null,0]
[null,null,null,null,null,"物",null,"",null,null,null,"",null,null,null,null,null,null,null,null,null,null,null,null,null,null,null,null,null,null,null,null,null,null,null,null,null,null,null,null,"","","",null,15,null,null,null,null,null,null,0,null,null,null,null,null,0]
[null,null,null,null,null,"物",null,"",null,null,null,"",null,null,null,null,null,null,null,null,null,null,null,null,null,null,null,null,null,null,null,null,null,null,null,null,null,null,null,null,"","","",null,16,null,null,null,null,null,null,0,null,null,null,null,null,0]
[null,null,null,null,null,"物",null,"原材料",null,null,null,"ガソリンが流出する",null,null,null,null,null,null,null,null,null,"トラックとともに、本社から高台営業所に移動させる",null,null,null,null,null,null,null,null,null,"復旧対策班",null,null,null,"✓",null,null,null,null,"",true,"",null,17,null,null,null,null,null,null,8,null,null,null,null,null,1]
[null,null,null,null,null,"物",null,"その他",null,null,null,"小分けした部品が浸水により流出する",null,null,null,null,null,null,null,null,null,"小分けした薬品を鍵のかかる棚（2階以上）に移動させる",null,null,null,null,null,null,null,null,null,"復旧対策班",null,null,null,"✓",null,null,null,null,"",true,"",null,18,null,null,null,null,null,null,9,null,null,null,null,null,1]
[null,null,null,null,null,"物",null,"",null,null,null,"",null,null,null,null,null,null,null,null,null,null,null,null,null,null,null,null,null,null,null,null,null,null,null,null,null,null,null,null,"","","",null,19,null,null,null,null,null,null,0,null,null,null,null,null,0]
[null,null,null,null,null,"物",null,"",null,null,null,"",null,null,null,null,null,null,null,null,null,null,null,null,null,null,null,null,null,null,null,null,null,null,null,null,null,null,null,null,"","","",null,20,null,null,null,null,null,null,0,null,null,null,null,null,0]
[null,null,null,null,null,{"$f":"AX420&\"\"","v":"情報"},null,{"$f":"I420&\"\"","v":"事務処理用PC"},null,null,null,{"$f":"N420&\"\"","v":"事務処理用PCが使用できなくなる"},null,null,null,null,null,null,null,null,null,"避難時にノートPCを持参する",null,null,null,null,null,null,null,null,null,"システム班",null,null,null,"✓",null,null,null,null,"",true,"",null,21,null,null,null,null,null,null,{"$f":"AZ420","v":10},null,null,null,null,null,{"$f":"IF(AO420=TRUE,1,0)","v":1}]
[null,null,null,null,null,{"$f":"AX421&\"\"","v":"情報"},null,{"$f":"I421&\"\"","v":""},null,null,null,{"$f":"N421&\"\"","v":""},null,null,null,null,null,null,null,null,null,null,null,null,null,null,null,null,null,null,null,null,null,null,null,null,null,null,null,null,"","","",null,22,null,null,null,null,null,null,{"$f":"AZ421","v":0},null,null,null,null,null,{"$f":"IF(AO421=TRUE,1,0)","v":0}]
[null,null,null,null,null,{"$f":"AX422&\"\"","v":"情報"},null,{"$f":"I422&\"\"","v":"顧客情報"},null,null,null,{"$f":"N422&\"\"","v":"PCから顧客情報が呼び出せなくなる"},null,null,null,null,null,null,null,null,null,"顧客情報をクラウド上に保存しておく",null,null,null,null,null,null,null,null,null,null,null,null,"✓",null,null,null,null,null,true,"","",null,23,null,null,null,null,null,null,{"$f":"AZ422","v":11},null,null,null,null,null,{"$f":"IF(AO422=TRUE,1,0)","v":1}]
[null,null,null,null,null,{"$f":"AX423&\"\"","v":"情報"},null,{"$f":"I423&\"\"","v":""},null,null,null,{"$f":"N423&\"\"","v":""},null,null,null,null,null,null,null,null,null,null,null,null,null,null,null,null,null,null,null,null,null,null,null,null,null,null,null,null,"","","",null,24,null,null,null,null,null,null,{"$f":"AZ423","v":0},null,null,null,null,null,{"$f":"IF(AO423=TRUE,1,0)","v":0}]
[null,null,null,null,null,{"$f":"AX426&\"\"","v":""},null,{"$f":"I426&\"\"","v":""},null,null,null,{"$f":"N426&\"\"","v":""},null,null,null,null,null,null,null,null,null,null,null,null,null,null,null,null,null,null,null,null,null,null,null,null,null,null,null,null,"","","",null,25,null,null,null,null,null,null,{"$f":"AZ426","v":0},null,null,null,null,null,{"$f":"IF(AO426=TRUE,1,0)","v":0}]
[null,null,null,null,null,"",null,"",null,null,null,"",null,null,null,null,null,null,null,null,null,null,null,null,null,null,null,null,null,null,null,null,null,null,null,null,null,null,null,null,"","","",null,26,null,null,null,null,null,null,0,null,null,null,null,null,0]
[null,null,null,null,null,"",null,"",null,null,null,"",null,null,null,null,null,null,null,null,null,null,null,null,null,null,null,null,null,null,null,null,null,null,null,null,null,null,null,null,"","","",null,27,null,null,null,null,null,null,0,null,null,null,null,null,0]
[null,null,null,null,null,"",null,"",null,null,null,"",null,null,null,null,null,null,null,null,null,null,null,null,null,null,null,null,null,null,null,null,null,null,null,null,null,null,null,null,"","","",null,28,null,null,null,null,null,null,0,null,null,null,null,null,0]
[null,null,null,null,null,"",null,"",null,null,null,"",null,null,null,null,null,null,null,null,null,null,null,null,null,null,null,null,null,null,null,null,null,null,null,null,null,null,null,null,"","","",null,29,null,null,null,null,null,null,0,null,null,null,null,null,0]
[null,null,null,null,null,"",null,"",null,null,null,"",null,null,null,null,null,null,null,null,null,null,null,null,null,null,null,null,null,null,null,null,null,null,null,null,null,null,null,null,"","","",null,30,null,null,null,null,null,null,0,null,null,null,null,null,0]
[null,null,null,null,null,"",null,"",null,null,null,"",null,null,null,null,null,null,null,null,null,null,null,null,null,null,null,null,null,null,null,null,null,null,null,null,null,null,null,null,"","","",null,31,null,null,null,null,null,null,0,null,null,null,null,null,0]
[null,null,null,null,null,"",null,"",null,null,null,"",null,null,null,null,null,null,null,null,null,null,null,null,null,null,null,null,null,null,null,null,null,null,null,null,null,null,null,null,"","","",null,32,null,null,null,null,null,null,0,null,null,null,null,null,0]
[null,null,null,null,null,"",null,"",null,null,null,"",null,null,null,null,null,null,null,null,null,null,null,null,null,null,null,null,null,null,null,null,null,null,null,null,null,null,null,null,"","","",null,33,null,null,null,null,null,null,0,null,null,null,null,null,0]
[null,null,null,null,null,"",null,"",null,null,null,"",null,null,null,null,null,null,null,null,null,null,null,null,null,null,null,null,null,null,null,null,null,null,null,null,null,null,null,null,"","","",null,34,null,null,null,null,null,null,0,null,null,null,null,null,0]
[null,null,null,null,null,"",null,"",null,null,null,"",null,null,null,null,null,null,null,null,null,null,null,null,null,null,null,null,null,null,null,null,null,null,null,null,null,null,null,null,"","","",null,35,null,null,null,null,null,null,0,null,null,null,null,null,0]
[null,null,null,null,null,"",null,"",null,null,null,"",null,null,null,null,null,null,null,null,null,null,null,null,null,null,null,null,null,null,null,null,null,null,null,null,null,null,null,null,"","","",null,36,null,null,null,null,null,null,0,null,null,null,null,null,0]
[null,null,null,null,null,"",null,"",null,null,null,"",null,null,null,null,null,null,null,null,null,null,null,null,null,null,null,null,null,null,null,null,null,null,null,null,null,null,null,null,"","","",null,37,null,null,null,null,null,null,0,null,null,null,null,null,0]
[null,null,null,null,null,"",null,"",null,null,null,"",null,null,null,null,null,null,null,null,null,null,null,null,null,null,null,null,null,null,null,null,null,null,null,null,null,null,null,null,"","","",null,38,null,null,null,null,null,null,0,null,null,null,null,null,0]
[null,null,null,null,null,"",null,"",null,null,null,"",null,null,null,null,null,null,null,null,null,null,null,null,null,null,null,null,null,null,null,null,null,null,null,null,null,null,null,null,"","","",null,39,null,null,null,null,null,null,0,null,null,null,null,null,0]
[null,null,null,null,null,"",null,"",null,null,null,"",null,null,null,null,null,null,null,null,null,null,null,null,null,null,null,null,null,null,null,null,null,null,null,null,null,null,null,null,"","","",null,40,null,null,null,null,null,null,0,null,null,null,null,null,0]
[null,null,null,null,null,"",null,"",null,null,null,"",null,null,null,null,null,null,null,null,null,null,null,null,null,null,null,null,null,null,null,null,null,null,null,null,null,null,null,null,"","","",null,41,null,null,null,null,null,null,0,null,null,null,null,null,0]
[null,null,null,null,null,"",null,"",null,null,null,"",null,null,null,null,null,null,null,null,null,null,null,null,null,null,null,null,null,null,null,null,null,null,null,null,null,null,null,null,"","","",null,42,null,null,null,null,null,null,0,null,null,null,null,null,0]
[null,null,null,null,null,"",null,"",null,null,null,"",null,null,null,null,null,null,null,null,null,null,null,null,null,null,null,null,null,null,null,null,null,null,null,null,null,null,null,null,"","","",null,43,null,null,null,null,null,null,0,null,null,null,null,null,0]
[null,null,null,null,null,"",null,"",null,null,null,"",null,null,null,null,null,null,null,null,null,null,null,null,null,null,null,null,null,null,null,null,null,null,null,null,null,null,null,null,"","","",null,44,null,null,null,null,null,null,0,null,null,null,null,null,0]
[null,null,null,null,null,"",null,"",null,null,null,"",null,null,null,null,null,null,null,null,null,null,null,null,null,null,null,null,null,null,null,null,null,null,null,null,null,null,null,null,"","","",null,45,null,null,null,null,null,null,0,null,null,null,null,null,0]
[null,null,null,null,null,"",null,"",null,null,null,"",null,null,null,null,null,null,null,null,null,null,null,null,null,null,null,null,null,null,null,null,null,null,null,null,null,null,null,null,"","","",null,46,null,null,null,null,null,null,0,null,null,null,null,null,0]
[null,null,null,null,null,"",null,"",null,null,null,"",null,null,null,null,null,null,null,null,null,null,null,null,null,null,null,null,null,null,null,null,null,null,"","","",null,null,null,"","","",null,47,null,null,null,null,null,null,0,null,null,null,null,null,0]
[null,null,null,null,null,"",null,"",null,null,null,"",null,null,null,null,null,null,null,null,null,null,null,null,null,null,null,null,null,null,null,null,null,null,"","","",null,null,null,"","","",null,48,null,null,null,null,null,null,0,null,null,null,null,null,0]
[null,null,null,null,null,"",null,"",null,null,null,"",null,null,null,null,null,null,null,null,null,null,null,null,null,null,null,null,null,null,null,null,null,null,"","","",null,null,null,"","","",null,49,null,null,null,null,null,null,0,null,null,null,null,null,0]
[null,null,null,null,null,"",null,"",null,null,null,"",null,null,null,null,null,null,null,null,null,null,null,null,null,null,null,null,null,null,null,null,null,null,"","","",null,null,null,"","","",null,50,null,null,null,null,null,null,0,null,null,null,null,null,0]
[null,null,null,null,null,"",null,"",null,null,null,"",null,null,null,null,null,null,null,null,null,null,null,null,null,null,null,null,null,null,null,null,null,null,"","","",null,null,null,"","","",null,51,null,null,null,null,null,null,0,null,null,null,null,null,0]
[null,null,null,null,null,"",null,"",null,null,null,"",null,null,null,null,null,null,null,null,null,null,null,null,null,null,null,null,null,null,null,null,null,null,"","","",null,null,null,"","","",null,52,null,null,null,null,null,null,0,null,null,null,null,null,0]
[null,null,null,null,null,"",null,"",null,null,null,"",null,null,null,null,null,null,null,null,null,null,null,null,null,null,null,null,null,null,null,null,null,null,"","","",null,null,null,"","","",null,53,null,null,null,null,null,null,0,null,null,null,null,null,0]
[null,null,null,null,null,"",null,"",null,null,null,"",null,null,null,null,null,null,null,null,null,null,null,null,null,null,null,null,null,null,null,null,null,null,null,null,null,null,null,null,"","","",null,54,null,null,null,null,null,null,0,null,null,null,null,null,0]
[null,null,null,null,null,null,null,null,null,null,null,null,null,null,null,null,null,null,null,null,null,null,null,null,null,null,null,null,null,null,null,null,null,null,null,null,null,null,null,null,null,null,null,null,null,null,null,null,null,null,null,null,null,null,null,null,null,1]
[null,null,null,"6.2 水災害発生直前の対策",null,null,null,null,null,null,null,null,null,null,null,null,null,null,null,null,null,null,null,null,null,null,null,null,null,null,null,null,null,null,null,null,null,null,null,null,null,null,null,null,null,null,null,null,null,null,null,null,null,null,null,null,null,1]
[null,null,null,null,"●水災害発生直前の対策を、「対応時間」 と 「対応人数」 の観点で整理します。",null,null,null,null,null,null,null,null,null,null,null,null,null,null,null,null,null,null,null,null,null,null,null,null,null,null,null,null,null,null,null,null,null,null,null,null,null,null,null,null,null,null,null,null,null,null,null,null,null,null,null,null,1]
[null,null,null,null,"前項で 「対策時期」 を 「直前」 にチェックを入れた項目が下表に表示されています。\n各項目に対し必要な 「時間」 と 「人数」 を記入してください。",null,null,null,null,null,null,null,null,null,null,null,null,null,null,null,null,null,null,null,null,null,null,null,null,null,null,null,null,null,null,null,null,null,null,null,null,null,"他","A","B","C","D","E","F","G","H","I","J",null,null,null,null,1]
[null,null,null,null,null,null,null,null,null,null,null,null,null,null,null,null,null,null,null,null,null,null,null,null,null,null,null,null,"①",null,null,"②",null,null,"③",null,null,null,null,null,null,"分",{"$f":"SUMIFS(AC525:AC578,AI525:AI578,\"\",$BF$525:$BF$578,1)","v":35},{"$f":"MAX(IF($AI$525:$AI$578=AR$522,$AC$525:$AC$578,\"\"))","v":30},{"$f":"MAX(IF($AI$525:$AI$578=AS$522,$AC$525:$AC$578,\"\"))","v":0},{"$f":"MAX(IF($AI$525:$AI$578=AT$522,$AC$525:$AC$578,\"\"))","v":0},{"$f":"MAX(IF($AI$525:$AI$578=AU$522,$AC$525:$AC$578,\"\"))","v":0},{"$f":"MAX(IF($AI$525:$AI$578=AV$522,$AC$525:$AC$578,\"\"))","v":0},{"$f":"MAX(IF($AI$525:$AI$578=AW$522,$AC$525:$AC$578,\"\"))","v":0},{"$f":"MAX(IF($AI$525:$AI$578=AX$522,$AC$525:$AC$578,\"\"))","v":0},{"$f":"MAX(IF($AI$525:$AI$578=AY$522,$AC$525:$AC$578,\"\"))","v":0},{"$f":"MAX(IF($AI$525:$AI$578=AZ$522,$AC$525:$AC$578,\"\"))","v":0},{"$f":"MAX(IF($AI$525:$AI$578=BA$522,$AC$525:$AC$578,\"\"))","v":0},null,null,null,null,1]
[null,null,null,null,"重要事業に必要な資源",null,null,null,null,"想定される浸水被害",null,null,null,null,null,null,null,"具体的な対策内容",null,null,null,null,null,null,null,"対応班",null,null,"対応に必要な\n時間（分）",null,null,"対応に必要な\n人数（人）",null,null,"同時作業\nグループ記号",null,null,null,null,null,null,"人",{"$f":"SUMIFS(AF525:AF578,AI525:AI578,\"\",$BF$525:$BF$578,1)","v":3},{"$f":"MAX(IF($AI$525:$AI$578=AR$522,$AF$525:$AF$578,\"\"))","v":2},{"$f":"MAX(IF($AI$525:$AI$578=AS$522,$AF$525:$AF$578,\"\"))","v":0},{"$f":"MAX(IF($AI$525:$AI$578=AT$522,$AF$525:$AF$578,\"\"))","v":0},{"$f":"MAX(IF($AI$525:$AI$578=AU$522,$AF$525:$AF$578,\"\"))","v":0},{"$f":"MAX(IF($AI$525:$AI$578=AV$522,$AF$525:$AF$578,\"\"))","v":0},{"$f":"MAX(IF($AI$525:$AI$578=AW$522,$AF$525:$AF$578,\"\"))","v":0},{"$f":"MAX(IF($AI$525:$AI$578=AX$522,$AF$525:$AF$578,\"\"))","v":0},{"$f":"MAX(IF($AI$525:$AI$578=AY$522,$AF$525:$AF$578,\"\"))","v":0},{"$f":"MAX(IF($AI$525:$AI$578=AZ$522,$AF$525:$AF$578,\"\"))","v":0},{"$f":"MAX(IF($AI$525:$AI$578=BA$522,$AF$525:$AF$578,\"\"))","v":0},null,6.2,null,null,1]
[null,null,null,null,{"$f":"F465&\"\"","v":"インフラ"},null,{"$f":"H465&\"\"","v":"電気"},null,null,{"$f":"L465&\"\"","v":"電気が供給されない"},null,null,null,null,null,null,null,{"$f":"V465&\"\"","v":"発電機を購入する"},null,null,null,null,null,null,null,{"$f":"AF465&\"\"","v":""},null,null,null,null,null,null,null,null,null,null,null,null,null,null,1,null,null,null,null,null,null,null,null,null,null,{"$f":"AZ465","v":1},null,null,null,null,null,{"$f":"IF(AP465=TRUE,1,0)","v":0}]
[null,null,null,null,"インフラ",null,"水道",null,null,"飲料水や生活用水が供給されない",null,null,null,null,null,null,null,"必要な水を高台にある営業所に備蓄する",null,null,null,null,null,null,null,"",null,null,null,null,null,null,null,null,null,null,null,null,null,null,2,null,null,null,null,null,null,null,null,null,null,2,null,null,null,null,null,0]
[null,null,null,null,"インフラ",null,"道路",null,null,"道路が通行止めとなる",null,null,null,null,null,null,null,"",null,null,null,null,null,null,null,"",null,null,null,null,null,null,null,null,null,null,null,null,null,null,3,null,null,null,null,null,null,null,null,null,null,3,null,null,null,null,null,0]
[null,null,null,null,{"$f":"F468&\"\"","v":"インフラ"},null,"",null,null,"",null,null,null,null,null,null,null,"",null,null,null,null,null,null,null,"",null,null,null,null,null,null,null,null,null,null,null,null,null,null,4,null,null,null,null,null,null,null,null,null,null,0,null,null,null,null,null,0]
[null,null,null,null,"インフラ",null,"",null,null,"",null,null,null,null,null,null,null,"",null,null,null,null,null,null,null,"",null,null,null,null,null,null,null,null,null,null,null,null,null,null,5,null,null,null,null,null,null,null,null,null,null,0,null,null,null,null,null,0]
[null,null,null,null,"インフラ",null,"",null,null,"",null,null,null,null,null,null,null,"",null,null,null,null,null,null,null,"",null,null,null,null,null,null,null,null,null,null,null,null,null,null,6,null,null,null,null,null,null,null,null,null,null,0,null,null,null,null,null,0]
[null,null,null,null,"人",null,"従業員（管理者）",null,null,"通行規制等により、本社への参集が不可能となる",null,null,null,null,null,null,null,"通行規制が予期される場合、本社ではなく、高台営業所に参集するよう連絡する",null,null,null,null,null,null,null,"避難誘導班",null,null,5,null,null,1,null,null,null,null,null,null,null,null,7,null,null,null,null,null,null,null,null,null,null,4,null,null,null,null,null,1]
[null,null,null,null,"人",null,"従業員（作業員）",null,null,"従業員が出勤できない",null,null,null,null,null,null,null,"従業員のクロストレーニングを実施する",null,null,null,null,null,null,null,"",null,null,null,null,null,null,null,null,null,null,null,null,null,null,8,null,null,null,null,null,null,null,null,null,null,5,null,null,null,null,null,0]
[null,null,null,null,"人",null,"",null,null,"",null,null,null,null,null,null,null,"",null,null,null,null,null,null,null,"",null,null,null,null,null,null,null,null,null,null,null,null,null,null,9,null,null,null,null,null,null,null,null,null,null,0,null,null,null,null,null,0]
[null,null,null,null,"物",null,"事務所",null,null,"浸水により、本社は2階まで使用不可",null,null,null,null,null,null,null,"",null,null,null,null,null,null,null,"",null,null,null,null,null,null,null,null,null,null,null,null,null,null,10,null,null,null,null,null,null,null,null,null,null,6,null,null,null,null,null,0]
[null,null,null,null,"物",null,"",null,null,"",null,null,null,null,null,null,null,"",null,null,null,null,null,null,null,"",null,null,null,null,null,null,null,null,null,null,null,null,null,null,11,null,null,null,null,null,null,null,null,null,null,0,null,null,null,null,null,0]
[null,null,null,null,"物",null,"",null,null,"",null,null,null,null,null,null,null,"",null,null,null,null,null,null,null,"",null,null,null,null,null,null,null,null,null,null,null,null,null,null,12,null,null,null,null,null,null,null,null,null,null,0,null,null,null,null,null,0]
[null,null,null,null,"物",null,{"$f":"H477&\"\"","v":"社用車"},null,null,"トラックが流出・水没による故障が発生する",null,null,null,null,null,null,null,"トラックを本社から高台営業所に移動させる",null,null,null,null,null,null,null,"復旧対策班",null,null,30,null,null,2,null,null,"A",null,null,null,null,null,13,null,null,null,null,null,null,null,null,null,null,7,null,null,null,null,null,{"$f":"IF(AP477=TRUE,1,0)","v":1}]
[null,null,null,null,"物",null,"",null,null,"",null,null,null,null,null,null,null,"",null,null,null,null,null,null,null,"",null,null,null,null,null,null,null,null,null,null,null,null,null,null,14,null,null,null,null,null,null,null,null,null,null,0,null,null,null,null,null,0]
[null,null,null,null,"物",null,"",null,null,"",null,null,null,null,null,null,null,"",null,null,null,null,null,null,null,"",null,null,null,null,null,null,null,null,null,null,null,null,null,null,15,null,null,null,null,null,null,null,null,null,null,0,null,null,null,null,null,0]
[null,null,null,null,"物",null,"",null,null,"",null,null,null,null,null,null,null,"",null,null,null,null,null,null,null,"",null,null,null,null,null,null,null,null,null,null,null,null,null,null,16,null,null,null,null,null,null,null,null,null,null,0,null,null,null,null,null,0]
[null,null,null,null,"物",null,"原材料",null,null,"ガソリンが流出する",null,null,null,null,null,null,null,"トラックとともに、本社から高台営業所に移動させる",null,null,null,null,null,null,null,"復旧対策班",null,null,30,null,null,2,null,null,"A",null,null,null,null,null,17,null,null,null,null,null,null,null,null,null,null,8,null,null,null,null,null,1]
[null,null,null,null,"物",null,"その他",null,null,"小分けした部品が浸水により流出する",null,null,null,null,null,null,null,"小分けした薬品を鍵のかかる棚（2階以上）に移動させる",null,null,null,null,null,null,null,"復旧対策班",null,null,30,null,null,2,null,null,null,null,null,null,null,null,18,null,null,null,null,null,null,null,null,null,null,9,null,null,null,null,null,1]
[null,null,null,null,"物",null,"",null,null,"",null,null,null,null,null,null,null,"",null,null,null,null,null,null,null,"",null,null,null,null,null,null,null,null,null,null,null,null,null,null,19,null,null,null,null,null,null,null,null,null,null,0,null,null,null,null,null,0]
[null,null,null,null,"物",null,"",null,null,"",null,null,null,null,null,null,null,"",null,null,null,null,null,null,null,"",null,null,null,null,null,null,null,null,null,null,null,null,null,null,20,null,null,null,null,null,null,null,null,null,null,0,null,null,null,null,null,0]
[null,null,null,null,"情報",null,"事務処理用PC",null,null,"事務処理用PCが使用できなくなる",null,null,null,null,null,null,null,"避難時にノートPCを持参する",null,null,null,null,null,null,null,"システム班",null,null,5,null,null,1,null,null,"A",null,null,null,null,null,21,null,null,null,null,null,null,null,null,null,null,10,null,null,null,null,null,1]
[null,null,null,null,"情報",null,"",null,null,"",null,null,null,null,null,null,null,"",null,null,null,null,null,null,null,"",null,null,null,null,null,null,null,null,null,null,null,null,null,null,22,null,null,null,null,null,null,null,null,null,null,0,null,null,null,null,null,0]
[null,null,null,null,"情報",null,"顧客情報",null,null,"PCから顧客情報が呼び出せなくなる",null,null,null,null,null,null,null,"顧客情報をクラウド上に保存しておく",null,null,null,null,null,null,null,"",null,null,null,null,null,null,null,null,null,null,null,null,null,null,23,null,null,null,null,null,null,null,null,null,null,11,null,null,null,null,null,0]
[null,null,null,null,"情報",null,"",null,null,"",null,null,null,null,null,null,null,"",null,null,null,null,null,null,null,"",null,null,null,null,null,null,null,null,null,null,null,null,null,null,24,null,null,null,null,null,null,null,null,null,null,0,null,null,null,null,null,0]
[null,null,null,null,"",null,"",null,null,"",null,null,null,null,null,null,null,"",null,null,null,null,null,null,null,"",null,null,null,null,null,null,null,null,null,null,null,null,null,null,25,null,null,null,null,null,null,null,null,null,null,0,null,null,null,null,null,0]
[null,null,null,null,"",null,"",null,null,"",null,null,null,null,null,null,null,"",null,null,null,null,null,null,null,"",null,null,null,null,null,null,null,null,null,null,null,null,null,null,26,null,null,null,null,null,null,null,null,null,null,0,null,null,null,null,null,0]
[null,null,null,null,"",null,"",null,null,"",null,null,null,null,null,null,null,"",null,null,null,null,null,null,null,"",null,null,null,null,null,null,null,null,null,null,null,null,null,null,27,null,null,null,null,null,null,null,null,null,null,0,null,null,null,null,null,0]
[null,null,null,null,"",null,"",null,null,"",null,null,null,null,null,null,null,"",null,null,null,null,null,null,null,"",null,null,null,null,null,null,null,null,null,null,null,null,null,null,28,null,null,null,null,null,null,null,null,null,null,0,null,null,null,null,null,0]
[null,null,null,null,"",null,"",null,null,"",null,null,null,null,null,null,null,"",null,null,null,null,null,null,null,"",null,null,null,null,null,null,null,null,null,null,null,null,null,null,29,null,null,null,null,null,null,null,null,null,null,0,null,null,null,null,null,0]
[null,null,null,null,"",null,"",null,null,"",null,null,null,null,null,null,null,"",null,null,null,null,null,null,null,"",null,null,null,null,null,null,null,null,null,null,null,null,null,null,30,null,null,null,null,null,null,null,null,null,null,0,null,null,null,null,null,0]
[null,null,null,null,"",null,"",null,null,"",null,null,null,null,null,null,null,"",null,null,null,null,null,null,null,"",null,null,null,null,null,null,null,null,null,null,null,null,null,null,31,null,null,null,null,null,null,null,null,null,null,0,null,null,null,null,null,0]
[null,null,null,null,"",null,"",null,null,"",null,null,null,null,null,null,null,"",null,null,null,null,null,null,null,"",null,null,null,null,null,null,null,null,null,null,null,null,null,null,32,null,null,null,null,null,null,null,null,null,null,0,null,null,null,null,null,0]
[null,null,null,null,{"$f":"F497&\"\"","v":""},null,{"$f":"H497&\"\"","v":""},null,null,{"$f":"L497&\"\"","v":""},null,null,null,null,null,null,null,{"$f":"V497&\"\"","v":""},null,null,null,null,null,null,null,{"$f":"AF497&\"\"","v":""},null,null,null,null,null,null,null,null,null,null,null,null,null,null,33,null,null,null,null,null,null,null,null,null,null,{"$f":"AZ497","v":0},null,null,null,null,null,{"$f":"IF(AP497=TRUE,1,0)","v":0}]
[null,null,null,null,"",null,"",null,null,"",null,null,null,null,null,null,null,"",null,null,null,null,null,null,null,"",null,null,null,null,null,null,null,null,null,null,null,null,null,null,34,null,null,null,null,null,null,null,null,null,null,0,null,null,null,null,null,0]
[null,null,null,null,"",null,"",null,null,"",null,null,null,null,null,null,null,"",null,null,null,null,null,null,null,"",null,null,null,null,null,null,null,null,null,null,null,null,null,null,35,null,null,null,null,null,null,null,null,null,null,0,null,null,null,null,null,0]
[null,null,null,null,"",null,"",null,null,"",null,null,null,null,null,null,null,"",null,null,null,null,null,null,null,"",null,null,null,null,null,null,null,null,null,null,null,null,null,null,36,null,null,null,null,null,null,null,null,null,null,0,null,null,null,null,null,0]
[null,null,null,null,"",null,"",null,null,"",null,null,null,null,null,null,null,"",null,null,null,null,null,null,null,"",null,null,null,null,null,null,null,null,null,null,null,null,null,null,37,null,null,null,null,null,null,null,null,null,null,0,null,null,null,null,null,0]
[null,null,null,null,"",null,"",null,null,"",null,null,null,null,null,null,null,"",null,null,null,null,null,null,null,"",null,null,null,null,null,null,null,null,null,null,null,null,null,null,38,null,null,null,null,null,null,null,null,null,null,0,null,null,null,null,null,0]
[null,null,null,null,"",null,"",null,null,"",null,null,null,null,null,null,null,"",null,null,null,null,null,null,null,"",null,null,null,null,null,null,null,null,null,null,null,null,null,null,39,null,null,null,null,null,null,null,null,null,null,0,null,null,null,null,null,0]
[null,null,null,null,"",null,"",null,null,"",null,null,null,null,null,null,null,"",null,null,null,null,null,null,null,"",null,null,null,null,null,null,null,null,null,null,null,null,null,null,40,null,null,null,null,null,null,null,null,null,null,0,null,null,null,null,null,0]
[null,null,null,null,"",null,"",null,null,"",null,null,null,null,null,null,null,"",null,null,null,null,null,null,null,"",null,null,null,null,null,null,null,null,null,null,null,null,null,null,41,null,null,null,null,null,null,null,null,null,null,0,null,null,null,null,null,0]
[null,null,null,null,"",null,"",null,null,"",null,null,null,null,null,null,null,"",null,null,null,null,null,null,null,"",null,null,null,null,null,null,null,null,null,null,null,null,null,null,42,null,null,null,null,null,null,null,null,null,null,0,null,null,null,null,null,0]
[null,null,null,null,"",null,"",null,null,"",null,null,null,null,null,null,null,"",null,null,null,null,null,null,null,"",null,null,null,null,null,null,null,null,null,null,null,null,null,null,43,null,null,null,null,null,null,null,null,null,null,0,null,null,null,null,null,0]
[null,null,null,null,"",null,"",null,null,"",null,null,null,null,null,null,null,"",null,null,null,null,null,null,null,"",null,null,null,null,null,null,null,null,null,null,null,null,null,null,44,null,null,null,null,null,null,null,null,null,null,0,null,null,null,null,null,0]
[null,null,null,null,"",null,"",null,null,"",null,null,null,null,null,null,null,"",null,null,null,null,null,null,null,"",null,null,null,null,null,null,null,null,null,null,null,null,null,null,45,null,null,null,null,null,null,null,null,null,null,0,null,null,null,null,null,0]
[null,null,null,null,"",null,"",null,null,"",null,null,null,null,null,null,null,"",null,null,null,null,null,null,null,"",null,null,null,null,null,null,null,null,null,null,null,null,null,null,46,null,null,null,null,null,null,null,null,null,null,0,null,null,null,null,null,0]
[null,null,null,null,"",null,"",null,null,"",null,null,null,null,null,null,null,"",null,null,null,null,null,null,null,"",null,null,null,null,null,null,null,null,null,null,null,null,null,null,47,null,null,null,null,null,null,null,null,null,null,0,null,null,null,null,null,0]
[null,null,null,null,"",null,"",null,null,"",null,null,null,null,null,null,null,"",null,null,null,null,null,null,null,"",null,null,null,null,null,null,null,null,null,null,null,null,null,null,48,null,null,null,null,null,null,null,null,null,null,0,null,null,null,null,null,0]
[null,null,null,null,"",null,"",null,null,"",null,null,null,null,null,null,null,"",null,null,null,null,null,null,null,"",null,null,null,null,null,null,null,null,null,null,null,null,null,null,49,null,null,null,null,null,null,null,null,null,null,0,null,null,null,null,null,0]
[null,null,null,null,"",null,"",null,null,"",null,null,null,null,null,null,null,"",null,null,null,null,null,null,null,"",null,null,null,null,null,null,null,null,null,null,null,null,null,null,50,null,null,null,null,null,null,null,null,null,null,0,null,null,null,null,null,0]
[null,null,null,null,"",null,"",null,null,"",null,null,null,null,null,null,null,"",null,null,null,null,null,null,null,"",null,null,null,null,null,null,null,null,null,null,null,null,null,null,51,null,null,null,null,null,null,null,null,null,null,0,null,null,null,null,null,0]
[null,null,null,null,"",null,"",null,null,"",null,null,null,null,null,null,null,"",null,null,null,null,null,null,null,"",null,null,null,null,null,null,null,null,null,null,null,null,null,null,52,null,null,null,null,null,null,null,null,null,null,0,null,null,null,null,null,0]
[null,null,null,null,"",null,"",null,null,"",null,null,null,null,null,null,null,"",null,null,null,null,null,null,null,"",null,null,null,null,null,null,null,null,null,null,null,null,null,null,53,null,null,null,null,null,null,null,null,null,null,0,null,null,null,null,null,0]
[null,null,null,null,"",null,"",null,null,"",null,null,null,null,null,null,null,"",null,null,null,null,null,null,null,"",null,null,null,null,null,null,null,null,null,null,null,null,null,null,54,null,null,null,null,null,null,null,null,null,null,0,null,null,null,null,null,0]
[null,null,null,null,null,null,null,null,null,null,null,null,null,null,null,null,null,null,null,null,null,null,null,null,null,null,null,null,null,null,null,null,null,null,null,null,null,null,null,null,null,null,null,null,null,null,null,null,null,null,null,null,null,null,null,null,null,1]
[null,null,null,null,null,null,null,null,null,null,null,null,null,null,null,null,null,null,null,null,null,null,null,null,null,"合　計",null,null,{"$f":"SUM(AQ523:BA523)","v":65},null,null,{"$f":"SUM(AQ524:BA524)","v":5},null,null,null,null,null,null,null,null,null,null,null,null,null,null,null,null,null,null,null,null,null,null,null,null,null,1]
[null,null,null,null,null,null,null,null,null,null,null,null,null,null,null,null,null,null,null,null,null,null,null,null,null,null,null,null,null,null,null,null,null,null,null,null,null,null,null,null,null,null,null,null,null,null,null,null,null,null,null,null,null,null,null,null,null,1]
[null,null,null,null,null,null,null,null,null,null,null,null,null,null,null,null,null,null,null,null,null,null,null,null,"同じタイミングで作業が行える場合は、同じ記号（A,B…,J）にして下さい",null,null,null,null,null,null,null,null,null,null,null,null,null,null,null,null,null,null,null,null,null,null,null,null,null,null,null,null,null,null,null,null,1]
[null,null,null,null,null,"※ 合計値の考え方について",null,null,null,null,null,null,null,null,null,null,null,null,null,null,null,null,null,null,null,null,null,null,null,null,null,null,null,null,null,null,null,null,null,null,null,null,null,null,null,null,null,null,null,null,null,null,null,null,null,null,null,1]
[null,null,null,null,null,null,"上記の表の例では、①の合計時間は通常 [100分]、②の合計人数は通常 [8人] となりますが、③で同じ人が同時に作業が行えるグループ記号を付加しているので、",null,null,null,null,null,null,null,null,null,null,null,null,null,null,null,null,null,null,null,null,null,null,null,null,null,null,null,null,null,null,null,null,null,null,null,null,null,null,null,null,null,null,null,null,null,null,null,null,null,null,1]
[null,null,null,null,null,null,"①の合計時間、②の合計人数は、A の最大値のみが合計値に反映されます。（グループ記号の無いものはそのまま加算されます）",null,null,null,null,null,null,null,null,null,null,null,null,null,null,null,null,null,null,null,null,null,null,null,null,null,null,null,null,null,null,null,null,null,null,null,null,null,null,null,null,null,null,null,null,null,null,null,null,null,null,1]
[null,null,null,null,null,null,null,null,null,null,null,null,null,null,null,null,null,null,null,null,null,null,null,null,null,null,null,null,null,null,null,null,null,null,null,null,null,null,null,null,null,null,null,null,null,null,null,null,null,null,null,null,null,null,null,null,null,1]
[null,null,null,"7. BCP発動基準",null,null,null,null,null,null,null,null,null,null,null,null,null,null,null,null,null,null,null,null,null,null,null,null,null,null,null,null,null,null,null,null,null,null,null,"⑦",null,null,null,null,null,null,null,null,null,null,null,null,null,null,null,null,null,1]
[null,null,null,"7.1 安全な避難と浸水対策に要する時間",null,null,null,null,null,null,null,null,null,null,null,null,null,null,null,null,null,null,null,null,null,null,null,null,null,null,null,null,null,null,null,null,null,null,null,null,null,null,null,null,null,null,null,null,null,null,null,null,null,null,null,null,null,1]
[null,null,null,null,"ここでは、【４.避難の計画】 で設定した「御社が避難にかかる時間（避難準備時間+避難時間）」 と 【6.2 水災害発生直前の対策】 で設定した 「対応に必要な合計時間」 を比較して、\n浸水対策を行うための時間が確保できているかを確認します。\n浸水対策を行う時間が確保できていない場合は、訓練により避難に要する時間や浸水対策を行う時間を短くする、一部の浸水対策を早めに実施する、などの対策が必要です。",null,null,null,null,null,null,null,null,null,null,null,null,null,null,null,null,null,null,null,null,null,null,null,null,null,null,null,null,null,null,null,null,null,null,null,null,null,null,null,null,null,null,null,null,null,null,null,null,null,null,null,null,1]
[null,null,null,null,null,null,null,null,null,null,null,null,null,null,null,null,null,null,null,null,null,null,null,null,null,null,null,null,null,null,null,null,null,null,null,null,null,null,null,null,null,null,null,null,null,null,null,null,null,null,null,null,null,null,null,null,null,1]
[null,null,null,null,null,"A：浸水対策に必要な時間の合計値……………………………………………………………",null,null,null,null,null,null,null,null,null,null,null,null,null,null,null,null,{"$f":"AC580","v":65},null,"分",null,"【４.避難の計画】 より",null,null,null,null,null,null,null,null,null,null,null,null,null,null,null,null,null,null,null,null,null,null,null,null,null,null,null,null,null,null,1]
[null,null,null,null,null,"B：猶予時間 －（浸水対策に必要な時間の合計値＋避難準備時間＋避難時間） ………",null,null,null,null,null,null,null,null,null,null,null,null,null,null,null,null,{"$f":"AG592-(W591+AG593+AG594)","v":15},null,"分",null,"猶予時間（目安）は",null,null,null,null,null,{"$f":"R377","v":90},null,"　分未満です",null,null,null,null,null,null,null,null,null,null,null,null,null,null,null,null,null,null,null,null,null,null,1]
[null,null,null,null,null,null,null,null,null,null,null,null,null,null,null,null,null,null,null,null,null,null,null,null,null,null," 避難準備時間は",null,null,null,null,null,{"$f":"J366","v":5},null,"　分です",null,null,null,null,null,null,null,null,null,null,null,null,null,null,null,null,null,null,null,null,null,null,1]
[null,null,null,null,null,null,null,null,null,null,null,null,null,null,null,null,null,null,null,null,null,null,null,null,null,null," 避難時間は",null,null,null,null,null,{"$f":"J367","v":5},null,"　分です",null,null,null,null,null,null,null,null,null,null,null,null,null,null,null,null,null,null,null,null,null,null,1]
[null,null,null,null,null,null,null,null,null,null,null,null,null,null,null,null,null,null,null,null,null,null,null,null,null,null,null,null,null,null,null,null,null,null,null,null,null,null,null,null,null,null,null,null,null,null,null,null,null,null,null,null,null,null,null,null,null,1]
[null,null,null,null,null,"B",{"$f":"IF(W592<0,\"＜\",\"＞\")","v":"＞"},0,"であるため、",null,"現在、浸水対策を行う時間は",null,null,null,null,null,null,{"$f":"IF(W591=\"\",\"\",IF(W592<0,\"確保されていません\",\"確保されています\"))","v":"確保されています"},null,null,null,null,null,null,null,null,null,null,null,null,null,null,null,null,null,null,null,null,null,null,{"$f":"IF(W591=\"\",\"\",IF(W592<0,\"確保できていません\",\"確保できています\"))","v":"確保できています"},null,null,null,null,null,null,null,null,null,null,null,null,null,null,null,null,1]
[null,null,null,null,null,null,null,null,null,null,null,null,null,null,null,null,null,null,null,null,null,null,"※ 気象条件等により異なります",null,null,null,null,null,null,null,null,null,null,null,null,null,null,null,null,null,null,null,null,null,null,null,null,null,null,null,null,null,null,null,null,null,null,1]
[null,null,null,null,"\n　　　　　　※ なお、警戒レベル４相当が発令された際には、いつ被害が発生してもおかしくない状態ですので、浸水対策の途中であっても、\n　　　　　　　　できるだけ速やかに避難先への移動を開始（避難開始する指示を）しましょう。\n\n●浸水被害への具体的な対策ごとに、対応するリーダーとその代行者を記入してください。",null,null,null,null,null,null,null,null,null,null,null,null,null,null,null,null,null,null,null,null,null,null,null,null,null,null,null,null,null,null,null,null,null,null,null,null,null,null,null,null,null,null,null,null,null,null,null,null,null,null,null,null,1]
[null,null,null,null,"重要事業に必要な資源",null,null,null,null,"想定される浸水被害",null,null,null,null,null,null,null,"具体的な対策内容",null,null,null,null,null,null,null,"対応班",null,null,"災害対応人員",null,null,null,null,null,null,null,null,null,null,null,null,null,null,null,null,null,null,null,null,null,null,null,null,null,null,null,null,1]
[null,null,null,null,null,null,null,null,null,null,null,null,null,null,null,null,null,null,null,null,null,null,null,null,null,null,null,null,"リーダー",null,null,"（代行者）",null,null,"対応人数",null,null,null,null,null,{"$f":"SUM(BF601:BF654)","v":5},null,null,null,null,null,null,null,null,null,null,null,null,null,7.1,null,null,1]
[null,null,null,null,{"$f":"E525&\"\"","v":"インフラ"},null,{"$f":"G525&\"\"","v":"電気"},null,null,{"$f":"J525&\"\"","v":"電気が供給されない"},null,null,null,null,null,null,null,{"$f":"R525&\"\"","v":"発電機を購入する"},null,null,null,null,null,null,null,{"$f":"Z525&\"\"","v":""},null,null,null,null,null,null,null,null,{"$f":"IF(BF601=0,\"\",AF525)","v":""},null,null,null,null,null,1,null,null,null,null,null,null,null,null,null,null,{"$f":"AZ525","v":1},null,null,null,null,null,{"$f":"BF525","v":0}]
[null,null,null,null,"インフラ",null,"水道",null,null,"飲料水や生活用水が供給されない",null,null,null,null,null,null,null,"必要な水を高台にある営業所に備蓄する",null,null,null,null,null,null,null,"",null,null,null,null,null,null,null,null,"",null,null,null,null,null,2,null,null,null,null,null,null,null,null,null,null,2,null,null,null,null,null,0]
[null,null,null,null,"インフラ",null,"道路",null,null,"道路が通行止めとなる",null,null,null,null,null,null,null,"",null,null,null,null,null,null,null,"",null,null,null,null,null,null,null,null,"",null,null,null,null,null,3,null,null,null,null,null,null,null,null,null,null,3,null,null,null,null,null,0]
[null,null,null,null,"インフラ",null,"",null,null,"",null,null,null,null,null,null,null,"",null,null,null,null,null,null,null,"",null,null,null,null,null,null,null,null,"",null,null,null,null,null,4,null,null,null,null,null,null,null,null,null,null,0,null,null,null,null,null,0]
[null,null,null,null,"インフラ",null,"",null,null,"",null,null,null,null,null,null,null,"",null,null,null,null,null,null,null,"",null,null,null,null,null,null,null,null,"",null,null,null,null,null,5,null,null,null,null,null,null,null,null,null,null,0,null,null,null,null,null,0]
[null,null,null,null,"インフラ",null,"",null,null,"",null,null,null,null,null,null,null,"",null,null,null,null,null,null,null,"",null,null,null,null,null,null,null,null,"",null,null,null,null,null,6,null,null,null,null,null,null,null,null,null,null,0,null,null,null,null,null,0]
[null,null,null,null,"人",null,"従業員（管理者）",null,null,"通行規制等により、本社への参集が不可能となる",null,null,null,null,null,null,null,"通行規制が予期される場合、本社ではなく、高台営業所に参集するよう連絡する",null,null,null,null,null,null,null,"避難誘導班",null,null,"流域　九郎",null,null,null,null,null,1,null,null,null,null,null,7,null,null,null,null,null,null,null,null,null,null,4,null,null,null,null,null,1]
[null,null,null,null,"人",null,"従業員（作業員）",null,null,"従業員が出勤できない",null,null,null,null,null,null,null,"従業員のクロストレーニングを実施する",null,null,null,null,null,null,null,"",null,null,null,null,null,null,null,null,"",null,null,null,null,null,8,null,null,null,null,null,null,null,null,null,null,5,null,null,null,null,null,0]
[null,null,null,null,"人",null,"",null,null,"",null,null,null,null,null,null,null,"",null,null,null,null,null,null,null,"",null,null,null,null,null,null,null,null,"",null,null,null,null,null,9,null,null,null,null,null,null,null,null,null,null,0,null,null,null,null,null,0]
[null,null,null,null,"物",null,"事務所",null,null,"浸水により、本社は2階まで使用不可",null,null,null,null,null,null,null,"",null,null,null,null,null,null,null,"",null,null,null,null,null,null,null,null,"",null,null,null,null,null,10,null,null,null,null,null,null,null,null,null,null,6,null,null,null,null,null,0]
[null,null,null,null,"物",null,"",null,null,"",null,null,null,null,null,null,null,"",null,null,null,null,null,null,null,"",null,null,null,null,null,null,null,null,"",null,null,null,null,null,11,null,null,null,null,null,null,null,null,null,null,0,null,null,null,null,null,0]
[null,null,null,null,"物",null,"",null,null,"",null,null,null,null,null,null,null,"",null,null,null,null,null,null,null,"",null,null,null,null,null,null,null,null,"",null,null,null,null,null,12,null,null,null,null,null,null,null,null,null,null,0,null,null,null,null,null,0]
[null,null,null,null,"物",null,"社用車",null,null,"トラックが流出・水没による故障が発生する",null,null,null,null,null,null,null,"トラックを本社から高台営業所に移動させる",null,null,null,null,null,null,null,"復旧対策班",null,null,"流域　五郎",null,null,null,null,null,2,null,null,null,null,null,13,null,null,null,null,null,null,null,null,null,null,7,null,null,null,null,null,1]
[null,null,null,null,"物",null,"",null,null,"",null,null,null,null,null,null,null,"",null,null,null,null,null,null,null,"",null,null,null,null,null,null,null,null,"",null,null,null,null,null,14,null,null,null,null,null,null,null,null,null,null,0,null,null,null,null,null,0]
[null,null,null,null,"物",null,"",null,null,"",null,null,null,null,null,null,null,"",null,null,null,null,null,null,null,"",null,null,null,null,null,null,null,null,"",null,null,null,null,null,15,null,null,null,null,null,null,null,null,null,null,0,null,null,null,null,null,0]
[null,null,null,null,"物",null,"",null,null,"",null,null,null,null,null,null,null,"",null,null,null,null,null,null,null,"",null,null,null,null,null,null,null,null,"",null,null,null,null,null,16,null,null,null,null,null,null,null,null,null,null,0,null,null,null,null,null,0]
[null,null,null,null,"物",null,"原材料",null,null,"ガソリンが流出する",null,null,null,null,null,null,null,"トラックとともに、本社から高台営業所に移動させる",null,null,null,null,null,null,null,"復旧対策班",null,null,"流域　五郎",null,null,null,null,null,2,null,null,null,null,null,17,null,null,null,null,null,null,null,null,null,null,8,null,null,null,null,null,1]
[null,null,null,null,"物",null,"その他",null,null,"小分けした部品が浸水により流出する",null,null,null,null,null,null,null,"小分けした薬品を鍵のかかる棚（2階以上）に移動させる",null,null,null,null,null,null,null,"復旧対策班",null,null,"流域　五郎",null,null,null,null,null,2,null,null,null,null,null,18,null,null,null,null,null,null,null,null,null,null,9,null,null,null,null,null,1]
[null,null,null,null,"物",null,"",null,null,"",null,null,null,null,null,null,null,"",null,null,null,null,null,null,null,"",null,null,null,null,null,null,null,null,"",null,null,null,null,null,19,null,null,null,null,null,null,null,null,null,null,0,null,null,null,null,null,0]
[null,null,null,null,"物",null,"",null,null,"",null,null,null,null,null,null,null,"",null,null,null,null,null,null,null,"",null,null,null,null,null,null,null,null,"",null,null,null,null,null,20,null,null,null,null,null,null,null,null,null,null,0,null,null,null,null,null,0]
[null,null,null,null,"情報",null,"事務処理用PC",null,null,"事務処理用PCが使用できなくなる",null,null,null,null,null,null,null,"避難時にノートPCを持参する",null,null,null,null,null,null,null,"システム班",null,null,"流域　七郎",null,null,null,null,null,1,null,null,null,null,null,21,null,null,null,null,null,null,null,null,null,null,10,null,null,null,null,null,1]
[null,null,null,null,"情報",null,"",null,null,"",null,null,null,null,null,null,null,"",null,null,null,null,null,null,null,"",null,null,null,null,null,null,null,null,"",null,null,null,null,null,22,null,null,null,null,null,null,null,null,null,null,0,null,null,null,null,null,0]
[null,null,null,null,"情報",null,"顧客情報",null,null,"PCから顧客情報が呼び出せなくなる",null,null,null,null,null,null,null,"顧客情報をクラウド上に保存しておく",null,null,null,null,null,null,null,"",null,null,null,null,null,null,null,null,"",null,null,null,null,null,23,null,null,null,null,null,null,null,null,null,null,11,null,null,null,null,null,0]
[null,null,null,null,"情報",null,"",null,null,"",null,null,null,null,null,null,null,"",null,null,null,null,null,null,null,"",null,null,null,null,null,null,null,null,"",null,null,null,null,null,24,null,null,null,null,null,null,null,null,null,null,0,null,null,null,null,null,0]
[null,null,null,null,"",null,"",null,null,"",null,null,null,null,null,null,null,"",null,null,null,null,null,null,null,"",null,null,null,null,null,null,null,null,"",null,null,null,null,null,25,null,null,null,null,null,null,null,null,null,null,0,null,null,null,null,null,0]
[null,null,null,null,"",null,"",null,null,"",null,null,null,null,null,null,null,"",null,null,null,null,null,null,null,"",null,null,null,null,null,null,null,null,"",null,null,null,null,null,26,null,null,null,null,null,null,null,null,null,null,0,null,null,null,null,null,0]
[null,null,null,null,"",null,"",null,null,"",null,null,null,null,null,null,null,"",null,null,null,null,null,null,null,"",null,null,null,null,null,null,null,null,"",null,null,null,null,null,27,null,null,null,null,null,null,null,null,null,null,0,null,null,null,null,null,0]
[null,null,null,null,"",null,"",null,null,"",null,null,null,null,null,null,null,"",null,null,null,null,null,null,null,"",null,null,null,null,null,null,null,null,"",null,null,null,null,null,28,null,null,null,null,null,null,null,null,null,null,0,null,null,null,null,null,0]
[null,null,null,null,"",null,"",null,null,"",null,null,null,null,null,null,null,"",null,null,null,null,null,null,null,"",null,null,null,null,null,null,null,null,"",null,null,null,null,null,29,null,null,null,null,null,null,null,null,null,null,0,null,null,null,null,null,0]
[null,null,null,null,"",null,"",null,null,"",null,null,null,null,null,null,null,"",null,null,null,null,null,null,null,"",null,null,null,null,null,null,null,null,"",null,null,null,null,null,30,null,null,null,null,null,null,null,null,null,null,0,null,null,null,null,null,0]
[null,null,null,null,"",null,"",null,null,"",null,null,null,null,null,null,null,"",null,null,null,null,null,null,null,"",null,null,null,null,null,null,null,null,"",null,null,null,null,null,31,null,null,null,null,null,null,null,null,null,null,0,null,null,null,null,null,0]
[null,null,null,null,"",null,"",null,null,"",null,null,null,null,null,null,null,"",null,null,null,null,null,null,null,"",null,null,null,null,null,null,null,null,"",null,null,null,null,null,32,null,null,null,null,null,null,null,null,null,null,0,null,null,null,null,null,0]
[null,null,null,null,{"$f":"E557&\"\"","v":""},null,{"$f":"G557&\"\"","v":""},null,null,{"$f":"J557&\"\"","v":""},null,null,null,null,null,null,null,{"$f":"R557&\"\"","v":""},null,null,null,null,null,null,null,{"$f":"Z557&\"\"","v":""},null,null,null,null,null,null,null,null,{"$f":"IF(BF633=0,\"\",AF557)","v":""},null,null,null,null,null,33,null,null,null,null,null,null,null,null,null,null,{"$f":"AZ557","v":0},null,null,null,null,null,{"$f":"BF557","v":0}]
[null,null,null,null,"",null,"",null,null,"",null,null,null,null,null,null,null,"",null,null,null,null,null,null,null,"",null,null,null,null,null,null,null,null,"",null,null,null,null,null,34,null,null,null,null,null,null,null,null,null,null,0,null,null,null,null,null,0]
[null,null,null,null,"",null,"",null,null,"",null,null,null,null,null,null,null,"",null,null,null,null,null,null,null,"",null,null,null,null,null,null,null,null,"",null,null,null,null,null,35,null,null,null,null,null,null,null,null,null,null,0,null,null,null,null,null,0]
[null,null,null,null,"",null,"",null,null,"",null,null,null,null,null,null,null,"",null,null,null,null,null,null,null,"",null,null,null,null,null,null,null,null,"",null,null,null,null,null,36,null,null,null,null,null,null,null,null,null,null,0,null,null,null,null,null,0]
[null,null,null,null,"",null,"",null,null,"",null,null,null,null,null,null,null,"",null,null,null,null,null,null,null,"",null,null,null,null,null,null,null,null,"",null,null,null,null,null,37,null,null,null,null,null,null,null,null,null,null,0,null,null,null,null,null,0]
[null,null,null,null,"",null,"",null,null,"",null,null,null,null,null,null,null,"",null,null,null,null,null,null,null,"",null,null,null,null,null,null,null,null,"",null,null,null,null,null,38,null,null,null,null,null,null,null,null,null,null,0,null,null,null,null,null,0]
[null,null,null,null,"",null,"",null,null,"",null,null,null,null,null,null,null,"",null,null,null,null,null,null,null,"",null,null,null,null,null,null,null,null,"",null,null,null,null,null,39,null,null,null,null,null,null,null,null,null,null,0,null,null,null,null,null,0]
[null,null,null,null,"",null,"",null,null,"",null,null,null,null,null,null,null,"",null,null,null,null,null,null,null,"",null,null,null,null,null,null,null,null,"",null,null,null,null,null,40,null,null,null,null,null,null,null,null,null,null,0,null,null,null,null,null,0]
[null,null,null,null,"",null,"",null,null,"",null,null,null,null,null,null,null,"",null,null,null,null,null,null,null,"",null,null,null,null,null,null,null,null,"",null,null,null,null,null,41,null,null,null,null,null,null,null,null,null,null,0,null,null,null,null,null,0]
[null,null,null,null,"",null,"",null,null,"",null,null,null,null,null,null,null,"",null,null,null,null,null,null,null,"",null,null,null,null,null,null,null,null,"",null,null,null,null,null,42,null,null,null,null,null,null,null,null,null,null,0,null,null,null,null,null,0]
[null,null,null,null,"",null,"",null,null,"",null,null,null,null,null,null,null,"",null,null,null,null,null,null,null,"",null,null,null,null,null,null,null,null,"",null,null,null,null,null,43,null,null,null,null,null,null,null,null,null,null,0,null,null,null,null,null,0]
[null,null,null,null,"",null,"",null,null,"",null,null,null,null,null,null,null,"",null,null,null,null,null,null,null,"",null,null,null,null,null,null,null,null,"",null,null,null,null,null,44,null,null,null,null,null,null,null,null,null,null,0,null,null,null,null,null,0]
[null,null,null,null,"",null,"",null,null,"",null,null,null,null,null,null,null,"",null,null,null,null,null,null,null,"",null,null,null,null,null,null,null,null,"",null,null,null,null,null,45,null,null,null,null,null,null,null,null,null,null,0,null,null,null,null,null,0]
[null,null,null,null,"",null,"",null,null,"",null,null,null,null,null,null,null,"",null,null,null,null,null,null,null,"",null,null,null,null,null,null,null,null,"",null,null,null,null,null,46,null,null,null,null,null,null,null,null,null,null,0,null,null,null,null,null,0]
[null,null,null,null,"",null,"",null,null,"",null,null,null,null,null,null,null,"",null,null,null,null,null,null,null,"",null,null,null,null,null,null,null,null,"",null,null,null,null,null,47,null,null,null,null,null,null,null,null,null,null,0,null,null,null,null,null,0]
[null,null,null,null,"",null,"",null,null,"",null,null,null,null,null,null,null,"",null,null,null,null,null,null,null,"",null,null,null,null,null,null,null,null,"",null,null,null,null,null,48,null,null,null,null,null,null,null,null,null,null,0,null,null,null,null,null,0]
[null,null,null,null,"",null,"",null,null,"",null,null,null,null,null,null,null,"",null,null,null,null,null,null,null,"",null,null,null,null,null,null,null,null,"",null,null,null,null,null,49,null,null,null,null,null,null,null,null,null,null,0,null,null,null,null,null,0]
[null,null,null,null,"",null,"",null,null,"",null,null,null,null,null,null,null,"",null,null,null,null,null,null,null,"",null,null,null,null,null,null,null,null,"",null,null,null,null,null,50,null,null,null,null,null,null,null,null,null,null,0,null,null,null,null,null,0]
[null,null,null,null,"",null,"",null,null,"",null,null,null,null,null,null,null,"",null,null,null,null,null,null,null,"",null,null,null,null,null,null,null,null,"",null,null,null,null,null,51,null,null,null,null,null,null,null,null,null,null,0,null,null,null,null,null,0]
[null,null,null,null,"",null,"",null,null,"",null,null,null,null,null,null,null,"",null,null,null,null,null,null,null,"",null,null,null,null,null,null,null,null,"",null,null,null,null,null,52,null,null,null,null,null,null,null,null,null,null,0,null,null,null,null,null,0]
[null,null,null,null,"",null,"",null,null,"",null,null,null,null,null,null,null,"",null,null,null,null,null,null,null,"",null,null,null,null,null,null,null,null,"",null,null,null,null,null,53,null,null,null,null,null,null,null,null,null,null,0,null,null,null,null,null,0]
[null,null,null,null,"",null,"",null,null,"",null,null,null,null,null,null,null,"",null,null,null,null,null,null,null,"",null,null,null,null,null,null,null,null,"",null,null,null,null,null,54,null,null,null,null,null,null,null,null,null,null,0,null,null,null,null,null,0]
[null,null,null,null,null,null,null,null,null,null,null,null,null,null,null,null,null,null,null,null,null,null,null,null,null,null,null,null,null,null,null,null,null,null,null,null,null,null,null,null,null,null,null,null,null,null,null,null,null,null,null,null,null,null,null,null,null,1]
[null,null,null,"7.2 BCP発動基準",null,null,null,null,null,null,null,null,null,null,null,null,null,null,null,null,null,null,null,null,null,null,null,null,null,null,null,null,null,null,null,null,null,null,null,null,null,null,null,null,null,null,null,null,null,null,null,null,null,null,null,null,null,1]
[null,null,null,null,"BCP体制を発動する基準となる警戒レベルを設定してください。",null,null,null,null,null,null,null,null,null,null,null,null,null,null,null,null,null,null,null,null,null,null,null,null,null,null,null,null,null,null,null,null,null,null,null,null,null,null,null,null,null,null,null,null,null,null,null,null,null,null,null,null,1]
[null,null,null,null,null,null,null,null,null,null,null,null,null,null,null,null,null,null,null,null,null,null,null,null,null,null,null,null,null,null,null,null,null,null,null,null,null,null,null,null,null,null,null,null,null,null,null,null,null,null,null,null,null,null,null,null,null,1]
[null,null,null,null,null,"気象庁",null,"によって、",null,"警戒レベル3",null,null,null,{"$f":"IF(TLレベル=\"警戒レベル2\",AP659,AQ659)","v":"　相当以上が発令された場合、本計画に従ってBCP体制を発動する。"},null,null,null,null,null,null,null,null,null,null,null,null,null,null,null,null,null,null,null,null,null,null,null,null,null,null,null,"（相当）以上が発令された場合、本計画に従ってBCP体制を発動する。","　相当以上が発令された場合、本計画に従ってBCP体制を発動する。",null,null,null,null,null,null,null,null,null,null,null,null,null,null,1]
[null,null,null,null,null,{"$f":"IF(J659=\"警戒レベル2\",AP660,IF(J659=\"警戒レベル3\",AP661,AP662)&\"\")","v":"※ 警戒レベル3 相当は大雨警報（土砂災害）や洪水警報、氾濫警戒情報等が出され、自治体からは 「高齢者等避難」 が\n　　発令される段階です。"},null,null,null,null,null,null,null,null,null,null,null,null,null,null,null,null,null,null,null,null,null,null,null,null,null,null,null,null,null,null,null,null,null,null,null,"※ 警戒レベル2（相当）は、大雨注意報や洪水注意報、氾濫注意情報などが発表され、気象情報への関心を高めるべき\n　　段階です。",null,null,null,null,null,null,null,null,null,null,null,null,null,null,null,1]
[null,null,null,null,null,"※気象警報・注意報等の発令状況は、気象庁の「気象警報・注意報」を参照してください。（QRコード⑥）\n※警戒レベルについての詳細は気象庁の「防災気象情報と警戒レベルとの対応について」を参照してください。\n （QRコード⑦）",null,null,null,null,null,null,null,null,null,null,null,null,null,null,null,null,null,null,null,null,null,null,null,null,null,null,null,null,null,null,null,null,null,null,null,"※ 警戒レベル3 相当は大雨警報（土砂災害）や洪水警報、氾濫警戒情報等が出され、自治体からは 「高齢者等避難」 が\n　　発令される段階です。",null,null,null,null,null,null,null,null,null,null,null,null,null,null,null,1]
[null,null,null,null,null,null,null,null,null,null,null,null,null,null,null,null,null,null,null,null,null,null,null,null,null,null,null,null,null,null,null,null,null,null,null,null,null,null,null,null,null,"※ 警戒レベル4 相当は、土砂災害警戒情報や氾濫危険情報等が出され、自治体からは 「避難指示」 が発令される\n　  段階です。",null,null,null,null,null,null,null,null,null,null,null,null,null,null,null,1]
[null,null,null,null,null,null,null,null,null,null,null,null,null,null,null,null,null,null,null,null,null,null,null,null,null,null,null,null,null,null,null,null,null,null,null,null,null,null,null,null,null,null,null,null,null,null,null,null,null,null,null,null,null,null,null,null,null,1]
[null,null,null,null,null,null,null,null,null,null,null,null,null,null,null,null,null,null,null,null,null,null,null,null,null,null,null,null,null,null,null,null,null,null,null,null,null,null,null,null,null,null,null,null,null,null,null,null,null,null,null,null,null,null,null,null,null,1]
[null,null,null,null,null,null,null,null,null,null,null,null,null,null,null,null,null,null,null,null,null,null,null,null,null,null,null,null,null,null,null,null,null,null,null,null,null,null,null,null,null,null,null,null,null,null,null,null,null,null,null,null,null,null,null,null,null,1]
[null,null,null,null,null,null,null,null,null,null,null,null,null,null,null,null,null,null,null,null,null,null,null,null,null,null,null,null,null,null,null,null,null,null,null,null,null,null,null,null,null,null,null,null,null,null,null,null,null,null,null,null,null,null,null,null,null,1]
[null,null,null,"8. BCPの定着・見直し",null,null,null,null,null,null,null,null,null,null,null,null,null,null,null,null,null,null,null,null,null,null,null,null,null,null,null,null,null,null,null,null,null,null,null,"⑧",null,null,null,null,null,null,null,null,null,null,null,null,null,null,null,null,null,1]
[null,null,null,"8.1 水防災タイムライン",null,null,null,null,null,null,null,null,null,null,null,null,null,null,null,null,null,null,null,null,null,null,null,null,null,null,null,null,null,null,null,null,null,null,null,null,null,null,null,null,null,null,null,null,null,null,null,null,null,null,null,null,null,1]
[null,null,null,null,null,null,null,null,null,null,null,null,null,null,null,null,null,null,null,null,null,null,null,null,null,null,null,null,null,null,null,null,null,null,null,null,null,null,null,null,null,null,null,null,null,null,null,null,null,null,null,null,null,null,null,null,null,1]
[null,null,null,null,"6.1 対策の検討 で記入した「具体的な対策内容」が転記されます。",null,null,null,null,null,null,null,null,null,null,null,null,null,null,null,null,null,null,null,null,null,null,null,null,null,null,null,null,null,null,null,null,null,null,null,null,null,null,null,null,null,null,null,null,null,null,null,null,null,null,null,null,1]
[null,null,null,null,"（転記された「具体的な対策内容」は、7.2 BCP発動基準 で選択した警戒レベルで行うものとして整理しています）",null,null,null,null,null,null,null,null,null,null,null,null,null,null,null,null,null,null,null,null,null,null,null,null,null,null,null,null,null,null,null,null,null,null,null,null,null,null,null,null,null,null,null,null,null,null,null,null,null,null,null,null,1]
[null,null,null,null,null,null,"現在、浸水対策を行う時間は",null,null,null,null,null,null,{"$f":"IF(AO672<0,0-AO672&\"分超過\",\"確保されています\")","v":"確保されています"},null,null,null,null,null,{"$f":"IF(N672=\"確保されています\",\"※ 気象条件等により異なります\",\"\")","v":"※ 気象条件等により異なります"},null,null,null,null,null,null,null,null,null,null,null,null,null,null,null,null,null,null,null,null,{"$f":"W592","v":15},null,null,{"$f":"IF(AR675>0,\"\",\"\")","v":""},null,null,null,null,null,null,null,null,null,null,null,null,null,1]
[null,null,null,null,null,"上記で、浸水対策時間を超過している場合（超過していない場合は表示されません）",null,null,null,null,null,null,null,null,null,null,null,null,null,null,null,null,null,null,null,null,null,null,null,null,null,null,null,null,null,null,null,null,null,null,null,null,"他","A","B","C","D","E","F","G","H","I","J",null,null,null,null,1]
[null,null,null,null,null,"6.2 水災害発生直前の対策 で記入した 「対応時間」 の短縮を検討してください。",null,null,null,null,null,null,null,null,null,null,null,null,null,null,null,null,null,null,null,null,null,null,null,null,null,null,null,null,null,null,null,null,null,null,null,{"$f":"AQ674+SUMIFS(AR674:BA674,AR675:BA675,\"<>0\")","v":0},{"$f":"SUMIFS(X683:X736,AE683:AE736,\"\",BF683:BF736,1,LVdef,\"<>\"&AO677)","v":0},{"$f":"MAX(IF($AE$683:$AE$736=AR$673,$X$683:$X$736,\"\"))","v":30},{"$f":"MAX(IF($AE$683:$AE$736=AS$673,$X$683:$X$736,\"\"))","v":0},{"$f":"MAX(IF($AE$683:$AE$736=AT$673,$X$683:$X$736,\"\"))","v":0},{"$f":"MAX(IF($AE$683:$AE$736=AU$673,$X$683:$X$736,\"\"))","v":0},{"$f":"MAX(IF($AE$683:$AE$736=AV$673,$X$683:$X$736,\"\"))","v":0},{"$f":"MAX(IF($AE$683:$AE$736=AW$673,$X$683:$X$736,\"\"))","v":0},{"$f":"MAX(IF($AE$683:$AE$736=AX$673,$X$683:$X$736,\"\"))","v":0},{"$f":"MAX(IF($AE$683:$AE$736=AY$673,$X$683:$X$736,\"\"))","v":0},{"$f":"MAX(IF($AE$683:$AE$736=AZ$673,$X$683:$X$736,\"\"))","v":0},{"$f":"MAX(IF($AE$683:$AE$736=BA$673,$X$683:$X$736,\"\"))","v":0},null,null,null,null,1]
[null,null,null,null,null,"時間の短縮が難しい場合は、「具体的な対策内容」 を実施するタイミングを変更することにより、時間内に浸水対策を終えられるよう調整してください。",null,null,null,null,null,null,null,null,null,null,null,null,null,null,null,null,null,null,null,null,null,null,null,null,null,null,null,null,null,null,null,null,null,null,null,null,null,{"$f":"COUNTIFS($AR$683:$AR$736,\"×\",$AE$683:$AE$736,AR673)","v":0},{"$f":"COUNTIFS($AR$683:$AR$736,\"×\",$AE$683:$AE$736,AS673)","v":0},0,0,0,0,0,0,0,0,null,null,null,null,1]
[null,null,null,null,null,null,"例）「レベル3」 の活動内容を 「レベル2」 に変更する（プルダウンリストより変更可）",null,null,null,null,null,null,null,null,null,null,null,null,null,null,null,null,null,null,null,null,null,null,null,null,null,null,null,null,null,null,null,null,null,null,null,null,null,"警戒レベル2","Lv.2",null,null,null,null,null,null,null,null,null,null,null,1]
[null,null,null,null,null,null,null,null,null,null,null,null,null,null,null,null,null,null,null,null,null,null,null,null,null,null,null,null,null,null,null,null,null,null,null,null,null,null,null,null,{"$f":"VLOOKUP(F678,AS676:AT678,2,FALSE)","v":"Lv.3"},null,null,null,"警戒レベル3","Lv.3",null,null,null,null,null,null,null,null,null,null,null,1]
[null,null,null,null,null,{"$f":"J659","v":"警戒レベル3"},null,null,null,{"$f":"IF(F678=\"警戒レベル2\",\"(相当)\",\"相当\")","v":"相当"},null,{"$f":"VLOOKUP(F678,参照シート!N2:O5,2,FALSE)","v":"警戒体制確立"},null,null,null,null,null,null,null,null,null,null,null,null,null,null,null,null,null,null,null,null,{"$f":"IF(AO672>=0,\"\",IF(0-AO672<AP674,\"\",0-AO672-AP674&\"分超過\"))","v":""},null,null,null,null,null,null,null,null,null,null,null,"警戒レベル4","Lv.4",null,null,null,null,null,null,null,null,null,null,null,1]
[null,null,null,null,null,null,null,null,null,null,null,null,null,null,null,null,null,null,null,null,null,null,null,null,null,null,null,null,null,null,null,null,null,null,null,null,null,null,null,null,null,null,null,null,"平常時","Lv.2","Lv.3","Lv.4","避難後",null,null,null,null,null,null,null,null,1]
[null,null,null,null,null,"①体制確立の判断時期",null,null,null,null,null,"②活動内容",null,null,null,null,null,null,null,null,null,"レベル",null,"所要時間",null,"③対応班",null,null,null,null,"グループ記号",null,null,null,null,null,null,null,null,null,null,null,null,null,null,null,null,null,null,null,null,null,null,null,null,null,null,{"$f":"IF($F$678=\"警戒レベル2\",1,0)","v":0}]
[null,null,null,null,null,"①体制確立の判断時期",null,null,null,null,null,"②活動内容",null,null,null,null,null,null,null,null,null,"レベル",null,"所要時間",null,"③対応班",null,null,null,null,"グループ記号",null,null,null,null,null,null,null,null,null,null,null,null,null,null,null,null,null,null,null,null,null,null,null,null,null,null,{"$f":"IF($F$678=\"警戒レベル3\",1,0)","v":1}]
[null,null,null,null,null,"①体制確立の判断時期",null,null,null,null,null,"②活動内容",null,null,null,null,null,null,null,null,null,"レベル",null,"所要時間",null,"③対応班",null,null,null,null,"グループ記号",null,null,null,null,null,null,null,null,null,null,null,null,null,null,null,null,null,null,null,null,null,null,null,null,null,null,{"$f":"IF($F$678=\"警戒レベル4\",1,0)","v":0}]
[null,null,null,null,null,null,null,null,null,null,null,{"$f":"R525&\"\"","v":"発電機を購入する"},null,null,null,null,null,null,null,null,null,"Lv.3",null,{"$f":"IF(AC525=\"\",\"\",AC525)","v":""},null,{"$f":"Z525&\"\"","v":""},null,null,null,null,{"$f":"AI525&\"\"","v":""},null,null,null,null,null,null,null,null,null,null,null,null,{"$f":"IF(V683<>$AO$677,\"×\",\"\")","v":""},null,null,null,null,null,null,null,{"$f":"AZ525","v":1},null,null,8.1,null,null,{"$f":"IF(AP465=TRUE,1,0)","v":0}]
[null,null,null,null,null,null,null,null,null,null,null,"必要な水を高台にある営業所に備蓄する",null,null,null,null,null,null,null,null,null,"Lv.3",null,"",null,"",null,null,null,null,"",null,null,null,null,null,null,null,null,null,null,null,null,{"$f":"IF(V684<>$AO$677,\"×\",\"\")","v":""},null,null,null,null,null,null,null,2,null,null,null,null,null,0]
[null,null,null,null,null,null,null,null,null,null,null,"",null,null,null,null,null,null,null,null,null,"Lv.3",null,"",null,"",null,null,null,null,"",null,null,null,null,null,null,null,null,null,null,null,null,"",null,null,null,null,null,null,null,3,null,null,null,null,null,0]
[null,null,null,null,null,null,null,null,null,null,null,"",null,null,null,null,null,null,null,null,null,"Lv.3",null,"",null,"",null,null,null,null,"",null,null,null,null,null,null,null,null,null,null,null,null,"",null,null,null,null,null,null,null,0,null,null,null,null,null,0]
[null,null,null,null,null,null,null,null,null,null,null,"",null,null,null,null,null,null,null,null,null,"Lv.3",null,"",null,"",null,null,null,null,"",null,null,null,null,null,null,null,null,null,null,null,null,"",null,null,null,null,null,null,null,0,null,null,null,null,null,0]
[null,null,null,null,null,null,null,null,null,null,null,"",null,null,null,null,null,null,null,null,null,"Lv.3",null,"",null,"",null,null,null,null,"",null,null,null,null,null,null,null,null,null,null,null,null,"",null,null,null,null,null,null,null,0,null,null,null,null,null,0]
[null,null,null,null,null,null,null,null,null,null,null,"通行規制が予期される場合、本社ではなく、高台営業所に参集するよう連絡する",null,null,null,null,null,null,null,null,null,"Lv.3",null,5,null,"避難誘導班",null,null,null,null,"",null,null,null,null,null,null,null,null,null,null,null,null,"",null,null,null,null,null,null,null,4,null,null,null,null,null,1]
[null,null,null,null,null,null,null,null,null,null,null,"従業員のクロストレーニングを実施する",null,null,null,null,null,null,null,null,null,"Lv.3",null,"",null,"",null,null,null,null,"",null,null,null,null,null,null,null,null,null,null,null,null,"",null,null,null,null,null,null,null,5,null,null,null,null,null,0]
[null,null,null,null,null,null,null,null,null,null,null,"",null,null,null,null,null,null,null,null,null,"Lv.3",null,"",null,"",null,null,null,null,"",null,null,null,null,null,null,null,null,null,null,null,null,"",null,null,null,null,null,null,null,0,null,null,null,null,null,0]
[null,null,null,null,null,null,null,null,null,null,null,"",null,null,null,null,null,null,null,null,null,"Lv.3",null,"",null,"",null,null,null,null,"",null,null,null,null,null,null,null,null,null,null,null,null,"",null,null,null,null,null,null,null,6,null,null,null,null,null,0]
[null,null,null,null,null,null,null,null,null,null,null,"",null,null,null,null,null,null,null,null,null,"Lv.3",null,"",null,"",null,null,null,null,"",null,null,null,null,null,null,null,null,null,null,null,null,"",null,null,null,null,null,null,null,0,null,null,null,null,null,0]
[null,null,null,null,null,null,null,null,null,null,null,"",null,null,null,null,null,null,null,null,null,"Lv.3",null,"",null,"",null,null,null,null,"",null,null,null,null,null,null,null,null,null,null,null,null,"",null,null,null,null,null,null,null,0,null,null,null,null,null,0]
[null,null,null,null,null,null,null,null,null,null,null,"トラックを本社から高台営業所に移動させる",null,null,null,null,null,null,null,null,null,"Lv.3",null,30,null,"復旧対策班",null,null,null,null,"A",null,null,null,null,null,null,null,null,null,null,null,null,"",null,null,null,null,null,null,null,7,null,null,null,null,null,1]
[null,null,null,null,null,null,null,null,null,null,null,"",null,null,null,null,null,null,null,null,null,"Lv.3",null,"",null,"",null,null,null,null,"",null,null,null,null,null,null,null,null,null,null,null,null,"",null,null,null,null,null,null,null,0,null,null,null,null,null,0]
[null,null,null,null,null,null,null,null,null,null,null,"",null,null,null,null,null,null,null,null,null,"Lv.3",null,"",null,"",null,null,null,null,"",null,null,null,null,null,null,null,null,null,null,null,null,"",null,null,null,null,null,null,null,0,null,null,null,null,null,0]
[null,null,null,null,null,null,null,null,null,null,null,"",null,null,null,null,null,null,null,null,null,"Lv.3",null,"",null,"",null,null,null,null,"",null,null,null,null,null,null,null,null,null,null,null,null,"",null,null,null,null,null,null,null,0,null,null,null,null,null,0]
[null,null,null,null,null,null,null,null,null,null,null,"トラックとともに、本社から高台営業所に移動させる",null,null,null,null,null,null,null,null,null,"Lv.3",null,30,null,"復旧対策班",null,null,null,null,"A",null,null,null,null,null,null,null,null,null,null,null,null,"",null,null,null,null,null,null,null,8,null,null,null,null,null,1]
[null,null,null,null,null,null,null,null,null,null,null,"小分けした薬品を鍵のかかる棚（2階以上）に移動させる",null,null,null,null,null,null,null,null,null,"Lv.3",null,30,null,"復旧対策班",null,null,null,null,"",null,null,null,null,null,null,null,null,null,null,null,null,{"$f":"IF(V700<>$AO$677,\"×\",\"\")","v":""},null,null,null,null,null,null,null,9,null,null,null,null,null,1]
[null,null,null,null,null,null,null,null,null,null,null,"",null,null,null,null,null,null,null,null,null,"Lv.3",null,"",null,"",null,null,null,null,"",null,null,null,null,null,null,null,null,null,null,null,null,"",null,null,null,null,null,null,null,0,null,null,null,null,null,0]
[null,null,null,null,null,null,null,null,null,null,null,"",null,null,null,null,null,null,null,null,null,"Lv.3",null,"",null,"",null,null,null,null,"",null,null,null,null,null,null,null,null,null,null,null,null,"",null,null,null,null,null,null,null,0,null,null,null,null,null,0]
[null,null,null,null,null,null,null,null,null,null,null,"避難時にノートPCを持参する",null,null,null,null,null,null,null,null,null,"Lv.3",null,5,null,"システム班",null,null,null,null,"A",null,null,null,null,null,null,null,null,null,null,null,null,"",null,null,null,null,null,null,null,10,null,null,null,null,null,1]
[null,null,null,null,null,null,null,null,null,null,null,"",null,null,null,null,null,null,null,null,null,"Lv.3",null,"",null,"",null,null,null,null,"",null,null,null,null,null,null,null,null,null,null,null,null,"",null,null,null,null,null,null,null,0,null,null,null,null,null,0]
[null,null,null,null,null,null,null,null,null,null,null,"顧客情報をクラウド上に保存しておく",null,null,null,null,null,null,null,null,null,"Lv.3",null,"",null,"",null,null,null,null,"",null,null,null,null,null,null,null,null,null,null,null,null,"",null,null,null,null,null,null,null,11,null,null,null,null,null,0]
[null,null,null,null,null,null,null,null,null,null,null,"",null,null,null,null,null,null,null,null,null,"Lv.3",null,"",null,"",null,null,null,null,"",null,null,null,null,null,null,null,null,null,null,null,null,"",null,null,null,null,null,null,null,0,null,null,null,null,null,0]
[null,null,null,null,null,null,null,null,null,null,null,"",null,null,null,null,null,null,null,null,null,"Lv.3",null,"",null,"",null,null,null,null,"",null,null,null,null,null,null,null,null,null,null,null,null,"",null,null,null,null,null,null,null,0,null,null,null,null,null,0]
[null,null,null,null,null,null,null,null,null,null,null,"",null,null,null,null,null,null,null,null,null,"Lv.3",null,"",null,"",null,null,null,null,"",null,null,null,null,null,null,null,null,null,null,null,null,"",null,null,null,null,null,null,null,0,null,null,null,null,null,0]
[null,null,null,null,null,null,null,null,null,null,null,"",null,null,null,null,null,null,null,null,null,"Lv.3",null,"",null,"",null,null,null,null,"",null,null,null,null,null,null,null,null,null,null,null,null,"",null,null,null,null,null,null,null,0,null,null,null,null,null,0]
[null,null,null,null,null,null,null,null,null,null,null,"",null,null,null,null,null,null,null,null,null,"Lv.3",null,"",null,"",null,null,null,null,"",null,null,null,null,null,null,null,null,null,null,null,null,"",null,null,null,null,null,null,null,0,null,null,null,null,null,0]
[null,null,null,null,null,null,null,null,null,null,null,"",null,null,null,null,null,null,null,null,null,"Lv.3",null,"",null,"",null,null,null,null,"",null,null,null,null,null,null,null,null,null,null,null,null,"",null,null,null,null,null,null,null,0,null,null,null,null,null,0]
[null,null,null,null,null,null,null,null,null,null,null,"",null,null,null,null,null,null,null,null,null,"Lv.3",null,"",null,"",null,null,null,null,"",null,null,null,null,null,null,null,null,null,null,null,null,"",null,null,null,null,null,null,null,0,null,null,null,null,null,0]
[null,null,null,null,null,null,null,null,null,null,null,"",null,null,null,null,null,null,null,null,null,"Lv.3",null,"",null,"",null,null,null,null,"",null,null,null,null,null,null,null,null,null,null,null,null,"",null,null,null,null,null,null,null,0,null,null,null,null,null,0]
[null,null,null,null,null,null,null,null,null,null,null,"",null,null,null,null,null,null,null,null,null,"Lv.3",null,"",null,"",null,null,null,null,"",null,null,null,null,null,null,null,null,null,null,null,null,"",null,null,null,null,null,null,null,0,null,null,null,null,null,0]
[null,null,null,null,null,null,null,null,null,null,null,{"$f":"R557&\"\"","v":""},null,null,null,null,null,null,null,null,null,"Lv.3",null,{"$f":"IF(AC557=\"\",\"\",AC557)","v":""},null,{"$f":"Z557&\"\"","v":""},null,null,null,null,{"$f":"AI557&\"\"","v":""},null,null,null,null,null,null,null,null,null,null,null,null,"",null,null,null,null,null,null,null,{"$f":"AZ557","v":0},null,null,null,null,null,{"$f":"IF(AP497=TRUE,1,0)","v":0}]
[null,null,null,null,null,null,null,null,null,null,null,"",null,null,null,null,null,null,null,null,null,"Lv.3",null,"",null,"",null,null,null,null,"",null,null,null,null,null,null,null,null,null,null,null,null,"",null,null,null,null,null,null,null,0,null,null,null,null,null,0]
[null,null,null,null,null,null,null,null,null,null,null,"",null,null,null,null,null,null,null,null,null,"Lv.3",null,"",null,"",null,null,null,null,"",null,null,null,null,null,null,null,null,null,null,null,null,"",null,null,null,null,null,null,null,0,null,null,null,null,null,0]
[null,null,null,null,null,null,null,null,null,null,null,"",null,null,null,null,null,null,null,null,null,"Lv.3",null,"",null,"",null,null,null,null,"",null,null,null,null,null,null,null,null,null,null,null,null,"",null,null,null,null,null,null,null,0,null,null,null,null,null,0]
[null,null,null,null,null,null,null,null,null,null,null,"",null,null,null,null,null,null,null,null,null,"Lv.3",null,"",null,"",null,null,null,null,"",null,null,null,null,null,null,null,null,null,null,null,null,"",null,null,null,null,null,null,null,0,null,null,null,null,null,0]
[null,null,null,null,null,null,null,null,null,null,null,"",null,null,null,null,null,null,null,null,null,"Lv.3",null,"",null,"",null,null,null,null,"",null,null,null,null,null,null,null,null,null,null,null,null,"",null,null,null,null,null,null,null,0,null,null,null,null,null,0]
[null,null,null,null,null,null,null,null,null,null,null,"",null,null,null,null,null,null,null,null,null,"Lv.3",null,"",null,"",null,null,null,null,"",null,null,null,null,null,null,null,null,null,null,null,null,"",null,null,null,null,null,null,null,0,null,null,null,null,null,0]
[null,null,null,null,null,null,null,null,null,null,null,"",null,null,null,null,null,null,null,null,null,"Lv.3",null,"",null,"",null,null,null,null,"",null,null,null,null,null,null,null,null,null,null,null,null,"",null,null,null,null,null,null,null,0,null,null,null,null,null,0]
[null,null,null,null,null,null,null,null,null,null,null,"",null,null,null,null,null,null,null,null,null,"Lv.3",null,"",null,"",null,null,null,null,"",null,null,null,null,null,null,null,null,null,null,null,null,"",null,null,null,null,null,null,null,0,null,null,null,null,null,0]
[null,null,null,null,null,null,null,null,null,null,null,"",null,null,null,null,null,null,null,null,null,"Lv.3",null,"",null,"",null,null,null,null,"",null,null,null,null,null,null,null,null,null,null,null,null,"",null,null,null,null,null,null,null,0,null,null,null,null,null,0]
[null,null,null,null,null,null,null,null,null,null,null,"",null,null,null,null,null,null,null,null,null,"Lv.3",null,"",null,"",null,null,null,null,"",null,null,null,null,null,null,null,null,null,null,null,null,"",null,null,null,null,null,null,null,0,null,null,null,null,null,0]
[null,null,null,null,null,null,null,null,null,null,null,"",null,null,null,null,null,null,null,null,null,"Lv.3",null,"",null,"",null,null,null,null,"",null,null,null,null,null,null,null,null,null,null,null,null,"",null,null,null,null,null,null,null,0,null,null,null,null,null,0]
[null,null,null,null,null,null,null,null,null,null,null,"",null,null,null,null,null,null,null,null,null,"Lv.3",null,"",null,"",null,null,null,null,"",null,null,null,null,null,null,null,null,null,null,null,null,"",null,null,null,null,null,null,null,0,null,null,null,null,null,0]
[null,null,null,null,null,null,null,null,null,null,null,"",null,null,null,null,null,null,null,null,null,"Lv.3",null,"",null,"",null,null,null,null,"",null,null,null,null,null,null,null,null,null,null,null,null,"",null,null,null,null,null,null,null,0,null,null,null,null,null,0]
[null,null,null,null,null,null,null,null,null,null,null,"",null,null,null,null,null,null,null,null,null,"Lv.3",null,"",null,"",null,null,null,null,"",null,null,null,null,null,null,null,null,null,null,null,null,"",null,null,null,null,null,null,null,0,null,null,null,null,null,0]
[null,null,null,null,null,null,null,null,null,null,null,"",null,null,null,null,null,null,null,null,null,"Lv.3",null,"",null,"",null,null,null,null,"",null,null,null,null,null,null,null,null,null,null,null,null,"",null,null,null,null,null,null,null,0,null,null,null,null,null,0]
[null,null,null,null,null,null,null,null,null,null,null,"",null,null,null,null,null,null,null,null,null,"Lv.3",null,"",null,"",null,null,null,null,"",null,null,null,null,null,null,null,null,null,null,null,null,"",null,null,null,null,null,null,null,0,null,null,null,null,null,0]
[null,null,null,null,null,null,null,null,null,null,null,"",null,null,null,null,null,null,null,null,null,"Lv.3",null,"",null,"",null,null,null,null,"",null,null,null,null,null,null,null,null,null,null,null,null,"",null,null,null,null,null,null,null,0,null,null,null,null,null,0]
[null,null,null,null,null,null,null,null,null,null,null,"",null,null,null,null,null,null,null,null,null,"Lv.3",null,"",null,"",null,null,null,null,"",null,null,null,null,null,null,null,null,null,null,null,null,"",null,null,null,null,null,null,null,0,null,null,null,null,null,0]
[null,null,null,null,null,null,null,null,null,null,null,"",null,null,null,null,null,null,null,null,null,"Lv.3",null,"",null,"",null,null,null,null,"",null,null,null,null,null,null,null,null,null,null,null,null,"",null,null,null,null,null,null,null,0,null,null,null,null,null,0]
[null,null,null,null,null,null,null,null,null,null,null,"",null,null,null,null,null,null,null,null,null,"Lv.3",null,"",null,"",null,null,null,null,"",null,null,null,null,null,null,null,null,null,null,null,null,"",null,null,null,null,null,null,null,0,null,null,null,null,null,0]
[null,null,null,null,null,null,null,null,null,null,null,"",null,null,null,null,null,null,null,null,null,"Lv.3",null,"",null,"",null,null,null,null,"",null,null,null,null,null,null,null,null,null,null,null,null,"",null,null,null,null,null,null,null,0,null,null,null,null,null,0]
[null,null,null,null,null,null,null,null,null,null,null,null,null,null,null,null,null,null,null,null,null,null,null,null,null,null,null,null,null,null,null,null,null,null,null,null,null,null,null,null,null,null,null,null,0,null,null,null,null,null,null,{"$f":"IF(L737=\"\",\"\",L737&IF(X737=\"\",\"\",\"(\"&X737&IF(ISNUMBER(X737)=TRUE,\"分\",\"\")&\")\"))","v":""},null,null,null,null,null,{"$f":"IF(SUM($BF$683:$BF$736)>=5,0,IF(AS737<5-SUM($BF$683:$BF$736),1,0))","v":0}]
[null,null,null,null,null,null,null,null,null,null,null,null,null,null,null,null,null,null,null,null,null,null,null,null,null,null,null,null,null,null,null,null,null,null,null,null,null,null,null,null,null,null,null,null,1,null,null,null,null,null,null,"",null,null,null,null,null,{"$f":"IF(SUM($BF$683:$BF$736)>=5,0,IF(AS738<5-SUM($BF$683:$BF$736),1,0))","v":0}]
[null,null,null,null,null,null,null,null,null,null,null,null,null,null,null,null,null,null,null,null,null,null,null,null,null,null,null,null,null,null,null,null,null,null,null,null,null,null,null,null,null,null,null,null,2,null,null,null,null,null,null,"",null,null,null,null,null,{"$f":"IF(SUM($BF$683:$BF$736)>=5,0,IF(AS739<5-SUM($BF$683:$BF$736),1,0))","v":0}]
[null,null,null,null,null,null,null,null,null,null,null,null,null,null,null,null,null,null,null,null,null,null,null,null,null,null,null,null,null,null,null,null,null,null,null,null,null,null,null,null,null,null,null,null,3,null,null,null,null,null,null,"",null,null,null,null,null,{"$f":"IF(SUM($BF$683:$BF$736)>=5,0,IF(AS740<5-SUM($BF$683:$BF$736),1,0))","v":0}]
[null,null,null,null,null,null,null,null,null,null,null,null,null,null,null,null,null,null,null,null,null,null,null,null,null,null,null,null,null,null,null,null,null,null,null,null,null,null,null,null,null,null,null,null,4,null,null,null,null,null,null,"",null,null,null,null,null,{"$f":"IF(SUM($BF$683:$BF$736)>=5,0,IF(AS741<5-SUM($BF$683:$BF$736),1,0))","v":0}]
[null,null,null,null,null,null,null,null,null,null,null,null,null,null,null,null,null,null,null,null,null,null,null,null,null,null,null,null,null,null,null,null,null,null,null,null,null,null,null,null,null,null,null,null,null,null,null,null,null,null,null,null,null,null,null,null,null,1]
[null,null,null,null,null,{"$f":"IF(COUNTIF(AQ465:AQ518,\"TRUE\")>0,\"避難後\",\"\")","v":""},null,null,null,null,"復旧体制",null,null,null,null,null,null,null,null,null,null,null,null,null,null,null,null,null,null,null,null,null,null,null,null,null,null,null,null,null,null,null,null,null,null,null,null,null,null,null,null,null,null,null,null,null,null,{"$f":"IF($F$743=\"\",0,1)","v":0}]
[null,null,null,null,null,null,null,null,null,null,null,null,null,null,null,null,null,null,null,null,null,null,null,null,null,null,null,null,null,null,null,null,null,null,null,null,null,null,null,null,null,null,null,null,null,null,null,null,null,null,null,null,null,null,null,null,null,{"$f":"IF($F$743=\"\",0,1)","v":0}]
[null,null,null,null,null,"①体制確立の判断時期",null,null,null,null,null,"②活動内容",null,null,null,null,null,null,null,null,null,"レベル",null,"所要時間",null,"③対応班",null,null,null,null,null,null,null,null,null,null,null,null,null,null,null,null,null,null,null,null,null,null,null,null,null,null,null,null,8.1199999999999992,null,null,{"$f":"IF($F$743=\"\",0,1)","v":0}]
[null,null,null,null,null,null,null,null,null,null,null,{"$f":"L683&\"\"","v":"発電機を購入する"},null,null,null,null,null,null,null,null,null,"避難後",null,null,null,{"$f":"Z683&\"\"","v":""},null,null,null,null,null,null,null,null,null,null,null,null,null,null,null,null,null,null,1,null,null,null,null,null,null,{"$f":"AZ683","v":1},null,null,null,null,null,{"$f":"IF(AND(AQ465=TRUE,L746<>\"\"),1,0)","v":0}]
[null,null,null,null,null,null,null,null,null,null,null,"必要な水を高台にある営業所に備蓄する",null,null,null,null,null,null,null,null,null,"避難後",null,null,null,"",null,null,null,null,null,null,null,null,null,null,null,null,null,null,null,null,null,null,2,null,null,null,null,null,null,2,null,null,null,null,null,0]
[null,null,null,null,null,null,null,null,null,null,null,"",null,null,null,null,null,null,null,null,null,"避難後",null,null,null,"",null,null,null,null,null,null,null,null,null,null,null,null,null,null,null,null,null,null,3,null,null,null,null,null,null,3,null,null,null,null,null,0]
[null,null,null,null,null,null,null,null,null,null,null,"",null,null,null,null,null,null,null,null,null,"避難後",null,null,null,"",null,null,null,null,null,null,null,null,null,null,null,null,null,null,null,null,null,null,4,null,null,null,null,null,null,0,null,null,null,null,null,0]
[null,null,null,null,null,null,null,null,null,null,null,"",null,null,null,null,null,null,null,null,null,"避難後",null,null,null,"",null,null,null,null,null,null,null,null,null,null,null,null,null,null,null,null,null,null,5,null,null,null,null,null,null,0,null,null,null,null,null,0]
[null,null,null,null,null,null,null,null,null,null,null,"",null,null,null,null,null,null,null,null,null,"避難後",null,null,null,"",null,null,null,null,null,null,null,null,null,null,null,null,null,null,null,null,null,null,6,null,null,null,null,null,null,0,null,null,null,null,null,0]
[null,null,null,null,null,null,null,null,null,null,null,"通行規制が予期される場合、本社ではなく、高台営業所に参集するよう連絡する",null,null,null,null,null,null,null,null,null,"避難後",null,null,null,"避難誘導班",null,null,null,null,null,null,null,null,null,null,null,null,null,null,null,null,null,null,7,null,null,null,null,null,null,4,null,null,null,null,null,0]
[null,null,null,null,null,null,null,null,null,null,null,"従業員のクロストレーニングを実施する",null,null,null,null,null,null,null,null,null,"避難後",null,null,null,"",null,null,null,null,null,null,null,null,null,null,null,null,null,null,null,null,null,null,8,null,null,null,null,null,null,5,null,null,null,null,null,0]
[null,null,null,null,null,null,null,null,null,null,null,"",null,null,null,null,null,null,null,null,null,"避難後",null,null,null,"",null,null,null,null,null,null,null,null,null,null,null,null,null,null,null,null,null,null,9,null,null,null,null,null,null,0,null,null,null,null,null,0]
[null,null,null,null,null,null,null,null,null,null,null,"",null,null,null,null,null,null,null,null,null,"避難後",null,null,null,"",null,null,null,null,null,null,null,null,null,null,null,null,null,null,null,null,null,null,10,null,null,null,null,null,null,6,null,null,null,null,null,0]
[null,null,null,null,null,null,null,null,null,null,null,"",null,null,null,null,null,null,null,null,null,"避難後",null,null,null,"",null,null,null,null,null,null,null,null,null,null,null,null,null,null,null,null,null,null,11,null,null,null,null,null,null,0,null,null,null,null,null,0]
[null,null,null,null,null,null,null,null,null,null,null,"",null,null,null,null,null,null,null,null,null,"避難後",null,null,null,"",null,null,null,null,null,null,null,null,null,null,null,null,null,null,null,null,null,null,12,null,null,null,null,null,null,0,null,null,null,null,null,0]
[null,null,null,null,null,null,null,null,null,null,null,"トラックを本社から高台営業所に移動させる",null,null,null,null,null,null,null,null,null,"避難後",null,null,null,"復旧対策班",null,null,null,null,null,null,null,null,null,null,null,null,null,null,null,null,null,null,13,null,null,null,null,null,null,7,null,null,null,null,null,0]
[null,null,null,null,null,null,null,null,null,null,null,"",null,null,null,null,null,null,null,null,null,"避難後",null,null,null,"",null,null,null,null,null,null,null,null,null,null,null,null,null,null,null,null,null,null,14,null,null,null,null,null,null,0,null,null,null,null,null,0]
[null,null,null,null,null,null,null,null,null,null,null,"",null,null,null,null,null,null,null,null,null,"避難後",null,null,null,"",null,null,null,null,null,null,null,null,null,null,null,null,null,null,null,null,null,null,15,null,null,null,null,null,null,0,null,null,null,null,null,0]
[null,null,null,null,null,null,null,null,null,null,null,"",null,null,null,null,null,null,null,null,null,"避難後",null,null,null,"",null,null,null,null,null,null,null,null,null,null,null,null,null,null,null,null,null,null,16,null,null,null,null,null,null,0,null,null,null,null,null,0]
[null,null,null,null,null,null,null,null,null,null,null,"トラックとともに、本社から高台営業所に移動させる",null,null,null,null,null,null,null,null,null,"避難後",null,null,null,"復旧対策班",null,null,null,null,null,null,null,null,null,null,null,null,null,null,null,null,null,null,17,null,null,null,null,null,null,8,null,null,null,null,null,0]
[null,null,null,null,null,null,null,null,null,null,null,"小分けした薬品を鍵のかかる棚（2階以上）に移動させる",null,null,null,null,null,null,null,null,null,"避難後",null,null,null,"復旧対策班",null,null,null,null,null,null,null,null,null,null,null,null,null,null,null,null,null,null,18,null,null,null,null,null,null,9,null,null,null,null,null,0]
[null,null,null,null,null,null,null,null,null,null,null,"",null,null,null,null,null,null,null,null,null,"避難後",null,null,null,"",null,null,null,null,null,null,null,null,null,null,null,null,null,null,null,null,null,null,19,null,null,null,null,null,null,0,null,null,null,null,null,0]
[null,null,null,null,null,null,null,null,null,null,null,"",null,null,null,null,null,null,null,null,null,"避難後",null,null,null,"",null,null,null,null,null,null,null,null,null,null,null,null,null,null,null,null,null,null,20,null,null,null,null,null,null,0,null,null,null,null,null,0]
[null,null,null,null,null,null,null,null,null,null,null,"避難時にノートPCを持参する",null,null,null,null,null,null,null,null,null,"避難後",null,null,null,"システム班",null,null,null,null,null,null,null,null,null,null,null,null,null,null,null,null,null,null,21,null,null,null,null,null,null,10,null,null,null,null,null,0]
[null,null,null,null,null,null,null,null,null,null,null,"",null,null,null,null,null,null,null,null,null,"避難後",null,null,null,"",null,null,null,null,null,null,null,null,null,null,null,null,null,null,null,null,null,null,22,null,null,null,null,null,null,0,null,null,null,null,null,0]
[null,null,null,null,null,null,null,null,null,null,null,"顧客情報をクラウド上に保存しておく",null,null,null,null,null,null,null,null,null,"避難後",null,null,null,"",null,null,null,null,null,null,null,null,null,null,null,null,null,null,null,null,null,null,23,null,null,null,null,null,null,11,null,null,null,null,null,0]
[null,null,null,null,null,null,null,null,null,null,null,"",null,null,null,null,null,null,null,null,null,"避難後",null,null,null,"",null,null,null,null,null,null,null,null,null,null,null,null,null,null,null,null,null,null,24,null,null,null,null,null,null,0,null,null,null,null,null,0]
[null,null,null,null,null,null,null,null,null,null,null,"",null,null,null,null,null,null,null,null,null,"避難後",null,null,null,"",null,null,null,null,null,null,null,null,null,null,null,null,null,null,null,null,null,null,25,null,null,null,null,null,null,0,null,null,null,null,null,0]
[null,null,null,null,null,null,null,null,null,null,null,"",null,null,null,null,null,null,null,null,null,"避難後",null,null,null,"",null,null,null,null,null,null,null,null,null,null,null,null,null,null,null,null,null,null,26,null,null,null,null,null,null,0,null,null,null,null,null,0]
[null,null,null,null,null,null,null,null,null,null,null,"",null,null,null,null,null,null,null,null,null,"避難後",null,null,null,"",null,null,null,null,null,null,null,null,null,null,null,null,null,null,null,null,null,null,27,null,null,null,null,null,null,0,null,null,null,null,null,0]
[null,null,null,null,null,null,null,null,null,null,null,"",null,null,null,null,null,null,null,null,null,"避難後",null,null,null,"",null,null,null,null,null,null,null,null,null,null,null,null,null,null,null,null,null,null,28,null,null,null,null,null,null,0,null,null,null,null,null,0]
[null,null,null,null,null,null,null,null,null,null,null,"",null,null,null,null,null,null,null,null,null,"避難後",null,null,null,"",null,null,null,null,null,null,null,null,null,null,null,null,null,null,null,null,null,null,29,null,null,null,null,null,null,0,null,null,null,null,null,0]
[null,null,null,null,null,null,null,null,null,null,null,"",null,null,null,null,null,null,null,null,null,"避難後",null,null,null,"",null,null,null,null,null,null,null,null,null,null,null,null,null,null,null,null,null,null,30,null,null,null,null,null,null,0,null,null,null,null,null,0]
[null,null,null,null,null,null,null,null,null,null,null,"",null,null,null,null,null,null,null,null,null,"避難後",null,null,null,"",null,null,null,null,null,null,null,null,null,null,null,null,null,null,null,null,null,null,31,null,null,null,null,null,null,0,null,null,null,null,null,0]
[null,null,null,null,null,null,null,null,null,null,null,"",null,null,null,null,null,null,null,null,null,"避難後",null,null,null,"",null,null,null,null,null,null,null,null,null,null,null,null,null,null,null,null,null,null,32,null,null,null,null,null,null,0,null,null,null,null,null,0]
[null,null,null,null,null,null,null,null,null,null,null,{"$f":"L715&\"\"","v":""},null,null,null,null,null,null,null,null,null,"避難後",null,null,null,{"$f":"Z715&\"\"","v":""},null,null,null,null,null,null,null,null,null,null,null,null,null,null,null,null,null,null,33,null,null,null,null,null,null,{"$f":"AZ715","v":0},null,null,null,null,null,{"$f":"IF(AND(AQ497=TRUE,L778<>\"\"),1,0)","v":0}]
[null,null,null,null,null,null,null,null,null,null,null,"",null,null,null,null,null,null,null,null,null,"避難後",null,null,null,"",null,null,null,null,null,null,null,null,null,null,null,null,null,null,null,null,null,null,34,null,null,null,null,null,null,0,null,null,null,null,null,0]
[null,null,null,null,null,null,null,null,null,null,null,"",null,null,null,null,null,null,null,null,null,"避難後",null,null,null,"",null,null,null,null,null,null,null,null,null,null,null,null,null,null,null,null,null,null,35,null,null,null,null,null,null,0,null,null,null,null,null,0]
[null,null,null,null,null,null,null,null,null,null,null,"",null,null,null,null,null,null,null,null,null,"避難後",null,null,null,"",null,null,null,null,null,null,null,null,null,null,null,null,null,null,null,null,null,null,36,null,null,null,null,null,null,0,null,null,null,null,null,0]
[null,null,null,null,null,null,null,null,null,null,null,"",null,null,null,null,null,null,null,null,null,"避難後",null,null,null,"",null,null,null,null,null,null,null,null,null,null,null,null,null,null,null,null,null,null,37,null,null,null,null,null,null,0,null,null,null,null,null,0]
[null,null,null,null,null,null,null,null,null,null,null,"",null,null,null,null,null,null,null,null,null,"避難後",null,null,null,"",null,null,null,null,null,null,null,null,null,null,null,null,null,null,null,null,null,null,38,null,null,null,null,null,null,0,null,null,null,null,null,0]
[null,null,null,null,null,null,null,null,null,null,null,"",null,null,null,null,null,null,null,null,null,"避難後",null,null,null,"",null,null,null,null,null,null,null,null,null,null,null,null,null,null,null,null,null,null,39,null,null,null,null,null,null,0,null,null,null,null,null,0]
[null,null,null,null,null,null,null,null,null,null,null,"",null,null,null,null,null,null,null,null,null,"避難後",null,null,null,"",null,null,null,null,null,null,null,null,null,null,null,null,null,null,null,null,null,null,40,null,null,null,null,null,null,0,null,null,null,null,null,0]
[null,null,null,null,null,null,null,null,null,null,null,"",null,null,null,null,null,null,null,null,null,"避難後",null,null,null,"",null,null,null,null,null,null,null,null,null,null,null,null,null,null,null,null,null,null,41,null,null,null,null,null,null,0,null,null,null,null,null,0]
[null,null,null,null,null,null,null,null,null,null,null,"",null,null,null,null,null,null,null,null,null,"避難後",null,null,null,"",null,null,null,null,null,null,null,null,null,null,null,null,null,null,null,null,null,null,42,null,null,null,null,null,null,0,null,null,null,null,null,0]
[null,null,null,null,null,null,null,null,null,null,null,"",null,null,null,null,null,null,null,null,null,"避難後",null,null,null,"",null,null,null,null,null,null,null,null,null,null,null,null,null,null,null,null,null,null,43,null,null,null,null,null,null,0,null,null,null,null,null,0]
[null,null,null,null,null,null,null,null,null,null,null,"",null,null,null,null,null,null,null,null,null,"避難後",null,null,null,"",null,null,null,null,null,null,null,null,null,null,null,null,null,null,null,null,null,null,44,null,null,null,null,null,null,0,null,null,null,null,null,0]
[null,null,null,null,null,null,null,null,null,null,null,"",null,null,null,null,null,null,null,null,null,"避難後",null,null,null,"",null,null,null,null,null,null,null,null,null,null,null,null,null,null,null,null,null,null,45,null,null,null,null,null,null,0,null,null,null,null,null,0]
[null,null,null,null,null,null,null,null,null,null,null,"",null,null,null,null,null,null,null,null,null,"避難後",null,null,null,"",null,null,null,null,null,null,null,null,null,null,null,null,null,null,null,null,null,null,46,null,null,null,null,null,null,0,null,null,null,null,null,0]
[null,null,null,null,null,null,null,null,null,null,null,"",null,null,null,null,null,null,null,null,null,"避難後",null,null,null,"",null,null,null,null,null,null,null,null,null,null,null,null,null,null,null,null,null,null,47,null,null,null,null,null,null,0,null,null,null,null,null,0]
[null,null,null,null,null,null,null,null,null,null,null,"",null,null,null,null,null,null,null,null,null,"避難後",null,null,null,"",null,null,null,null,null,null,null,null,null,null,null,null,null,null,null,null,null,null,48,null,null,null,null,null,null,0,null,null,null,null,null,0]
[null,null,null,null,null,null,null,null,null,null,null,"",null,null,null,null,null,null,null,null,null,"避難後",null,null,null,"",null,null,null,null,null,null,null,null,null,null,null,null,null,null,null,null,null,null,49,null,null,null,null,null,null,0,null,null,null,null,null,0]
[null,null,null,null,null,null,null,null,null,null,null,"",null,null,null,null,null,null,null,null,null,"避難後",null,null,null,"",null,null,null,null,null,null,null,null,null,null,null,null,null,null,null,null,null,null,50,null,null,null,null,null,null,0,null,null,null,null,null,0]
[null,null,null,null,null,null,null,null,null,null,null,"",null,null,null,null,null,null,null,null,null,"避難後",null,null,null,"",null,null,null,null,null,null,null,null,null,null,null,null,null,null,null,null,null,null,51,null,null,null,null,null,null,0,null,null,null,null,null,0]
[null,null,null,null,null,null,null,null,null,null,null,"",null,null,null,null,null,null,null,null,null,"避難後",null,null,null,"",null,null,null,null,null,null,null,null,null,null,null,null,null,null,null,null,null,null,52,null,null,null,null,null,null,0,null,null,null,null,null,0]
[null,null,null,null,null,null,null,null,null,null,null,"",null,null,null,null,null,null,null,null,null,"避難後",null,null,null,"",null,null,null,null,null,null,null,null,null,null,null,null,null,null,null,null,null,null,53,null,null,null,null,null,null,0,null,null,null,null,null,0]
[null,null,null,null,null,null,null,null,null,null,null,"",null,null,null,null,null,null,null,null,null,"避難後",null,null,null,"",null,null,null,null,null,null,null,null,null,null,null,null,null,null,null,null,null,null,54,null,null,null,null,null,null,{"$f":"AZ736","v":0},null,null,null,null,null,0]
[null,null,null,null,null,null,null,null,null,null,null,null,null,null,null,null,null,null,null,null,null,null,null,null,null,null,null,null,null,null,null,null,null,null,null,null,null,null,null,null,null,null,null,null,null,null,null,null,null,null,null,null,null,null,null,null,null,{"$f":"IF(COUNTIF(AQ465:AQ518,\"TRUE\")>0,1,0)","v":0}]
[null,null,null,null,null,null,null,null,null,null,null,null,null,null,null,null,null,null,null,null,null,null,null,null,null,null,null,null,null,null,null,null,null,null,null,null,null,null,null,null,null,null,null,null,null,null,null,null,null,null,null,null,null,null,null,null,null,{"$f":"IF(COUNTIF(AQ465:AQ518,\"TRUE\")=0,1,0)","v":1}]
[null,null,null,"8.2 BCPの定着・見直し",null,null,null,null,null,null,null,null,null,null,null,null,null,null,null,null,null,null,null,null,null,null,null,null,null,null,null,null,null,null,null,null,null,null,null,null,null,null,null,null,null,null,null,null,null,null,null,null,null,null,null,null,null,1]
[null,null,null,null,null,null,null,null,null,null,null,null,null,null,null,null,null,null,null,null,null,null,null,null,null,null,null,null,null,null,null,null,null,null,null,null,null,null,null,null,null,null,null,null,null,null,null,null,null,null,null,null,null,null,null,null,null,1]
[null,null,null,null,"●実効性のあるBCPにするためには、策定しただけでは不十分であり、日頃から従業員への教育や訓練が必要です。",null,null,null,null,null,null,null,null,null,null,null,null,null,null,null,null,null,null,null,null,null,null,null,null,null,null,null,null,null,null,null,null,null,null,null,null,null,null,null,null,null,null,null,null,null,null,null,null,null,null,null,null,1]
[null,null,null,null,"御社におけるBCP訓練のスケジュールを記入してください。",null,null,null,null,null,null,null,null,null,null,null,null,null,null,null,null,null,null,null,null,null,null,null,null,null,null,null,null,null,null,null,null,null,null,null,null,null,null,null,null,null,null,null,null,null,null,null,null,null,null,null,null,1]
[null,null,null,null,"具体的な実施案がある場合は、記入欄に記入してください。",null,null,null,null,null,null,null,null,null,null,null,null,null,null,null,null,null,null,null,null,null,null,null,null,null,null,null,null,null,null,null,null,null,null,null,null,null,null,null,null,null,null,null,null,null,null,null,null,null,null,null,null,1]
[null,null,null,null,"※ 出水期前の時期がおすすめです。",null,null,null,null,null,null,null,null,null,null,null,null,null,null,null,null,null,null,null,null,null,null,null,null,null,null,null,null,null,null,null,null,null,null,null,null,null,null,null,null,null,null,null,null,null,null,null,null,null,null,null,null,1]
[null,null,null,null,null,null,null,null,null,null,null,null,null,null,null,null,null,null,null,null,null,null,null,null,null,null,null,null,null,null,null,null,null,null,null,null,null,null,null,null,null,null,null,null,null,null,null,null,null,null,null,null,null,null,null,null,null,1]
[null,null,null,null,null,null,"・ 毎年",null,1,"回、",9,null,"月","に従業員を対象にしたBCP訓練を実施する。",null,null,null,null,null,null,null,null,null,null,null,null,null,null,null,null,null,null,null,null,null,null,null,null,null,null,null,null,null,null,null,null,null,null,null,null,null,null,null,null,null,null,null,1]
[null,null,null,null,null,null,null,null,null,null,null,null,null,null,null,null,null,null,null,null,null,null,null,null,null,null,null,null,null,null,null,null,null,null,null,null,null,null,null,null,null,null,null,null,null,null,null,null,null,null,null,null,null,null,null,null,null,1]
[null,null,null,null,null,null,null,null,null,null,null,null,null,null,null,null,null,null,null,null,null,null,null,null,null,null,null,null,null,null,null,null,null,null,null,null,null,null,null,null,null,null,null,null,null,null,null,null,null,null,null,null,null,null,null,null,null,1]
[null,null,null,null,null,"＜具体的な実施案＞",null,null,null,null,null,null,null,null,null,null,null,null,null,null,null,null,null,null,null,null,null,null,null,null,null,null,null,null,null,null,null,null,null,null,null,null,null,null,null,null,null,null,null,null,null,null,null,null,null,null,null,1]
[null,null,null,null,null,null,null,null,null,null,null,null,null,null,null,null,null,null,null,null,null,null,null,null,null,null,null,null,null,null,null,null,null,null,null,null,null,null,null,null,null,null,null,null,null,null,null,null,null,null,null,null,null,null,null,null,null,1]
[null,null,null,null,null,null,null,null,null,null,null,null,null,null,null,null,null,null,null,null,null,null,null,null,null,null,null,null,null,null,null,null,null,null,null,null,null,null,null,null,null,null,null,null,null,null,null,null,null,null,null,null,null,null,null,null,null,1]
[null,null,null,null,null,null,null,null,null,null,null,null,null,null,null,null,null,null,null,null,null,null,null,null,null,null,null,null,null,null,null,null,null,null,null,null,null,null,null,null,null,null,null,null,null,null,null,null,null,null,null,null,null,null,null,null,null,1]
[null,null,null,null,"●今後の計画（課題）",null,null,null,null,null,null,null,null,null,null,null,null,null,null,null,null,null,null,null,null,null,null,null,null,null,null,null,null,null,null,null,null,null,null,null,null,null,null,null,null,null,null,null,null,null,null,null,null,null,null,null,null,1]
[null,null,null,null,"ここでは、【5.2 重要業務に必要な資源と想定被害の確認】 で 「対策不可」 にチェックを入れた項目が転記されます。\n（ 「対策不可」 にチェックが１つもない場合は、表示されません）\n現時点では、下記に転記された資源の被害は避けられませんが、中・長期的スパンで継続的に対応を検討していくことが重要です。\n可能であれば、考え得る対応策とその期限を記入してください。",null,null,null,null,null,null,null,null,null,null,null,null,null,null,null,null,null,null,null,null,null,null,null,null,null,null,null,null,null,null,null,null,null,null,null,null,null,null,null,null,null,null,null,null,null,null,null,null,null,null,null,null,1]
[null,null,null,null,null,null,null,null,null,null,null,null,null,null,null,null,null,null,null,null,null,null,null,null,null,null,null,null,null,null,null,null,null,null,null,null,null,null,null,null,null,null,null,null,null,null,null,null,null,null,null,null,null,null,null,null,null,1]
[null,null,null,null,null,"重要事業に必要な資源",null,null,null,null,null,"浸水被害の内容",null,null,null,null,null,null,null,null,null,null,"考え得る対応策（案）",null,null,null,null,null,null,null,null,null,null,null,"期限",null,null,null,null,null,null,null,null,null,null,null,null,null,null,null,null,null,null,null,8.1999999999999993,null,null,1]
[null,null,null,null,null,{"$f":"AX395&\"\"","v":"インフラ"},null,{"$f":"I395&\"\"","v":"電気"},null,null,null,{"$f":"N395&\"\"","v":"電気が供給されない"},null,null,null,null,null,null,null,null,null,null,null,null,null,null,null,null,null,null,null,null,null,null,null,null,null,null,null,null,null,null,null,null,1,null,null,null,null,null,null,{"$f":"AZ746","v":1},null,null,null,null,null,{"$f":"IF(AP395=TRUE,1,0)","v":0}]
[null,null,null,null,null,"インフラ",null,"水道",null,null,null,"飲料水や生活用水が供給されない",null,null,null,null,null,null,null,null,null,null,null,null,null,null,null,null,null,null,null,null,null,null,null,null,null,null,null,null,null,null,null,null,2,null,null,null,null,null,null,2,null,null,null,null,null,0]
[null,null,null,null,null,"インフラ",null,"道路",null,null,null,"道路が通行止めとなる",null,null,null,null,null,null,null,null,null,null,"簡易型ゴムボートの購入",null,null,null,null,null,null,null,null,null,null,null,"6ヶ月以内",null,null,null,null,null,null,null,null,null,3,null,null,null,null,null,null,3,null,null,null,null,null,1]
[null,null,null,null,null,"インフラ",null,"",null,null,null,"",null,null,null,null,null,null,null,null,null,null,null,null,null,null,null,null,null,null,null,null,null,null,null,null,null,null,null,null,null,null,null,null,4,null,null,null,null,null,null,0,null,null,null,null,null,0]
[null,null,null,null,null,"インフラ",null,"",null,null,null,"",null,null,null,null,null,null,null,null,null,null,null,null,null,null,null,null,null,null,null,null,null,null,null,null,null,null,null,null,null,null,null,null,5,null,null,null,null,null,null,0,null,null,null,null,null,0]
[null,null,null,null,null,"インフラ",null,"",null,null,null,"",null,null,null,null,null,null,null,null,null,null,null,null,null,null,null,null,null,null,null,null,null,null,null,null,null,null,null,null,null,null,null,null,6,null,null,null,null,null,null,0,null,null,null,null,null,0]
[null,null,null,null,null,{"$f":"AX404&\"\"","v":"人"},null,{"$f":"I404&\"\"","v":"従業員（管理者）"},null,null,null,{"$f":"N404&\"\"","v":"通行規制等により、本社への参集が不可能となる"},null,null,null,null,null,null,null,null,null,null,null,null,null,null,null,null,null,null,null,null,null,null,null,null,null,null,null,null,null,null,null,null,7,null,null,null,null,null,null,4,null,null,null,null,null,{"$f":"IF(AP404=TRUE,1,0)","v":0}]
[null,null,null,null,null,{"$f":"AX405&\"\"","v":"人"},null,{"$f":"I405&\"\"","v":"従業員（作業員）"},null,null,null,{"$f":"N405&\"\"","v":"従業員が出勤できない"},null,null,null,null,null,null,null,null,null,null,null,null,null,null,null,null,null,null,null,null,null,null,null,null,null,null,null,null,null,null,null,null,8,null,null,null,null,null,null,5,null,null,null,null,null,{"$f":"IF(AP405=TRUE,1,0)","v":0}]
[null,null,null,null,null,{"$f":"AX406&\"\"","v":"人"},null,{"$f":"I406&\"\"","v":""},null,null,null,{"$f":"N406&\"\"","v":""},null,null,null,null,null,null,null,null,null,null,null,null,null,null,null,null,null,null,null,null,null,null,null,null,null,null,null,null,null,null,null,null,9,null,null,null,null,null,null,0,null,null,null,null,null,{"$f":"IF(AP406=TRUE,1,0)","v":0}]
[null,null,null,null,null,{"$f":"AX408&\"\"","v":"物"},null,{"$f":"I408&\"\"","v":"事務所"},null,null,null,{"$f":"N408&\"\"","v":"浸水により、本社は2階まで使用不可"},null,null,null,null,null,null,null,null,null,null,"3階に事務所を移動",null,null,null,null,null,null,null,null,null,null,null,"1年以内",null,null,null,null,null,null,null,null,null,10,null,null,null,null,null,null,6,null,null,null,null,null,{"$f":"IF(AP408=TRUE,1,0)","v":1}]
[null,null,null,null,null,"物",null,"",null,null,null,"",null,null,null,null,null,null,null,null,null,null,null,null,null,null,null,null,null,null,null,null,null,null,null,null,null,null,null,null,null,null,null,null,11,null,null,null,null,null,null,0,null,null,null,null,null,0]
[null,null,null,null,null,"物",null,"",null,null,null,"",null,null,null,null,null,null,null,null,null,null,null,null,null,null,null,null,null,null,null,null,null,null,null,null,null,null,null,null,null,null,null,null,12,null,null,null,null,null,null,0,null,null,null,null,null,0]
[null,null,null,null,null,"物",null,"社用車",null,null,null,"トラックが流出・水没による故障が発生する",null,null,null,null,null,null,null,null,null,null,null,null,null,null,null,null,null,null,null,null,null,null,null,null,null,null,null,null,null,null,null,null,13,null,null,null,null,null,null,7,null,null,null,null,null,0]
[null,null,null,null,null,"物",null,"",null,null,null,"",null,null,null,null,null,null,null,null,null,null,null,null,null,null,null,null,null,null,null,null,null,null,null,null,null,null,null,null,null,null,null,null,14,null,null,null,null,null,null,0,null,null,null,null,null,0]
[null,null,null,null,null,"物",null,"",null,null,null,"",null,null,null,null,null,null,null,null,null,null,null,null,null,null,null,null,null,null,null,null,null,null,null,null,null,null,null,null,null,null,null,null,15,null,null,null,null,null,null,0,null,null,null,null,null,0]
[null,null,null,null,null,"物",null,"",null,null,null,"",null,null,null,null,null,null,null,null,null,null,null,null,null,null,null,null,null,null,null,null,null,null,null,null,null,null,null,null,null,null,null,null,16,null,null,null,null,null,null,0,null,null,null,null,null,0]
[null,null,null,null,null,"物",null,"原材料",null,null,null,"ガソリンが流出する",null,null,null,null,null,null,null,null,null,null,null,null,null,null,null,null,null,null,null,null,null,null,null,null,null,null,null,null,null,null,null,null,17,null,null,null,null,null,null,8,null,null,null,null,null,0]
[null,null,null,null,null,"物",null,"その他",null,null,null,"小分けした部品が浸水により流出する",null,null,null,null,null,null,null,null,null,null,null,null,null,null,null,null,null,null,null,null,null,null,null,null,null,null,null,null,null,null,null,null,18,null,null,null,null,null,null,9,null,null,null,null,null,0]
[null,null,null,null,null,"物",null,"",null,null,null,"",null,null,null,null,null,null,null,null,null,null,null,null,null,null,null,null,null,null,null,null,null,null,null,null,null,null,null,null,null,null,null,null,19,null,null,null,null,null,null,0,null,null,null,null,null,0]
[null,null,null,null,null,"物",null,"",null,null,null,"",null,null,null,null,null,null,null,null,null,null,null,null,null,null,null,null,null,null,null,null,null,null,null,null,null,null,null,null,null,null,null,null,20,null,null,null,null,null,null,0,null,null,null,null,null,0]
[null,null,null,null,null,{"$f":"AX420&\"\"","v":"情報"},null,{"$f":"I420&\"\"","v":"事務処理用PC"},null,null,null,{"$f":"N420&\"\"","v":"事務処理用PCが使用できなくなる"},null,null,null,null,null,null,null,null,null,null,null,null,null,null,null,null,null,null,null,null,null,null,null,null,null,null,null,null,null,null,null,null,21,null,null,null,null,null,null,10,null,null,null,null,null,{"$f":"IF(AP420=TRUE,1,0)","v":0}]
[null,null,null,null,null,{"$f":"AX421&\"\"","v":"情報"},null,{"$f":"I421&\"\"","v":""},null,null,null,{"$f":"N421&\"\"","v":""},null,null,null,null,null,null,null,null,null,null,null,null,null,null,null,null,null,null,null,null,null,null,null,null,null,null,null,null,null,null,null,null,22,null,null,null,null,null,null,0,null,null,null,null,null,{"$f":"IF(AP421=TRUE,1,0)","v":0}]
[null,null,null,null,null,{"$f":"AX422&\"\"","v":"情報"},null,{"$f":"I422&\"\"","v":"顧客情報"},null,null,null,{"$f":"N422&\"\"","v":"PCから顧客情報が呼び出せなくなる"},null,null,null,null,null,null,null,null,null,null,null,null,null,null,null,null,null,null,null,null,null,null,null,null,null,null,null,null,null,null,null,null,23,null,null,null,null,null,null,11,null,null,null,null,null,{"$f":"IF(AP422=TRUE,1,0)","v":0}]
[null,null,null,null,null,{"$f":"AX423&\"\"","v":"情報"},null,{"$f":"I423&\"\"","v":""},null,null,null,{"$f":"N423&\"\"","v":""},null,null,null,null,null,null,null,null,null,null,null,null,null,null,null,null,null,null,null,null,null,null,null,null,null,null,null,null,null,null,null,null,24,null,null,null,null,null,null,0,null,null,null,null,null,{"$f":"IF(AP423=TRUE,1,0)","v":0}]
[null,null,null,null,null,{"$f":"AX426&\"\"","v":""},null,{"$f":"I426&\"\"","v":""},null,null,null,{"$f":"N426&\"\"","v":""},null,null,null,null,null,null,null,null,null,null,null,null,null,null,null,null,null,null,null,null,null,null,null,null,null,null,null,null,null,null,null,null,25,null,null,null,null,null,null,0,null,null,null,null,null,{"$f":"IF(AP426=TRUE,1,0)","v":0}]
[null,null,null,null,null,"",null,"",null,null,null,"",null,null,null,null,null,null,null,null,null,null,null,null,null,null,null,null,null,null,null,null,null,null,null,null,null,null,null,null,null,null,null,null,26,null,null,null,null,null,null,0,null,null,null,null,null,0]
[null,null,null,null,null,"",null,"",null,null,null,"",null,null,null,null,null,null,null,null,null,null,null,null,null,null,null,null,null,null,null,null,null,null,null,null,null,null,null,null,null,null,null,null,27,null,null,null,null,null,null,0,null,null,null,null,null,0]
[null,null,null,null,null,"",null,"",null,null,null,"",null,null,null,null,null,null,null,null,null,null,null,null,null,null,null,null,null,null,null,null,null,null,null,null,null,null,null,null,null,null,null,null,28,null,null,null,null,null,null,0,null,null,null,null,null,0]
[null,null,null,null,null,"",null,"",null,null,null,"",null,null,null,null,null,null,null,null,null,null,null,null,null,null,null,null,null,null,null,null,null,null,null,null,null,null,null,null,null,null,null,null,29,null,null,null,null,null,null,0,null,null,null,null,null,0]
[null,null,null,null,null,"",null,"",null,null,null,"",null,null,null,null,null,null,null,null,null,null,null,null,null,null,null,null,null,null,null,null,null,null,null,null,null,null,null,null,null,null,null,null,30,null,null,null,null,null,null,0,null,null,null,null,null,0]
[null,null,null,null,null,"",null,"",null,null,null,"",null,null,null,null,null,null,null,null,null,null,null,null,null,null,null,null,null,null,null,null,null,null,null,null,null,null,null,null,null,null,null,null,31,null,null,null,null,null,null,0,null,null,null,null,null,0]
[null,null,null,null,null,"",null,"",null,null,null,"",null,null,null,null,null,null,null,null,null,null,null,null,null,null,null,null,null,null,null,null,null,null,null,null,null,null,null,null,null,null,null,null,32,null,null,null,null,null,null,0,null,null,null,null,null,0]
[null,null,null,null,null,"",null,"",null,null,null,"",null,null,null,null,null,null,null,null,null,null,null,null,null,null,null,null,null,null,null,null,null,null,null,null,null,null,null,null,null,null,null,null,33,null,null,null,null,null,null,{"$f":"AZ778","v":0},null,null,null,null,null,0]
[null,null,null,null,null,"",null,"",null,null,null,"",null,null,null,null,null,null,null,null,null,null,null,null,null,null,null,null,null,null,null,null,null,null,null,null,null,null,null,null,null,null,null,null,34,null,null,null,null,null,null,0,null,null,null,null,null,0]
[null,null,null,null,null,"",null,"",null,null,null,"",null,null,null,null,null,null,null,null,null,null,null,null,null,null,null,null,null,null,null,null,null,null,null,null,null,null,null,null,null,null,null,null,35,null,null,null,null,null,null,0,null,null,null,null,null,0]
[null,null,null,null,null,"",null,"",null,null,null,"",null,null,null,null,null,null,null,null,null,null,null,null,null,null,null,null,null,null,null,null,null,null,null,null,null,null,null,null,null,null,null,null,36,null,null,null,null,null,null,0,null,null,null,null,null,0]
[null,null,null,null,null,"",null,"",null,null,null,"",null,null,null,null,null,null,null,null,null,null,null,null,null,null,null,null,null,null,null,null,null,null,null,null,null,null,null,null,null,null,null,null,37,null,null,null,null,null,null,0,null,null,null,null,null,0]
[null,null,null,null,null,"",null,"",null,null,null,"",null,null,null,null,null,null,null,null,null,null,null,null,null,null,null,null,null,null,null,null,null,null,null,null,null,null,null,null,null,null,null,null,38,null,null,null,null,null,null,0,null,null,null,null,null,0]
[null,null,null,null,null,"",null,"",null,null,null,"",null,null,null,null,null,null,null,null,null,null,null,null,null,null,null,null,null,null,null,null,null,null,null,null,null,null,null,null,null,null,null,null,39,null,null,null,null,null,null,0,null,null,null,null,null,0]
[null,null,null,null,null,"",null,"",null,null,null,"",null,null,null,null,null,null,null,null,null,null,null,null,null,null,null,null,null,null,null,null,null,null,null,null,null,null,null,null,null,null,null,null,40,null,null,null,null,null,null,0,null,null,null,null,null,0]
[null,null,null,null,null,"",null,"",null,null,null,"",null,null,null,null,null,null,null,null,null,null,null,null,null,null,null,null,null,null,null,null,null,null,null,null,null,null,null,null,null,null,null,null,41,null,null,null,null,null,null,0,null,null,null,null,null,0]
[null,null,null,null,null,"",null,"",null,null,null,"",null,null,null,null,null,null,null,null,null,null,null,null,null,null,null,null,null,null,null,null,null,null,null,null,null,null,null,null,null,null,null,null,42,null,null,null,null,null,null,0,null,null,null,null,null,0]
[null,null,null,null,null,"",null,"",null,null,null,"",null,null,null,null,null,null,null,null,null,null,null,null,null,null,null,null,null,null,null,null,null,null,null,null,null,null,null,null,null,null,null,null,43,null,null,null,null,null,null,0,null,null,null,null,null,0]
[null,null,null,null,null,"",null,"",null,null,null,"",null,null,null,null,null,null,null,null,null,null,null,null,null,null,null,null,null,null,null,null,null,null,null,null,null,null,null,null,null,null,null,null,44,null,null,null,null,null,null,0,null,null,null,null,null,0]
[null,null,null,null,null,"",null,"",null,null,null,"",null,null,null,null,null,null,null,null,null,null,null,null,null,null,null,null,null,null,null,null,null,null,null,null,null,null,null,null,null,null,null,null,45,null,null,null,null,null,null,0,null,null,null,null,null,0]
[null,null,null,null,null,"",null,"",null,null,null,"",null,null,null,null,null,null,null,null,null,null,null,null,null,null,null,null,null,null,null,null,null,null,null,null,null,null,null,null,null,null,null,null,46,null,null,null,null,null,null,0,null,null,null,null,null,0]
[null,null,null,null,null,"",null,"",null,null,null,"",null,null,null,null,null,null,null,null,null,null,null,null,null,null,null,null,null,null,null,null,null,null,null,null,null,null,null,null,null,null,null,null,47,null,null,null,null,null,null,0,null,null,null,null,null,0]
[null,null,null,null,null,"",null,"",null,null,null,"",null,null,null,null,null,null,null,null,null,null,null,null,null,null,null,null,null,null,null,null,null,null,null,null,null,null,null,null,null,null,null,null,48,null,null,null,null,null,null,0,null,null,null,null,null,0]
[null,null,null,null,null,"",null,"",null,null,null,"",null,null,null,null,null,null,null,null,null,null,null,null,null,null,null,null,null,null,null,null,null,null,null,null,null,null,null,null,null,null,null,null,49,null,null,null,null,null,null,0,null,null,null,null,null,0]
[null,null,null,null,null,"",null,"",null,null,null,"",null,null,null,null,null,null,null,null,null,null,null,null,null,null,null,null,null,null,null,null,null,null,null,null,null,null,null,null,null,null,null,null,50,null,null,null,null,null,null,0,null,null,null,null,null,0]
[null,null,null,null,null,"",null,"",null,null,null,"",null,null,null,null,null,null,null,null,null,null,null,null,null,null,null,null,null,null,null,null,null,null,null,null,null,null,null,null,null,null,null,null,51,null,null,null,null,null,null,0,null,null,null,null,null,0]
[null,null,null,null,null,"",null,"",null,null,null,"",null,null,null,null,null,null,null,null,null,null,null,null,null,null,null,null,null,null,null,null,null,null,null,null,null,null,null,null,null,null,null,null,52,null,null,null,null,null,null,0,null,null,null,null,null,0]
[null,null,null,null,null,"",null,"",null,null,null,"",null,null,null,null,null,null,null,null,null,null,null,null,null,null,null,null,null,null,null,null,null,null,null,null,null,null,null,null,null,null,null,null,53,null,null,null,null,null,null,0,null,null,null,null,null,0]
[null,null,null,null,null,"",null,"",null,null,null,"",null,null,null,null,null,null,null,null,null,null,null,null,null,null,null,null,null,null,null,null,null,null,null,null,null,null,null,null,null,null,null,null,54,null,null,null,null,null,null,0,null,null,null,null,null,0]
[null,null,null,null,null,null,null,null,null,null,null,null,null,null,null,null,null,null,null,null,null,null,null,null,null,null,null,null,null,null,null,null,null,null,null,null,null,null,null,null,null,null,null,null,null,null,null,null,null,null,null,null,null,null,null,null,null,1]
[null,null,null,"9. 備蓄品リスト",null,null,null,null,null,null,null,null,null,null,null,null,null,null,null,null,null,null,null,null,null,null,null,null,null,null,null,null,null,null,null,null,null,null,null,"⑨",null,null,null,null,null,null,null,null,null,null,null,null,null,null,null,null,null,1]
[null,null,null,null,null,null,null,null,null,null,null,null,null,null,null,null,null,null,null,null,null,null,null,null,null,null,null,null,null,null,null,null,null,null,null,null,null,null,null,null,null,null,null,null,null,null,null,null,null,null,null,null,null,null,null,null,null,1]
[null,null,null,null,"●水害時に対し、備えておくべき備蓄品を下のリストにまとめておいてください。",null,null,null,null,null,null,null,null,null,null,null,null,null,null,null,null,null,null,null,null,null,null,null,null,null,null,null,null,null,null,null,null,null,null,null,null,null,null,null,null,null,null,null,null,null,null,null,null,null,null,null,null,1]
[null,null,null,null,null,null,null,null,null,null,null,null,null,null,null,null,null,null,null,null,"※ 有無 を選択し、「有」 の場合、数を記入してください",null,null,null,null,null,null,null,null,null,null,null,null,null,null,null,null,null,null,null,null,null,null,null,null,null,null,null,null,null,null,null,null,null,null,null,null,1]
[null,null,null,null,null,null,null,null,null,null,null,null,null,null,null,null,null,null,null,null,"※ 「その他」 に記入の際、各追加項目の前に [□] を入力してください",null,null,null,null,null,null,null,null,null,null,null,null,null,null,null,null,null,null,null,null,null,null,null,null,null,null,null,null,null,null,null,null,null,null,null,null,1]
[null,null,null,null,"　水・食料",null,null,null,null,null,null,null,null,null,null,null,null,null,null,null,"有",null,null,"無",null,null,"数量",null,null,"目安",null,null,null,null,null,null,null,null,null,null,null,null,null,null,null,null,null,null,null,null,null,null,null,null,null,null,null,1]
[null,null,null,null,null,null,null,null,null,null,null,null,null,null,null,null,null,null,null,null,null,null,null,null,null,null,null,null,null,null,null,null,null,null,null,null,null,null,null,null,null,null,null,null,null,null,null,null,null,null,null,null,null,null,null,null,null,1]
[null,null,null,null,null,"□","水",null,null,null,null,null,null,null,null,null,null,null,null,null,{"$f":"IF(AO882=\"有\",\"\",\"◯\")","v":"◯"},"有",null,{"$f":"IF(AO882=\"無\",\"\",\"◯\")","v":""},"無",null,null,null,"Ｌ",null,"一人 3L/日",null,null,null,null,null,null,null,null,null,"無",null,null,null,null,null,null,null,null,null,null,null,null,null,null,null,null,1]
[null,null,null,null,null,null,null,null,null,null,null,null,null,null,null,null,null,null,null,null,null,null,null,null,null,null,null,null,null,null,null,null,null,null,null,null,null,null,null,null,null,null,null,null,null,null,null,null,null,null,null,null,null,null,null,null,null,1]
[null,null,null,null,null,"□","アルファ米・乾パン",null,null,null,null,null,null,null,null,null,null,null,null,null,{"$f":"IF(AO884=\"有\",\"\",\"◯\")","v":""},"有",null,{"$f":"IF(AO884=\"無\",\"\",\"◯\")","v":"◯"},"無",null,100,null,"食",null,"一人 3食/日",null,null,null,null,null,null,null,null,null,"有",null,null,null,null,null,null,null,null,null,null,null,null,null,null,null,null,1]
[null,null,null,null,null,null,null,null,null,null,null,null,null,null,null,null,null,null,null,null,null,null,null,null,null,null,null,null,null,null,null,null,null,null,null,null,null,null,null,null,null,null,null,null,null,null,null,null,null,null,null,null,null,null,null,null,null,1]
[null,null,null,null,null,"□","レトルト食品・缶詰（肉・魚・野菜）",null,null,null,null,null,null,null,null,null,null,null,null,null,{"$f":"IF(AO886=\"有\",\"\",\"◯\")","v":""},"有",null,{"$f":"IF(AO886=\"無\",\"\",\"◯\")","v":"◯"},"無",null,100,null,"食",null,"一人 3食/日",null,null,null,null,null,null,null,null,null,"有",null,null,null,null,null,null,null,null,null,null,null,null,null,null,null,null,1]
[null,null,null,null,null,null,null,null,null,null,null,null,null,null,null,null,null,null,null,null,null,null,null,null,null,null,null,null,null,null,null,null,null,null,null,null,null,null,null,null,null,null,null,null,null,null,null,null,null,null,null,null,null,null,null,null,null,1]
[null,null,null,null,null,"□","栄養補助食品・経口補水液",null,null,null,null,null,null,null,null,null,null,null,null,null,{"$f":"IF(AO888=\"有\",\"\",\"◯\")","v":"◯"},"有",null,{"$f":"IF(AO888=\"無\",\"\",\"◯\")","v":""},"無",null,null,null,"個",null,"一人 1個/日",null,null,null,null,null,null,null,null,null,"無",null,null,null,null,null,null,null,null,null,null,null,null,null,null,null,null,1]
[null,null,null,null,null,null,null,null,null,null,null,null,null,null,null,null,null,null,null,null,null,null,null,null,null,null,null,null,null,null,null,null,null,null,null,null,null,null,null,null,null,null,null,null,null,null,null,null,null,null,null,null,null,null,null,null,null,1]
[null,null,null,null,null,"□","その他",null,null,null,null,null,null,null,null,null,null,null,null,null,null,null,null,null,null,null,null,null,null,null,null,null,null,null,null,null,null,null,null,null,null,null,null,null,null,null,null,null,null,null,null,null,null,null,null,null,null,1]
[null,null,null,null,null,null,null,null,null,null,null,null,null,null,null,null,null,null,null,null,null,null,null,null,null,null,null,null,null,null,null,null,null,null,null,null,null,null,null,null,null,null,null,null,null,null,null,null,null,null,null,null,null,null,null,null,null,1]
[null,null,null,null,null,null,null,null,null,null,null,null,null,null,null,null,null,null,null,null,null,null,null,null,null,null,null,null,null,null,null,null,null,null,null,null,null,null,null,null,null,null,null,null,null,null,null,null,null,null,null,null,null,null,null,null,null,1]
[null,null,null,null,"　衛生用品",null,null,null,null,null,null,null,null,null,null,null,null,null,null,null,"有",null,null,"無",null,null,"数量",null,null,"目安",null,null,null,null,null,null,null,null,null,null,null,null,null,null,null,null,null,null,null,null,null,null,null,null,null,null,null,1]
[null,null,null,null,null,null,null,null,null,null,null,null,null,null,null,null,null,null,null,null,null,null,null,null,null,null,null,null,null,null,null,null,null,null,null,null,null,null,null,null,null,null,null,null,null,null,null,null,null,null,null,null,null,null,null,null,null,1]
[null,null,null,null,null,"□","ティッシュペーパー",null,null,null,null,null,null,null,null,null,null,null,null,null,{"$f":"IF(AO895=\"有\",\"\",\"◯\")","v":"◯"},"有",null,{"$f":"IF(AO895=\"無\",\"\",\"◯\")","v":""},"無",null,null,null,"箱",null,null,null,null,null,null,null,null,null,null,null,"無",null,null,null,null,null,null,null,null,null,null,null,null,null,null,null,null,1]
[null,null,null,null,null,null,null,null,null,null,null,null,null,null,null,null,null,null,null,null,null,null,null,null,null,null,null,null,null,null,null,null,null,null,null,null,null,null,null,null,null,null,null,null,null,null,null,null,null,null,null,null,null,null,null,null,null,1]
[null,null,null,null,null,"□","除菌ティッシュ",null,null,null,null,null,null,null,null,null,null,null,null,null,{"$f":"IF(AO897=\"有\",\"\",\"◯\")","v":"◯"},"有",null,{"$f":"IF(AO897=\"無\",\"\",\"◯\")","v":""},"無",null,null,null,"セット",null,null,null,null,null,null,null,null,null,null,null,"無",null,null,null,null,null,null,null,null,null,null,null,null,null,null,null,null,1]
[null,null,null,null,null,null,null,null,null,null,null,null,null,null,null,null,null,null,null,null,null,null,null,null,null,null,null,null,null,null,null,null,null,null,null,null,null,null,null,null,null,null,null,null,null,null,null,null,null,null,null,null,null,null,null,null,null,1]
[null,null,null,null,null,"□","マウスウォッシュ・口腔ケア・ウェットティッシュ",null,null,null,null,null,null,null,null,null,null,null,null,null,{"$f":"IF(AO899=\"有\",\"\",\"◯\")","v":"◯"},"有",null,{"$f":"IF(AO899=\"無\",\"\",\"◯\")","v":""},"無",null,null,null,"個",null,"一人 30mL/日：液体の場合",null,null,null,null,null,null,null,null,null,"無",null,null,null,null,null,null,null,null,null,null,null,null,null,null,null,null,1]
[null,null,null,null,null,null,null,null,null,null,null,null,null,null,null,null,null,null,null,null,null,null,null,null,null,null,null,null,null,null,null,null,null,null,null,null,null,null,null,null,null,null,null,null,null,null,null,null,null,null,null,null,null,null,null,null,null,1]
[null,null,null,null,null,"□","うがい薬",null,null,null,null,null,null,null,null,null,null,null,null,null,{"$f":"IF(AO901=\"有\",\"\",\"◯\")","v":"◯"},"有",null,{"$f":"IF(AO901=\"無\",\"\",\"◯\")","v":""},"無",null,null,null,"本",null,null,null,null,null,null,null,null,null,null,null,"無",null,null,null,null,null,null,null,null,null,null,null,null,null,null,null,null,1]
[null,null,null,null,null,null,null,null,null,null,null,null,null,null,null,null,null,null,null,null,null,null,null,null,null,null,null,null,null,null,null,null,null,null,null,null,null,null,null,null,null,null,null,null,null,null,null,null,null,null,null,null,null,null,null,null,null,1]
[null,null,null,null,null,"□","マスク",null,null,null,null,null,null,null,null,null,null,null,null,null,{"$f":"IF(AO903=\"有\",\"\",\"◯\")","v":"◯"},"有",null,{"$f":"IF(AO903=\"無\",\"\",\"◯\")","v":""},"無",null,null,null,"枚",null,"一人 1枚/日",null,null,null,null,null,null,null,null,null,"無",null,null,null,null,null,null,null,null,null,null,null,null,null,null,null,null,1]
[null,null,null,null,null,null,null,null,null,null,null,null,null,null,null,null,null,null,null,null,null,null,null,null,null,null,null,null,null,null,null,null,null,null,null,null,null,null,null,null,null,null,null,null,null,null,null,null,null,null,null,null,null,null,null,null,null,1]
[null,null,null,null,null,"□","ハンドジェル・除菌スプレー",null,null,null,null,null,null,null,null,null,null,null,null,null,{"$f":"IF(AO905=\"有\",\"\",\"◯\")","v":"◯"},"有",null,{"$f":"IF(AO905=\"無\",\"\",\"◯\")","v":""},"無",null,null,null,"個",null,null,null,null,null,null,null,null,null,null,null,"無",null,null,null,null,null,null,null,null,null,null,null,null,null,null,null,null,1]
[null,null,null,null,null,null,null,null,null,null,null,null,null,null,null,null,null,null,null,null,null,null,null,null,null,null,null,null,null,null,null,null,null,null,null,null,null,null,null,null,null,null,null,null,null,null,null,null,null,null,null,null,null,null,null,null,null,1]
[null,null,null,null,null,"□","圧縮タオル",null,null,null,null,null,null,null,null,null,null,null,null,null,{"$f":"IF(AO907=\"有\",\"\",\"◯\")","v":"◯"},"有",null,{"$f":"IF(AO907=\"無\",\"\",\"◯\")","v":""},"無",null,null,null,"枚",null,null,null,null,null,null,null,null,null,null,null,"無",null,null,null,null,null,null,null,null,null,null,null,null,null,null,null,null,1]
[null,null,null,null,null,null,null,null,null,null,null,null,null,null,null,null,null,null,null,null,null,null,null,null,null,null,null,null,null,null,null,null,null,null,null,null,null,null,null,null,null,null,null,null,null,null,null,null,null,null,null,null,null,null,null,null,null,1]
[null,null,null,null,null,"□","その他",null,null,null,null,null,null,null,null,null,null,null,null,null,null,null,null,null,null,null,null,null,null,null,null,null,null,null,null,null,null,null,null,null,null,null,null,null,null,null,null,null,null,null,null,null,null,null,null,null,null,1]
[null,null,null,null,null,null,null,null,null,null,null,null,null,null,null,null,null,null,null,null,null,null,null,null,null,null,null,null,null,null,null,null,null,null,null,null,null,null,null,null,null,null,null,null,null,null,null,null,null,null,null,null,null,null,null,null,null,1]
[null,null,null,null,null,null,null,null,null,null,null,null,null,null,null,null,null,null,null,null,null,null,null,null,null,null,null,null,null,null,null,null,null,null,null,null,null,null,null,null,null,null,null,null,null,null,null,null,null,null,null,null,null,null,null,null,null,1]
[null,null,null,null,"　トイレ用品",null,null,null,null,null,null,null,null,null,null,null,null,null,null,null,"有",null,null,"無",null,null,"数量",null,null,"目安",null,null,null,null,null,null,null,null,null,null,null,null,null,null,null,null,null,null,null,null,null,null,null,null,null,null,null,1]
[null,null,null,null,null,null,null,null,null,null,null,null,null,null,null,null,null,null,null,null,null,null,null,null,null,null,null,null,null,null,null,null,null,null,null,null,null,null,null,null,null,null,null,null,null,null,null,null,null,null,null,null,null,null,null,null,null,1]
[null,null,null,null,null,"□","簡易トイレ",null,null,null,null,null,null,null,null,null,null,null,null,null,{"$f":"IF(AO914=\"有\",\"\",\"◯\")","v":"◯"},"有",null,{"$f":"IF(AO914=\"無\",\"\",\"◯\")","v":""},"無",null,null,null,"回分",null,"一人 5回分/日",null,null,null,null,null,null,null,null,null,"無",null,null,null,null,null,null,null,null,null,null,null,null,null,null,null,null,1]
[null,null,null,null,null,null,null,null,null,null,null,null,null,null,null,null,null,null,null,null,null,null,null,null,null,null,null,null,null,null,null,null,null,null,null,null,null,null,null,null,null,null,null,null,null,null,null,null,null,null,null,null,null,null,null,null,null,1]
[null,null,null,null,null,"□","トイレットペーパー",null,null,null,null,null,null,null,null,null,null,null,null,null,{"$f":"IF(AO916=\"有\",\"\",\"◯\")","v":"◯"},"有",null,{"$f":"IF(AO916=\"無\",\"\",\"◯\")","v":""},"無",null,null,null,"ロール",null,null,null,null,null,null,null,null,null,null,null,"無",null,null,null,null,null,null,null,null,null,null,null,null,null,null,null,null,1]
[null,null,null,null,null,null,null,null,null,null,null,null,null,null,null,null,null,null,null,null,null,null,null,null,null,null,null,null,null,null,null,null,null,null,null,null,null,null,null,null,null,null,null,null,null,null,null,null,null,null,null,null,null,null,null,null,null,1]
[null,null,null,null,null,"□","密閉型汚物入れ・防臭袋",null,null,null,null,null,null,null,null,null,null,null,null,null,{"$f":"IF(AO918=\"有\",\"\",\"◯\")","v":"◯"},"有",null,{"$f":"IF(AO918=\"無\",\"\",\"◯\")","v":""},"無",null,null,null,"個",null,null,null,null,null,null,null,null,null,null,null,"無",null,null,null,null,null,null,null,null,null,null,null,null,null,null,null,null,1]
[null,null,null,null,null,null,null,null,null,null,null,null,null,null,null,null,null,null,null,null,null,null,null,null,null,null,null,null,null,null,null,null,null,null,null,null,null,null,null,null,null,null,null,null,null,null,null,null,null,null,null,null,null,null,null,null,null,1]
[null,null,null,null,null,"□","非常トイレ凝固剤",null,null,null,null,null,null,null,null,null,null,null,null,null,{"$f":"IF(AO920=\"有\",\"\",\"◯\")","v":"◯"},"有",null,{"$f":"IF(AO920=\"無\",\"\",\"◯\")","v":""},"無",null,null,null,"個",null,null,null,null,null,null,null,null,null,null,null,"無",null,null,null,null,null,null,null,null,null,null,null,null,null,null,null,null,1]
[null,null,null,null,null,null,null,null,null,null,null,null,null,null,null,null,null,null,null,null,null,null,null,null,null,null,null,null,null,null,null,null,null,null,null,null,null,null,null,null,null,null,null,null,null,null,null,null,null,null,null,null,null,null,null,null,null,1]
[null,null,null,null,null,"□","お尻拭き",null,null,null,null,null,null,null,null,null,null,null,null,null,{"$f":"IF(AO922=\"有\",\"\",\"◯\")","v":"◯"},"有",null,{"$f":"IF(AO922=\"無\",\"\",\"◯\")","v":""},"無",null,null,null,"セット",null,null,null,null,null,null,null,null,null,null,null,"無",null,null,null,null,null,null,null,null,null,null,null,null,null,null,null,null,1]
[null,null,null,null,null,null,null,null,null,null,null,null,null,null,null,null,null,null,null,null,null,null,null,null,null,null,null,null,null,null,null,null,null,null,null,null,null,null,null,null,null,null,null,null,null,null,null,null,null,null,null,null,null,null,null,null,null,1]
[null,null,null,null,null,"□","その他",null,null,null,null,null,null,null,null,null,null,null,null,null,null,null,null,null,null,null,null,null,null,null,null,null,null,null,null,null,null,null,null,null,null,null,null,null,null,null,null,null,null,null,null,null,null,null,null,null,null,1]
[null,null,null,null,null,null,null,null,null,null,null,null,null,null,null,null,null,null,null,null,null,null,null,null,null,null,null,null,null,null,null,null,null,null,null,null,null,null,null,null,null,null,null,null,null,null,null,null,null,null,null,null,null,null,null,null,null,1]
[null,null,null,null,null,null,null,null,null,null,null,null,null,null,null,null,null,null,null,null,null,null,null,null,null,null,null,null,null,null,null,null,null,null,null,null,null,null,null,null,null,null,null,null,null,null,null,null,null,null,null,null,null,null,null,null,null,1]
[null,null,null,null,"　生活用品",null,null,null,null,null,null,null,null,null,null,null,null,null,null,null,"有",null,null,"無",null,null,"数量",null,null,"目安",null,null,null,null,null,null,null,null,null,null,null,null,null,null,null,null,null,null,null,null,null,null,null,null,null,null,null,1]
[null,null,null,null,null,null,null,null,null,null,null,null,null,null,null,null,null,null,null,null,null,null,null,null,null,null,null,null,null,null,null,null,null,null,null,null,null,null,null,null,null,null,null,null,null,null,null,null,null,null,null,null,null,null,null,null,null,1]
[null,null,null,null,null,"□","ブルーシート",null,null,null,null,null,null,null,null,null,null,null,null,null,{"$f":"IF(AO929=\"有\",\"\",\"◯\")","v":"◯"},"有",null,{"$f":"IF(AO929=\"無\",\"\",\"◯\")","v":""},"無",null,null,null,"枚",null,null,null,null,null,null,null,null,null,null,null,"無",null,null,null,null,null,null,null,null,null,null,null,null,null,null,null,null,1]
[null,null,null,null,null,null,null,null,null,null,null,null,null,null,null,null,null,null,null,null,null,null,null,null,null,null,null,null,null,null,null,null,null,null,null,null,null,null,null,null,null,null,null,null,null,null,null,null,null,null,null,null,null,null,null,null,null,1]
[null,null,null,null,null,"□","食品用ラップ",null,null,null,null,null,null,null,null,null,null,null,null,null,{"$f":"IF(AO931=\"有\",\"\",\"◯\")","v":"◯"},"有",null,{"$f":"IF(AO931=\"無\",\"\",\"◯\")","v":""},"無",null,null,null,"本",null,null,null,null,null,null,null,null,null,null,null,"無",null,null,null,null,null,null,null,null,null,null,null,null,null,null,null,null,1]
[null,null,null,null,null,null,null,null,null,null,null,null,null,null,null,null,null,null,null,null,null,null,null,null,null,null,null,null,null,null,null,null,null,null,null,null,null,null,null,null,null,null,null,null,null,null,null,null,null,null,null,null,null,null,null,null,null,1]
[null,null,null,null,null,"□","ポリ袋",null,null,null,null,null,null,null,null,null,null,null,null,null,{"$f":"IF(AO933=\"有\",\"\",\"◯\")","v":"◯"},"有",null,{"$f":"IF(AO933=\"無\",\"\",\"◯\")","v":""},"無",null,null,null,"枚",null,null,null,null,null,null,null,null,null,null,null,"無",null,null,null,null,null,null,null,null,null,null,null,null,null,null,null,null,1]
[null,null,null,null,null,null,null,null,null,null,null,null,null,null,null,null,null,null,null,null,null,null,null,null,null,null,null,null,null,null,null,null,null,null,null,null,null,null,null,null,null,null,null,null,null,null,null,null,null,null,null,null,null,null,null,null,null,1]
[null,null,null,null,null,"□","紙コップ・紙皿・割りばし",null,null,null,null,null,null,null,null,null,null,null,null,null,{"$f":"IF(AO935=\"有\",\"\",\"◯\")","v":"◯"},"有",null,{"$f":"IF(AO935=\"無\",\"\",\"◯\")","v":""},"無",null,null,null,"セット",null,"一人 3回分/日",null,null,null,null,null,null,null,null,null,"無",null,null,null,null,null,null,null,null,null,null,null,null,null,null,null,null,1]
[null,null,null,null,null,null,null,null,null,null,null,null,null,null,null,null,null,null,null,null,null,null,null,null,null,null,null,null,null,null,null,null,null,null,null,null,null,null,null,null,null,null,null,null,null,null,null,null,null,null,null,null,null,null,null,null,null,1]
[null,null,null,null,null,"□","スマートフォン・モバイルバッテリー",null,null,null,null,null,null,null,null,null,null,null,null,null,{"$f":"IF(AO937=\"有\",\"\",\"◯\")","v":"◯"},"有",null,{"$f":"IF(AO937=\"無\",\"\",\"◯\")","v":""},"無",null,null,null,"個",null,null,null,null,null,null,null,null,null,null,null,"無",null,null,null,null,null,null,null,null,null,null,null,null,null,null,null,null,1]
[null,null,null,null,null,null,null,null,null,null,null,null,null,null,null,null,null,null,null,null,null,null,null,null,null,null,null,null,null,null,null,null,null,null,null,null,null,null,null,null,null,null,null,null,null,null,null,null,null,null,null,null,null,null,null,null,null,1]
[null,null,null,null,null,"□","電池",null,null,null,null,null,null,null,null,null,null,null,null,null,{"$f":"IF(AO939=\"有\",\"\",\"◯\")","v":"◯"},"有",null,{"$f":"IF(AO939=\"無\",\"\",\"◯\")","v":""},"無",null,null,null,"個",null,null,null,null,null,null,null,null,null,null,null,"無",null,null,null,null,null,null,null,null,null,null,null,null,null,null,null,null,1]
[null,null,null,null,null,null,null,null,null,null,null,null,null,null,null,null,null,null,null,null,null,null,null,null,null,null,null,null,null,null,null,null,null,null,null,null,null,null,null,null,null,null,null,null,null,null,null,null,null,null,null,null,null,null,null,null,null,1]
[null,null,null,null,null,"□","ライター",null,null,null,null,null,null,null,null,null,null,null,null,null,{"$f":"IF(AO941=\"有\",\"\",\"◯\")","v":"◯"},"有",null,{"$f":"IF(AO941=\"無\",\"\",\"◯\")","v":""},"無",null,null,null,"個",null,null,null,null,null,null,null,null,null,null,null,"無",null,null,null,null,null,null,null,null,null,null,null,null,null,null,null,null,1]
[null,null,null,null,null,null,null,null,null,null,null,null,null,null,null,null,null,null,null,null,null,null,null,null,null,null,null,null,null,null,null,null,null,null,null,null,null,null,null,null,null,null,null,null,null,null,null,null,null,null,null,null,null,null,null,null,null,1]
[null,null,null,null,null,"□","調理器具（携帯用ガスコンロ、鍋等）",null,null,null,null,null,null,null,null,null,null,null,null,null,{"$f":"IF(AO943=\"有\",\"\",\"◯\")","v":"◯"},"有",null,{"$f":"IF(AO943=\"無\",\"\",\"◯\")","v":""},"無",null,null,null,"セット",null,null,null,null,null,null,null,null,null,null,null,"無",null,null,null,null,null,null,null,null,null,null,null,null,null,null,null,null,1]
[null,null,null,null,null,null,null,null,null,null,null,null,null,null,null,null,null,null,null,null,null,null,null,null,null,null,null,null,null,null,null,null,null,null,null,null,null,null,null,null,null,null,null,null,null,null,null,null,null,null,null,null,null,null,null,null,null,1]
[null,null,null,null,null,"□","その他",null,null,null,null,null,null,null,null,null,null,null,null,null,null,null,null,null,null,null,null,null,null,null,null,null,null,null,null,null,null,null,null,null,null,null,null,null,null,null,null,null,null,null,null,null,null,null,null,null,null,1]
[null,null,null,null,null,null,null,null,null,null,null,null,null,null,null,null,null,null,null,null,null,null,null,null,null,null,null,null,null,null,null,null,null,null,null,null,null,null,null,null,null,null,null,null,null,null,null,null,null,null,null,null,null,null,null,null,null,1]
[null,null,null,null,null,null,null,null,null,null,null,null,null,null,null,null,null,null,null,null,null,null,null,null,null,null,null,null,null,null,null,null,null,null,null,null,null,null,null,null,null,null,null,null,null,null,null,null,null,null,null,null,null,null,null,null,null,1]
[null,null,null,null,"　救急救助",null,null,null,null,null,null,null,null,null,null,null,null,null,null,null,"有",null,null,"無",null,null,"数量",null,null,"目安",null,null,null,null,null,null,null,null,null,null,null,null,null,null,null,null,null,null,null,null,null,null,null,null,null,null,null,1]
[null,null,null,null,null,null,null,null,null,null,null,null,null,null,null,null,null,null,null,null,null,null,null,null,null,null,null,null,null,null,null,null,null,null,null,null,null,null,null,null,null,null,null,null,null,null,null,null,null,null,null,null,null,null,null,null,null,1]
[null,null,null,null,null,"□","医薬品（解熱剤・鎮痛剤・胃薬・整腸剤など）",null,null,null,null,null,null,null,null,null,null,null,null,null,{"$f":"IF(AO950=\"有\",\"\",\"◯\")","v":"◯"},"有",null,{"$f":"IF(AO950=\"無\",\"\",\"◯\")","v":""},"無",null,null,null,"人分",null,null,null,null,null,null,null,null,null,null,null,"無",null,null,null,null,null,null,null,null,null,null,null,null,null,null,null,null,1]
[null,null,null,null,null,null,null,null,null,null,null,null,null,null,null,null,null,null,null,null,null,null,null,null,null,null,null,null,null,null,null,null,null,null,null,null,null,null,null,null,null,null,null,null,null,null,null,null,null,null,null,null,null,null,null,null,null,1]
[null,null,null,null,null,"□","救急セット（ガーゼ・脱脂綿・消毒液・包帯・絆創膏・シップ・体温計など）",null,null,null,null,null,null,null,null,null,null,null,null,null,{"$f":"IF(AO952=\"有\",\"\",\"◯\")","v":"◯"},"有",null,{"$f":"IF(AO952=\"無\",\"\",\"◯\")","v":""},"無",null,null,null,"人分",null,null,null,null,null,null,null,null,null,null,null,"無",null,null,null,null,null,null,null,null,null,null,null,null,null,null,null,null,1]
[null,null,null,null,null,null,null,null,null,null,null,null,null,null,null,null,null,null,null,null,null,null,null,null,null,null,null,null,null,null,null,null,null,null,null,null,null,null,null,null,null,null,null,null,null,null,null,null,null,null,null,null,null,null,null,null,null,1]
[null,null,null,null,null,"□","工具セット（ドライバー・レンチ・ペンチ・金槌・のこぎりなど）",null,null,null,null,null,null,null,null,null,null,null,null,null,{"$f":"IF(AO954=\"有\",\"\",\"◯\")","v":"◯"},"有",null,{"$f":"IF(AO954=\"無\",\"\",\"◯\")","v":""},"無",null,null,null,"セット",null,null,null,null,null,null,null,null,null,null,null,"無",null,null,null,null,null,null,null,null,null,null,null,null,null,null,null,null,1]
[null,null,null,null,null,null,null,null,null,null,null,null,null,null,null,null,null,null,null,null,null,null,null,null,null,null,null,null,null,null,null,null,null,null,null,null,null,null,null,null,null,null,null,null,null,null,null,null,null,null,null,null,null,null,null,null,null,1]
[null,null,null,null,null,"□","その他",null,null,null,null,null,null,null,null,null,null,null,null,null,null,null,null,null,null,null,null,null,null,null,null,null,null,null,null,null,null,null,null,null,null,null,null,null,null,null,null,null,null,null,null,null,null,null,null,null,null,1]
[null,null,null,null,null,null,null,null,null,null,null,null,null,null,null,null,null,null,null,null,null,null,null,null,null,null,null,null,null,null,null,null,null,null,null,null,null,null,null,null,null,null,null,null,null,null,null,null,null,null,null,null,null,null,null,null,null,1]
[null,null,null,null,null,null,null,null,null,null,null,null,null,null,null,null,null,null,null,null,null,null,null,null,null,null,null,null,null,null,null,null,null,null,null,null,null,null,null,null,null,null,null,null,null,null,null,null,null,null,null,null,null,null,null,null,null,1]
[null,null,null,null,"　防災用品",null,null,null,null,null,null,null,null,null,null,null,null,null,null,null,"有",null,null,"無",null,null,"数量",null,null,"目安",null,null,null,null,null,null,null,null,null,null,null,null,null,null,null,null,null,null,null,null,null,null,null,null,null,null,null,1]
[null,null,null,null,null,null,null,null,null,null,null,null,null,null,null,null,null,null,null,null,null,null,null,null,null,null,null,null,null,null,null,null,null,null,null,null,null,null,null,null,null,null,null,null,null,null,null,null,null,null,null,null,null,null,null,null,null,1]
[null,null,null,null,null,"□","ヘルメット・軍手・運動靴",null,null,null,null,null,null,null,null,null,null,null,null,null,{"$f":"IF(AO961=\"有\",\"\",\"◯\")","v":"◯"},"有",null,{"$f":"IF(AO961=\"無\",\"\",\"◯\")","v":""},"無",null,null,null,"人分",null,null,null,null,null,null,null,null,null,null,null,"無",null,null,null,null,null,null,null,null,null,null,null,null,null,null,null,null,1]
[null,null,null,null,null,null,null,null,null,null,null,null,null,null,null,null,null,null,null,null,null,null,null,null,null,null,null,null,null,null,null,null,null,null,null,null,null,null,null,null,null,null,null,null,null,null,null,null,null,null,null,null,null,null,null,null,null,1]
[null,null,null,null,null,"□","ホイッスル・LEDライト・ランタン",null,null,null,null,null,null,null,null,null,null,null,null,null,{"$f":"IF(AO963=\"有\",\"\",\"◯\")","v":"◯"},"有",null,{"$f":"IF(AO963=\"無\",\"\",\"◯\")","v":""},"無",null,null,null,"個",null,null,null,null,null,null,null,null,null,null,null,"無",null,null,null,null,null,null,null,null,null,null,null,null,null,null,null,null,1]
[null,null,null,null,null,null,null,null,null,null,null,null,null,null,null,null,null,null,null,null,null,null,null,null,null,null,null,null,null,null,null,null,null,null,null,null,null,null,null,null,null,null,null,null,null,null,null,null,null,null,null,null,null,null,null,null,null,1]
[null,null,null,null,null,"□","寝袋・毛布・エアーマット",null,null,null,null,null,null,null,null,null,null,null,null,null,{"$f":"IF(AO965=\"有\",\"\",\"◯\")","v":"◯"},"有",null,{"$f":"IF(AO965=\"無\",\"\",\"◯\")","v":""},"無",null,null,null,"人分",null,null,null,null,null,null,null,null,null,null,null,"無",null,null,null,null,null,null,null,null,null,null,null,null,null,null,null,null,1]
[null,null,null,null,null,null,null,null,null,null,null,null,null,null,null,null,null,null,null,null,null,null,null,null,null,null,null,null,null,null,null,null,null,null,null,null,null,null,null,null,null,null,null,null,null,null,null,null,null,null,null,null,null,null,null,null,null,1]
[null,null,null,null,null,"□","カイロ",null,null,null,null,null,null,null,null,null,null,null,null,null,{"$f":"IF(AO967=\"有\",\"\",\"◯\")","v":"◯"},"有",null,{"$f":"IF(AO967=\"無\",\"\",\"◯\")","v":""},"無",null,null,null,"個",null,"一人 2個/日",null,null,null,null,null,null,null,null,null,"無",null,null,null,null,null,null,null,null,null,null,null,null,null,null,null,null,1]
[null,null,null,null,null,null,null,null,null,null,null,null,null,null,null,null,null,null,null,null,null,null,null,null,null,null,null,null,null,null,null,null,null,null,null,null,null,null,null,null,null,null,null,null,null,null,null,null,null,null,null,null,null,null,null,null,null,1]
[null,null,null,null,null,"□","ラジオ",null,null,null,null,null,null,null,null,null,null,null,null,null,{"$f":"IF(AO969=\"有\",\"\",\"◯\")","v":"◯"},"有",null,{"$f":"IF(AO969=\"無\",\"\",\"◯\")","v":""},"無",null,null,null,"台",null,null,null,null,null,null,null,null,null,null,null,"無",null,null,null,null,null,null,null,null,null,null,null,null,null,null,null,null,1]
[null,null,null,null,null,null,null,null,null,null,null,null,null,null,null,null,null,null,null,null,null,null,null,null,null,null,null,null,null,null,null,null,null,null,null,null,null,null,null,null,null,null,null,null,null,null,null,null,null,null,null,null,null,null,null,null,null,1]
[null,null,null,null,null,"□","防災手帳・広域避難地図",null,null,null,null,null,null,null,null,null,null,null,null,null,{"$f":"IF(AO971=\"有\",\"\",\"◯\")","v":"◯"},"有",null,{"$f":"IF(AO971=\"無\",\"\",\"◯\")","v":""},"無",null,null,null,"人分",null,null,null,null,null,null,null,null,null,null,null,"無",null,null,null,null,null,null,null,null,null,null,null,null,null,null,null,null,1]
[null,null,null,null,null,null,null,null,null,null,null,null,null,null,null,null,null,null,null,null,null,null,null,null,null,null,null,null,null,null,null,null,null,null,null,null,null,null,null,null,null,null,null,null,null,null,null,null,null,null,null,null,null,null,null,null,null,1]
[null,null,null,null,null,"□","その他",null,null,null,null,null,null,null,null,null,null,null,null,null,"□扇風機5台",null,null,null,null,null,null,null,null,null,null,null,null,null,null,null,null,null,null,null,null,null,null,null,null,null,null,null,null,null,null,null,null,null,null,null,null,1]
[null,null,null,null,null,null,null,null,null,null,null,null,null,null,null,null,null,null,null,null,null,null,null,null,null,null,null,null,null,null,null,null,null,null,null,null,null,null,null,null,null,null,null,null,null,null,null,null,null,null,null,null,null,null,null,null,null,1]
[null,null,null,null,null,null,null,null,null,null,null,null,null,null,null,null,null,null,null,null,null,null,null,null,null,null,null,null,null,null,null,null,null,null,null,null,null,null,null,null,null,null,null,null,null,null,null,null,null,null,null,null,null,null,null,null,null,1]
[null,null,null,null,"　オフィス・災害対策本部",null,null,null,null,null,null,null,null,null,null,null,null,null,null,null,"有",null,null,"無",null,null,"数量",null,null,"目安",null,null,null,null,null,null,null,null,null,null,null,null,null,null,null,null,null,null,null,null,null,null,null,null,null,null,null,1]
[null,null,null,null,null,null,null,null,null,null,null,null,null,null,null,null,null,null,null,null,null,null,null,null,null,null,null,null,null,null,null,null,null,null,null,null,null,null,null,null,null,null,null,null,null,null,null,null,null,null,null,null,null,null,null,null,null,1]
[null,null,null,null,null,"□","非常用発電機",null,null,null,null,null,null,null,null,null,null,null,null,null,{"$f":"IF(AO978=\"有\",\"\",\"◯\")","v":"◯"},"有",null,{"$f":"IF(AO978=\"無\",\"\",\"◯\")","v":""},"無",null,null,null,"台",null,null,null,null,null,null,null,null,null,null,null,"無",null,null,null,null,null,null,null,null,null,null,null,null,null,null,null,null,1]
[null,null,null,null,null,null,null,null,null,null,null,null,null,null,null,null,null,null,null,null,null,null,null,null,null,null,null,null,null,null,null,null,null,null,null,null,null,null,null,null,null,null,null,null,null,null,null,null,null,null,null,null,null,null,null,null,null,1]
[null,null,null,null,null,"□","電源タップ",null,null,null,null,null,null,null,null,null,null,null,null,null,{"$f":"IF(AO980=\"有\",\"\",\"◯\")","v":"◯"},"有",null,{"$f":"IF(AO980=\"無\",\"\",\"◯\")","v":""},"無",null,null,null,"個",null,null,null,null,null,null,null,null,null,null,null,"無",null,null,null,null,null,null,null,null,null,null,null,null,null,null,null,null,1]
[null,null,null,null,null,null,null,null,null,null,null,null,null,null,null,null,null,null,null,null,null,null,null,null,null,null,null,null,null,null,null,null,null,null,null,null,null,null,null,null,null,null,null,null,null,null,null,null,null,null,null,null,null,null,null,null,null,1]
[null,null,null,null,null,"□","延長ケーブル",null,null,null,null,null,null,null,null,null,null,null,null,null,{"$f":"IF(AO982=\"有\",\"\",\"◯\")","v":"◯"},"有",null,{"$f":"IF(AO982=\"無\",\"\",\"◯\")","v":""},"無",null,null,null,"本",null,null,null,null,null,null,null,null,null,null,null,"無",null,null,null,null,null,null,null,null,null,null,null,null,null,null,null,null,1]
[null,null,null,null,null,null,null,null,null,null,null,null,null,null,null,null,null,null,null,null,null,null,null,null,null,null,null,null,null,null,null,null,null,null,null,null,null,null,null,null,null,null,null,null,null,null,null,null,null,null,null,null,null,null,null,null,null,1]
[null,null,null,null,null,"□","台車・折りたたみリヤカー",null,null,null,null,null,null,null,null,null,null,null,null,null,{"$f":"IF(AO984=\"有\",\"\",\"◯\")","v":"◯"},"有",null,{"$f":"IF(AO984=\"無\",\"\",\"◯\")","v":""},"無",null,null,null,"台",null,null,null,null,null,null,null,null,null,null,null,"無",null,null,null,null,null,null,null,null,null,null,null,null,null,null,null,null,1]
[null,null,null,null,null,null,null,null,null,null,null,null,null,null,null,null,null,null,null,null,null,null,null,null,null,null,null,null,null,null,null,null,null,null,null,null,null,null,null,null,null,null,null,null,null,null,null,null,null,null,null,null,null,null,null,null,null,1]
[null,null,null,null,null,"□","サイレン付拡声器",null,null,null,null,null,null,null,null,null,null,null,null,null,{"$f":"IF(AO986=\"有\",\"\",\"◯\")","v":"◯"},"有",null,{"$f":"IF(AO986=\"無\",\"\",\"◯\")","v":""},"無",null,null,null,"台",null,null,null,null,null,null,null,null,null,null,null,"無",null,null,null,null,null,null,null,null,null,null,null,null,null,null,null,null,1]
[null,null,null,null,null,null,null,null,null,null,null,null,null,null,null,null,null,null,null,null,null,null,null,null,null,null,null,null,null,null,null,null,null,null,null,null,null,null,null,null,null,null,null,null,null,null,null,null,null,null,null,null,null,null,null,null,null,1]
[null,null,null,null,null,"□","連絡用簡易無線機・衛星携帯電話・トランシーバー",null,null,null,null,null,null,null,null,null,null,null,null,null,{"$f":"IF(AO988=\"有\",\"\",\"◯\")","v":"◯"},"有",null,{"$f":"IF(AO988=\"無\",\"\",\"◯\")","v":""},"無",null,null,null,"台",null,null,null,null,null,null,null,null,null,null,null,"無",null,null,null,null,null,null,null,null,null,null,null,null,null,null,null,null,1]
[null,null,null,null,null,null,null,null,null,null,null,null,null,null,null,null,null,null,null,null,null,null,null,null,null,null,null,null,null,null,null,null,null,null,null,null,null,null,null,null,null,null,null,null,null,null,null,null,null,null,null,null,null,null,null,null,null,1]
[null,null,null,null,null,"□","投光器・コードリール（屋外用）",null,null,null,null,null,null,null,null,null,null,null,null,null,{"$f":"IF(AO990=\"有\",\"\",\"◯\")","v":"◯"},"有",null,{"$f":"IF(AO990=\"無\",\"\",\"◯\")","v":""},"無",null,null,null,"台",null,null,null,null,null,null,null,null,null,null,null,"無",null,null,null,null,null,null,null,null,null,null,null,null,null,null,null,null,1]
[null,null,null,null,null,null,null,null,null,null,null,null,null,null,null,null,null,null,null,null,null,null,null,null,null,null,null,null,null,null,null,null,null,null,null,null,null,null,null,null,null,null,null,null,null,null,null,null,null,null,null,null,null,null,null,null,null,1]
[null,null,null,null,null,"□","避難用防煙ビニール袋・避難ロープ・吊下式避難はしご",null,null,null,null,null,null,null,null,null,null,null,null,null,{"$f":"IF(AO992=\"有\",\"\",\"◯\")","v":"◯"},"有",null,{"$f":"IF(AO992=\"無\",\"\",\"◯\")","v":""},"無",null,null,null,"本/台",null,null,null,null,null,null,null,null,null,null,null,"無",null,null,null,null,null,null,null,null,null,null,null,null,null,null,null,null,1]
[null,null,null,null,null,null,null,null,null,null,null,null,null,null,null,null,null,null,null,null,null,null,null,null,null,null,null,null,null,null,null,null,null,null,null,null,null,null,null,null,null,null,null,null,null,null,null,null,null,null,null,null,null,null,null,null,null,1]
[null,null,null,null,null,"□","消火器",null,null,null,null,null,null,null,null,null,null,null,null,null,{"$f":"IF(AO994=\"有\",\"\",\"◯\")","v":"◯"},"有",null,{"$f":"IF(AO994=\"無\",\"\",\"◯\")","v":""},"無",null,null,null,"個",null,null,null,null,null,null,null,null,null,null,null,"無",null,null,null,null,null,null,null,null,null,null,null,null,null,null,null,null,1]
[null,null,null,null,null,null,null,null,null,null,null,null,null,null,null,null,null,null,null,null,null,null,null,null,null,null,null,null,null,null,null,null,null,null,null,null,null,null,null,null,null,null,null,null,null,null,null,null,null,null,null,null,null,null,null,null,null,1]
[null,null,null,null,null,"□","その他",null,null,null,null,null,null,null,null,null,null,null,null,null,null,null,null,null,null,null,null,null,null,null,null,null,null,null,null,null,null,null,null,null,null,null,null,null,null,null,null,null,null,null,null,null,null,null,null,null,null,1]
[null,null,null,null,null,null,null,null,null,null,null,null,null,null,null,null,null,null,null,null,null,null,null,null,null,null,null,null,null,null,null,null,null,null,null,null,null,null,null,null,null,null,null,null,null,null,null,null,null,null,null,null,null,null,null,null,null,1]
[null,null,null,null,null,null,null,null,null,null,null,null,null,null,null,null,null,null,null,null,null,null,null,null,null,null,null,null,null,null,null,null,null,null,null,null,null,null,null,null,null,null,null,null,null,null,null,null,null,null,null,null,null,null,null,null,null,1]
[null,null,null,"10. 資料編",null,null,null,null,null,null,null,null,null,null,null,null,null,null,null,null,null,null,null,null,null,null,null,null,null,null,null,null,null,null,null,null,null,null,null,"⑩",null,null,null,null,null,null,null,null,null,null,null,null,null,null,null,null,null,1]
[null,null,null,null,null,null,null,null,null,null,null,null,null,null,null,null,null,null,null,null,null,null,null,null,null,null,null,null,null,null,null,null,null,null,null,null,null,null,null,null,null,null,null,null,null,null,null,null,null,null,null,null,null,null,null,null,null,1]
[null,null,null,null,"●【6.1 対策の検討】において「対策時期」を「事前」にチェックを入れた項目が転記されます。\n　 これらの項目は、普段から災害に備え準備をしておく、いわば「防災対策」であり、災害発生当日の対応では間に合いません。\n　 対策時期や役割分担などを整理し、災害に備えるようにしてください。",null,null,null,null,null,null,null,null,null,null,null,null,null,null,null,null,null,null,null,null,null,null,null,null,null,null,null,null,null,null,null,null,null,null,null,null,null,null,null,null,null,null,null,null,null,null,null,null,null,null,null,null,1]
[null,null,null,null,null,null,null,null,null,null,null,null,null,null,null,null,null,null,null,null,null,null,null,null,null,null,null,null,null,null,null,null,null,null,null,null,null,null,null,null,null,null,null,null,null,null,null,null,null,null,null,null,null,null,null,null,null,1]
[null,null,null,null,null,"重要事業に必要な資源",null,null,null,null,null,"浸水被害の内容",null,null,null,null,null,null,null,null,null,null,"具体的な対策内容",null,null,null,null,null,null,null,null,null,null,null,null,null,null,null,null,null,{"$f":"ROW(AN464)","v":464},null,null,null,null,null,null,null,null,null,null,null,null,null,10,null,null,{"$f":"IF($AO$465=TRUE,1,0)","v":1}]
[null,null,null,null,null,null,null,null,null,null,null,null,null,null,null,null,null,null,null,null,null,null,null,null,null,null,null,null,null,null,null,null,null,null,null,null,null,null,null,null,null,null,null,null,null,null,null,null,null,null,null,null,null,null,null,null,null,{"$f":"BF1003","v":1}]
[null,null,null,null,null,"インフラ",null,{"$f":"INDIRECT(\"H\"&AS1005+$AO$1003)&\"\"","v":"電気"},null,null,null,{"$f":"INDIRECT(\"L\"&AS1005+$AO$1003)&\"\"","v":"電気が供給されない"},null,null,null,null,null,null,null,null,null,null,{"$f":"INDIRECT(\"V\"&AS1005+$AO$1003)&\"\"","v":"発電機を購入する"},null,null,null,null,null,null,null,null,null,null,null,null,null,null,null,null,null,null,null,null,null,1,null,null,null,null,{"$f":"IF(F1007=\"\",\"\",F1007)","v":"2023年3月までに"},{"$f":"IF(L1007=\"\",\"\",L1007)","v":"総務部長"},{"$f":"IF(R1007=\"\",\"\",R1007)","v":"年内に、購入する発電機の検討を開始する"},{"$f":"IF(AA1007=\"\",\"\",AA1007)","v":"財務部長と要調整"},{"$f":"VLOOKUP(AS1005,$AS$820:$AZ$873,8)","v":1},null,null,null,{"$f":"IF(INDIRECT(\"AO\"&AS1005+$AO$1003)=TRUE,1,0)","v":1}]
[null,null,null,null,null,"（実施時期）",null,null,null,null,null,"（誰が）",null,null,null,null,null,"（自由記入）",null,null,null,null,null,null,null,null,"（自由記入）",null,null,null,null,null,null,null,null,null,null,null,null,null,null,null,null,null,null,null,null,null,null,null,null,null,null,null,null,null,null,{"$f":"BF1005","v":1}]
[null,null,null,null,null,"2023年3月までに",null,null,null,null,null,"総務部長",null,null,null,null,null,"年内に、購入する発電機の検討を開始する",null,null,null,null,null,null,null,null,"財務部長と要調整",null,null,null,null,null,null,null,null,null,null,null,null,null,null,null,null,null,null,null,null,null,null,null,null,null,null,null,null,null,null,{"$f":"BF1006","v":1}]
[null,null,null,null,null,null,null,null,null,null,null,null,null,null,null,null,null,null,null,null,null,null,null,null,null,null,null,null,null,null,null,null,null,null,null,null,null,null,null,null,null,null,null,null,null,null,null,null,null,null,null,null,null,null,null,null,null,1]
[null,null,null,null,null,"インフラ",null,{"$f":"INDIRECT(\"H\"&AS1009+$AO$1003)&\"\"","v":"水道"},null,null,null,{"$f":"INDIRECT(\"L\"&AS1009+$AO$1003)&\"\"","v":"飲料水や生活用水が供給されない"},null,null,null,null,null,null,null,null,null,null,{"$f":"INDIRECT(\"V\"&AS1009+$AO$1003)&\"\"","v":"必要な水を高台にある営業所に備蓄する"},null,null,null,null,null,null,null,null,null,null,null,null,null,null,null,null,null,null,null,null,null,2,null,null,null,null,{"$f":"IF(F1011=\"\",\"\",F1011)","v":"2022年12月までに"},{"$f":"IF(L1011=\"\",\"\",L1011)","v":"総務部長"},{"$f":"IF(R1011=\"\",\"\",R1011)","v":"従業員数×3日分の飲料水を購入する"},{"$f":"IF(AA1011=\"\",\"\",AA1011)","v":""},{"$f":"VLOOKUP(AS1009,$AS$820:$AZ$873,8)","v":2},null,null,null,{"$f":"IF(INDIRECT(\"AO\"&AS1009+$AO$1003)=TRUE,1,0)","v":1}]
[null,null,null,null,null,"（実施時期）",null,null,null,null,null,"（誰が）",null,null,null,null,null,"（自由記入）",null,null,null,null,null,null,null,null,"（自由記入）",null,null,null,null,null,null,null,null,null,null,null,null,null,null,null,null,null,null,null,null,null,null,null,null,null,null,null,null,null,null,{"$f":"BF1009","v":1}]
[null,null,null,null,null,"2022年12月までに",null,null,null,null,null,"総務部長",null,null,null,null,null,"従業員数×3日分の飲料水を購入する",null,null,null,null,null,null,null,null,null,null,null,null,null,null,null,null,null,null,null,null,null,null,null,null,null,null,null,null,null,null,null,null,null,null,null,null,null,null,null,{"$f":"BF1010","v":1}]
[null,null,null,null,null,null,null,null,null,null,null,null,null,null,null,null,null,null,null,null,null,null,null,null,null,null,null,null,null,null,null,null,null,null,null,null,null,null,null,null,null,null,null,null,null,null,null,null,null,null,null,null,null,null,null,null,null,1]
[null,null,null,null,null,"インフラ",null,{"$f":"INDIRECT(\"H\"&AS1013+$AO$1003)&\"\"","v":"道路"},null,null,null,{"$f":"INDIRECT(\"L\"&AS1013+$AO$1003)&\"\"","v":"道路が通行止めとなる"},null,null,null,null,null,null,null,null,null,null,{"$f":"INDIRECT(\"V\"&AS1013+$AO$1003)&\"\"","v":""},null,null,null,null,null,null,null,null,null,null,null,null,null,null,null,null,null,null,null,null,null,3,null,null,null,null,{"$f":"IF(F1015=\"\",\"\",F1015)","v":""},{"$f":"IF(L1015=\"\",\"\",L1015)","v":""},{"$f":"IF(R1015=\"\",\"\",R1015)","v":""},{"$f":"IF(AA1015=\"\",\"\",AA1015)","v":""},{"$f":"VLOOKUP(AS1013,$AS$820:$AZ$873,8)","v":3},null,null,null,{"$f":"IF(INDIRECT(\"AO\"&AS1013+$AO$1003)=TRUE,1,0)","v":0}]
[null,null,null,null,null,"（実施時期）",null,null,null,null,null,"（誰が）",null,null,null,null,null,"（自由記入）",null,null,null,null,null,null,null,null,"（自由記入）",null,null,null,null,null,null,null,null,null,null,null,null,null,null,null,null,null,null,null,null,null,null,null,null,null,null,null,null,null,null,{"$f":"BF1013","v":0}]
[null,null,null,null,null,null,null,null,null,null,null,null,null,null,null,null,null,null,null,null,null,null,null,null,null,null,null,null,null,null,null,null,null,null,null,null,null,null,null,null,null,null,null,null,null,null,null,null,null,null,null,null,null,null,null,null,null,{"$f":"BF1014","v":0}]
[null,null,null,null,null,null,null,null,null,null,null,null,null,null,null,null,null,null,null,null,null,null,null,null,null,null,null,null,null,null,null,null,null,null,null,null,null,null,null,null,null,null,null,null,null,null,null,null,null,null,null,null,null,null,null,null,null,0]
[null,null,null,null,null,"インフラ",null,{"$f":"INDIRECT(\"H\"&AS1017+$AO$1003)&\"\"","v":""},null,null,null,{"$f":"INDIRECT(\"L\"&AS1017+$AO$1003)&\"\"","v":""},null,null,null,null,null,null,null,null,null,null,{"$f":"INDIRECT(\"V\"&AS1017+$AO$1003)&\"\"","v":""},null,null,null,null,null,null,null,null,null,null,null,null,null,null,null,null,null,null,null,null,null,4,null,null,null,null,{"$f":"IF(F1019=\"\",\"\",F1019)","v":""},{"$f":"IF(L1019=\"\",\"\",L1019)","v":""},{"$f":"IF(R1019=\"\",\"\",R1019)","v":""},{"$f":"IF(AA1019=\"\",\"\",AA1019)","v":""},{"$f":"VLOOKUP(AS1017,$AS$820:$AZ$873,8)","v":0},null,null,null,{"$f":"IF(INDIRECT(\"AO\"&AS1017+$AO$1003)=TRUE,1,0)","v":0}]
[null,null,null,null,null,"（実施時期）",null,null,null,null,null,"（誰が）",null,null,null,null,null,"（自由記入）",null,null,null,null,null,null,null,null,"（自由記入）",null,null,null,null,null,null,null,null,null,null,null,null,null,null,null,null,null,null,null,null,null,null,null,null,null,null,null,null,null,null,{"$f":"BF1017","v":0}]
[null,null,null,null,null,null,null,null,null,null,null,null,null,null,null,null,null,null,null,null,null,null,null,null,null,null,null,null,null,null,null,null,null,null,null,null,null,null,null,null,null,null,null,null,null,null,null,null,null,null,null,null,null,null,null,null,null,{"$f":"BF1018","v":0}]
[null,null,null,null,null,null,null,null,null,null,null,null,null,null,null,null,null,null,null,null,null,null,null,null,null,null,null,null,null,null,null,null,null,null,null,null,null,null,null,null,null,null,null,null,null,null,null,null,null,null,null,null,null,null,null,null,null,0]
[null,null,null,null,null,"インフラ",null,{"$f":"INDIRECT(\"H\"&AS1021+$AO$1003)&\"\"","v":""},null,null,null,{"$f":"INDIRECT(\"L\"&AS1021+$AO$1003)&\"\"","v":""},null,null,null,null,null,null,null,null,null,null,{"$f":"INDIRECT(\"V\"&AS1021+$AO$1003)&\"\"","v":""},null,null,null,null,null,null,null,null,null,null,null,null,null,null,null,null,null,null,null,null,null,5,null,null,null,null,{"$f":"IF(F1023=\"\",\"\",F1023)","v":""},{"$f":"IF(L1023=\"\",\"\",L1023)","v":""},{"$f":"IF(R1023=\"\",\"\",R1023)","v":""},{"$f":"IF(AA1023=\"\",\"\",AA1023)","v":""},{"$f":"VLOOKUP(AS1021,$AS$820:$AZ$873,8)","v":0},null,null,null,{"$f":"IF(INDIRECT(\"AO\"&AS1021+$AO$1003)=TRUE,1,0)","v":0}]
[null,null,null,null,null,"（実施時期）",null,null,null,null,null,"（誰が）",null,null,null,null,null,"（自由記入）",null,null,null,null,null,null,null,null,"（自由記入）",null,null,null,null,null,null,null,null,null,null,null,null,null,null,null,null,null,null,null,null,null,null,null,null,null,null,null,null,null,null,{"$f":"BF1021","v":0}]
[null,null,null,null,null,null,null,null,null,null,null,null,null,null,null,null,null,null,null,null,null,null,null,null,null,null,null,null,null,null,null,null,null,null,null,null,null,null,null,null,null,null,null,null,null,null,null,null,null,null,null,null,null,null,null,null,null,{"$f":"BF1022","v":0}]
[null,null,null,null,null,null,null,null,null,null,null,null,null,null,null,null,null,null,null,null,null,null,null,null,null,null,null,null,null,null,null,null,null,null,null,null,null,null,null,null,null,null,null,null,null,null,null,null,null,null,null,null,null,null,null,null,null,0]
[null,null,null,null,null,"インフラ",null,{"$f":"INDIRECT(\"H\"&AS1025+$AO$1003)&\"\"","v":""},null,null,null,{"$f":"INDIRECT(\"L\"&AS1025+$AO$1003)&\"\"","v":""},null,null,null,null,null,null,null,null,null,null,{"$f":"INDIRECT(\"V\"&AS1025+$AO$1003)&\"\"","v":""},null,null,null,null,null,null,null,null,null,null,null,null,null,null,null,null,null,null,null,null,null,6,null,null,null,null,{"$f":"IF(F1027=\"\",\"\",F1027)","v":""},{"$f":"IF(L1027=\"\",\"\",L1027)","v":""},{"$f":"IF(R1027=\"\",\"\",R1027)","v":""},{"$f":"IF(AA1027=\"\",\"\",AA1027)","v":""},{"$f":"VLOOKUP(AS1025,$AS$820:$AZ$873,8)","v":0},null,null,null,{"$f":"IF(INDIRECT(\"AO\"&AS1025+$AO$1003)=TRUE,1,0)","v":0}]
[null,null,null,null,null,"（実施時期）",null,null,null,null,null,"（誰が）",null,null,null,null,null,"（自由記入）",null,null,null,null,null,null,null,null,"（自由記入）",null,null,null,null,null,null,null,null,null,null,null,null,null,null,null,null,null,null,null,null,null,null,null,null,null,null,null,null,null,null,{"$f":"BF1025","v":0}]
[null,null,null,null,null,null,null,null,null,null,null,null,null,null,null,null,null,null,null,null,null,null,null,null,null,null,null,null,null,null,null,null,null,null,null,null,null,null,null,null,null,null,null,null,null,null,null,null,null,null,null,null,null,null,null,null,null,{"$f":"BF1026","v":0}]
[null,null,null,null,null,null,null,null,null,null,null,null,null,null,null,null,null,null,null,null,null,null,null,null,null,null,null,null,null,null,null,null,null,null,null,null,null,null,null,null,null,null,null,null,null,null,null,null,null,null,null,null,null,null,null,null,null,0]
[null,null,null,null,null,{"$f":"F471&\"\"","v":"人"},null,{"$f":"INDIRECT(\"H\"&AS1029+$AO$1003)&\"\"","v":"従業員（管理者）"},null,null,null,{"$f":"INDIRECT(\"L\"&AS1029+$AO$1003)&\"\"","v":"通行規制等により、本社への参集が不可能となる"},null,null,null,null,null,null,null,null,null,null,{"$f":"INDIRECT(\"V\"&AS1029+$AO$1003)&\"\"","v":"通行規制が予期される場合、本社ではなく、高台営業所に参集するよう連絡する"},null,null,null,null,null,null,null,null,null,null,null,null,null,null,null,null,null,null,null,null,null,7,null,null,null,null,{"$f":"IF(F1031=\"\",\"\",F1031)","v":""},{"$f":"IF(L1031=\"\",\"\",L1031)","v":""},{"$f":"IF(R1031=\"\",\"\",R1031)","v":""},{"$f":"IF(AA1031=\"\",\"\",AA1031)","v":""},{"$f":"VLOOKUP(AS1029,$AS$820:$AZ$873,8)","v":4},null,null,null,{"$f":"IF(INDIRECT(\"AO\"&AS1029+$AO$1003)=TRUE,1,0)","v":0}]
[null,null,null,null,null,"（実施時期）",null,null,null,null,null,"（誰が）",null,null,null,null,null,"（自由記入）",null,null,null,null,null,null,null,null,"（自由記入）",null,null,null,null,null,null,null,null,null,null,null,null,null,null,null,null,null,null,null,null,null,null,null,null,null,null,null,null,null,null,{"$f":"BF1029","v":0}]
[null,null,null,null,null,null,null,null,null,null,null,null,null,null,null,null,null,null,null,null,null,null,null,null,null,null,null,null,null,null,null,null,null,null,null,null,null,null,null,null,null,null,null,null,null,null,null,null,null,null,null,null,null,null,null,null,null,{"$f":"BF1030","v":0}]
[null,null,null,null,null,null,null,null,null,null,null,null,null,null,null,null,null,null,null,null,null,null,null,null,null,null,null,null,null,null,null,null,null,null,null,null,null,null,null,null,null,null,null,null,null,null,null,null,null,null,null,null,null,null,null,null,null,0]
[null,null,null,null,null,{"$f":"F472&\"\"","v":"人"},null,{"$f":"INDIRECT(\"H\"&AS1033+$AO$1003)&\"\"","v":"従業員（作業員）"},null,null,null,{"$f":"INDIRECT(\"L\"&AS1033+$AO$1003)&\"\"","v":"従業員が出勤できない"},null,null,null,null,null,null,null,null,null,null,{"$f":"INDIRECT(\"V\"&AS1033+$AO$1003)&\"\"","v":"従業員のクロストレーニングを実施する"},null,null,null,null,null,null,null,null,null,null,null,null,null,null,null,null,null,null,null,null,null,8,null,null,null,null,{"$f":"IF(F1035=\"\",\"\",F1035)","v":"2024年3月までに"},{"$f":"IF(L1035=\"\",\"\",L1035)","v":"管理部長"},{"$f":"IF(R1035=\"\",\"\",R1035)","v":"年内に、業務に必要なスキルの洗い出しを実施する"},{"$f":"IF(AA1035=\"\",\"\",AA1035)","v":""},{"$f":"VLOOKUP(AS1033,$AS$820:$AZ$873,8)","v":5},null,null,null,{"$f":"IF(INDIRECT(\"AO\"&AS1033+$AO$1003)=TRUE,1,0)","v":1}]
[null,null,null,null,null,"（実施時期）",null,null,null,null,null,"（誰が）",null,null,null,null,null,"（自由記入）",null,null,null,null,null,null,null,null,"（自由記入）",null,null,null,null,null,null,null,null,null,null,null,null,null,null,null,null,null,null,null,null,null,null,null,null,null,null,null,null,null,null,{"$f":"BF1033","v":1}]
[null,null,null,null,null,"2024年3月までに",null,null,null,null,null,"管理部長",null,null,null,null,null,"年内に、業務に必要なスキルの洗い出しを実施する",null,null,null,null,null,null,null,null,null,null,null,null,null,null,null,null,null,null,null,null,null,null,null,null,null,null,null,null,null,null,null,null,null,null,null,null,null,null,null,{"$f":"BF1034","v":1}]
[null,null,null,null,null,null,null,null,null,null,null,null,null,null,null,null,null,null,null,null,null,null,null,null,null,null,null,null,null,null,null,null,null,null,null,null,null,null,null,null,null,null,null,null,null,null,null,null,null,null,null,null,null,null,null,null,null,1]
[null,null,null,null,null,{"$f":"F473&\"\"","v":"人"},null,{"$f":"INDIRECT(\"H\"&AS1037+$AO$1003)&\"\"","v":""},null,null,null,{"$f":"INDIRECT(\"L\"&AS1037+$AO$1003)&\"\"","v":""},null,null,null,null,null,null,null,null,null,null,{"$f":"INDIRECT(\"V\"&AS1037+$AO$1003)&\"\"","v":""},null,null,null,null,null,null,null,null,null,null,null,null,null,null,null,null,null,null,null,null,null,9,null,null,null,null,{"$f":"IF(F1039=\"\",\"\",F1039)","v":""},{"$f":"IF(L1039=\"\",\"\",L1039)","v":""},{"$f":"IF(R1039=\"\",\"\",R1039)","v":""},{"$f":"IF(AA1039=\"\",\"\",AA1039)","v":""},{"$f":"VLOOKUP(AS1037,$AS$820:$AZ$873,8)","v":0},null,null,null,{"$f":"IF(INDIRECT(\"AO\"&AS1037+$AO$1003)=TRUE,1,0)","v":0}]
[null,null,null,null,null,"（実施時期）",null,null,null,null,null,"（誰が）",null,null,null,null,null,"（自由記入）",null,null,null,null,null,null,null,null,"（自由記入）",null,null,null,null,null,null,null,null,null,null,null,null,null,null,null,null,null,null,null,null,null,null,null,null,null,null,null,null,null,null,{"$f":"BF1037","v":0}]
[null,null,null,null,null,null,null,null,null,null,null,null,null,null,null,null,null,null,null,null,null,null,null,null,null,null,null,null,null,null,null,null,null,null,null,null,null,null,null,null,null,null,null,null,null,null,null,null,null,null,null,null,null,null,null,null,null,{"$f":"BF1038","v":0}]
[null,null,null,null,null,null,null,null,null,null,null,null,null,null,null,null,null,null,null,null,null,null,null,null,null,null,null,null,null,null,null,null,null,null,null,null,null,null,null,null,null,null,null,null,null,null,null,null,null,null,null,null,null,null,null,null,null,0]
[null,null,null,null,null,{"$f":"F474&\"\"","v":"物"},null,{"$f":"INDIRECT(\"H\"&AS1041+$AO$1003)&\"\"","v":"事務所"},null,null,null,{"$f":"INDIRECT(\"L\"&AS1041+$AO$1003)&\"\"","v":"浸水により、本社は2階まで使用不可"},null,null,null,null,null,null,null,null,null,null,{"$f":"INDIRECT(\"V\"&AS1041+$AO$1003)&\"\"","v":""},null,null,null,null,null,null,null,null,null,null,null,null,null,null,null,null,null,null,null,null,null,10,null,null,null,null,{"$f":"IF(F1043=\"\",\"\",F1043)","v":""},{"$f":"IF(L1043=\"\",\"\",L1043)","v":""},{"$f":"IF(R1043=\"\",\"\",R1043)","v":""},{"$f":"IF(AA1043=\"\",\"\",AA1043)","v":""},{"$f":"VLOOKUP(AS1041,$AS$820:$AZ$873,8)","v":6},null,null,null,{"$f":"IF(INDIRECT(\"AO\"&AS1041+$AO$1003)=TRUE,1,0)","v":0}]
[null,null,null,null,null,"（実施時期）",null,null,null,null,null,"（誰が）",null,null,null,null,null,"（自由記入）",null,null,null,null,null,null,null,null,"（自由記入）",null,null,null,null,null,null,null,null,null,null,null,null,null,null,null,null,null,null,null,null,null,null,null,null,null,null,null,null,null,null,{"$f":"BF1041","v":0}]
[null,null,null,null,null,null,null,null,null,null,null,null,null,null,null,null,null,null,null,null,null,null,null,null,null,null,null,null,null,null,null,null,null,null,null,null,null,null,null,null,null,null,null,null,null,null,null,null,null,null,null,null,null,null,null,null,null,{"$f":"BF1042","v":0}]
[null,null,null,null,null,null,null,null,null,null,null,null,null,null,null,null,null,null,null,null,null,null,null,null,null,null,null,null,null,null,null,null,null,null,null,null,null,null,null,null,null,null,null,null,null,null,null,null,null,null,null,null,null,null,null,null,null,0]
[null,null,null,null,null,{"$f":"F475&\"\"","v":"物"},null,{"$f":"INDIRECT(\"H\"&AS1045+$AO$1003)&\"\"","v":""},null,null,null,{"$f":"INDIRECT(\"L\"&AS1045+$AO$1003)&\"\"","v":""},null,null,null,null,null,null,null,null,null,null,{"$f":"INDIRECT(\"V\"&AS1045+$AO$1003)&\"\"","v":""},null,null,null,null,null,null,null,null,null,null,null,null,null,null,null,null,null,null,null,null,null,11,null,null,null,null,{"$f":"IF(F1047=\"\",\"\",F1047)","v":""},{"$f":"IF(L1047=\"\",\"\",L1047)","v":""},{"$f":"IF(R1047=\"\",\"\",R1047)","v":""},{"$f":"IF(AA1047=\"\",\"\",AA1047)","v":""},{"$f":"VLOOKUP(AS1045,$AS$820:$AZ$873,8)","v":0},null,null,null,{"$f":"IF(INDIRECT(\"AO\"&AS1045+$AO$1003)=TRUE,1,0)","v":0}]
[null,null,null,null,null,"（実施時期）",null,null,null,null,null,"（誰が）",null,null,null,null,null,"（自由記入）",null,null,null,null,null,null,null,null,"（自由記入）",null,null,null,null,null,null,null,null,null,null,null,null,null,null,null,null,null,null,null,null,null,null,null,null,null,null,null,null,null,null,{"$f":"BF1045","v":0}]
[null,null,null,null,null,null,null,null,null,null,null,null,null,null,null,null,null,null,null,null,null,null,null,null,null,null,null,null,null,null,null,null,null,null,null,null,null,null,null,null,null,null,null,null,null,null,null,null,null,null,null,null,null,null,null,null,null,{"$f":"BF1046","v":0}]
[null,null,null,null,null,null,null,null,null,null,null,null,null,null,null,null,null,null,null,null,null,null,null,null,null,null,null,null,null,null,null,null,null,null,null,null,null,null,null,null,null,null,null,null,null,null,null,null,null,null,null,null,null,null,null,null,null,0]
[null,null,null,null,null,{"$f":"F476&\"\"","v":"物"},null,{"$f":"INDIRECT(\"H\"&AS1049+$AO$1003)&\"\"","v":""},null,null,null,{"$f":"INDIRECT(\"L\"&AS1049+$AO$1003)&\"\"","v":""},null,null,null,null,null,null,null,null,null,null,{"$f":"INDIRECT(\"V\"&AS1049+$AO$1003)&\"\"","v":""},null,null,null,null,null,null,null,null,null,null,null,null,null,null,null,null,null,null,null,null,null,12,null,null,null,null,{"$f":"IF(F1051=\"\",\"\",F1051)","v":""},{"$f":"IF(L1051=\"\",\"\",L1051)","v":""},{"$f":"IF(R1051=\"\",\"\",R1051)","v":""},{"$f":"IF(AA1051=\"\",\"\",AA1051)","v":""},{"$f":"VLOOKUP(AS1049,$AS$820:$AZ$873,8)","v":0},null,null,null,{"$f":"IF(INDIRECT(\"AO\"&AS1049+$AO$1003)=TRUE,1,0)","v":0}]
[null,null,null,null,null,"（実施時期）",null,null,null,null,null,"（誰が）",null,null,null,null,null,"（自由記入）",null,null,null,null,null,null,null,null,"（自由記入）",null,null,null,null,null,null,null,null,null,null,null,null,null,null,null,null,null,null,null,null,null,null,null,null,null,null,null,null,null,null,{"$f":"BF1049","v":0}]
[null,null,null,null,null,null,null,null,null,null,null,null,null,null,null,null,null,null,null,null,null,null,null,null,null,null,null,null,null,null,null,null,null,null,null,null,null,null,null,null,null,null,null,null,null,null,null,null,null,null,null,null,null,null,null,null,null,{"$f":"BF1050","v":0}]
[null,null,null,null,null,null,null,null,null,null,null,null,null,null,null,null,null,null,null,null,null,null,null,null,null,null,null,null,null,null,null,null,null,null,null,null,null,null,null,null,null,null,null,null,null,null,null,null,null,null,null,null,null,null,null,null,null,0]
[null,null,null,null,null,{"$f":"F477&\"\"","v":"物"},null,{"$f":"INDIRECT(\"H\"&AS1053+$AO$1003)&\"\"","v":"社用車"},null,null,null,{"$f":"INDIRECT(\"L\"&AS1053+$AO$1003)&\"\"","v":"トラックが流出・水没による故障が発生する"},null,null,null,null,null,null,null,null,null,null,{"$f":"INDIRECT(\"V\"&AS1053+$AO$1003)&\"\"","v":"トラックを本社から高台営業所に移動させる"},null,null,null,null,null,null,null,null,null,null,null,null,null,null,null,null,null,null,null,null,null,13,null,null,null,null,{"$f":"IF(F1055=\"\",\"\",F1055)","v":""},{"$f":"IF(L1055=\"\",\"\",L1055)","v":""},{"$f":"IF(R1055=\"\",\"\",R1055)","v":""},{"$f":"IF(AA1055=\"\",\"\",AA1055)","v":""},{"$f":"VLOOKUP(AS1053,$AS$820:$AZ$873,8)","v":7},null,null,null,{"$f":"IF(INDIRECT(\"AO\"&AS1053+$AO$1003)=TRUE,1,0)","v":0}]
[null,null,null,null,null,"（実施時期）",null,null,null,null,null,"（誰が）",null,null,null,null,null,"（自由記入）",null,null,null,null,null,null,null,null,"（自由記入）",null,null,null,null,null,null,null,null,null,null,null,null,null,null,null,null,null,null,null,null,null,null,null,null,null,null,null,null,null,null,{"$f":"BF1053","v":0}]
[null,null,null,null,null,null,null,null,null,null,null,null,null,null,null,null,null,null,null,null,null,null,null,null,null,null,null,null,null,null,null,null,null,null,null,null,null,null,null,null,null,null,null,null,null,null,null,null,null,null,null,null,null,null,null,null,null,{"$f":"BF1054","v":0}]
[null,null,null,null,null,null,null,null,null,null,null,null,null,null,null,null,null,null,null,null,null,null,null,null,null,null,null,null,null,null,null,null,null,null,null,null,null,null,null,null,null,null,null,null,null,null,null,null,null,null,null,null,null,null,null,null,null,0]
[null,null,null,null,null,{"$f":"F478&\"\"","v":"物"},null,{"$f":"INDIRECT(\"H\"&AS1057+$AO$1003)&\"\"","v":""},null,null,null,{"$f":"INDIRECT(\"L\"&AS1057+$AO$1003)&\"\"","v":""},null,null,null,null,null,null,null,null,null,null,{"$f":"INDIRECT(\"V\"&AS1057+$AO$1003)&\"\"","v":""},null,null,null,null,null,null,null,null,null,null,null,null,null,null,null,null,null,null,null,null,null,14,null,null,null,null,{"$f":"IF(F1059=\"\",\"\",F1059)","v":""},{"$f":"IF(L1059=\"\",\"\",L1059)","v":""},{"$f":"IF(R1059=\"\",\"\",R1059)","v":""},{"$f":"IF(AA1059=\"\",\"\",AA1059)","v":""},{"$f":"VLOOKUP(AS1057,$AS$820:$AZ$873,8)","v":0},null,null,null,{"$f":"IF(INDIRECT(\"AO\"&AS1057+$AO$1003)=TRUE,1,0)","v":0}]
[null,null,null,null,null,"（実施時期）",null,null,null,null,null,"（誰が）",null,null,null,null,null,"（自由記入）",null,null,null,null,null,null,null,null,"（自由記入）",null,null,null,null,null,null,null,null,null,null,null,null,null,null,null,null,null,null,null,null,null,null,null,null,null,null,null,null,null,null,{"$f":"BF1057","v":0}]
[null,null,null,null,null,null,null,null,null,null,null,null,null,null,null,null,null,null,null,null,null,null,null,null,null,null,null,null,null,null,null,null,null,null,null,null,null,null,null,null,null,null,null,null,null,null,null,null,null,null,null,null,null,null,null,null,null,{"$f":"BF1058","v":0}]
[null,null,null,null,null,null,null,null,null,null,null,null,null,null,null,null,null,null,null,null,null,null,null,null,null,null,null,null,null,null,null,null,null,null,null,null,null,null,null,null,null,null,null,null,null,null,null,null,null,null,null,null,null,null,null,null,null,0]
[null,null,null,null,null,{"$f":"F479&\"\"","v":"物"},null,{"$f":"INDIRECT(\"H\"&AS1061+$AO$1003)&\"\"","v":""},null,null,null,{"$f":"INDIRECT(\"L\"&AS1061+$AO$1003)&\"\"","v":""},null,null,null,null,null,null,null,null,null,null,{"$f":"INDIRECT(\"V\"&AS1061+$AO$1003)&\"\"","v":""},null,null,null,null,null,null,null,null,null,null,null,null,null,null,null,null,null,null,null,null,null,15,null,null,null,null,{"$f":"IF(F1063=\"\",\"\",F1063)","v":""},{"$f":"IF(L1063=\"\",\"\",L1063)","v":""},{"$f":"IF(R1063=\"\",\"\",R1063)","v":""},{"$f":"IF(AA1063=\"\",\"\",AA1063)","v":""},{"$f":"VLOOKUP(AS1061,$AS$820:$AZ$873,8)","v":0},null,null,null,{"$f":"IF(INDIRECT(\"AO\"&AS1061+$AO$1003)=TRUE,1,0)","v":0}]
[null,null,null,null,null,"（実施時期）",null,null,null,null,null,"（誰が）",null,null,null,null,null,"（自由記入）",null,null,null,null,null,null,null,null,"（自由記入）",null,null,null,null,null,null,null,null,null,null,null,null,null,null,null,null,null,null,null,null,null,null,null,null,null,null,null,null,null,null,{"$f":"BF1061","v":0}]
[null,null,null,null,null,null,null,null,null,null,null,null,null,null,null,null,null,null,null,null,null,null,null,null,null,null,null,null,null,null,null,null,null,null,null,null,null,null,null,null,null,null,null,null,null,null,null,null,null,null,null,null,null,null,null,null,null,{"$f":"BF1062","v":0}]
[null,null,null,null,null,null,null,null,null,null,null,null,null,null,null,null,null,null,null,null,null,null,null,null,null,null,null,null,null,null,null,null,null,null,null,null,null,null,null,null,null,null,null,null,null,null,null,null,null,null,null,null,null,null,null,null,null,0]
[null,null,null,null,null,{"$f":"F480&\"\"","v":"物"},null,{"$f":"INDIRECT(\"H\"&AS1065+$AO$1003)&\"\"","v":""},null,null,null,{"$f":"INDIRECT(\"L\"&AS1065+$AO$1003)&\"\"","v":""},null,null,null,null,null,null,null,null,null,null,{"$f":"INDIRECT(\"V\"&AS1065+$AO$1003)&\"\"","v":""},null,null,null,null,null,null,null,null,null,null,null,null,null,null,null,null,null,null,null,null,null,16,null,null,null,null,{"$f":"IF(F1067=\"\",\"\",F1067)","v":""},{"$f":"IF(L1067=\"\",\"\",L1067)","v":""},{"$f":"IF(R1067=\"\",\"\",R1067)","v":""},{"$f":"IF(AA1067=\"\",\"\",AA1067)","v":""},{"$f":"VLOOKUP(AS1065,$AS$820:$AZ$873,8)","v":0},null,null,null,{"$f":"IF(INDIRECT(\"AO\"&AS1065+$AO$1003)=TRUE,1,0)","v":0}]
[null,null,null,null,null,"（実施時期）",null,null,null,null,null,"（誰が）",null,null,null,null,null,"（自由記入）",null,null,null,null,null,null,null,null,"（自由記入）",null,null,null,null,null,null,null,null,null,null,null,null,null,null,null,null,null,null,null,null,null,null,null,null,null,null,null,null,null,null,{"$f":"BF1065","v":0}]
[null,null,null,null,null,null,null,null,null,null,null,null,null,null,null,null,null,null,null,null,null,null,null,null,null,null,null,null,null,null,null,null,null,null,null,null,null,null,null,null,null,null,null,null,null,null,null,null,null,null,null,null,null,null,null,null,null,{"$f":"BF1066","v":0}]
[null,null,null,null,null,null,null,null,null,null,null,null,null,null,null,null,null,null,null,null,null,null,null,null,null,null,null,null,null,null,null,null,null,null,null,null,null,null,null,null,null,null,null,null,null,null,null,null,null,null,null,null,null,null,null,null,null,0]
[null,null,null,null,null,{"$f":"F481&\"\"","v":"物"},null,{"$f":"INDIRECT(\"H\"&AS1069+$AO$1003)&\"\"","v":"原材料"},null,null,null,{"$f":"INDIRECT(\"L\"&AS1069+$AO$1003)&\"\"","v":"ガソリンが流出する"},null,null,null,null,null,null,null,null,null,null,{"$f":"INDIRECT(\"V\"&AS1069+$AO$1003)&\"\"","v":"トラックとともに、本社から高台営業所に移動させる"},null,null,null,null,null,null,null,null,null,null,null,null,null,null,null,null,null,null,null,null,null,17,null,null,null,null,{"$f":"IF(F1071=\"\",\"\",F1071)","v":""},{"$f":"IF(L1071=\"\",\"\",L1071)","v":""},{"$f":"IF(R1071=\"\",\"\",R1071)","v":""},{"$f":"IF(AA1071=\"\",\"\",AA1071)","v":""},{"$f":"VLOOKUP(AS1069,$AS$820:$AZ$873,8)","v":8},null,null,null,{"$f":"IF(INDIRECT(\"AO\"&AS1069+$AO$1003)=TRUE,1,0)","v":0}]
[null,null,null,null,null,"（実施時期）",null,null,null,null,null,"（誰が）",null,null,null,null,null,"（自由記入）",null,null,null,null,null,null,null,null,"（自由記入）",null,null,null,null,null,null,null,null,null,null,null,null,null,null,null,null,null,null,null,null,null,null,null,null,null,null,null,null,null,null,{"$f":"BF1069","v":0}]
[null,null,null,null,null,null,null,null,null,null,null,null,null,null,null,null,null,null,null,null,null,null,null,null,null,null,null,null,null,null,null,null,null,null,null,null,null,null,null,null,null,null,null,null,null,null,null,null,null,null,null,null,null,null,null,null,null,{"$f":"BF1070","v":0}]
[null,null,null,null,null,null,null,null,null,null,null,null,null,null,null,null,null,null,null,null,null,null,null,null,null,null,null,null,null,null,null,null,null,null,null,null,null,null,null,null,null,null,null,null,null,null,null,null,null,null,null,null,null,null,null,null,null,0]
[null,null,null,null,null,{"$f":"F482&\"\"","v":"物"},null,{"$f":"INDIRECT(\"H\"&AS1073+$AO$1003)&\"\"","v":"その他"},null,null,null,{"$f":"INDIRECT(\"L\"&AS1073+$AO$1003)&\"\"","v":"小分けした部品が浸水により流出する"},null,null,null,null,null,null,null,null,null,null,{"$f":"INDIRECT(\"V\"&AS1073+$AO$1003)&\"\"","v":"小分けした薬品を鍵のかかる棚（2階以上）に移動させる"},null,null,null,null,null,null,null,null,null,null,null,null,null,null,null,null,null,null,null,null,null,18,null,null,null,null,{"$f":"IF(F1075=\"\",\"\",F1075)","v":""},{"$f":"IF(L1075=\"\",\"\",L1075)","v":""},{"$f":"IF(R1075=\"\",\"\",R1075)","v":""},{"$f":"IF(AA1075=\"\",\"\",AA1075)","v":""},{"$f":"VLOOKUP(AS1073,$AS$820:$AZ$873,8)","v":9},null,null,null,{"$f":"IF(INDIRECT(\"AO\"&AS1073+$AO$1003)=TRUE,1,0)","v":0}]
[null,null,null,null,null,"（実施時期）",null,null,null,null,null,"（誰が）",null,null,null,null,null,"（自由記入）",null,null,null,null,null,null,null,null,"（自由記入）",null,null,null,null,null,null,null,null,null,null,null,null,null,null,null,null,null,null,null,null,null,null,null,null,null,null,null,null,null,null,{"$f":"BF1073","v":0}]
[null,null,null,null,null,null,null,null,null,null,null,null,null,null,null,null,null,null,null,null,null,null,null,null,null,null,null,null,null,null,null,null,null,null,null,null,null,null,null,null,null,null,null,null,null,null,null,null,null,null,null,null,null,null,null,null,null,{"$f":"BF1074","v":0}]
[null,null,null,null,null,null,null,null,null,null,null,null,null,null,null,null,null,null,null,null,null,null,null,null,null,null,null,null,null,null,null,null,null,null,null,null,null,null,null,null,null,null,null,null,null,null,null,null,null,null,null,null,null,null,null,null,null,0]
[null,null,null,null,null,{"$f":"F483&\"\"","v":"物"},null,{"$f":"INDIRECT(\"H\"&AS1077+$AO$1003)&\"\"","v":""},null,null,null,{"$f":"INDIRECT(\"L\"&AS1077+$AO$1003)&\"\"","v":""},null,null,null,null,null,null,null,null,null,null,{"$f":"INDIRECT(\"V\"&AS1077+$AO$1003)&\"\"","v":""},null,null,null,null,null,null,null,null,null,null,null,null,null,null,null,null,null,null,null,null,null,19,null,null,null,null,{"$f":"IF(F1079=\"\",\"\",F1079)","v":""},{"$f":"IF(L1079=\"\",\"\",L1079)","v":""},{"$f":"IF(R1079=\"\",\"\",R1079)","v":""},{"$f":"IF(AA1079=\"\",\"\",AA1079)","v":""},{"$f":"VLOOKUP(AS1077,$AS$820:$AZ$873,8)","v":0},null,null,null,{"$f":"IF(INDIRECT(\"AO\"&AS1077+$AO$1003)=TRUE,1,0)","v":0}]
[null,null,null,null,null,"（実施時期）",null,null,null,null,null,"（誰が）",null,null,null,null,null,"（自由記入）",null,null,null,null,null,null,null,null,"（自由記入）",null,null,null,null,null,null,null,null,null,null,null,null,null,null,null,null,null,null,null,null,null,null,null,null,null,null,null,null,null,null,{"$f":"BF1077","v":0}]
[null,null,null,null,null,null,null,null,null,null,null,null,null,null,null,null,null,null,null,null,null,null,null,null,null,null,null,null,null,null,null,null,null,null,null,null,null,null,null,null,null,null,null,null,null,null,null,null,null,null,null,null,null,null,null,null,null,{"$f":"BF1078","v":0}]
[null,null,null,null,null,null,null,null,null,null,null,null,null,null,null,null,null,null,null,null,null,null,null,null,null,null,null,null,null,null,null,null,null,null,null,null,null,null,null,null,null,null,null,null,null,null,null,null,null,null,null,null,null,null,null,null,null,0]
[null,null,null,null,null,{"$f":"F484&\"\"","v":"物"},null,{"$f":"INDIRECT(\"H\"&AS1081+$AO$1003)&\"\"","v":""},null,null,null,{"$f":"INDIRECT(\"L\"&AS1081+$AO$1003)&\"\"","v":""},null,null,null,null,null,null,null,null,null,null,{"$f":"INDIRECT(\"V\"&AS1081+$AO$1003)&\"\"","v":""},null,null,null,null,null,null,null,null,null,null,null,null,null,null,null,null,null,null,null,null,null,20,null,null,null,null,{"$f":"IF(F1083=\"\",\"\",F1083)","v":""},{"$f":"IF(L1083=\"\",\"\",L1083)","v":""},{"$f":"IF(R1083=\"\",\"\",R1083)","v":""},{"$f":"IF(AA1083=\"\",\"\",AA1083)","v":""},{"$f":"VLOOKUP(AS1081,$AS$820:$AZ$873,8)","v":0},null,null,null,{"$f":"IF(INDIRECT(\"AO\"&AS1081+$AO$1003)=TRUE,1,0)","v":0}]
[null,null,null,null,null,"（実施時期）",null,null,null,null,null,"（誰が）",null,null,null,null,null,"（自由記入）",null,null,null,null,null,null,null,null,"（自由記入）",null,null,null,null,null,null,null,null,null,null,null,null,null,null,null,null,null,null,null,null,null,null,null,null,null,null,null,null,null,null,{"$f":"BF1081","v":0}]
[null,null,null,null,null,null,null,null,null,null,null,null,null,null,null,null,null,null,null,null,null,null,null,null,null,null,null,null,null,null,null,null,null,null,null,null,null,null,null,null,null,null,null,null,null,null,null,null,null,null,null,null,null,null,null,null,null,{"$f":"BF1082","v":0}]
[null,null,null,null,null,null,null,null,null,null,null,null,null,null,null,null,null,null,null,null,null,null,null,null,null,null,null,null,null,null,null,null,null,null,null,null,null,null,null,null,null,null,null,null,null,null,null,null,null,null,null,null,null,null,null,null,null,0]
[null,null,null,null,null,{"$f":"F485&\"\"","v":"情報"},null,{"$f":"INDIRECT(\"H\"&AS1085+$AO$1003)&\"\"","v":"事務処理用PC"},null,null,null,{"$f":"INDIRECT(\"L\"&AS1085+$AO$1003)&\"\"","v":"事務処理用PCが使用できなくなる"},null,null,null,null,null,null,null,null,null,null,{"$f":"INDIRECT(\"V\"&AS1085+$AO$1003)&\"\"","v":"避難時にノートPCを持参する"},null,null,null,null,null,null,null,null,null,null,null,null,null,null,null,null,null,null,null,null,null,21,null,null,null,null,{"$f":"IF(F1087=\"\",\"\",F1087)","v":""},{"$f":"IF(L1087=\"\",\"\",L1087)","v":""},{"$f":"IF(R1087=\"\",\"\",R1087)","v":""},{"$f":"IF(AA1087=\"\",\"\",AA1087)","v":""},{"$f":"VLOOKUP(AS1085,$AS$820:$AZ$873,8)","v":10},null,null,null,{"$f":"IF(INDIRECT(\"AO\"&AS1085+$AO$1003)=TRUE,1,0)","v":0}]
[null,null,null,null,null,"（実施時期）",null,null,null,null,null,"（誰が）",null,null,null,null,null,"（自由記入）",null,null,null,null,null,null,null,null,"（自由記入）",null,null,null,null,null,null,null,null,null,null,null,null,null,null,null,null,null,null,null,null,null,null,null,null,null,null,null,null,null,null,{"$f":"BF1085","v":0}]
[null,null,null,null,null,null,null,null,null,null,null,null,null,null,null,null,null,null,null,null,null,null,null,null,null,null,null,null,null,null,null,null,null,null,null,null,null,null,null,null,null,null,null,null,null,null,null,null,null,null,null,null,null,null,null,null,null,{"$f":"BF1086","v":0}]
[null,null,null,null,null,null,null,null,null,null,null,null,null,null,null,null,null,null,null,null,null,null,null,null,null,null,null,null,null,null,null,null,null,null,null,null,null,null,null,null,null,null,null,null,null,null,null,null,null,null,null,null,null,null,null,null,null,0]
[null,null,null,null,null,{"$f":"F486&\"\"","v":"情報"},null,{"$f":"INDIRECT(\"H\"&AS1089+$AO$1003)&\"\"","v":""},null,null,null,{"$f":"INDIRECT(\"L\"&AS1089+$AO$1003)&\"\"","v":""},null,null,null,null,null,null,null,null,null,null,{"$f":"INDIRECT(\"V\"&AS1089+$AO$1003)&\"\"","v":""},null,null,null,null,null,null,null,null,null,null,null,null,null,null,null,null,null,null,null,null,null,22,null,null,null,null,{"$f":"IF(F1091=\"\",\"\",F1091)","v":""},{"$f":"IF(L1091=\"\",\"\",L1091)","v":""},{"$f":"IF(R1091=\"\",\"\",R1091)","v":""},{"$f":"IF(AA1091=\"\",\"\",AA1091)","v":""},{"$f":"VLOOKUP(AS1089,$AS$820:$AZ$873,8)","v":0},null,null,null,{"$f":"IF(INDIRECT(\"AO\"&AS1089+$AO$1003)=TRUE,1,0)","v":0}]
[null,null,null,null,null,"（実施時期）",null,null,null,null,null,"（誰が）",null,null,null,null,null,"（自由記入）",null,null,null,null,null,null,null,null,"（自由記入）",null,null,null,null,null,null,null,null,null,null,null,null,null,null,null,null,null,null,null,null,null,null,null,null,null,null,null,null,null,null,{"$f":"BF1089","v":0}]
[null,null,null,null,null,null,null,null,null,null,null,null,null,null,null,null,null,null,null,null,null,null,null,null,null,null,null,null,null,null,null,null,null,null,null,null,null,null,null,null,null,null,null,null,null,null,null,null,null,null,null,null,null,null,null,null,null,{"$f":"BF1090","v":0}]
[null,null,null,null,null,null,null,null,null,null,null,null,null,null,null,null,null,null,null,null,null,null,null,null,null,null,null,null,null,null,null,null,null,null,null,null,null,null,null,null,null,null,null,null,null,null,null,null,null,null,null,null,null,null,null,null,null,0]
[null,null,null,null,null,{"$f":"F487&\"\"","v":"情報"},null,{"$f":"INDIRECT(\"H\"&AS1093+$AO$1003)&\"\"","v":"顧客情報"},null,null,null,{"$f":"INDIRECT(\"L\"&AS1093+$AO$1003)&\"\"","v":"PCから顧客情報が呼び出せなくなる"},null,null,null,null,null,null,null,null,null,null,{"$f":"INDIRECT(\"V\"&AS1093+$AO$1003)&\"\"","v":"顧客情報をクラウド上に保存しておく"},null,null,null,null,null,null,null,null,null,null,null,null,null,null,null,null,null,null,null,null,null,23,null,null,null,null,{"$f":"IF(F1095=\"\",\"\",F1095)","v":"2023年3月までに"},{"$f":"IF(L1095=\"\",\"\",L1095)","v":"経営企画部長"},{"$f":"IF(R1095=\"\",\"\",R1095)","v":"年内に、クラウドストレージの検討を開始する"},{"$f":"IF(AA1095=\"\",\"\",AA1095)","v":""},{"$f":"VLOOKUP(AS1093,$AS$820:$AZ$873,8)","v":11},null,null,null,{"$f":"IF(INDIRECT(\"AO\"&AS1093+$AO$1003)=TRUE,1,0)","v":1}]
[null,null,null,null,null,"（実施時期）",null,null,null,null,null,"（誰が）",null,null,null,null,null,"（自由記入）",null,null,null,null,null,null,null,null,"（自由記入）",null,null,null,null,null,null,null,null,null,null,null,null,null,null,null,null,null,null,null,null,null,null,null,null,null,null,null,null,null,null,{"$f":"BF1093","v":1}]
[null,null,null,null,null,"2023年3月までに",null,null,null,null,null,"経営企画部長",null,null,null,null,null,"年内に、クラウドストレージの検討を開始する",null,null,null,null,null,null,null,null,null,null,null,null,null,null,null,null,null,null,null,null,null,null,null,null,null,null,null,null,null,null,null,null,null,null,null,null,null,null,null,{"$f":"BF1094","v":1}]
[null,null,null,null,null,null,null,null,null,null,null,null,null,null,null,null,null,null,null,null,null,null,null,null,null,null,null,null,null,null,null,null,null,null,null,null,null,null,null,null,null,null,null,null,null,null,null,null,null,null,null,null,null,null,null,null,null,1]
[null,null,null,null,null,{"$f":"F488&\"\"","v":"情報"},null,{"$f":"INDIRECT(\"H\"&AS1097+$AO$1003)&\"\"","v":""},null,null,null,{"$f":"INDIRECT(\"L\"&AS1097+$AO$1003)&\"\"","v":""},null,null,null,null,null,null,null,null,null,null,{"$f":"INDIRECT(\"V\"&AS1097+$AO$1003)&\"\"","v":""},null,null,null,null,null,null,null,null,null,null,null,null,null,null,null,null,null,null,null,null,null,24,null,null,null,null,{"$f":"IF(F1099=\"\",\"\",F1099)","v":""},{"$f":"IF(L1099=\"\",\"\",L1099)","v":""},{"$f":"IF(R1099=\"\",\"\",R1099)","v":""},{"$f":"IF(AA1099=\"\",\"\",AA1099)","v":""},{"$f":"VLOOKUP(AS1097,$AS$820:$AZ$873,8)","v":0},null,null,null,{"$f":"IF(INDIRECT(\"AO\"&AS1097+$AO$1003)=TRUE,1,0)","v":0}]
[null,null,null,null,null,"（実施時期）",null,null,null,null,null,"（誰が）",null,null,null,null,null,"（自由記入）",null,null,null,null,null,null,null,null,"（自由記入）",null,null,null,null,null,null,null,null,null,null,null,null,null,null,null,null,null,null,null,null,null,null,null,null,null,null,null,null,null,null,{"$f":"BF1097","v":0}]
[null,null,null,null,null,null,null,null,null,null,null,null,null,null,null,null,null,null,null,null,null,null,null,null,null,null,null,null,null,null,null,null,null,null,null,null,null,null,null,null,null,null,null,null,null,null,null,null,null,null,null,null,null,null,null,null,null,{"$f":"BF1098","v":0}]
[null,null,null,null,null,null,null,null,null,null,null,null,null,null,null,null,null,null,null,null,null,null,null,null,null,null,null,null,null,null,null,null,null,null,null,null,null,null,null,null,null,null,null,null,null,null,null,null,null,null,null,null,null,null,null,null,null,0]
[null,null,null,null,null,{"$f":"INDIRECT(\"F\"&AS1101+$AO$1003)&\"\"","v":""},null,{"$f":"INDIRECT(\"H\"&AS1101+$AO$1003)&\"\"","v":""},null,null,null,{"$f":"INDIRECT(\"L\"&AS1101+$AO$1003)&\"\"","v":""},null,null,null,null,null,null,null,null,null,null,{"$f":"INDIRECT(\"V\"&AS1101+$AO$1003)&\"\"","v":""},null,null,null,null,null,null,null,null,null,null,null,null,null,null,null,null,null,null,null,null,null,25,null,null,null,null,{"$f":"IF(F1103=\"\",\"\",F1103)","v":""},{"$f":"IF(L1103=\"\",\"\",L1103)","v":""},{"$f":"IF(R1103=\"\",\"\",R1103)","v":""},{"$f":"IF(AA1103=\"\",\"\",AA1103)","v":""},{"$f":"VLOOKUP(AS1101,$AS$820:$AZ$873,8)","v":0},null,null,null,{"$f":"IF(INDIRECT(\"AO\"&AS1101+$AO$1003)=TRUE,1,0)","v":0}]
[null,null,null,null,null,"（実施時期）",null,null,null,null,null,"（誰が）",null,null,null,null,null,"（自由記入）",null,null,null,null,null,null,null,null,"（自由記入）",null,null,null,null,null,null,null,null,null,null,null,null,null,null,null,null,null,null,null,null,null,null,null,null,null,null,null,null,null,null,{"$f":"BF1101","v":0}]
[null,null,null,null,null,null,null,null,null,null,null,null,null,null,null,null,null,null,null,null,null,null,null,null,null,null,null,null,null,null,null,null,null,null,null,null,null,null,null,null,null,null,null,null,null,null,null,null,null,null,null,null,null,null,null,null,null,{"$f":"BF1102","v":0}]
[null,null,null,null,null,null,null,null,null,null,null,null,null,null,null,null,null,null,null,null,null,null,null,null,null,null,null,null,null,null,null,null,null,null,null,null,null,null,null,null,null,null,null,null,null,null,null,null,null,null,null,null,null,null,null,null,null,0]
[null,null,null,null,null,{"$f":"INDIRECT(\"F\"&AS1105+$AO$1003)&\"\"","v":""},null,{"$f":"INDIRECT(\"H\"&AS1105+$AO$1003)&\"\"","v":""},null,null,null,{"$f":"INDIRECT(\"L\"&AS1105+$AO$1003)&\"\"","v":""},null,null,null,null,null,null,null,null,null,null,{"$f":"INDIRECT(\"V\"&AS1105+$AO$1003)&\"\"","v":""},null,null,null,null,null,null,null,null,null,null,null,null,null,null,null,null,null,null,null,null,null,26,null,null,null,null,{"$f":"IF(F1107=\"\",\"\",F1107)","v":""},{"$f":"IF(L1107=\"\",\"\",L1107)","v":""},{"$f":"IF(R1107=\"\",\"\",R1107)","v":""},{"$f":"IF(AA1107=\"\",\"\",AA1107)","v":""},{"$f":"VLOOKUP(AS1105,$AS$820:$AZ$873,8)","v":0},null,null,null,{"$f":"IF(INDIRECT(\"AO\"&AS1105+$AO$1003)=TRUE,1,0)","v":0}]
[null,null,null,null,null,"（実施時期）",null,null,null,null,null,"（誰が）",null,null,null,null,null,"（自由記入）",null,null,null,null,null,null,null,null,"（自由記入）",null,null,null,null,null,null,null,null,null,null,null,null,null,null,null,null,null,null,null,null,null,null,null,null,null,null,null,null,null,null,{"$f":"BF1105","v":0}]
[null,null,null,null,null,null,null,null,null,null,null,null,null,null,null,null,null,null,null,null,null,null,null,null,null,null,null,null,null,null,null,null,null,null,null,null,null,null,null,null,null,null,null,null,null,null,null,null,null,null,null,null,null,null,null,null,null,{"$f":"BF1106","v":0}]
[null,null,null,null,null,null,null,null,null,null,null,null,null,null,null,null,null,null,null,null,null,null,null,null,null,null,null,null,null,null,null,null,null,null,null,null,null,null,null,null,null,null,null,null,null,null,null,null,null,null,null,null,null,null,null,null,null,0]
[null,null,null,null,null,{"$f":"INDIRECT(\"F\"&AS1109+$AO$1003)&\"\"","v":""},null,{"$f":"INDIRECT(\"H\"&AS1109+$AO$1003)&\"\"","v":""},null,null,null,{"$f":"INDIRECT(\"L\"&AS1109+$AO$1003)&\"\"","v":""},null,null,null,null,null,null,null,null,null,null,{"$f":"INDIRECT(\"V\"&AS1109+$AO$1003)&\"\"","v":""},null,null,null,null,null,null,null,null,null,null,null,null,null,null,null,null,null,null,null,null,null,27,null,null,null,null,{"$f":"IF(F1111=\"\",\"\",F1111)","v":""},{"$f":"IF(L1111=\"\",\"\",L1111)","v":""},{"$f":"IF(R1111=\"\",\"\",R1111)","v":""},{"$f":"IF(AA1111=\"\",\"\",AA1111)","v":""},{"$f":"VLOOKUP(AS1109,$AS$820:$AZ$873,8)","v":0},null,null,null,{"$f":"IF(INDIRECT(\"AO\"&AS1109+$AO$1003)=TRUE,1,0)","v":0}]
[null,null,null,null,null,"（実施時期）",null,null,null,null,null,"（誰が）",null,null,null,null,null,"（自由記入）",null,null,null,null,null,null,null,null,"（自由記入）",null,null,null,null,null,null,null,null,null,null,null,null,null,null,null,null,null,null,null,null,null,null,null,null,null,null,null,null,null,null,{"$f":"BF1109","v":0}]
[null,null,null,null,null,null,null,null,null,null,null,null,null,null,null,null,null,null,null,null,null,null,null,null,null,null,null,null,null,null,null,null,null,null,null,null,null,null,null,null,null,null,null,null,null,null,null,null,null,null,null,null,null,null,null,null,null,{"$f":"BF1110","v":0}]
[null,null,null,null,null,null,null,null,null,null,null,null,null,null,null,null,null,null,null,null,null,null,null,null,null,null,null,null,null,null,null,null,null,null,null,null,null,null,null,null,null,null,null,null,null,null,null,null,null,null,null,null,null,null,null,null,null,0]
[null,null,null,null,null,{"$f":"INDIRECT(\"F\"&AS1113+$AO$1003)&\"\"","v":""},null,{"$f":"INDIRECT(\"H\"&AS1113+$AO$1003)&\"\"","v":""},null,null,null,{"$f":"INDIRECT(\"L\"&AS1113+$AO$1003)&\"\"","v":""},null,null,null,null,null,null,null,null,null,null,{"$f":"INDIRECT(\"V\"&AS1113+$AO$1003)&\"\"","v":""},null,null,null,null,null,null,null,null,null,null,null,null,null,null,null,null,null,null,null,null,null,28,null,null,null,null,{"$f":"IF(F1115=\"\",\"\",F1115)","v":""},{"$f":"IF(L1115=\"\",\"\",L1115)","v":""},{"$f":"IF(R1115=\"\",\"\",R1115)","v":""},{"$f":"IF(AA1115=\"\",\"\",AA1115)","v":""},{"$f":"VLOOKUP(AS1113,$AS$820:$AZ$873,8)","v":0},null,null,null,{"$f":"IF(INDIRECT(\"AO\"&AS1113+$AO$1003)=TRUE,1,0)","v":0}]
[null,null,null,null,null,"（実施時期）",null,null,null,null,null,"（誰が）",null,null,null,null,null,"（自由記入）",null,null,null,null,null,null,null,null,"（自由記入）",null,null,null,null,null,null,null,null,null,null,null,null,null,null,null,null,null,null,null,null,null,null,null,null,null,null,null,null,null,null,{"$f":"BF1113","v":0}]
[null,null,null,null,null,null,null,null,null,null,null,null,null,null,null,null,null,null,null,null,null,null,null,null,null,null,null,null,null,null,null,null,null,null,null,null,null,null,null,null,null,null,null,null,null,null,null,null,null,null,null,null,null,null,null,null,null,{"$f":"BF1114","v":0}]
[null,null,null,null,null,null,null,null,null,null,null,null,null,null,null,null,null,null,null,null,null,null,null,null,null,null,null,null,null,null,null,null,null,null,null,null,null,null,null,null,null,null,null,null,null,null,null,null,null,null,null,null,null,null,null,null,null,0]
[null,null,null,null,null,{"$f":"INDIRECT(\"F\"&AS1117+$AO$1003)&\"\"","v":""},null,{"$f":"INDIRECT(\"H\"&AS1117+$AO$1003)&\"\"","v":""},null,null,null,{"$f":"INDIRECT(\"L\"&AS1117+$AO$1003)&\"\"","v":""},null,null,null,null,null,null,null,null,null,null,{"$f":"INDIRECT(\"V\"&AS1117+$AO$1003)&\"\"","v":""},null,null,null,null,null,null,null,null,null,null,null,null,null,null,null,null,null,null,null,null,null,29,null,null,null,null,{"$f":"IF(F1119=\"\",\"\",F1119)","v":""},{"$f":"IF(L1119=\"\",\"\",L1119)","v":""},{"$f":"IF(R1119=\"\",\"\",R1119)","v":""},{"$f":"IF(AA1119=\"\",\"\",AA1119)","v":""},{"$f":"VLOOKUP(AS1117,$AS$820:$AZ$873,8)","v":0},null,null,null,{"$f":"IF(INDIRECT(\"AO\"&AS1117+$AO$1003)=TRUE,1,0)","v":0}]
[null,null,null,null,null,"（実施時期）",null,null,null,null,null,"（誰が）",null,null,null,null,null,"（自由記入）",null,null,null,null,null,null,null,null,"（自由記入）",null,null,null,null,null,null,null,null,null,null,null,null,null,null,null,null,null,null,null,null,null,null,null,null,null,null,null,null,null,null,{"$f":"BF1117","v":0}]
[null,null,null,null,null,null,null,null,null,null,null,null,null,null,null,null,null,null,null,null,null,null,null,null,null,null,null,null,null,null,null,null,null,null,null,null,null,null,null,null,null,null,null,null,null,null,null,null,null,null,null,null,null,null,null,null,null,{"$f":"BF1118","v":0}]
[null,null,null,null,null,null,null,null,null,null,null,null,null,null,null,null,null,null,null,null,null,null,null,null,null,null,null,null,null,null,null,null,null,null,null,null,null,null,null,null,null,null,null,null,null,null,null,null,null,null,null,null,null,null,null,null,null,0]
[null,null,null,null,null,{"$f":"INDIRECT(\"F\"&AS1121+$AO$1003)&\"\"","v":""},null,{"$f":"INDIRECT(\"H\"&AS1121+$AO$1003)&\"\"","v":""},null,null,null,{"$f":"INDIRECT(\"L\"&AS1121+$AO$1003)&\"\"","v":""},null,null,null,null,null,null,null,null,null,null,{"$f":"INDIRECT(\"V\"&AS1121+$AO$1003)&\"\"","v":""},null,null,null,null,null,null,null,null,null,null,null,null,null,null,null,null,null,null,null,null,null,30,null,null,null,null,{"$f":"IF(F1123=\"\",\"\",F1123)","v":""},{"$f":"IF(L1123=\"\",\"\",L1123)","v":""},{"$f":"IF(R1123=\"\",\"\",R1123)","v":""},{"$f":"IF(AA1123=\"\",\"\",AA1123)","v":""},{"$f":"VLOOKUP(AS1121,$AS$820:$AZ$873,8)","v":0},null,null,null,{"$f":"IF(INDIRECT(\"AO\"&AS1121+$AO$1003)=TRUE,1,0)","v":0}]
[null,null,null,null,null,"（実施時期）",null,null,null,null,null,"（誰が）",null,null,null,null,null,"（自由記入）",null,null,null,null,null,null,null,null,"（自由記入）",null,null,null,null,null,null,null,null,null,null,null,null,null,null,null,null,null,null,null,null,null,null,null,null,null,null,null,null,null,null,{"$f":"BF1121","v":0}]
[null,null,null,null,null,null,null,null,null,null,null,null,null,null,null,null,null,null,null,null,null,null,null,null,null,null,null,null,null,null,null,null,null,null,null,null,null,null,null,null,null,null,null,null,null,null,null,null,null,null,null,null,null,null,null,null,null,{"$f":"BF1122","v":0}]
[null,null,null,null,null,null,null,null,null,null,null,null,null,null,null,null,null,null,null,null,null,null,null,null,null,null,null,null,null,null,null,null,null,null,null,null,null,null,null,null,null,null,null,null,null,null,null,null,null,null,null,null,null,null,null,null,null,0]
[null,null,null,null,null,{"$f":"INDIRECT(\"F\"&AS1125+$AO$1003)&\"\"","v":""},null,{"$f":"INDIRECT(\"H\"&AS1125+$AO$1003)&\"\"","v":""},null,null,null,{"$f":"INDIRECT(\"L\"&AS1125+$AO$1003)&\"\"","v":""},null,null,null,null,null,null,null,null,null,null,{"$f":"INDIRECT(\"V\"&AS1125+$AO$1003)&\"\"","v":""},null,null,null,null,null,null,null,null,null,null,null,null,null,null,null,null,null,null,null,null,null,31,null,null,null,null,{"$f":"IF(F1127=\"\",\"\",F1127)","v":""},{"$f":"IF(L1127=\"\",\"\",L1127)","v":""},{"$f":"IF(R1127=\"\",\"\",R1127)","v":""},{"$f":"IF(AA1127=\"\",\"\",AA1127)","v":""},{"$f":"VLOOKUP(AS1125,$AS$820:$AZ$873,8)","v":0},null,null,null,{"$f":"IF(INDIRECT(\"AO\"&AS1125+$AO$1003)=TRUE,1,0)","v":0}]
[null,null,null,null,null,"（実施時期）",null,null,null,null,null,"（誰が）",null,null,null,null,null,"（自由記入）",null,null,null,null,null,null,null,null,"（自由記入）",null,null,null,null,null,null,null,null,null,null,null,null,null,null,null,null,null,null,null,null,null,null,null,null,null,null,null,null,null,null,{"$f":"BF1125","v":0}]
[null,null,null,null,null,null,null,null,null,null,null,null,null,null,null,null,null,null,null,null,null,null,null,null,null,null,null,null,null,null,null,null,null,null,null,null,null,null,null,null,null,null,null,null,null,null,null,null,null,null,null,null,null,null,null,null,null,{"$f":"BF1126","v":0}]
[null,null,null,null,null,null,null,null,null,null,null,null,null,null,null,null,null,null,null,null,null,null,null,null,null,null,null,null,null,null,null,null,null,null,null,null,null,null,null,null,null,null,null,null,null,null,null,null,null,null,null,null,null,null,null,null,null,0]
[null,null,null,null,null,{"$f":"INDIRECT(\"F\"&AS1129+$AO$1003)&\"\"","v":""},null,{"$f":"INDIRECT(\"H\"&AS1129+$AO$1003)&\"\"","v":""},null,null,null,{"$f":"INDIRECT(\"L\"&AS1129+$AO$1003)&\"\"","v":""},null,null,null,null,null,null,null,null,null,null,{"$f":"INDIRECT(\"V\"&AS1129+$AO$1003)&\"\"","v":""},null,null,null,null,null,null,null,null,null,null,null,null,null,null,null,null,null,null,null,null,null,32,null,null,null,null,{"$f":"IF(F1131=\"\",\"\",F1131)","v":""},{"$f":"IF(L1131=\"\",\"\",L1131)","v":""},{"$f":"IF(R1131=\"\",\"\",R1131)","v":""},{"$f":"IF(AA1131=\"\",\"\",AA1131)","v":""},{"$f":"VLOOKUP(AS1129,$AS$820:$AZ$873,8)","v":0},null,null,null,{"$f":"IF(INDIRECT(\"AO\"&AS1129+$AO$1003)=TRUE,1,0)","v":0}]
[null,null,null,null,null,"（実施時期）",null,null,null,null,null,"（誰が）",null,null,null,null,null,"（自由記入）",null,null,null,null,null,null,null,null,"（自由記入）",null,null,null,null,null,null,null,null,null,null,null,null,null,null,null,null,null,null,null,null,null,null,null,null,null,null,null,null,null,null,{"$f":"BF1129","v":0}]
[null,null,null,null,null,null,null,null,null,null,null,null,null,null,null,null,null,null,null,null,null,null,null,null,null,null,null,null,null,null,null,null,null,null,null,null,null,null,null,null,null,null,null,null,null,null,null,null,null,null,null,null,null,null,null,null,null,{"$f":"BF1130","v":0}]
[null,null,null,null,null,null,null,null,null,null,null,null,null,null,null,null,null,null,null,null,null,null,null,null,null,null,null,null,null,null,null,null,null,null,null,null,null,null,null,null,null,null,null,null,null,null,null,null,null,null,null,null,null,null,null,null,null,0]
[null,null,null,null,null,{"$f":"INDIRECT(\"F\"&AS1133+$AO$1003)&\"\"","v":""},null,{"$f":"INDIRECT(\"H\"&AS1133+$AO$1003)&\"\"","v":""},null,null,null,{"$f":"INDIRECT(\"L\"&AS1133+$AO$1003)&\"\"","v":""},null,null,null,null,null,null,null,null,null,null,{"$f":"INDIRECT(\"V\"&AS1133+$AO$1003)&\"\"","v":""},null,null,null,null,null,null,null,null,null,null,null,null,null,null,null,null,null,null,null,null,null,33,null,null,null,null,{"$f":"IF(F1135=\"\",\"\",F1135)","v":""},{"$f":"IF(L1135=\"\",\"\",L1135)","v":""},{"$f":"IF(R1135=\"\",\"\",R1135)","v":""},{"$f":"IF(AA1135=\"\",\"\",AA1135)","v":""},{"$f":"VLOOKUP(AS1133,$AS$820:$AZ$873,8)","v":0},null,null,null,{"$f":"IF(INDIRECT(\"AO\"&AS1133+$AO$1003)=TRUE,1,0)","v":0}]
[null,null,null,null,null,"（実施時期）",null,null,null,null,null,"（誰が）",null,null,null,null,null,"（自由記入）",null,null,null,null,null,null,null,null,"（自由記入）",null,null,null,null,null,null,null,null,null,null,null,null,null,null,null,null,null,null,null,null,null,null,null,null,null,null,null,null,null,null,{"$f":"BF1133","v":0}]
[null,null,null,null,null,null,null,null,null,null,null,null,null,null,null,null,null,null,null,null,null,null,null,null,null,null,null,null,null,null,null,null,null,null,null,null,null,null,null,null,null,null,null,null,null,null,null,null,null,null,null,null,null,null,null,null,null,{"$f":"BF1134","v":0}]
[null,null,null,null,null,null,null,null,null,null,null,null,null,null,null,null,null,null,null,null,null,null,null,null,null,null,null,null,null,null,null,null,null,null,null,null,null,null,null,null,null,null,null,null,null,null,null,null,null,null,null,null,null,null,null,null,null,0]
[null,null,null,null,null,{"$f":"INDIRECT(\"F\"&AS1137+$AO$1003)&\"\"","v":""},null,{"$f":"INDIRECT(\"H\"&AS1137+$AO$1003)&\"\"","v":""},null,null,null,{"$f":"INDIRECT(\"L\"&AS1137+$AO$1003)&\"\"","v":""},null,null,null,null,null,null,null,null,null,null,{"$f":"INDIRECT(\"V\"&AS1137+$AO$1003)&\"\"","v":""},null,null,null,null,null,null,null,null,null,null,null,null,null,null,null,null,null,null,null,null,null,34,null,null,null,null,{"$f":"IF(F1139=\"\",\"\",F1139)","v":""},{"$f":"IF(L1139=\"\",\"\",L1139)","v":""},{"$f":"IF(R1139=\"\",\"\",R1139)","v":""},{"$f":"IF(AA1139=\"\",\"\",AA1139)","v":""},{"$f":"VLOOKUP(AS1137,$AS$820:$AZ$873,8)","v":0},null,null,null,{"$f":"IF(INDIRECT(\"AO\"&AS1137+$AO$1003)=TRUE,1,0)","v":0}]
[null,null,null,null,null,"（実施時期）",null,null,null,null,null,"（誰が）",null,null,null,null,null,"（自由記入）",null,null,null,null,null,null,null,null,"（自由記入）",null,null,null,null,null,null,null,null,null,null,null,null,null,null,null,null,null,null,null,null,null,null,null,null,null,null,null,null,null,null,{"$f":"BF1137","v":0}]
[null,null,null,null,null,null,null,null,null,null,null,null,null,null,null,null,null,null,null,null,null,null,null,null,null,null,null,null,null,null,null,null,null,null,null,null,null,null,null,null,null,null,null,null,null,null,null,null,null,null,null,null,null,null,null,null,null,{"$f":"BF1138","v":0}]
[null,null,null,null,null,null,null,null,null,null,null,null,null,null,null,null,null,null,null,null,null,null,null,null,null,null,null,null,null,null,null,null,null,null,null,null,null,null,null,null,null,null,null,null,null,null,null,null,null,null,null,null,null,null,null,null,null,0]
[null,null,null,null,null,{"$f":"INDIRECT(\"F\"&AS1141+$AO$1003)&\"\"","v":""},null,{"$f":"INDIRECT(\"H\"&AS1141+$AO$1003)&\"\"","v":""},null,null,null,{"$f":"INDIRECT(\"L\"&AS1141+$AO$1003)&\"\"","v":""},null,null,null,null,null,null,null,null,null,null,{"$f":"INDIRECT(\"V\"&AS1141+$AO$1003)&\"\"","v":""},null,null,null,null,null,null,null,null,null,null,null,null,null,null,null,null,null,null,null,null,null,35,null,null,null,null,{"$f":"IF(F1143=\"\",\"\",F1143)","v":""},{"$f":"IF(L1143=\"\",\"\",L1143)","v":""},{"$f":"IF(R1143=\"\",\"\",R1143)","v":""},{"$f":"IF(AA1143=\"\",\"\",AA1143)","v":""},{"$f":"VLOOKUP(AS1141,$AS$820:$AZ$873,8)","v":0},null,null,null,{"$f":"IF(INDIRECT(\"AO\"&AS1141+$AO$1003)=TRUE,1,0)","v":0}]
[null,null,null,null,null,"（実施時期）",null,null,null,null,null,"（誰が）",null,null,null,null,null,"（自由記入）",null,null,null,null,null,null,null,null,"（自由記入）",null,null,null,null,null,null,null,null,null,null,null,null,null,null,null,null,null,null,null,null,null,null,null,null,null,null,null,null,null,null,{"$f":"BF1141","v":0}]
[null,null,null,null,null,null,null,null,null,null,null,null,null,null,null,null,null,null,null,null,null,null,null,null,null,null,null,null,null,null,null,null,null,null,null,null,null,null,null,null,null,null,null,null,null,null,null,null,null,null,null,null,null,null,null,null,null,{"$f":"BF1142","v":0}]
[null,null,null,null,null,null,null,null,null,null,null,null,null,null,null,null,null,null,null,null,null,null,null,null,null,null,null,null,null,null,null,null,null,null,null,null,null,null,null,null,null,null,null,null,null,null,null,null,null,null,null,null,null,null,null,null,null,0]
[null,null,null,null,null,{"$f":"INDIRECT(\"F\"&AS1145+$AO$1003)&\"\"","v":""},null,{"$f":"INDIRECT(\"H\"&AS1145+$AO$1003)&\"\"","v":""},null,null,null,{"$f":"INDIRECT(\"L\"&AS1145+$AO$1003)&\"\"","v":""},null,null,null,null,null,null,null,null,null,null,{"$f":"INDIRECT(\"V\"&AS1145+$AO$1003)&\"\"","v":""},null,null,null,null,null,null,null,null,null,null,null,null,null,null,null,null,null,null,null,null,null,36,null,null,null,null,{"$f":"IF(F1147=\"\",\"\",F1147)","v":""},{"$f":"IF(L1147=\"\",\"\",L1147)","v":""},{"$f":"IF(R1147=\"\",\"\",R1147)","v":""},{"$f":"IF(AA1147=\"\",\"\",AA1147)","v":""},{"$f":"VLOOKUP(AS1145,$AS$820:$AZ$873,8)","v":0},null,null,null,{"$f":"IF(INDIRECT(\"AO\"&AS1145+$AO$1003)=TRUE,1,0)","v":0}]
[null,null,null,null,null,"（実施時期）",null,null,null,null,null,"（誰が）",null,null,null,null,null,"（自由記入）",null,null,null,null,null,null,null,null,"（自由記入）",null,null,null,null,null,null,null,null,null,null,null,null,null,null,null,null,null,null,null,null,null,null,null,null,null,null,null,null,null,null,{"$f":"BF1145","v":0}]
[null,null,null,null,null,null,null,null,null,null,null,null,null,null,null,null,null,null,null,null,null,null,null,null,null,null,null,null,null,null,null,null,null,null,null,null,null,null,null,null,null,null,null,null,null,null,null,null,null,null,null,null,null,null,null,null,null,{"$f":"BF1146","v":0}]
[null,null,null,null,null,null,null,null,null,null,null,null,null,null,null,null,null,null,null,null,null,null,null,null,null,null,null,null,null,null,null,null,null,null,null,null,null,null,null,null,null,null,null,null,null,null,null,null,null,null,null,null,null,null,null,null,null,0]
[null,null,null,null,null,{"$f":"INDIRECT(\"F\"&AS1149+$AO$1003)&\"\"","v":""},null,{"$f":"INDIRECT(\"H\"&AS1149+$AO$1003)&\"\"","v":""},null,null,null,{"$f":"INDIRECT(\"L\"&AS1149+$AO$1003)&\"\"","v":""},null,null,null,null,null,null,null,null,null,null,{"$f":"INDIRECT(\"V\"&AS1149+$AO$1003)&\"\"","v":""},null,null,null,null,null,null,null,null,null,null,null,null,null,null,null,null,null,null,null,null,null,37,null,null,null,null,{"$f":"IF(F1151=\"\",\"\",F1151)","v":""},{"$f":"IF(L1151=\"\",\"\",L1151)","v":""},{"$f":"IF(R1151=\"\",\"\",R1151)","v":""},{"$f":"IF(AA1151=\"\",\"\",AA1151)","v":""},{"$f":"VLOOKUP(AS1149,$AS$820:$AZ$873,8)","v":0},null,null,null,{"$f":"IF(INDIRECT(\"AO\"&AS1149+$AO$1003)=TRUE,1,0)","v":0}]
[null,null,null,null,null,"（実施時期）",null,null,null,null,null,"（誰が）",null,null,null,null,null,"（自由記入）",null,null,null,null,null,null,null,null,"（自由記入）",null,null,null,null,null,null,null,null,null,null,null,null,null,null,null,null,null,null,null,null,null,null,null,null,null,null,null,null,null,null,{"$f":"BF1149","v":0}]
[null,null,null,null,null,null,null,null,null,null,null,null,null,null,null,null,null,null,null,null,null,null,null,null,null,null,null,null,null,null,null,null,null,null,null,null,null,null,null,null,null,null,null,null,null,null,null,null,null,null,null,null,null,null,null,null,null,{"$f":"BF1150","v":0}]
[null,null,null,null,null,null,null,null,null,null,null,null,null,null,null,null,null,null,null,null,null,null,null,null,null,null,null,null,null,null,null,null,null,null,null,null,null,null,null,null,null,null,null,null,null,null,null,null,null,null,null,null,null,null,null,null,null,0]
[null,null,null,null,null,{"$f":"INDIRECT(\"F\"&AS1153+$AO$1003)&\"\"","v":""},null,{"$f":"INDIRECT(\"H\"&AS1153+$AO$1003)&\"\"","v":""},null,null,null,{"$f":"INDIRECT(\"L\"&AS1153+$AO$1003)&\"\"","v":""},null,null,null,null,null,null,null,null,null,null,{"$f":"INDIRECT(\"V\"&AS1153+$AO$1003)&\"\"","v":""},null,null,null,null,null,null,null,null,null,null,null,null,null,null,null,null,null,null,null,null,null,38,null,null,null,null,{"$f":"IF(F1155=\"\",\"\",F1155)","v":""},{"$f":"IF(L1155=\"\",\"\",L1155)","v":""},{"$f":"IF(R1155=\"\",\"\",R1155)","v":""},{"$f":"IF(AA1155=\"\",\"\",AA1155)","v":""},{"$f":"VLOOKUP(AS1153,$AS$820:$AZ$873,8)","v":0},null,null,null,{"$f":"IF(INDIRECT(\"AO\"&AS1153+$AO$1003)=TRUE,1,0)","v":0}]
[null,null,null,null,null,"（実施時期）",null,null,null,null,null,"（誰が）",null,null,null,null,null,"（自由記入）",null,null,null,null,null,null,null,null,"（自由記入）",null,null,null,null,null,null,null,null,null,null,null,null,null,null,null,null,null,null,null,null,null,null,null,null,null,null,null,null,null,null,{"$f":"BF1153","v":0}]
[null,null,null,null,null,null,null,null,null,null,null,null,null,null,null,null,null,null,null,null,null,null,null,null,null,null,null,null,null,null,null,null,null,null,null,null,null,null,null,null,null,null,null,null,null,null,null,null,null,null,null,null,null,null,null,null,null,{"$f":"BF1154","v":0}]
[null,null,null,null,null,null,null,null,null,null,null,null,null,null,null,null,null,null,null,null,null,null,null,null,null,null,null,null,null,null,null,null,null,null,null,null,null,null,null,null,null,null,null,null,null,null,null,null,null,null,null,null,null,null,null,null,null,0]
[null,null,null,null,null,{"$f":"INDIRECT(\"F\"&AS1157+$AO$1003)&\"\"","v":""},null,{"$f":"INDIRECT(\"H\"&AS1157+$AO$1003)&\"\"","v":""},null,null,null,{"$f":"INDIRECT(\"L\"&AS1157+$AO$1003)&\"\"","v":""},null,null,null,null,null,null,null,null,null,null,{"$f":"INDIRECT(\"V\"&AS1157+$AO$1003)&\"\"","v":""},null,null,null,null,null,null,null,null,null,null,null,null,null,null,null,null,null,null,null,null,null,39,null,null,null,null,{"$f":"IF(F1159=\"\",\"\",F1159)","v":""},{"$f":"IF(L1159=\"\",\"\",L1159)","v":""},{"$f":"IF(R1159=\"\",\"\",R1159)","v":""},{"$f":"IF(AA1159=\"\",\"\",AA1159)","v":""},{"$f":"VLOOKUP(AS1157,$AS$820:$AZ$873,8)","v":0},null,null,null,{"$f":"IF(INDIRECT(\"AO\"&AS1157+$AO$1003)=TRUE,1,0)","v":0}]
[null,null,null,null,null,"（実施時期）",null,null,null,null,null,"（誰が）",null,null,null,null,null,"（自由記入）",null,null,null,null,null,null,null,null,"（自由記入）",null,null,null,null,null,null,null,null,null,null,null,null,null,null,null,null,null,null,null,null,null,null,null,null,null,null,null,null,null,null,{"$f":"BF1157","v":0}]
[null,null,null,null,null,null,null,null,null,null,null,null,null,null,null,null,null,null,null,null,null,null,null,null,null,null,null,null,null,null,null,null,null,null,null,null,null,null,null,null,null,null,null,null,null,null,null,null,null,null,null,null,null,null,null,null,null,{"$f":"BF1158","v":0}]
[null,null,null,null,null,null,null,null,null,null,null,null,null,null,null,null,null,null,null,null,null,null,null,null,null,null,null,null,null,null,null,null,null,null,null,null,null,null,null,null,null,null,null,null,null,null,null,null,null,null,null,null,null,null,null,null,null,0]
[null,null,null,null,null,{"$f":"INDIRECT(\"F\"&AS1161+$AO$1003)&\"\"","v":""},null,{"$f":"INDIRECT(\"H\"&AS1161+$AO$1003)&\"\"","v":""},null,null,null,{"$f":"INDIRECT(\"L\"&AS1161+$AO$1003)&\"\"","v":""},null,null,null,null,null,null,null,null,null,null,{"$f":"INDIRECT(\"V\"&AS1161+$AO$1003)&\"\"","v":""},null,null,null,null,null,null,null,null,null,null,null,null,null,null,null,null,null,null,null,null,null,40,null,null,null,null,{"$f":"IF(F1163=\"\",\"\",F1163)","v":""},{"$f":"IF(L1163=\"\",\"\",L1163)","v":""},{"$f":"IF(R1163=\"\",\"\",R1163)","v":""},{"$f":"IF(AA1163=\"\",\"\",AA1163)","v":""},{"$f":"VLOOKUP(AS1161,$AS$820:$AZ$873,8)","v":0},null,null,null,{"$f":"IF(INDIRECT(\"AO\"&AS1161+$AO$1003)=TRUE,1,0)","v":0}]
[null,null,null,null,null,"（実施時期）",null,null,null,null,null,"（誰が）",null,null,null,null,null,"（自由記入）",null,null,null,null,null,null,null,null,"（自由記入）",null,null,null,null,null,null,null,null,null,null,null,null,null,null,null,null,null,null,null,null,null,null,null,null,null,null,null,null,null,null,{"$f":"BF1161","v":0}]
[null,null,null,null,null,null,null,null,null,null,null,null,null,null,null,null,null,null,null,null,null,null,null,null,null,null,null,null,null,null,null,null,null,null,null,null,null,null,null,null,null,null,null,null,null,null,null,null,null,null,null,null,null,null,null,null,null,{"$f":"BF1162","v":0}]
[null,null,null,null,null,null,null,null,null,null,null,null,null,null,null,null,null,null,null,null,null,null,null,null,null,null,null,null,null,null,null,null,null,null,null,null,null,null,null,null,null,null,null,null,null,null,null,null,null,null,null,null,null,null,null,null,null,0]
[null,null,null,null,null,{"$f":"INDIRECT(\"F\"&AS1165+$AO$1003)&\"\"","v":""},null,{"$f":"INDIRECT(\"H\"&AS1165+$AO$1003)&\"\"","v":""},null,null,null,{"$f":"INDIRECT(\"L\"&AS1165+$AO$1003)&\"\"","v":""},null,null,null,null,null,null,null,null,null,null,{"$f":"INDIRECT(\"V\"&AS1165+$AO$1003)&\"\"","v":""},null,null,null,null,null,null,null,null,null,null,null,null,null,null,null,null,null,null,null,null,null,41,null,null,null,null,{"$f":"IF(F1167=\"\",\"\",F1167)","v":""},{"$f":"IF(L1167=\"\",\"\",L1167)","v":""},{"$f":"IF(R1167=\"\",\"\",R1167)","v":""},{"$f":"IF(AA1167=\"\",\"\",AA1167)","v":""},{"$f":"VLOOKUP(AS1165,$AS$820:$AZ$873,8)","v":0},null,null,null,{"$f":"IF(INDIRECT(\"AO\"&AS1165+$AO$1003)=TRUE,1,0)","v":0}]
[null,null,null,null,null,"（実施時期）",null,null,null,null,null,"（誰が）",null,null,null,null,null,"（自由記入）",null,null,null,null,null,null,null,null,"（自由記入）",null,null,null,null,null,null,null,null,null,null,null,null,null,null,null,null,null,null,null,null,null,null,null,null,null,null,null,null,null,null,{"$f":"BF1165","v":0}]
[null,null,null,null,null,null,null,null,null,null,null,null,null,null,null,null,null,null,null,null,null,null,null,null,null,null,null,null,null,null,null,null,null,null,null,null,null,null,null,null,null,null,null,null,null,null,null,null,null,null,null,null,null,null,null,null,null,{"$f":"BF1166","v":0}]
[null,null,null,null,null,null,null,null,null,null,null,null,null,null,null,null,null,null,null,null,null,null,null,null,null,null,null,null,null,null,null,null,null,null,null,null,null,null,null,null,null,null,null,null,null,null,null,null,null,null,null,null,null,null,null,null,null,0]
[null,null,null,null,null,{"$f":"INDIRECT(\"F\"&AS1169+$AO$1003)&\"\"","v":""},null,{"$f":"INDIRECT(\"H\"&AS1169+$AO$1003)&\"\"","v":""},null,null,null,{"$f":"INDIRECT(\"L\"&AS1169+$AO$1003)&\"\"","v":""},null,null,null,null,null,null,null,null,null,null,{"$f":"INDIRECT(\"V\"&AS1169+$AO$1003)&\"\"","v":""},null,null,null,null,null,null,null,null,null,null,null,null,null,null,null,null,null,null,null,null,null,42,null,null,null,null,{"$f":"IF(F1171=\"\",\"\",F1171)","v":""},{"$f":"IF(L1171=\"\",\"\",L1171)","v":""},{"$f":"IF(R1171=\"\",\"\",R1171)","v":""},{"$f":"IF(AA1171=\"\",\"\",AA1171)","v":""},{"$f":"VLOOKUP(AS1169,$AS$820:$AZ$873,8)","v":0},null,null,null,{"$f":"IF(INDIRECT(\"AO\"&AS1169+$AO$1003)=TRUE,1,0)","v":0}]
[null,null,null,null,null,"（実施時期）",null,null,null,null,null,"（誰が）",null,null,null,null,null,"（自由記入）",null,null,null,null,null,null,null,null,"（自由記入）",null,null,null,null,null,null,null,null,null,null,null,null,null,null,null,null,null,null,null,null,null,null,null,null,null,null,null,null,null,null,{"$f":"BF1169","v":0}]
[null,null,null,null,null,null,null,null,null,null,null,null,null,null,null,null,null,null,null,null,null,null,null,null,null,null,null,null,null,null,null,null,null,null,null,null,null,null,null,null,null,null,null,null,null,null,null,null,null,null,null,null,null,null,null,null,null,{"$f":"BF1170","v":0}]
[null,null,null,null,null,null,null,null,null,null,null,null,null,null,null,null,null,null,null,null,null,null,null,null,null,null,null,null,null,null,null,null,null,null,null,null,null,null,null,null,null,null,null,null,null,null,null,null,null,null,null,null,null,null,null,null,null,0]
[null,null,null,null,null,{"$f":"INDIRECT(\"F\"&AS1173+$AO$1003)&\"\"","v":""},null,{"$f":"INDIRECT(\"H\"&AS1173+$AO$1003)&\"\"","v":""},null,null,null,{"$f":"INDIRECT(\"L\"&AS1173+$AO$1003)&\"\"","v":""},null,null,null,null,null,null,null,null,null,null,{"$f":"INDIRECT(\"V\"&AS1173+$AO$1003)&\"\"","v":""},null,null,null,null,null,null,null,null,null,null,null,null,null,null,null,null,null,null,null,null,null,43,null,null,null,null,{"$f":"IF(F1175=\"\",\"\",F1175)","v":""},{"$f":"IF(L1175=\"\",\"\",L1175)","v":""},{"$f":"IF(R1175=\"\",\"\",R1175)","v":""},{"$f":"IF(AA1175=\"\",\"\",AA1175)","v":""},{"$f":"VLOOKUP(AS1173,$AS$820:$AZ$873,8)","v":0},null,null,null,{"$f":"IF(INDIRECT(\"AO\"&AS1173+$AO$1003)=TRUE,1,0)","v":0}]
[null,null,null,null,null,"（実施時期）",null,null,null,null,null,"（誰が）",null,null,null,null,null,"（自由記入）",null,null,null,null,null,null,null,null,"（自由記入）",null,null,null,null,null,null,null,null,null,null,null,null,null,null,null,null,null,null,null,null,null,null,null,null,null,null,null,null,null,null,{"$f":"BF1173","v":0}]
[null,null,null,null,null,null,null,null,null,null,null,null,null,null,null,null,null,null,null,null,null,null,null,null,null,null,null,null,null,null,null,null,null,null,null,null,null,null,null,null,null,null,null,null,null,null,null,null,null,null,null,null,null,null,null,null,null,{"$f":"BF1174","v":0}]
[null,null,null,null,null,null,null,null,null,null,null,null,null,null,null,null,null,null,null,null,null,null,null,null,null,null,null,null,null,null,null,null,null,null,null,null,null,null,null,null,null,null,null,null,null,null,null,null,null,null,null,null,null,null,null,null,null,0]
[null,null,null,null,null,{"$f":"INDIRECT(\"F\"&AS1177+$AO$1003)&\"\"","v":""},null,{"$f":"INDIRECT(\"H\"&AS1177+$AO$1003)&\"\"","v":""},null,null,null,{"$f":"INDIRECT(\"L\"&AS1177+$AO$1003)&\"\"","v":""},null,null,null,null,null,null,null,null,null,null,{"$f":"INDIRECT(\"V\"&AS1177+$AO$1003)&\"\"","v":""},null,null,null,null,null,null,null,null,null,null,null,null,null,null,null,null,null,null,null,null,null,44,null,null,null,null,{"$f":"IF(F1179=\"\",\"\",F1179)","v":""},{"$f":"IF(L1179=\"\",\"\",L1179)","v":""},{"$f":"IF(R1179=\"\",\"\",R1179)","v":""},{"$f":"IF(AA1179=\"\",\"\",AA1179)","v":""},{"$f":"VLOOKUP(AS1177,$AS$820:$AZ$873,8)","v":0},null,null,null,{"$f":"IF(INDIRECT(\"AO\"&AS1177+$AO$1003)=TRUE,1,0)","v":0}]
[null,null,null,null,null,"（実施時期）",null,null,null,null,null,"（誰が）",null,null,null,null,null,"（自由記入）",null,null,null,null,null,null,null,null,"（自由記入）",null,null,null,null,null,null,null,null,null,null,null,null,null,null,null,null,null,null,null,null,null,null,null,null,null,null,null,null,null,null,{"$f":"BF1177","v":0}]
[null,null,null,null,null,null,null,null,null,null,null,null,null,null,null,null,null,null,null,null,null,null,null,null,null,null,null,null,null,null,null,null,null,null,null,null,null,null,null,null,null,null,null,null,null,null,null,null,null,null,null,null,null,null,null,null,null,{"$f":"BF1178","v":0}]
[null,null,null,null,null,null,null,null,null,null,null,null,null,null,null,null,null,null,null,null,null,null,null,null,null,null,null,null,null,null,null,null,null,null,null,null,null,null,null,null,null,null,null,null,null,null,null,null,null,null,null,null,null,null,null,null,null,0]
[null,null,null,null,null,{"$f":"INDIRECT(\"F\"&AS1181+$AO$1003)&\"\"","v":""},null,{"$f":"INDIRECT(\"H\"&AS1181+$AO$1003)&\"\"","v":""},null,null,null,{"$f":"INDIRECT(\"L\"&AS1181+$AO$1003)&\"\"","v":""},null,null,null,null,null,null,null,null,null,null,{"$f":"INDIRECT(\"V\"&AS1181+$AO$1003)&\"\"","v":""},null,null,null,null,null,null,null,null,null,null,null,null,null,null,null,null,null,null,null,null,null,45,null,null,null,null,{"$f":"IF(F1183=\"\",\"\",F1183)","v":""},{"$f":"IF(L1183=\"\",\"\",L1183)","v":""},{"$f":"IF(R1183=\"\",\"\",R1183)","v":""},{"$f":"IF(AA1183=\"\",\"\",AA1183)","v":""},{"$f":"VLOOKUP(AS1181,$AS$820:$AZ$873,8)","v":0},null,null,null,{"$f":"IF(INDIRECT(\"AO\"&AS1181+$AO$1003)=TRUE,1,0)","v":0}]
[null,null,null,null,null,"（実施時期）",null,null,null,null,null,"（誰が）",null,null,null,null,null,"（自由記入）",null,null,null,null,null,null,null,null,"（自由記入）",null,null,null,null,null,null,null,null,null,null,null,null,null,null,null,null,null,null,null,null,null,null,null,null,null,null,null,null,null,null,{"$f":"BF1181","v":0}]
[null,null,null,null,null,null,null,null,null,null,null,null,null,null,null,null,null,null,null,null,null,null,null,null,null,null,null,null,null,null,null,null,null,null,null,null,null,null,null,null,null,null,null,null,null,null,null,null,null,null,null,null,null,null,null,null,null,{"$f":"BF1182","v":0}]
[null,null,null,null,null,null,null,null,null,null,null,null,null,null,null,null,null,null,null,null,null,null,null,null,null,null,null,null,null,null,null,null,null,null,null,null,null,null,null,null,null,null,null,null,null,null,null,null,null,null,null,null,null,null,null,null,null,0]
[null,null,null,null,null,{"$f":"INDIRECT(\"F\"&AS1185+$AO$1003)&\"\"","v":""},null,{"$f":"INDIRECT(\"H\"&AS1185+$AO$1003)&\"\"","v":""},null,null,null,{"$f":"INDIRECT(\"L\"&AS1185+$AO$1003)&\"\"","v":""},null,null,null,null,null,null,null,null,null,null,{"$f":"INDIRECT(\"V\"&AS1185+$AO$1003)&\"\"","v":""},null,null,null,null,null,null,null,null,null,null,null,null,null,null,null,null,null,null,null,null,null,46,null,null,null,null,{"$f":"IF(F1187=\"\",\"\",F1187)","v":""},{"$f":"IF(L1187=\"\",\"\",L1187)","v":""},{"$f":"IF(R1187=\"\",\"\",R1187)","v":""},{"$f":"IF(AA1187=\"\",\"\",AA1187)","v":""},{"$f":"VLOOKUP(AS1185,$AS$820:$AZ$873,8)","v":0},null,null,null,{"$f":"IF(INDIRECT(\"AO\"&AS1185+$AO$1003)=TRUE,1,0)","v":0}]
[null,null,null,null,null,"（実施時期）",null,null,null,null,null,"（誰が）",null,null,null,null,null,"（自由記入）",null,null,null,null,null,null,null,null,"（自由記入）",null,null,null,null,null,null,null,null,null,null,null,null,null,null,null,null,null,null,null,null,null,null,null,null,null,null,null,null,null,null,{"$f":"BF1185","v":0}]
[null,null,null,null,null,null,null,null,null,null,null,null,null,null,null,null,null,null,null,null,null,null,null,null,null,null,null,null,null,null,null,null,null,null,null,null,null,null,null,null,null,null,null,null,null,null,null,null,null,null,null,null,null,null,null,null,null,{"$f":"BF1186","v":0}]
[null,null,null,null,null,null,null,null,null,null,null,null,null,null,null,null,null,null,null,null,null,null,null,null,null,null,null,null,null,null,null,null,null,null,null,null,null,null,null,null,null,null,null,null,null,null,null,null,null,null,null,null,null,null,null,null,null,0]
[null,null,null,null,null,{"$f":"INDIRECT(\"F\"&AS1189+$AO$1003)&\"\"","v":""},null,{"$f":"INDIRECT(\"H\"&AS1189+$AO$1003)&\"\"","v":""},null,null,null,{"$f":"INDIRECT(\"L\"&AS1189+$AO$1003)&\"\"","v":""},null,null,null,null,null,null,null,null,null,null,{"$f":"INDIRECT(\"V\"&AS1189+$AO$1003)&\"\"","v":""},null,null,null,null,null,null,null,null,null,null,null,null,null,null,null,null,null,null,null,null,null,47,null,null,null,null,{"$f":"IF(F1191=\"\",\"\",F1191)","v":""},{"$f":"IF(L1191=\"\",\"\",L1191)","v":""},{"$f":"IF(R1191=\"\",\"\",R1191)","v":""},{"$f":"IF(AA1191=\"\",\"\",AA1191)","v":""},{"$f":"VLOOKUP(AS1189,$AS$820:$AZ$873,8)","v":0},null,null,null,{"$f":"IF(INDIRECT(\"AO\"&AS1189+$AO$1003)=TRUE,1,0)","v":0}]
[null,null,null,null,null,"（実施時期）",null,null,null,null,null,"（誰が）",null,null,null,null,null,"（自由記入）",null,null,null,null,null,null,null,null,"（自由記入）",null,null,null,null,null,null,null,null,null,null,null,null,null,null,null,null,null,null,null,null,null,null,null,null,null,null,null,null,null,null,{"$f":"BF1189","v":0}]
[null,null,null,null,null,null,null,null,null,null,null,null,null,null,null,null,null,null,null,null,null,null,null,null,null,null,null,null,null,null,null,null,null,null,null,null,null,null,null,null,null,null,null,null,null,null,null,null,null,null,null,null,null,null,null,null,null,{"$f":"BF1190","v":0}]
[null,null,null,null,null,null,null,null,null,null,null,null,null,null,null,null,null,null,null,null,null,null,null,null,null,null,null,null,null,null,null,null,null,null,null,null,null,null,null,null,null,null,null,null,null,null,null,null,null,null,null,null,null,null,null,null,null,0]
[null,null,null,null,null,{"$f":"INDIRECT(\"F\"&AS1193+$AO$1003)&\"\"","v":""},null,{"$f":"INDIRECT(\"H\"&AS1193+$AO$1003)&\"\"","v":""},null,null,null,{"$f":"INDIRECT(\"L\"&AS1193+$AO$1003)&\"\"","v":""},null,null,null,null,null,null,null,null,null,null,{"$f":"INDIRECT(\"V\"&AS1193+$AO$1003)&\"\"","v":""},null,null,null,null,null,null,null,null,null,null,null,null,null,null,null,null,null,null,null,null,null,48,null,null,null,null,{"$f":"IF(F1195=\"\",\"\",F1195)","v":""},{"$f":"IF(L1195=\"\",\"\",L1195)","v":""},{"$f":"IF(R1195=\"\",\"\",R1195)","v":""},{"$f":"IF(AA1195=\"\",\"\",AA1195)","v":""},{"$f":"VLOOKUP(AS1193,$AS$820:$AZ$873,8)","v":0},null,null,null,{"$f":"IF(INDIRECT(\"AO\"&AS1193+$AO$1003)=TRUE,1,0)","v":0}]
[null,null,null,null,null,"（実施時期）",null,null,null,null,null,"（誰が）",null,null,null,null,null,"（自由記入）",null,null,null,null,null,null,null,null,"（自由記入）",null,null,null,null,null,null,null,null,null,null,null,null,null,null,null,null,null,null,null,null,null,null,null,null,null,null,null,null,null,null,{"$f":"BF1193","v":0}]
[null,null,null,null,null,null,null,null,null,null,null,null,null,null,null,null,null,null,null,null,null,null,null,null,null,null,null,null,null,null,null,null,null,null,null,null,null,null,null,null,null,null,null,null,null,null,null,null,null,null,null,null,null,null,null,null,null,{"$f":"BF1194","v":0}]
[null,null,null,null,null,null,null,null,null,null,null,null,null,null,null,null,null,null,null,null,null,null,null,null,null,null,null,null,null,null,null,null,null,null,null,null,null,null,null,null,null,null,null,null,null,null,null,null,null,null,null,null,null,null,null,null,null,0]
[null,null,null,null,null,{"$f":"INDIRECT(\"F\"&AS1197+$AO$1003)&\"\"","v":""},null,{"$f":"INDIRECT(\"H\"&AS1197+$AO$1003)&\"\"","v":""},null,null,null,{"$f":"INDIRECT(\"L\"&AS1197+$AO$1003)&\"\"","v":""},null,null,null,null,null,null,null,null,null,null,{"$f":"INDIRECT(\"V\"&AS1197+$AO$1003)&\"\"","v":""},null,null,null,null,null,null,null,null,null,null,null,null,null,null,null,null,null,null,null,null,null,49,null,null,null,null,{"$f":"IF(F1199=\"\",\"\",F1199)","v":""},{"$f":"IF(L1199=\"\",\"\",L1199)","v":""},{"$f":"IF(R1199=\"\",\"\",R1199)","v":""},{"$f":"IF(AA1199=\"\",\"\",AA1199)","v":""},{"$f":"VLOOKUP(AS1197,$AS$820:$AZ$873,8)","v":0},null,null,null,{"$f":"IF(INDIRECT(\"AO\"&AS1197+$AO$1003)=TRUE,1,0)","v":0}]
[null,null,null,null,null,"（実施時期）",null,null,null,null,null,"（誰が）",null,null,null,null,null,"（自由記入）",null,null,null,null,null,null,null,null,"（自由記入）",null,null,null,null,null,null,null,null,null,null,null,null,null,null,null,null,null,null,null,null,null,null,null,null,null,null,null,null,null,null,{"$f":"BF1197","v":0}]
[null,null,null,null,null,null,null,null,null,null,null,null,null,null,null,null,null,null,null,null,null,null,null,null,null,null,null,null,null,null,null,null,null,null,null,null,null,null,null,null,null,null,null,null,null,null,null,null,null,null,null,null,null,null,null,null,null,{"$f":"BF1198","v":0}]
[null,null,null,null,null,null,null,null,null,null,null,null,null,null,null,null,null,null,null,null,null,null,null,null,null,null,null,null,null,null,null,null,null,null,null,null,null,null,null,null,null,null,null,null,null,null,null,null,null,null,null,null,null,null,null,null,null,0]
[null,null,null,null,null,{"$f":"INDIRECT(\"F\"&AS1201+$AO$1003)&\"\"","v":""},null,{"$f":"INDIRECT(\"H\"&AS1201+$AO$1003)&\"\"","v":""},null,null,null,{"$f":"INDIRECT(\"L\"&AS1201+$AO$1003)&\"\"","v":""},null,null,null,null,null,null,null,null,null,null,{"$f":"INDIRECT(\"V\"&AS1201+$AO$1003)&\"\"","v":""},null,null,null,null,null,null,null,null,null,null,null,null,null,null,null,null,null,null,null,null,null,50,null,null,null,null,{"$f":"IF(F1203=\"\",\"\",F1203)","v":""},{"$f":"IF(L1203=\"\",\"\",L1203)","v":""},{"$f":"IF(R1203=\"\",\"\",R1203)","v":""},{"$f":"IF(AA1203=\"\",\"\",AA1203)","v":""},{"$f":"VLOOKUP(AS1201,$AS$820:$AZ$873,8)","v":0},null,null,null,{"$f":"IF(INDIRECT(\"AO\"&AS1201+$AO$1003)=TRUE,1,0)","v":0}]
[null,null,null,null,null,"（実施時期）",null,null,null,null,null,"（誰が）",null,null,null,null,null,"（自由記入）",null,null,null,null,null,null,null,null,"（自由記入）",null,null,null,null,null,null,null,null,null,null,null,null,null,null,null,null,null,null,null,null,null,null,null,null,null,null,null,null,null,null,{"$f":"BF1201","v":0}]
[null,null,null,null,null,null,null,null,null,null,null,null,null,null,null,null,null,null,null,null,null,null,null,null,null,null,null,null,null,null,null,null,null,null,null,null,null,null,null,null,null,null,null,null,null,null,null,null,null,null,null,null,null,null,null,null,null,{"$f":"BF1202","v":0}]
[null,null,null,null,null,null,null,null,null,null,null,null,null,null,null,null,null,null,null,null,null,null,null,null,null,null,null,null,null,null,null,null,null,null,null,null,null,null,null,null,null,null,null,null,null,null,null,null,null,null,null,null,null,null,null,null,null,0]
[null,null,null,null,null,{"$f":"INDIRECT(\"F\"&AS1205+$AO$1003)&\"\"","v":""},null,{"$f":"INDIRECT(\"H\"&AS1205+$AO$1003)&\"\"","v":""},null,null,null,{"$f":"INDIRECT(\"L\"&AS1205+$AO$1003)&\"\"","v":""},null,null,null,null,null,null,null,null,null,null,{"$f":"INDIRECT(\"V\"&AS1205+$AO$1003)&\"\"","v":""},null,null,null,null,null,null,null,null,null,null,null,null,null,null,null,null,null,null,null,null,null,51,null,null,null,null,{"$f":"IF(F1207=\"\",\"\",F1207)","v":""},{"$f":"IF(L1207=\"\",\"\",L1207)","v":""},{"$f":"IF(R1207=\"\",\"\",R1207)","v":""},{"$f":"IF(AA1207=\"\",\"\",AA1207)","v":""},{"$f":"VLOOKUP(AS1205,$AS$820:$AZ$873,8)","v":0},null,null,null,{"$f":"IF(INDIRECT(\"AO\"&AS1205+$AO$1003)=TRUE,1,0)","v":0}]
[null,null,null,null,null,"（実施時期）",null,null,null,null,null,"（誰が）",null,null,null,null,null,"（自由記入）",null,null,null,null,null,null,null,null,"（自由記入）",null,null,null,null,null,null,null,null,null,null,null,null,null,null,null,null,null,null,null,null,null,null,null,null,null,null,null,null,null,null,{"$f":"BF1205","v":0}]
[null,null,null,null,null,null,null,null,null,null,null,null,null,null,null,null,null,null,null,null,null,null,null,null,null,null,null,null,null,null,null,null,null,null,null,null,null,null,null,null,null,null,null,null,null,null,null,null,null,null,null,null,null,null,null,null,null,{"$f":"BF1206","v":0}]
[null,null,null,null,null,null,null,null,null,null,null,null,null,null,null,null,null,null,null,null,null,null,null,null,null,null,null,null,null,null,null,null,null,null,null,null,null,null,null,null,null,null,null,null,null,null,null,null,null,null,null,null,null,null,null,null,null,0]
[null,null,null,null,null,{"$f":"INDIRECT(\"F\"&AS1209+$AO$1003)&\"\"","v":""},null,{"$f":"INDIRECT(\"H\"&AS1209+$AO$1003)&\"\"","v":""},null,null,null,{"$f":"INDIRECT(\"L\"&AS1209+$AO$1003)&\"\"","v":""},null,null,null,null,null,null,null,null,null,null,{"$f":"INDIRECT(\"V\"&AS1209+$AO$1003)&\"\"","v":""},null,null,null,null,null,null,null,null,null,null,null,null,null,null,null,null,null,null,null,null,null,52,null,null,null,null,{"$f":"IF(F1211=\"\",\"\",F1211)","v":""},{"$f":"IF(L1211=\"\",\"\",L1211)","v":""},{"$f":"IF(R1211=\"\",\"\",R1211)","v":""},{"$f":"IF(AA1211=\"\",\"\",AA1211)","v":""},{"$f":"VLOOKUP(AS1209,$AS$820:$AZ$873,8)","v":0},null,null,null,{"$f":"IF(INDIRECT(\"AO\"&AS1209+$AO$1003)=TRUE,1,0)","v":0}]
[null,null,null,null,null,"（実施時期）",null,null,null,null,null,"（誰が）",null,null,null,null,null,"（自由記入）",null,null,null,null,null,null,null,null,"（自由記入）",null,null,null,null,null,null,null,null,null,null,null,null,null,null,null,null,null,null,null,null,null,null,null,null,null,null,null,null,null,null,{"$f":"BF1209","v":0}]
[null,null,null,null,null,null,null,null,null,null,null,null,null,null,null,null,null,null,null,null,null,null,null,null,null,null,null,null,null,null,null,null,null,null,null,null,null,null,null,null,null,null,null,null,null,null,null,null,null,null,null,null,null,null,null,null,null,{"$f":"BF1210","v":0}]
[null,null,null,null,null,null,null,null,null,null,null,null,null,null,null,null,null,null,null,null,null,null,null,null,null,null,null,null,null,null,null,null,null,null,null,null,null,null,null,null,null,null,null,null,null,null,null,null,null,null,null,null,null,null,null,null,null,0]
[null,null,null,null,null,{"$f":"INDIRECT(\"F\"&AS1213+$AO$1003)&\"\"","v":""},null,{"$f":"INDIRECT(\"H\"&AS1213+$AO$1003)&\"\"","v":""},null,null,null,{"$f":"INDIRECT(\"L\"&AS1213+$AO$1003)&\"\"","v":""},null,null,null,null,null,null,null,null,null,null,{"$f":"INDIRECT(\"V\"&AS1213+$AO$1003)&\"\"","v":""},null,null,null,null,null,null,null,null,null,null,null,null,null,null,null,null,null,null,null,null,null,53,null,null,null,null,{"$f":"IF(F1215=\"\",\"\",F1215)","v":""},{"$f":"IF(L1215=\"\",\"\",L1215)","v":""},{"$f":"IF(R1215=\"\",\"\",R1215)","v":""},{"$f":"IF(AA1215=\"\",\"\",AA1215)","v":""},{"$f":"VLOOKUP(AS1213,$AS$820:$AZ$873,8)","v":0},null,null,null,{"$f":"IF(INDIRECT(\"AO\"&AS1213+$AO$1003)=TRUE,1,0)","v":0}]
[null,null,null,null,null,"（実施時期）",null,null,null,null,null,"（誰が）",null,null,null,null,null,"（自由記入）",null,null,null,null,null,null,null,null,"（自由記入）",null,null,null,null,null,null,null,null,null,null,null,null,null,null,null,null,null,null,null,null,null,null,null,null,null,null,null,null,null,null,{"$f":"BF1213","v":0}]
[null,null,null,null,null,null,null,null,null,null,null,null,null,null,null,null,null,null,null,null,null,null,null,null,null,null,null,null,null,null,null,null,null,null,null,null,null,null,null,null,null,null,null,null,null,null,null,null,null,null,null,null,null,null,null,null,null,{"$f":"BF1214","v":0}]
[null,null,null,null,null,null,null,null,null,null,null,null,null,null,null,null,null,null,null,null,null,null,null,null,null,null,null,null,null,null,null,null,null,null,null,null,null,null,null,null,null,null,null,null,null,null,null,null,null,null,null,null,null,null,null,null,null,0]
[null,null,null,null,null,{"$f":"INDIRECT(\"F\"&AS1217+$AO$1003)&\"\"","v":""},null,{"$f":"INDIRECT(\"H\"&AS1217+$AO$1003)&\"\"","v":""},null,null,null,{"$f":"INDIRECT(\"L\"&AS1217+$AO$1003)&\"\"","v":""},null,null,null,null,null,null,null,null,null,null,{"$f":"INDIRECT(\"V\"&AS1217+$AO$1003)&\"\"","v":""},null,null,null,null,null,null,null,null,null,null,null,null,null,null,null,null,null,null,null,null,null,54,null,null,null,null,{"$f":"IF(F1219=\"\",\"\",F1219)","v":""},{"$f":"IF(L1219=\"\",\"\",L1219)","v":""},{"$f":"IF(R1219=\"\",\"\",R1219)","v":""},{"$f":"IF(AA1219=\"\",\"\",AA1219)","v":""},{"$f":"VLOOKUP(AS1217,$AS$820:$AZ$873,8)","v":0},null,null,null,{"$f":"IF(INDIRECT(\"AO\"&AS1217+$AO$1003)=TRUE,1,0)","v":0}]
[null,null,null,null,null,"（実施時期）",null,null,null,null,null,"（誰が）",null,null,null,null,null,"（自由記入）",null,null,null,null,null,null,null,null,"（自由記入）",null,null,null,null,null,null,null,null,null,null,null,null,null,null,null,null,null,null,null,null,null,null,null,null,null,null,null,null,null,null,{"$f":"BF1217","v":0}]
[null,null,null,null,null,null,null,null,null,null,null,null,null,null,null,null,null,null,null,null,null,null,null,null,null,null,null,null,null,null,null,null,null,null,null,null,null,null,null,null,null,null,null,null,null,null,null,null,null,null,null,null,null,null,null,null,null,{"$f":"BF1218","v":0}]
[null,null,null,null,null,null,null,null,null,null,null,null,null,null,null,null,null,null,null,null,null,null,null,null,null,null,null,null,null,null,null,null,null,null,null,null,null,null,null,null,null,null,null,null,null,null,null,null,null,null,null,null,null,null,null,null,null,0]
[null,null,null,null,null,null,null,null,null,null,null,null,null,null,null,null,null,null,null,null,null,null,null,null,null,null,null,null,null,null,null,null,null,null,null,null,null,null,null,null,null,null,null,null,null,null,null,null,null,null,null,null,null,null,null,null,null,1]
[null,null,null,null,null,null,null,null,null,null,null,null,null,null,null,null,null,null,null,null,null,null,null,null,null,null,null,null,null,null,null,null,null,null,null,null,null,null,null,null,null,null,null,null,null,null,null,null,null,null,null,null,null,null,null,null,null,0]
[null,null,3,null,null,null,null,null,null,null,null,null,null,null,null,null,null,null,null,null,null,null,null,null,null,null,null,null,null,null,null,null,null,null,null,null,null,null,null,null,null,null,null,null,45,46,47,48,49,50,null,null,null,null,null,null,null,0,"EOL"]

{"sheet":"参照シート","index":2,"n_rows":102,"n_cols":17,"rows_kept":102,"cut":false,"hidden":true,"merged":[[0,0,0,1],[0,3,0,4],[0,6,0,7],[0,9,0,10],[0,12,0,13],[92,16,92,32],[93,16,93,32],[90,16,90,32],[91,16,91,32],[89,16,89,32],[101,16,101,32],[96,16,96,32],[97,16,97,32],[94,16,94,32],[95,16,95,32],[108,16,108,32],[103,16,103,32],[104,16,104,32],[105,16,105,32],[106,16,106,32],[107,16,107,32]]}
["最初",null,null,"2.　従業員名簿",null,null,"3.　浸水想定",null,null,"4.　避難計画",null,null,"5.　BCPの発動基準"]
["岐阜県","恵那市",null,"名簿","○",null,"浸水","有",null,"警戒レベル","警戒レベル3",null,"警戒レベル","警戒レベル1","平常時"]
[null,"瑞浪市",null,null,"－",null,null,"無",null,"避難","警戒レベル4",null,"BCP","警戒レベル2","注意体制確立"]
[null,"土岐市",null,null,null,null,null,null,null,null,null,null,null,"警戒レベル3","警戒体制確立"]
[null,"多治見市",null,"参集手段","徒歩",null,"階数","1階",null,"リードタイム",0.5,null,null,"警戒レベル4","非常体制確立"]
["愛知県","瀬戸市",null,null,"自転車",null,null,"2階",null,null,1.5]
[null,"春日井市",null,null,null,null,null,"3階"]
[null,"名古屋市（守山区）",null,null,null,null,null,"4階"]
[null,"名古屋市（北区）",{"$f":"IF(E9<>\"\",MAX($C$8:C8)+1,\"\")","v":1},"役職",{"$f":"コントロールシート!AC66&\"\"","v":"本部長"},null,null,"5階以上",null,null,null,1,{"$f":"IFERROR(VLOOKUP(L9,$C$9:$E$33,3,FALSE)&\"\",\"\")","v":"本部長"},null,"副本部長"]
[null,"名古屋市（西区）",{"$f":"IF(E10<>\"\",MAX($C$8:C9)+1,\"\")","v":2},null,{"$f":"コントロールシート!AC67&\"\"","v":"副本部長"},null,null,null,null,null,null,2,"副本部長"]
[null,"名古屋市（中村区）",{"$f":"IF(E11<>\"\",MAX($C$8:C10)+1,\"\")","v":3},null,{"$f":"コントロールシート!AC68&\"\"","v":"総務班長"},null,"外水浸水","無",0,"無",null,3,"総務班長"]
[null,"名古屋市（中川区）",{"$f":"IF(E12<>\"\",MAX($C$8:C11)+1,\"\")","v":4},null,{"$f":"コントロールシート!AC69&\"\"","v":"情報収集班長"},null,null,"～0.3m",0,0,null,4,"情報収集班長"]
[null,"名古屋市（港区）",{"$f":"IF(E13<>\"\",MAX($C$8:C12)+1,\"\")","v":5},null,{"$f":"コントロールシート!AC70&\"\"","v":"広報班長"},null,null,"0.3m～0.5m",0,0.3,null,5,"広報班長",null,{"$f":"COUNTA($M$9:$M$32)-COUNTIF($M$9:$M$32,\"\")","v":11}]
[null,"清須市",{"$f":"IF(E14<>\"\",MAX($C$8:C13)+1,\"\")","v":6},null,{"$f":"コントロールシート!AC71&\"\"","v":"復旧対策班長"},null,null,"0.5m～1.0m",1,0.5,null,6,"復旧対策班長"]
[null,"あま市",{"$f":"IF(E15<>\"\",MAX($C$8:C14)+1,\"\")","v":7},null,{"$f":"コントロールシート!AC72&\"\"","v":"安否確認班長"},null,null,"1.0m～3.0m",1,1,null,7,"安否確認班長"]
[null,"海部郡大治町",{"$f":"IF(E16<>\"\",MAX($C$8:C15)+1,\"\")","v":8},null,{"$f":"コントロールシート!AC73&\"\"","v":"システム班長"},null,null,"3.0m～5.0m",2,3,null,8,"システム班長"]
[null,null,{"$f":"IF(E17<>\"\",MAX($C$8:C16)+1,\"\")","v":9},null,{"$f":"コントロールシート!AC74&\"\"","v":"顧客対応班長"},null,null,"5.0m～10.0m",3,5,null,9,"顧客対応班長"]
[null,null,{"$f":"IF(E18<>\"\",MAX($C$8:C17)+1,\"\")","v":10},null,{"$f":"コントロールシート!AC75&\"\"","v":"避難誘導班長"},null,null,"10.0m～20.0m",4,10,null,10,"避難誘導班長"]
[null,null,{"$f":"IF(E19<>\"\",MAX($C$8:C18)+1,\"\")","v":""},null,{"$f":"コントロールシート!AC76&\"\"","v":""},null,null,"20.0m 以上",5,20,null,11,{"$f":"IFERROR(VLOOKUP(L19,$C$9:$E$33,3,FALSE)&\"\",\"\")","v":"　"}]
[null,null,{"$f":"IF(E20<>\"\",MAX($C$8:C19)+1,\"\")","v":""},null,{"$f":"コントロールシート!AC77&\"\"","v":""},null,null,null,null,null,null,12,{"$f":"IFERROR(VLOOKUP(L20,$C$9:$E$33,3,FALSE)&\"\",\"\")","v":""}]
[null,null,11,null,"　",null,"内水浸水","無",0,"無",null,13,""]
[null,null,{"$f":"IF(COUNTIF($E$9:$E$20,E22)>0,\"\",IF(E22<>\"\",MAX($C$8:C20)+1,\"\"))","v":""},"代替者",{"$f":"コントロールシート!AH66&\"\"","v":"副本部長"},null,null,"～0.3m",0,0,null,14,""]
[null,null,{"$f":"IF(COUNTIF($E$9:$E$20,E23)>0,\"\",IF(E23<>\"\",MAX($C$8:C22)+1,\"\"))","v":""},null,{"$f":"コントロールシート!AH67&\"\"","v":"総務班長"},null,null,"0.3m～0.5m",0,0.3,null,15,""]
[null,null,{"$f":"IF(COUNTIF($E$9:$E$20,E24)>0,\"\",IF(E24<>\"\",MAX($C$8:C23)+1,\"\"))","v":""},null,{"$f":"コントロールシート!AH68&\"\"","v":""},null,null,"0.5m～1.0m",1,0.5,null,16,""]
[null,null,{"$f":"IF(COUNTIF($E$9:$E$20,E25)>0,\"\",IF(E25<>\"\",MAX($C$8:C24)+1,\"\"))","v":""},null,{"$f":"コントロールシート!AH69&\"\"","v":""},null,null,"1.0m～3.0m",1,1,null,17,""]
[null,null,{"$f":"IF(COUNTIF($E$9:$E$20,E26)>0,\"\",IF(E26<>\"\",MAX($C$8:C25)+1,\"\"))","v":""},null,{"$f":"コントロールシート!AH70&\"\"","v":""},null,null,"3.0m～5.0m",2,3,null,18,""]
[null,null,{"$f":"IF(COUNTIF($E$9:$E$20,E27)>0,\"\",IF(E27<>\"\",MAX($C$8:C26)+1,\"\"))","v":""},null,{"$f":"コントロールシート!AH71&\"\"","v":""},null,null,"5.0m～10.0m",3,5,null,19,""]
[null,null,{"$f":"IF(COUNTIF($E$9:$E$20,E28)>0,\"\",IF(E28<>\"\",MAX($C$8:C27)+1,\"\"))","v":""},null,{"$f":"コントロールシート!AH72&\"\"","v":""},null,null,null,null,null,null,20,""]
[null,null,{"$f":"IF(COUNTIF($E$9:$E$20,E29)>0,\"\",IF(E29<>\"\",MAX($C$8:C28)+1,\"\"))","v":""},null,{"$f":"コントロールシート!AH73&\"\"","v":""},null,"浸水継続時間","～12時間",null,null,null,21,""]
[null,null,{"$f":"IF(COUNTIF($E$9:$E$20,E30)>0,\"\",IF(E30<>\"\",MAX($C$8:C29)+1,\"\"))","v":""},null,{"$f":"コントロールシート!AH74&\"\"","v":""},null,null,"～24時間（1日間）",null,null,null,22,""]
[null,null,{"$f":"IF(COUNTIF($E$9:$E$20,E31)>0,\"\",IF(E31<>\"\",MAX($C$8:C30)+1,\"\"))","v":""},null,{"$f":"コントロールシート!AH75&\"\"","v":""},null,null,"～72時間（3日間）",null,null,null,23,""]
[null,null,{"$f":"IF(COUNTIF($E$9:$E$20,E32)>0,\"\",IF(E32<>\"\",MAX($C$8:C31)+1,\"\"))","v":""},null,{"$f":"コントロールシート!AH76&\"\"","v":""},null,null,"～168時間（1週間）",null,null,null,24,""]
[null,null,{"$f":"IF(COUNTIF($E$9:$E$20,E33)>0,\"\",IF(E33<>\"\",MAX($C$8:C32)+1,\"\"))","v":""},null,{"$f":"コントロールシート!AH77&\"\"","v":""},null,null,"～336時間（2週間）"]
[null,null,{"$f":"IF(E34<>\"\",MAX($C$33:C33)+1,\"\")","v":1},"班",{"$f":"コントロールシート!Y68&\"\"","v":"総務班"},null,null,"～672時間（3週間）"]
[null,null,{"$f":"IF(E35<>\"\",MAX($C$33:C34)+1,\"\")","v":2},null,{"$f":"コントロールシート!Y69&\"\"","v":"情報収集班"}]
[null,null,{"$f":"IF(E36<>\"\",MAX($C$33:C35)+1,\"\")","v":3},null,{"$f":"コントロールシート!Y70&\"\"","v":"広報班"}]
[null,null,{"$f":"IF(E37<>\"\",MAX($C$33:C36)+1,\"\")","v":4},null,{"$f":"コントロールシート!Y71&\"\"","v":"復旧対策班"},null,"外水浸水",{"$f":"コントロールシート!I321","v":"可能です"}]
[null,null,{"$f":"IF(E38<>\"\",MAX($C$33:C37)+1,\"\")","v":5},null,{"$f":"コントロールシート!Y72&\"\"","v":"安否確認班"},null,"内水浸水",{"$f":"コントロールシート!I353","v":"可能です"}]
[null,null,{"$f":"IF(E39<>\"\",MAX($C$33:C38)+1,\"\")","v":6},null,{"$f":"コントロールシート!Y73&\"\"","v":"システム班"}]
[null,null,{"$f":"IF(E40<>\"\",MAX($C$33:C39)+1,\"\")","v":7},null,{"$f":"コントロールシート!Y74&\"\"","v":"顧客対応班"},null,"外水深 ADR",{"$f":"ADDRESS(ROW(コントロールシート!J308),COLUMN(コントロールシート!J308),1)","v":"$J$308"}]
[null,null,{"$f":"IF(E41<>\"\",MAX($C$33:C40)+1,\"\")","v":8},null,{"$f":"コントロールシート!Y75&\"\"","v":"避難誘導班"},null,"内水深 ADR",{"$f":"ADDRESS(ROW(コントロールシート!J338),COLUMN(コントロールシート!J338),1)","v":"$J$338"}]
[null,null,{"$f":"IF(E42<>\"\",MAX($C$33:C41)+1,\"\")","v":""},null,{"$f":"コントロールシート!Y76&\"\"","v":""}]
[null,null,{"$f":"IF(E43<>\"\",MAX($C$33:C42)+1,\"\")","v":""},null,{"$f":"コントロールシート!Y77&\"\"","v":""},null,null,"河川"]
[]
[null,null,null,null,null,null,null,"天竜川"]
["屋内避難基準","1階","2階","3階","4階","5階以上",null,"馬込川"]
["1.0ｍ～2.0ｍ","不可能","不可能","不可能","不可能","不可能",null,"芳川"]
["0.5ｍ～1.0ｍ","不可能","不可能","可能","可能","可能",null,"都田川"]
["0.3ｍ～0.5ｍ","不可能","可能","可能","可能","可能",null,"安間川"]
["～0.3ｍ","可能","可能","可能","可能","可能",null,"阿多古川"]
[null,null,null,null,null,null,null,"井伊谷川"]
[null,null,null,null,null,null,null,"釣橋川"]
[null,null,null,null,null,null,null,"二俣川"]
[null,null,null,null,null,null,null,"気田川"]
[null,null,null,null,null,null,null,"水窪川"]
["カテゴリー：行頭",null,null,"タイムラインレベル",null,null,null,null,null,"カテゴリー表行位置"]
[null,null,null,null,null,null,null,null,null,"EOL",{"$f":"MATCH(J57,コントロールシート!BG:BG,0)","v":1223}]
[1,"SOL",null,"平常時",null,18,null,null,null,"外水氾濫",{"$f":"MATCH(J58,コントロールシート!BC:BC,0)","v":303}]
[{"$f":"MATCH(B59,コントロールシート!BG:BG,0)","v":14},"SOL",null,"Lv.2",null,22,null,null,null,"内水氾濫",{"$f":"MATCH(J59,コントロールシート!BC:BC,0)","v":335}]
[{"$f":"MATCH(B60,コントロールシート!AN:AN,0)","v":23},"①",null,"Lv.3",null,26,null,null,null,5.2,{"$f":"MATCH(J60,コントロールシート!BC:BC,0)","v":394}]
[{"$f":"MATCH(B61,コントロールシート!AN:AN,0)","v":61},"②",null,"Lv.4",null,30,null,null,null,6.1,{"$f":"MATCH(J61,コントロールシート!BC:BC,0)","v":464}]
[{"$f":"MATCH(B62,コントロールシート!AN:AN,0)","v":299},"③",null,"避難後",null,34,null,null,null,6.2,{"$f":"MATCH(J62,コントロールシート!BC:BC,0)","v":524}]
[{"$f":"MATCH(B63,コントロールシート!AN:AN,0)","v":355},"④",null,null,null,null,null,null,null,7.1,{"$f":"MATCH(J63,コントロールシート!BC:BC,0)","v":600}]
[{"$f":"MATCH(B64,コントロールシート!AN:AN,0)","v":385},"⑤",null,null,null,null,null,null,null,8.1,{"$f":"MATCH(J64,コントロールシート!BC:BC,0)","v":683}]
[{"$f":"MATCH(B65,コントロールシート!AN:AN,0)","v":459},"⑥",null,null,null,null,null,null,null,8.1199999999999992,{"$f":"MATCH(J65,コントロールシート!BC:BC,0)","v":745}]
[{"$f":"MATCH(B66,コントロールシート!AN:AN,0)","v":587},"⑦",null,null,null,null,null,null,null,8.1999999999999993,{"$f":"MATCH(J66,コントロールシート!BC:BC,0)","v":819}]
[{"$f":"MATCH(B67,コントロールシート!AN:AN,0)","v":667},"⑧",null,null,null,null,null,null,null,10,{"$f":"MATCH(J67,コントロールシート!BC:BC,0)","v":1003}]
[{"$f":"MATCH(B68,コントロールシート!AN:AN,0)","v":875},"⑨"]
[{"$f":"MATCH(B69,コントロールシート!AN:AN,0)","v":999},"⑩"]
[{"$f":"MATCH(B70,コントロールシート!BG:BG,0)","v":1223},"EOL"]
[]
[null,"行","表示データ数","最終行"]
["名簿",{"$f":"ROW(コントロールシート!AX108)","v":108},{"$f":"コントロールシート!AX108","v":0},{"$f":"VLOOKUP(C73,B75:C79,2,FALSE)","v":{"$error":"#N/A"}}]
[null,null,"削除後最終行"]
[null,30,106]
[null,60,{"$f":"ROW(コントロールシート!E138)","v":138}]
[null,90,{"$f":"ROW(コントロールシート!E170)","v":170}]
[null,120,{"$f":"ROW(コントロールシート!E202)","v":202}]
[null,150,{"$f":"ROW(コントロールシート!E234)","v":234}]
[null,null,266]
[]
[]
[]
[]
[]
[]
[]
[]
[]
[null,null,null,null,null,null,null,null,null,null,null,null,null,null,null,null,"建物の浸水イメージ"]
[]
[]
[]
[]
[]
[]
[]
[]
[]
[]
[]
[null,null,null,null,null,null,null,null,null,null,null,null,null,null,null,null,"建物の浸水イメージ"]

{"sheet":"表紙","index":3,"n_rows":45,"n_cols":12,"rows_kept":45,"cut":false,"hidden":true,"merged":[[17,0,17,11],[19,3,19,7],[23,8,23,11],[22,0,22,11]]}
[]
[]
[]
[]
[]
[]
[]
[]
[]
[]
[]
[]
[]
[]
[]
[]
[]
["水害版 事業継続計画（BCP）"]
[]
[]
[]
[]
[{"$f":"\"【施設名：　\" & コントロールシート!$G$20 & \"　】 \"","v":"【施設名：　流域治水運輸（株）　】 "}]
[]
[]
[]
[]
[]
[]
[]
[]
[]
[]
[]
[]
[]
[]
[]
[]
[]
[]
[]
[]
[]
[null,null,null,null,null,null,null,null,null,null,null,{"$f":"コントロールシート!G21&\"　年　\"&コントロールシート!J21&\"　月　　作成\"","v":"2022　年　11　月　　作成"}]

{"sheet":"目次","index":4,"n_rows":25,"n_cols":14,"rows_kept":25,"cut":false,"hidden":true,"merged":[[2,0,2,9]]}
[]
[]
["－ 目　　次 －"]
[]
["1.","BCP基本方針の検討",null,null,null,null,null,null,null,1,null,"1. BCP基本方針の検討",2]
[null,"1.1 計画の目的"]
[null,"1.2 計画の基本方針"]
[null,"1.3 計画の適用範囲"]
["2.","災害対策要員名簿",null,null,null,null,null,null,null,{"$f":"SUM($M$1:M8)+1","v":3},null,"2. 災害対策要員名簿",{"$f":"コントロールシート!AY108+2","v":2},"頁可変"]
["3.","水害リスクの把握",null,null,null,null,null,null,null,{"$f":"SUM($M$1:M9)+1","v":5},null,"3. 水害リスクの把握",2]
["4.","避難の計画",null,null,null,null,null,null,null,{"$f":"SUM($M$1:M10)+1","v":7},null,"4. 避難の計画",2]
["5.","重要業務と必要資源の選定・確認",null,null,null,null,null,null,null,{"$f":"SUM($M$1:M11)+1","v":9},null,"5. 重要業務と必要資源の選定・確認",{"$f":"IF(K_MAX=2,2,3)","v":2},"頁可変"]
[null,"5.1 重要業務の選定"]
[null,"5.2 重要業務に必要な資源と想定被害の確認"]
["6.","重要業務継続のための対策",null,null,null,null,null,null,null,{"$f":"SUM($M$1:M14)+1","v":11},null,"6. 重要業務継続のための対策",{"$f":"IF(コントロールシート!AO394<=26,1,2)+1","v":2},"頁可変"]
[null,"6.1 対策の検討"]
[null,"6.2 水災害発生直前の対策"]
["7.","BCP発動基準",null,null,null,null,null,null,null,{"$f":"SUM($M$1:M17)+1","v":13},null,"7. BCP発動基準",{"$f":"IF(コントロールシート!AO600<=8,0,IF(コントロールシート!AO600<=26,1,2))+2","v":2},"頁可変"]
[null,"7.1 安全な避難と浸水対策に要する時間"]
[null,"7.2 BCP発動基準"]
["8.","BCPの定着・見直し",null,null,null,null,null,null,null,{"$f":"SUM($M$1:M20)+1","v":15},null,"8. BCPの定着・見直し",{"$f":"2+IF(コントロールシート!AP394<=24,1,2)","v":3},"頁可変"]
[null,"8.1 水防災タイムライン"]
[null,"8.2 BCPの定着・見直し"]
["9.","備蓄品リスト",null,null,null,null,null,null,null,{"$f":"SUM($M$1:M23)+1","v":18},null,"9. 備蓄品リスト",2]
["10.","資料編",null,null,null,null,null,null,null,{"$f":"SUM($M$1:M24)+1","v":20},null,"10. 資料編",{"$f":"IF(コントロールシート!AO464<=10,1,ROUNDUP((コントロールシート!AO464-10)/11,0)+1)","v":1},"頁可変"]

{"sheet":"1. BCP基本方針の検討","index":5,"n_rows":38,"n_cols":38,"rows_kept":38,"cut":false,"hidden":true,"merged":[[11,3,11,28],[12,3,12,28],[21,12,21,19],[21,4,21,11],[3,3,3,28],[4,3,4,28],[7,3,7,28],[9,3,9,28],[10,3,10,28],[13,3,13,28],[14,3,14,28],[17,3,17,28],[22,8,22,11],[26,5,26,6],[26,9,26,10],[24,5,24,6],[24,9,24,10],[25,5,25,6],[25,9,25,10],[22,12,22,15],[23,5,23,6],[37,4,37,28],[20,4,20,19],[27,12,27,13],[34,4,34,28],[35,4,35,28],[25,13,25,14],[26,13,26,14],[22,16,22,19],[25,17,25,18],[26,17,26,18],[23,12,24,15],[23,16,24,19],[23,9,23,10],[22,4,22,7]]}
[]
[null,"1. BCP基本方針の検討",null,null,null,null,null,null,null,null,null,null,null,null,null,null,null,null,null,null,null,null,null,null,null,null,null,null,null,null,null,null,null,null,null,null,2,"flag"]
[null,null,"1.1 計画の目的",null,null,null,null,null,null,null,null,null,null,null,null,null,null,null,null,null,null,null,null,null,null,null,null,null,null,null,null,null,null,null,null,null,null,1]
[null,null,null,{"$f":"コントロールシート!G26","v":"本計画は、水災害の発生時においても、従業員の安全を確保しつつ、自社の事業を継続することを目的として策定したものである。"},null,null,null,null,null,null,null,null,null,null,null,null,null,null,null,null,null,null,null,null,null,null,null,null,null,null,null,null,null,null,null,null,null,{"$f":"IF(コントロールシート!AO26=TRUE,1,0)","v":1}]
[null,null,null,{"$f":"IF(コントロールシート!AO26=TRUE,コントロールシート!F28&\"\",\"\")","v":""},null,null,null,null,null,null,null,null,null,null,null,null,null,null,null,null,null,null,null,null,null,null,null,null,null,null,{"$f":"LEN(D5)","v":0},null,null,null,null,null,null,{"$f":"IF(コントロールシート!F28<>\"\",1,0)","v":0}]
[null,null,null,null,null,null,null,null,null,null,null,null,null,null,null,null,null,null,null,null,null,null,null,null,null,null,null,null,null,null,null,null,null,null,null,null,null,1]
[null,null,"1.2 計画の基本方針",null,null,null,null,null,null,null,null,null,null,null,null,null,null,null,null,null,null,null,null,null,null,null,null,null,null,null,null,null,null,null,null,null,null,1]
[null,null,null,"洪水発生の恐れがある場合、以下の基本方針を踏まえ、緊急時における事業継続に向けた対応を行う。",null,null,null,null,null,null,null,null,null,null,null,null,null,null,null,null,null,null,null,null,null,null,null,null,null,null,null,null,null,null,null,null,null,1]
[null,null,"",null,null,null,null,null,null,null,null,null,null,null,null,null,null,null,null,null,null,null,null,null,null,null,null,null,null,null,null,null,null,null,null,null,null,1]
[null,null,null,{"$f":"\"□ \"&コントロールシート!G32","v":"□ 人命（従業員・顧客）の安全を守る。"},null,null,null,null,null,null,null,null,null,null,null,null,null,null,null,null,null,null,null,null,null,null,null,null,null,null,null,null,null,null,null,null,null,{"$f":"IF(コントロールシート!AO32=TRUE,1,0)","v":1}]
[null,null,null,{"$f":"\"□ \"&コントロールシート!G33","v":"□ 自社の経営を維持する。"},null,null,null,null,null,null,null,null,null,null,null,null,null,null,null,null,null,null,null,null,null,null,null,null,null,null,null,null,null,null,null,null,null,{"$f":"IF(コントロールシート!AO33=TRUE,1,0)","v":0}]
[null,null,null,{"$f":"\"□ \"&コントロールシート!G34","v":"□ 顧客からの信用を守る。"},null,null,null,null,null,null,null,null,null,null,null,null,null,null,null,null,null,null,null,null,null,null,null,null,null,null,null,null,null,null,null,null,null,{"$f":"IF(コントロールシート!AO34=TRUE,1,0)","v":1}]
[null,null,null,{"$f":"\"□ \"&コントロールシート!G35","v":"□ 供給責任を果たし、従業員の雇用を守る。"},null,null,null,null,null,null,null,null,null,null,null,null,null,null,null,null,null,null,null,null,null,null,null,null,null,null,null,null,null,null,null,null,null,{"$f":"IF(コントロールシート!AO35=TRUE,1,0)","v":0}]
[null,null,null,{"$f":"\"□ \"&コントロールシート!G36","v":"□ 地域経済の基盤強靭化に寄与する。"},null,null,null,null,null,null,null,null,null,null,null,null,null,null,null,null,null,null,null,null,null,null,null,null,null,null,null,null,null,null,null,null,null,{"$f":"IF(コントロールシート!AO36=TRUE,1,0)","v":1}]
[null,null,"",{"$f":"IF(COUNTIF(コントロールシート!AO32:AO36,TRUE)>0,\"□ \"&コントロールシート!F38,\"\")","v":"□ "},null,null,null,null,null,null,null,null,null,null,null,null,null,null,null,null,null,null,null,null,null,null,null,null,null,null,{"$f":"LEN(D15)","v":2},null,null,null,null,null,null,{"$f":"IF(コントロールシート!F38<>\"\",1,0)","v":0}]
[null,null,null,null,null,null,null,null,null,null,null,null,null,null,null,null,null,null,null,null,null,null,null,null,null,null,null,null,null,null,null,null,null,null,null,null,null,1]
[null,null,"1.3 計画の適用範囲",null,null,null,null,null,null,null,null,null,null,null,null,null,null,null,null,null,null,null,null,null,null,null,null,null,null,null,null,null,null,null,null,null,null,1]
[null,null,null,"この計画は、自社に勤務又は利用する全ての者に適用するものとする。\nこの計画は、河川氾濫による洪水が発生する恐れがあるときに適用するものであり、地震、高潮や津波・土砂災害などその他災害は対象外とする。",null,null,null,null,null,null,null,null,null,null,null,null,null,null,null,null,null,null,null,null,null,null,null,null,null,null,null,null,null,null,null,null,null,1]
[null,null,null,null,null,null,null,null,null,null,null,null,null,null,null,null,null,null,null,null,null,null,null,null,null,null,null,null,null,null,null,null,null,null,null,null,null,1]
[null,null,null,"【施設の状況】",null,null,null,null,null,null,null,null,null,null,null,null,null,null,null,null,null,null,null,null,null,null,null,null,null,null,null,null,null,null,null,null,null,1]
[null,null,null,null,"人数",null,null,null,null,null,null,null,null,null,null,null,null,null,null,null,null,null,null,null,null,null,null,null,null,null,null,null,null,null,null,null,null,1]
[null,null,null,null,"昼間・夜間",null,null,null,null,null,null,null,"休日",null,null,null,null,null,null,null,null,null,null,null,null,null,null,null,null,null,null,null,null,null,null,null,null,1]
[null,null,null,null,"利用者",null,null,null,"従業員",null,null,null,"利用者",null,null,null,"従業員",null,null,null,null,null,null,null,null,null,null,null,null,null,null,null,null,null,null,null,null,1]
[null,null,null,null,null,"昼間",null,null,null,"昼間",null,null,"休日",null,null,null,"休日",null,null,null,null,null,null,null,null,null,null,null,null,null,null,null,null,null,null,null,null,1]
[null,null,null,null,"約",{"$f":"コントロールシート!K45","v":"0"},null,"名","約",{"$f":"コントロールシート!K46","v":"10"},null,"名",null,null,null,null,null,null,null,null,null,null,null,null,null,null,null,null,null,null,null,null,null,null,null,null,null,1]
[null,null,null,null,null,"夜間",null,null,null,"夜間",null,null,"約",{"$f":"コントロールシート!K49","v":0},null,"名","約",{"$f":"コントロールシート!K50","v":0},null,"名",null,null,null,null,null,null,null,null,null,null,null,null,null,null,null,null,null,1]
[null,null,null,null,"約",{"$f":"コントロールシート!K47","v":"0"},null,"名","約",{"$f":"コントロールシート!K48","v":"0"},null,"名",null,null,null,null,null,null,null,null,null,null,null,null,null,null,null,null,null,null,null,null,null,null,null,null,null,1]
[null,null,null,null,null,null,null,null,null,null,null,"（",{"$f":"コントロールシート!G52","v":2022},null,"年",{"$f":"コントロールシート!J52","v":11},"月",{"$f":"コントロールシート!M52&\"\"","v":"1"},"日付 ）",null,null,null,null,null,null,null,null,null,null,null,null,null,null,null,null,null,null,1]
[null,null,null,null,null,null,null,null,null,null,null,null,null,null,null,null,null,null,null,null,null,null,null,null,null,null,null,null,null,null,null,null,null,null,null,null,null,1]
[null,null,null,null,null,null,null,null,null,null,null,null,null,null,null,null,null,null,null,null,null,null,null,null,null,null,null,null,null,null,null,null,null,null,null,null,null,1]
[null,null,"●計画の見直し",null,null,null,null,null,null,null,null,null,null,null,null,null,null,null,null,null,null,null,null,null,null,null,null,null,null,null,null,null,null,null,null,null,null,1]
[null,null,null,"訓練の成果や実際の災害対応、社会情勢の変化等を踏まえ、適宜見直すものとする。",null,null,null,null,null,null,null,null,null,null,null,null,null,null,null,null,null,null,null,null,null,null,null,null,null,null,null,null,null,null,null,null,null,1]
[null,null,null,null,null,null,null,null,null,null,null,null,null,null,null,null,null,null,null,null,null,null,null,null,null,null,null,null,null,null,null,null,null,null,null,null,null,1]
[null,null,"●事前休業の判断について",null,null,null,null,null,null,null,null,null,null,null,null,null,null,null,null,null,null,null,null,null,null,null,null,null,null,null,null,null,null,null,null,null,null,1]
[null,null,null,{"$f":"IF(コントロールシート!AO56=TRUE,\"✅\",\"\")","v":"✅"},"大型台風の襲来等が予想され、公共交通機関の計画的な運休が予定される場合、自社を臨時休業とする。",null,null,null,null,null,null,null,null,null,null,null,null,null,null,null,null,null,null,null,null,null,null,null,null,null,null,null,null,null,null,null,null,{"$f":"IF(D35<>\"\",1,0)","v":1}]
[null,null,null,{"$f":"IF(コントロールシート!AO57=TRUE,\"✅\",\"\")","v":"✅"},{"$f":"\"午前 \" & コントロールシート!H57 & \" 時の時点で、 \" & コントロールシート!M57 & \" に、\" & CHAR(10) & コントロールシート!R57 & \" \" &コントロールシート!U57","v":"午前 8 時の時点で、 名古屋市（中村区） に、\n警戒レベル３  相当以上が発令されている場合は、臨時休業とする。"},null,null,null,null,null,null,null,null,null,null,null,null,null,null,null,null,null,null,null,null,null,null,null,null,null,null,null,null,null,null,null,null,{"$f":"IF(D36<>\"\",1,0)","v":1}]
[null,null,null,{"$f":"IF(コントロールシート!AO59=TRUE,\"✅\",\"\")","v":""},"その他",null,null,null,null,null,null,null,null,null,null,null,null,null,null,null,null,null,null,null,null,null,null,null,null,null,null,null,null,null,null,null,null,{"$f":"IF(D37<>\"\",1,0)","v":0}]
[null,null,null,null,{"$f":"コントロールシート!I59&\"\"","v":""},null,null,null,null,null,null,null,null,null,null,null,null,null,null,null,null,null,null,null,null,null,null,null,null,null,null,null,null,null,null,null,null,{"$f":"IF(D37<>\"\",1,0)","v":0}]

{"sheet":"名簿一覧","index":6,"n_rows":191,"n_cols":32,"rows_kept":191,"cut":false,"hidden":true,"merged":[[11,24,11,25],[11,28,11,30],[11,31,11,33],[12,3,12,5],[12,6,12,8],[12,9,12,13],[12,14,12,16],[12,17,12,19],[12,24,12,25],[12,28,12,30],[10,22,10,23],[10,24,10,25],[10,26,10,27],[10,28,10,30],[10,31,10,33],[11,3,11,5],[11,6,11,8],[11,9,11,13],[11,14,11,16],[11,17,11,19],[10,3,10,5],[10,6,10,8],[10,9,10,13],[10,14,10,16],[10,17,10,19],[10,20,10,21],[14,28,14,30],[14,31,14,33],[15,3,15,5],[15,6,15,8],[15,9,15,13],[15,14,15,16],[15,17,15,19],[15,24,15,25],[15,28,15,30],[15,31,15,33],[14,3,14,5],[14,6,14,8],[14,9,14,13],[14,14,14,16],[14,17,14,19],[14,24,14,25],[12,31,12,33],[13,3,13,5],[13,6,13,8],[13,9,13,13],[13,14,13,16],[13,17,13,19],[13,24,13,25],[13,28,13,30],[13,31,13,33],[18,28,18,30],[18,31,18,33],[19,3,19,5],[19,6,19,8],[19,9,19,13],[19,14,19,16],[19,17,19,19],[19,24,19,25],[19,28,19,30],[19,31,19,33],[18,3,18,5],[18,6,18,8],[18,9,18,13],[18,14,18,16],[18,17,18,19],[18,24,18,25],[16,28,16,30],[16,31,16,33],[17,3,17,5],[17,6,17,8],[17,9,17,13],[17,14,17,16],[17,17,17,19],[17,24,17,25],[17,28,17,30],[17,31,17,33],[16,3,16,5],[16,6,16,8],[16,9,16,13],[16,14,16,16],[16,17,16,19],[16,24,16,25],[22,28,22,30],[22,31,22,33],[23,3,23,5],[23,6,23,8],[23,9,23,13],[23,14,23,16],[23,17,23,19],[23,24,23,25],[23,28,23,30],[23,31,23,33],[22,3,22,5],[22,6,22,8],[22,9,22,13],[22,14,22,16],[22,17,22,19],[22,24,22,25],[20,28,20,30],[20,31,20,33],[21,3,21,5],[21,6,21,8],[21,9,21,13],[21,14,21,16],[21,17,21,19],[21,24,21,25],[21,28,21,30],[21,31,21,33],[20,3,20,5],[20,6,20,8],[20,9,20,13],[20,14,20,16],[20,17,20,19],[20,24,20,25],[26,28,26,30],[26,31,26,33],[27,3,27,5],[27,6,27,8],[27,9,27,13],[27,14,27,16],[27,17,27,19],[27,24,27,25],[27,28,27,30],[27,31,27,33],[26,3,26,5],[26,6,26,8],[26,9,26,13],[26,14,26,16],[26,17,26,19],[26,24,26,25],[24,28,24,30],[24,31,24,33],[25,3,25,5],[25,6,25,8],[25,9,25,13],[25,14,25,16],[25,17,25,19],[25,24,25,25],[25,28,25,30],[25,31,25,33],[24,3,24,5],[24,6,24,8],[24,9,24,13],[24,14,24,16],[24,17,24,19],[24,24,24,25],[30,28,30,30],[30,31,30,33],[32,3,32,5],[32,6,32,8],[32,9,32,13],[32,14,32,16],[32,17,32,19],[32,20,32,21],[32,22,32,23],[32,24,32,25],[30,3,30,5],[30,6,30,8],[30,9,30,13],[30,14,30,16],[30,17,30,19],[30,24,30,25],[28,28,28,30],[28,31,28,33],[29,3,29,5],[29,6,29,8],[29,9,29,13],[29,14,29,16],[29,17,29,19],[29,24,29,25],[29,28,29,30],[29,31,29,33],[28,3,28,5],[28,6,28,8],[28,9,28,13],[28,14,28,16],[28,17,28,19],[28,24,28,25],[33,31,33,33],[34,3,34,5],[34,6,34,8],[34,9,34,13],[34,14,34,16],[34,17,34,19],[34,24,34,25],[34,28,34,30],[34,31,34,33],[32,26,32,27],[32,28,32,30],[32,31,32,33],[33,3,33,5],[33,6,33,8],[33,9,33,13],[33,14,33,16],[33,17,33,19],[33,24,33,25],[33,28,33,30],[37,28,37,30],[37,31,37,33],[38,3,38,5],[38,6,38,8],[38,9,38,13],[38,14,38,16],[38,17,38,19],[38,24,38,25],[38,28,38,30],[38,31,38,33],[37,3,37,5],[37,6,37,8],[37,9,37,13],[37,14,37,16],[37,17,37,19],[37,24,37,25],[35,28,35,30],[35,31,35,33],[36,3,36,5],[36,6,36,8],[36,9,36,13],[36,14,36,16],[36,17,36,19],[36,24,36,25],[36,28,36,30],[36,31,36,33],[35,3,35,5],[35,6,35,8],[35,9,35,13],[35,14,35,16],[35,17,35,19],[35,24,35,25],[41,28,41,30],[41,31,41,33],[42,3,42,5],[42,6,42,8],[42,9,42,13],[42,14,42,16],[42,17,42,19],[42,24,42,25],[42,28,42,30],[42,31,42,33],[41,3,41,5],[41,6,41,8],[41,9,41,13],[41,14,41,16],[41,17,41,19],[41,24,41,25],[39,28,39,30],[39,31,39,33],[40,3,40,5],[40,6,40,8],[40,9,40,13],[40,14,40,16],[40,17,40,19],[40,24,40,25],[40,28,40,30],[40,31,40,33],[39,3,39,5],[39,6,39,8],[39,9,39,13],[39,14,39,16],[39,17,39,19],[39,24,39,25],[45,28,45,30],[45,31,45,33],[46,3,46,5],[46,6,46,8],[46,9,46,13],[46,14,46,16],[46,17,46,19],[46,24,46,25],[46,28,46,30],[46,31,46,33],[45,3,45,5],[45,6,45,8],[45,9,45,13],[45,14,45,16],[45,17,45,19],[45,24,45,25],[43,28,43,30],[43,31,43,33],[44,3,44,5],[44,6,44,8],[44,9,44,13],[44,14,44,16],[44,17,44,19],[44,24,44,25],[44,28,44,30],[44,31,44,33],[43,3,43,5],[43,6,43,8],[43,9,43,13],[43,14,43,16],[43,17,43,19],[43,24,43,25],[49,28,49,30],[49,31,49,33],[50,3,50,5],[50,6,50,8],[50,9,50,13],[50,14,50,16],[50,17,50,19],[50,24,50,25],[50,28,50,30],[50,31,50,33],[49,3,49,5],[49,6,49,8],[49,9,49,13],[49,14,49,16],[49,17,49,19],[49,24,49,25],[47,28,47,30],[47,31,47,33],[48,3,48,5],[48,6,48,8],[48,9,48,13],[48,14,48,16],[48,17,48,19],[48,24,48,25],[48,28,48,30],[48,31,48,33],[47,3,47,5],[47,6,47,8],[47,9,47,13],[47,14,47,16],[47,17,47,19],[47,24,47,25],[53,28,53,30],[53,31,53,33],[54,3,54,5],[54,6,54,8],[54,9,54,13],[54,14,54,16],[54,17,54,19],[54,24,54,25],[54,28,54,30],[54,31,54,33],[53,3,53,5],[53,6,53,8],[53,9,53,13],[53,14,53,16],[53,17,53,19],[53,24,53,25],[51,28,51,30],[51,31,51,33],[52,3,52,5],[52,6,52,8],[52,9,52,13],[52,14,52,16],[52,17,52,19],[52,24,52,25],[52,28,52,30],[52,31,52,33],[51,3,51,5],[51,6,51,8],[51,9,51,13],[51,14,51,16],[51,17,51,19],[51,24,51,25],[57,28,57,30],[57,31,57,33],[58,3,58,5],[58,6,58,8],[58,9,58,13],[58,14,58,16],[58,17,58,19],[58,24,58,25],[58,28,58,30],[58,31,58,33],[57,3,57,5],[57,6,57,8],[57,9,57,13],[57,14,57,16],[57,17,57,19],[57,24,57,25],[55,28,55,30],[55,31,55,33],[56,3,56,5],[56,6,56,8],[56,9,56,13],[56,14,56,16],[56,17,56,19],[56,24,56,25],[56,28,56,30],[56,31,56,33],[55,3,55,5],[55,6,55,8],[55,9,55,13],[55,14,55,16],[55,17,55,19],[55,24,55,25],[61,28,61,30],[61,31,61,33],[62,3,62,5],[62,6,62,8],[62,9,62,13],[62,14,62,16],[62,17,62,19],[62,24,62,25],[62,28,62,30],[62,31,62,33],[61,3,61,5],[61,6,61,8],[61,9,61,13],[61,14,61,16],[61,17,61,19],[61,24,61,25],[59,28,59,30],[59,31,59,33],[60,3,60,5],[60,6,60,8],[60,9,60,13],[60,14,60,16],[60,17,60,19],[60,24,60,25],[60,28,60,30],[60,31,60,33],[59,3,59,5],[59,6,59,8],[59,9,59,13],[59,14,59,16],[59,17,59,19],[59,24,59,25],[65,24,65,25],[65,28,65,30],[65,31,65,33],[66,3,66,5],[66,6,66,8],[66,9,66,13],[66,14,66,16],[66,17,66,19],[66,24,66,25],[66,28,66,30],[64,22,64,23],[64,24,64,25],[64,26,64,27],[64,28,64,30],[64,31,64,33],[65,3,65,5],[65,6,65,8],[65,9,65,13],[65,14,65,16],[65,17,65,19],[64,3,64,5],[64,6,64,8],[64,9,64,13],[64,14,64,16],[64,17,64,19],[64,20,64,21],[68,28,68,30],[68,31,68,33],[69,3,69,5],[69,6,69,8],[69,9,69,13],[69,14,69,16],[69,17,69,19],[69,24,69,25],[69,28,69,30],[69,31,69,33],[68,3,68,5],[68,6,68,8],[68,9,68,13],[68,14,68,16],[68,17,68,19],[68,24,68,25],[66,31,66,33],[67,3,67,5],[67,6,67,8],[67,9,67,13],[67,14,67,16],[67,17,67,19],[67,24,67,25],[67,28,67,30],[67,31,67,33],[72,28,72,30],[72,31,72,33],[73,3,73,5],[73,6,73,8],[73,9,73,13],[73,14,73,16],[73,17,73,19],[73,24,73,25],[73,28,73,30],[73,31,73,33],[72,3,72,5],[72,6,72,8],[72,9,72,13],[72,14,72,16],[72,17,72,19],[72,24,72,25],[70,28,70,30],[70,31,70,33],[71,3,71,5],[71,6,71,8],[71,9,71,13],[71,14,71,16],[71,17,71,19],[71,24,71,25],[71,28,71,30],[71,31,71,33],[70,3,70,5],[70,6,70,8],[70,9,70,13],[70,14,70,16],[70,17,70,19],[70,24,70,25],[76,28,76,30],[76,31,76,33],[77,3,77,5],[77,6,77,8],[77,9,77,13],[77,14,77,16],[77,17,77,19],[77,24,77,25],[77,28,77,30],[77,31,77,33],[76,3,76,5],[76,6,76,8],[76,9,76,13],[76,14,76,16],[76,17,76,19],[76,24,76,25],[74,28,74,30],[74,31,74,33],[75,3,75,5],[75,6,75,8],[75,9,75,13],[75,14,75,16],[75,17,75,19],[75,24,75,25],[75,28,75,30],[75,31,75,33],[74,3,74,5],[74,6,74,8],[74,9,74,13],[74,14,74,16],[74,17,74,19],[74,24,74,25],[80,28,80,30],[80,31,80,33],[81,3,81,5],[81,6,81,8],[81,9,81,13],[81,14,81,16],[81,17,81,19],[81,24,81,25],[81,28,81,30],[81,31,81,33],[80,3,80,5],[80,6,80,8],[80,9,80,13],[80,14,80,16],[80,17,80,19],[80,24,80,25],[78,28,78,30],[78,31,78,33],[79,3,79,5],[79,6,79,8],[79,9,79,13],[79,14,79,16],[79,17,79,19],[79,24,79,25],[79,28,79,30],[79,31,79,33],[78,3,78,5],[78,6,78,8],[78,9,78,13],[78,14,78,16],[78,17,78,19],[78,24,78,25],[84,28,84,30],[84,31,84,33],[85,3,85,5],[85,6,85,8],[85,9,85,13],[85,14,85,16],[85,17,85,19],[85,24,85,25],[85,28,85,30],[85,31,85,33],[84,3,84,5],[84,6,84,8],[84,9,84,13],[84,14,84,16],[84,17,84,19],[84,24,84,25],[82,28,82,30],[82,31,82,33],[83,3,83,5],[83,6,83,8],[83,9,83,13],[83,14,83,16],[83,17,83,19],[83,24,83,25],[83,28,83,30],[83,31,83,33],[82,3,82,5],[82,6,82,8],[82,9,82,13],[82,14,82,16],[82,17,82,19],[82,24,82,25],[88,28,88,30],[88,31,88,33],[89,3,89,5],[89,6,89,8],[89,9,89,13],[89,14,89,16],[89,17,89,19],[89,24,89,25],[89,28,89,30],[89,31,89,33],[88,3,88,5],[88,6,88,8],[88,9,88,13],[88,14,88,16],[88,17,88,19],[88,24,88,25],[86,28,86,30],[86,31,86,33],[87,3,87,5],[87,6,87,8],[87,9,87,13],[87,14,87,16],[87,17,87,19],[87,24,87,25],[87,28,87,30],[87,31,87,33],[86,3,86,5],[86,6,86,8],[86,9,86,13],[86,14,86,16],[86,17,86,19],[86,24,86,25],[92,28,92,30],[92,31,92,33],[93,3,93,5],[93,6,93,8],[93,9,93,13],[93,14,93,16],[93,17,93,19],[93,24,93,25],[93,28,93,30],[93,31,93,33],[92,3,92,5],[92,6,92,8],[92,9,92,13],[92,14,92,16],[92,17,92,19],[92,24,92,25],[90,28,90,30],[90,31,90,33],[91,3,91,5],[91,6,91,8],[91,9,91,13],[91,14,91,16],[91,17,91,19],[91,24,91,25],[91,28,91,30],[91,31,91,33],[90,3,90,5],[90,6,90,8],[90,9,90,13],[90,14,90,16],[90,17,90,19],[90,24,90,25],[96,26,96,27],[96,28,96,30],[96,31,96,33],[97,3,97,5],[97,6,97,8],[97,9,97,13],[97,14,97,16],[97,17,97,19],[97,24,97,25],[97,28,97,30],[94,28,94,30],[94,31,94,33],[96,3,96,5],[96,6,96,8],[96,9,96,13],[96,14,96,16],[96,17,96,19],[96,20,96,21],[96,22,96,23],[96,24,96,25],[94,3,94,5],[94,6,94,8],[94,9,94,13],[94,14,94,16],[94,17,94,19],[94,24,94,25],[99,28,99,30],[99,31,99,33],[100,3,100,5],[100,6,100,8],[100,9,100,13],[100,14,100,16],[100,17,100,19],[100,24,100,25],[100,28,100,30],[100,31,100,33],[99,3,99,5],[99,6,99,8],[99,9,99,13],[99,14,99,16],[99,17,99,19],[99,24,99,25],[97,31,97,33],[98,3,98,5],[98,6,98,8],[98,9,98,13],[98,14,98,16],[98,17,98,19],[98,24,98,25],[98,28,98,30],[98,31,98,33],[103,28,103,30],[103,31,103,33],[104,3,104,5],[104,6,104,8],[104,9,104,13],[104,14,104,16],[104,17,104,19],[104,24,104,25],[104,28,104,30],[104,31,104,33],[103,3,103,5],[103,6,103,8],[103,9,103,13],[103,14,103,16],[103,17,103,19],[103,24,103,25],[101,28,101,30],[101,31,101,33],[102,3,102,5],[102,6,102,8],[102,9,102,13],[102,14,102,16],[102,17,102,19],[102,24,102,25],[102,28,102,30],[102,31,102,33],[101,3,101,5],[101,6,101,8],[101,9,101,13],[101,14,101,16],[101,17,101,19],[101,24,101,25],[107,28,107,30],[107,31,107,33],[108,3,108,5],[108,6,108,8],[108,9,108,13],[108,14,108,16],[108,17,108,19],[108,24,108,25],[108,28,108,30],[108,31,108,33],[107,3,107,5],[107,6,107,8],[107,9,107,13],[107,14,107,16],[107,17,107,19],[107,24,107,25],[105,28,105,30],[105,31,105,33],[106,3,106,5],[106,6,106,8],[106,9,106,13],[106,14,106,16],[106,17,106,19],[106,24,106,25],[106,28,106,30],[106,31,106,33],[105,3,105,5],[105,6,105,8],[105,9,105,13],[105,14,105,16],[105,17,105,19],[105,24,105,25],[111,28,111,30],[111,31,111,33],[112,3,112,5],[112,6,112,8],[112,9,112,13],[112,14,112,16],[112,17,112,19],[112,24,112,25],[112,28,112,30],[112,31,112,33],[111,3,111,5],[111,6,111,8],[111,9,111,13],[111,14,111,16],[111,17,111,19],[111,24,111,25],[109,28,109,30],[109,31,109,33],[110,3,110,5],[110,6,110,8],[110,9,110,13],[110,14,110,16],[110,17,110,19],[110,24,110,25],[110,28,110,30],[110,31,110,33],[109,3,109,5],[109,6,109,8],[109,9,109,13],[109,14,109,16],[109,17,109,19],[109,24,109,25],[115,28,115,30],[115,31,115,33],[116,3,116,5],[116,6,116,8],[116,9,116,13],[116,14,116,16],[116,17,116,19],[116,24,116,25],[116,28,116,30],[116,31,116,33],[115,3,115,5],[115,6,115,8],[115,9,115,13],[115,14,115,16],[115,17,115,19],[115,24,115,25],[113,28,113,30],[113,31,113,33],[114,3,114,5],[114,6,114,8],[114,9,114,13],[114,14,114,16],[114,17,114,19],[114,24,114,25],[114,28,114,30],[114,31,114,33],[113,3,113,5],[113,6,113,8],[113,9,113,13],[113,14,113,16],[113,17,113,19],[113,24,113,25],[119,28,119,30],[119,31,119,33],[120,3,120,5],[120,6,120,8],[120,9,120,13],[120,14,120,16],[120,17,120,19],[120,24,120,25],[120,28,120,30],[120,31,120,33],[119,3,119,5],[119,6,119,8],[119,9,119,13],[119,14,119,16],[119,17,119,19],[119,24,119,25],[117,28,117,30],[117,31,117,33],[118,3,118,5],[118,6,118,8],[118,9,118,13],[118,14,118,16],[118,17,118,19],[118,24,118,25],[118,28,118,30],[118,31,118,33],[117,3,117,5],[117,6,117,8],[117,9,117,13],[117,14,117,16],[117,17,117,19],[117,24,117,25],[123,28,123,30],[123,31,123,33],[124,3,124,5],[124,6,124,8],[124,9,124,13],[124,14,124,16],[124,17,124,19],[124,24,124,25],[124,28,124,30],[124,31,124,33],[123,3,123,5],[123,6,123,8],[123,9,123,13],[123,14,123,16],[123,17,123,19],[123,24,123,25],[121,28,121,30],[121,31,121,33],[122,3,122,5],[122,6,122,8],[122,9,122,13],[122,14,122,16],[122,17,122,19],[122,24,122,25],[122,28,122,30],[122,31,122,33],[121,3,121,5],[121,6,121,8],[121,9,121,13],[121,14,121,16],[121,17,121,19],[121,24,121,25],[128,22,128,23],[128,24,128,25],[128,26,128,27],[128,28,128,30],[128,31,128,33],[129,3,129,5],[129,6,129,8],[129,9,129,13],[129,14,129,16],[129,17,129,19],[128,3,128,5],[128,6,128,8],[128,9,128,13],[128,14,128,16],[128,17,128,19],[128,20,128,21],[125,28,125,30],[125,31,125,33],[126,3,126,5],[126,6,126,8],[126,9,126,13],[126,14,126,16],[126,17,126,19],[126,24,126,25],[126,28,126,30],[126,31,126,33],[125,3,125,5],[125,6,125,8],[125,9,125,13],[125,14,125,16],[125,17,125,19],[125,24,125,25],[130,31,130,33],[131,3,131,5],[131,6,131,8],[131,9,131,13],[131,14,131,16],[131,17,131,19],[131,24,131,25],[131,28,131,30],[131,31,131,33],[129,24,129,25],[129,28,129,30],[129,31,129,33],[130,3,130,5],[130,6,130,8],[130,9,130,13],[130,14,130,16],[130,17,130,19],[130,24,130,25],[130,28,130,30],[134,28,134,30],[134,31,134,33],[135,3,135,5],[135,6,135,8],[135,9,135,13],[135,14,135,16],[135,17,135,19],[135,24,135,25],[135,28,135,30],[135,31,135,33],[134,3,134,5],[134,6,134,8],[134,9,134,13],[134,14,134,16],[134,17,134,19],[134,24,134,25],[132,28,132,30],[132,31,132,33],[133,3,133,5],[133,6,133,8],[133,9,133,13],[133,14,133,16],[133,17,133,19],[133,24,133,25],[133,28,133,30],[133,31,133,33],[132,3,132,5],[132,6,132,8],[132,9,132,13],[132,14,132,16],[132,17,132,19],[132,24,132,25],[138,28,138,30],[138,31,138,33],[139,3,139,5],[139,6,139,8],[139,9,139,13],[139,14,139,16],[139,17,139,19],[139,24,139,25],[139,28,139,30]],"merged_total":1426,"flags":["merged_cut"]}
[]
[]
[]
[]
[]
[]
[]
[]
[]
[]
[null,null,null,"災害対策本部\n役職者",null,null,"所属（役職）",null,null,"住所",null,null,null,null,"電話番号",null,null,"緊急連絡先",null,null,"勤務先まで\nの距離",null,"通常の\n通勤時間",null,"非常時\n参集手段",null,"非常時\n参集時間",null,"災害対策\n本部役職",null,null,"代替者"]
[null,null,1,{"$f":"コントロールシート!G87&\"\"","v":"流域　太郎"},null,null,{"$f":"コントロールシート!J87&\"\"","v":"社長"},null,null,{"$f":"コントロールシート!M87&\"\"","v":"名古屋市中村区・・・"},null,null,{"$f":"コントロールシート!P87","v":0},null,{"$f":"コントロールシート!R87&\"\"","v":"052-XXXX-XXXX"},{"$f":"コントロールシート!S87","v":0},null,{"$f":"コントロールシート!U87&\"\"","v":"070-YYYY-YYYY"},{"$f":"コントロールシート!V87","v":0},null,{"$f":"コントロールシート!X87&\"\"","v":"1"},"km",{"$f":"コントロールシート!Z87&\"\"","v":""},"ｈ",{"$f":"コントロールシート!AB87&\"\"","v":"徒歩"},null,{"$f":"コントロールシート!AD87&\"\"","v":"0.2"},"ｈ",{"$f":"コントロールシート!AF87&\"\"","v":"本部長"},null,null,{"$f":"コントロールシート!AI87&\"\"","v":"副本部長"}]
[null,null,2,{"$f":"コントロールシート!G88&\"\"","v":"流域　一郎"},null,null,{"$f":"コントロールシート!J88&\"\"","v":"専務"},null,null,{"$f":"コントロールシート!M88&\"\"","v":"名古屋市中村区・・・"},null,null,{"$f":"コントロールシート!P88","v":0},null,{"$f":"コントロールシート!R88&\"\"","v":"052-XXXX-XXXX"},{"$f":"コントロールシート!S88","v":0},null,{"$f":"コントロールシート!U88&\"\"","v":"070-YYYY-YYYY"},{"$f":"コントロールシート!V88","v":0},null,{"$f":"コントロールシート!X88&\"\"","v":"1.5"},"km",{"$f":"コントロールシート!Z88&\"\"","v":""},"ｈ",{"$f":"コントロールシート!AB88&\"\"","v":"徒歩"},null,{"$f":"コントロールシート!AD88&\"\"","v":"0.3"},"ｈ",{"$f":"コントロールシート!AF88&\"\"","v":"副本部長"},null,null,{"$f":"コントロールシート!AI88&\"\"","v":"総務班長"}]
[null,null,3,{"$f":"コントロールシート!G89&\"\"","v":"流域　次郎"},null,null,{"$f":"コントロールシート!J89&\"\"","v":"常務"},null,null,{"$f":"コントロールシート!M89&\"\"","v":"名古屋市中村区・・・"},null,null,{"$f":"コントロールシート!P89","v":0},null,{"$f":"コントロールシート!R89&\"\"","v":"052-XXXX-XXXX"},{"$f":"コントロールシート!S89","v":0},null,{"$f":"コントロールシート!U89&\"\"","v":"070-YYYY-YYYY"},{"$f":"コントロールシート!V89","v":0},null,{"$f":"コントロールシート!X89&\"\"","v":"3"},"km",{"$f":"コントロールシート!Z89&\"\"","v":""},"ｈ",{"$f":"コントロールシート!AB89&\"\"","v":"徒歩"},null,{"$f":"コントロールシート!AD89&\"\"","v":"0.6"},"ｈ",{"$f":"コントロールシート!AF89&\"\"","v":"総務班長"},null,null,{"$f":"コントロールシート!AI89&\"\"","v":""}]
[null,null,4,{"$f":"コントロールシート!G90&\"\"","v":"流域　三郎"},null,null,{"$f":"コントロールシート!J90&\"\"","v":"総務部長"},null,null,{"$f":"コントロールシート!M90&\"\"","v":"名古屋市中村区・・・"},null,null,{"$f":"コントロールシート!P90","v":0},null,{"$f":"コントロールシート!R90&\"\"","v":"052-XXXX-XXXX"},{"$f":"コントロールシート!S90","v":0},null,{"$f":"コントロールシート!U90&\"\"","v":"070-YYYY-YYYY"},{"$f":"コントロールシート!V90","v":0},null,{"$f":"コントロールシート!X90&\"\"","v":"8"},"km",{"$f":"コントロールシート!Z90&\"\"","v":""},"ｈ",{"$f":"コントロールシート!AB90&\"\"","v":"自転車"},null,{"$f":"コントロールシート!AD90&\"\"","v":"0.8"},"ｈ",{"$f":"コントロールシート!AF90&\"\"","v":"情報収集班長"},null,null,{"$f":"コントロールシート!AI90&\"\"","v":""}]
[null,null,5,{"$f":"コントロールシート!G91&\"\"","v":"流域　四郎"},null,null,{"$f":"コントロールシート!J91&\"\"","v":"人事部長"},null,null,{"$f":"コントロールシート!M91&\"\"","v":"名古屋市中村区・・・"},null,null,{"$f":"コントロールシート!P91","v":0},null,{"$f":"コントロールシート!R91&\"\"","v":"052-XXXX-XXXX"},{"$f":"コントロールシート!S91","v":0},null,{"$f":"コントロールシート!U91&\"\"","v":"070-YYYY-YYYY"},{"$f":"コントロールシート!V91","v":0},null,{"$f":"コントロールシート!X91&\"\"","v":"2.5"},"km",{"$f":"コントロールシート!Z91&\"\"","v":""},"ｈ",{"$f":"コントロールシート!AB91&\"\"","v":"徒歩"},null,{"$f":"コントロールシート!AD91&\"\"","v":"0.5"},"ｈ",{"$f":"コントロールシート!AF91&\"\"","v":"広報班長"},null,null,{"$f":"コントロールシート!AI91&\"\"","v":""}]
[null,null,6,{"$f":"コントロールシート!G92&\"\"","v":"流域　五郎"},null,null,{"$f":"コントロールシート!J92&\"\"","v":"管理部長"},null,null,{"$f":"コントロールシート!M92&\"\"","v":"名古屋市中村区・・・"},null,null,{"$f":"コントロールシート!P92","v":0},null,{"$f":"コントロールシート!R92&\"\"","v":"052-XXXX-XXXX"},{"$f":"コントロールシート!S92","v":0},null,{"$f":"コントロールシート!U92&\"\"","v":"070-YYYY-YYYY"},{"$f":"コントロールシート!V92","v":0},null,{"$f":"コントロールシート!X92&\"\"","v":"5"},"km",{"$f":"コントロールシート!Z92&\"\"","v":""},"ｈ",{"$f":"コントロールシート!AB92&\"\"","v":"自転車"},null,{"$f":"コントロールシート!AD92&\"\"","v":"0.5"},"ｈ",{"$f":"コントロールシート!AF92&\"\"","v":"復旧対策班長"},null,null,{"$f":"コントロールシート!AI92&\"\"","v":""}]
[null,null,7,{"$f":"コントロールシート!G93&\"\"","v":"流域　六郎"},null,null,{"$f":"コントロールシート!J93&\"\"","v":"法務部長"},null,null,{"$f":"コントロールシート!M93&\"\"","v":"名古屋市中村区・・・"},null,null,{"$f":"コントロールシート!P93","v":0},null,{"$f":"コントロールシート!R93&\"\"","v":"052-XXXX-XXXX"},{"$f":"コントロールシート!S93","v":0},null,{"$f":"コントロールシート!U93&\"\"","v":"070-YYYY-YYYY"},{"$f":"コントロールシート!V93","v":0},null,{"$f":"コントロールシート!X93&\"\"","v":"2"},"km",{"$f":"コントロールシート!Z93&\"\"","v":""},"ｈ",{"$f":"コントロールシート!AB93&\"\"","v":"徒歩"},null,{"$f":"コントロールシート!AD93&\"\"","v":"0.4"},"ｈ",{"$f":"コントロールシート!AF93&\"\"","v":"安否確認班長"},null,null,{"$f":"コントロールシート!AI93&\"\"","v":""}]
[null,null,8,{"$f":"コントロールシート!G94&\"\"","v":"流域　七郎"},null,null,{"$f":"コントロールシート!J94&\"\"","v":"経理部長"},null,null,{"$f":"コントロールシート!M94&\"\"","v":"名古屋市中村区・・・"},null,null,{"$f":"コントロールシート!P94","v":0},null,{"$f":"コントロールシート!R94&\"\"","v":"052-XXXX-XXXX"},{"$f":"コントロールシート!S94","v":0},null,{"$f":"コントロールシート!U94&\"\"","v":"070-YYYY-YYYY"},{"$f":"コントロールシート!V94","v":0},null,{"$f":"コントロールシート!X94&\"\"","v":"4"},"km",{"$f":"コントロールシート!Z94&\"\"","v":""},"ｈ",{"$f":"コントロールシート!AB94&\"\"","v":"徒歩"},null,{"$f":"コントロールシート!AD94&\"\"","v":"0.8"},"ｈ",{"$f":"コントロールシート!AF94&\"\"","v":"システム班長"},null,null,{"$f":"コントロールシート!AI94&\"\"","v":""}]
[null,null,9,{"$f":"コントロールシート!G95&\"\"","v":"流域　八郎"},null,null,{"$f":"コントロールシート!J95&\"\"","v":"財務部長"},null,null,{"$f":"コントロールシート!M95&\"\"","v":"名古屋市中村区・・・"},null,null,{"$f":"コントロールシート!P95","v":0},null,{"$f":"コントロールシート!R95&\"\"","v":"052-XXXX-XXXX"},{"$f":"コントロールシート!S95","v":0},null,{"$f":"コントロールシート!U95&\"\"","v":"070-YYYY-YYYY"},{"$f":"コントロールシート!V95","v":0},null,{"$f":"コントロールシート!X95&\"\"","v":"8"},"km",{"$f":"コントロールシート!Z95&\"\"","v":""},"ｈ",{"$f":"コントロールシート!AB95&\"\"","v":"自転車"},null,{"$f":"コントロールシート!AD95&\"\"","v":"0.8"},"ｈ",{"$f":"コントロールシート!AF95&\"\"","v":"顧客対応班長"},null,null,{"$f":"コントロールシート!AI95&\"\"","v":""}]
[null,null,10,{"$f":"コントロールシート!G96&\"\"","v":"流域　九郎"},null,null,{"$f":"コントロールシート!J96&\"\"","v":"経営企画部長"},null,null,{"$f":"コントロールシート!M96&\"\"","v":"名古屋市中村区・・・"},null,null,{"$f":"コントロールシート!P96","v":0},null,{"$f":"コントロールシート!R96&\"\"","v":"052-XXXX-XXXX"},{"$f":"コントロールシート!S96","v":0},null,{"$f":"コントロールシート!U96&\"\"","v":"070-YYYY-YYYY"},{"$f":"コントロールシート!V96","v":0},null,{"$f":"コントロールシート!X96&\"\"","v":"2"},"km",{"$f":"コントロールシート!Z96&\"\"","v":""},"ｈ",{"$f":"コントロールシート!AB96&\"\"","v":"徒歩"},null,{"$f":"コントロールシート!AD96&\"\"","v":"0.4"},"ｈ",{"$f":"コントロールシート!AF96&\"\"","v":"避難誘導班長"},null,null,{"$f":"コントロールシート!AI96&\"\"","v":""}]
[null,null,11,{"$f":"コントロールシート!G97&\"\"","v":""},null,null,{"$f":"コントロールシート!J97&\"\"","v":""},null,null,{"$f":"コントロールシート!M97&\"\"","v":""},null,null,{"$f":"コントロールシート!P97","v":0},null,{"$f":"コントロールシート!R97&\"\"","v":""},{"$f":"コントロールシート!S97","v":0},null,{"$f":"コントロールシート!U97&\"\"","v":""},{"$f":"コントロールシート!V97","v":0},null,{"$f":"コントロールシート!X97&\"\"","v":""},"km",{"$f":"コントロールシート!Z97&\"\"","v":""},"ｈ",{"$f":"コントロールシート!AB97&\"\"","v":""},null,{"$f":"コントロールシート!AD97&\"\"","v":""},"ｈ",{"$f":"コントロールシート!AF97&\"\"","v":""},null,null,{"$f":"コントロールシート!AI97&\"\"","v":""}]
[null,null,12,{"$f":"コントロールシート!G98&\"\"","v":""},null,null,{"$f":"コントロールシート!J98&\"\"","v":""},null,null,{"$f":"コントロールシート!M98&\"\"","v":""},null,null,{"$f":"コントロールシート!P98","v":0},null,{"$f":"コントロールシート!R98&\"\"","v":""},{"$f":"コントロールシート!S98","v":0},null,{"$f":"コントロールシート!U98&\"\"","v":""},{"$f":"コントロールシート!V98","v":0},null,{"$f":"コントロールシート!X98&\"\"","v":""},"km",{"$f":"コントロールシート!Z98&\"\"","v":""},"ｈ",{"$f":"コントロールシート!AB98&\"\"","v":""},null,{"$f":"コントロールシート!AD98&\"\"","v":""},"ｈ",{"$f":"コントロールシート!AF98&\"\"","v":""},null,null,{"$f":"コントロールシート!AI98&\"\"","v":""}]
[null,null,13,{"$f":"コントロールシート!G99&\"\"","v":""},null,null,{"$f":"コントロールシート!J99&\"\"","v":""},null,null,{"$f":"コントロールシート!M99&\"\"","v":""},null,null,{"$f":"コントロールシート!P99","v":0},null,{"$f":"コントロールシート!R99&\"\"","v":""},{"$f":"コントロールシート!S99","v":0},null,{"$f":"コントロールシート!U99&\"\"","v":""},{"$f":"コントロールシート!V99","v":0},null,{"$f":"コントロールシート!X99&\"\"","v":""},"km",{"$f":"コントロールシート!Z99&\"\"","v":""},"ｈ",{"$f":"コントロールシート!AB99&\"\"","v":""},null,{"$f":"コントロールシート!AD99&\"\"","v":""},"ｈ",{"$f":"コントロールシート!AF99&\"\"","v":""},null,null,{"$f":"コントロールシート!AI99&\"\"","v":""}]
[null,null,14,{"$f":"コントロールシート!G100&\"\"","v":""},null,null,{"$f":"コントロールシート!J100&\"\"","v":""},null,null,{"$f":"コントロールシート!M100&\"\"","v":""},null,null,{"$f":"コントロールシート!P100","v":0},null,{"$f":"コントロールシート!R100&\"\"","v":""},{"$f":"コントロールシート!S100","v":0},null,{"$f":"コントロールシート!U100&\"\"","v":""},{"$f":"コントロールシート!V100","v":0},null,{"$f":"コントロールシート!X100&\"\"","v":""},"km",{"$f":"コントロールシート!Z100&\"\"","v":""},"ｈ",{"$f":"コントロールシート!AB100&\"\"","v":""},null,{"$f":"コントロールシート!AD100&\"\"","v":""},"ｈ",{"$f":"コントロールシート!AF100&\"\"","v":""},null,null,{"$f":"コントロールシート!AI100&\"\"","v":""}]
[null,null,15,{"$f":"コントロールシート!G101&\"\"","v":""},null,null,{"$f":"コントロールシート!J101&\"\"","v":""},null,null,{"$f":"コントロールシート!M101&\"\"","v":""},null,null,{"$f":"コントロールシート!P101","v":0},null,{"$f":"コントロールシート!R101&\"\"","v":""},{"$f":"コントロールシート!S101","v":0},null,{"$f":"コントロールシート!U101&\"\"","v":""},{"$f":"コントロールシート!V101","v":0},null,{"$f":"コントロールシート!X101&\"\"","v":""},"km",{"$f":"コントロールシート!Z101&\"\"","v":""},"ｈ",{"$f":"コントロールシート!AB101&\"\"","v":""},null,{"$f":"コントロールシート!AD101&\"\"","v":""},"ｈ",{"$f":"コントロールシート!AF101&\"\"","v":""},null,null,{"$f":"コントロールシート!AI101&\"\"","v":""}]
[null,null,16,{"$f":"コントロールシート!G102&\"\"","v":""},null,null,{"$f":"コントロールシート!J102&\"\"","v":""},null,null,{"$f":"コントロールシート!M102&\"\"","v":""},null,null,{"$f":"コントロールシート!P102","v":0},null,{"$f":"コントロールシート!R102&\"\"","v":""},{"$f":"コントロールシート!S102","v":0},null,{"$f":"コントロールシート!U102&\"\"","v":""},{"$f":"コントロールシート!V102","v":0},null,{"$f":"コントロールシート!X102&\"\"","v":""},"km",{"$f":"コントロールシート!Z102&\"\"","v":""},"ｈ",{"$f":"コントロールシート!AB102&\"\"","v":""},null,{"$f":"コントロールシート!AD102&\"\"","v":""},"ｈ",{"$f":"コントロールシート!AF102&\"\"","v":""},null,null,{"$f":"コントロールシート!AI102&\"\"","v":""}]
[null,null,17,{"$f":"コントロールシート!G103&\"\"","v":""},null,null,{"$f":"コントロールシート!J103&\"\"","v":""},null,null,{"$f":"コントロールシート!M103&\"\"","v":""},null,null,{"$f":"コントロールシート!P103","v":0},null,{"$f":"コントロールシート!R103&\"\"","v":""},{"$f":"コントロールシート!S103","v":0},null,{"$f":"コントロールシート!U103&\"\"","v":""},{"$f":"コントロールシート!V103","v":0},null,{"$f":"コントロールシート!X103&\"\"","v":""},"km",{"$f":"コントロールシート!Z103&\"\"","v":""},"ｈ",{"$f":"コントロールシート!AB103&\"\"","v":""},null,{"$f":"コントロールシート!AD103&\"\"","v":""},"ｈ",{"$f":"コントロールシート!AF103&\"\"","v":""},null,null,{"$f":"コントロールシート!AI103&\"\"","v":""}]
[null,null,18,{"$f":"コントロールシート!G104&\"\"","v":""},null,null,{"$f":"コントロールシート!J104&\"\"","v":""},null,null,{"$f":"コントロールシート!M104&\"\"","v":""},null,null,{"$f":"コントロールシート!P104","v":0},null,{"$f":"コントロールシート!R104&\"\"","v":""},{"$f":"コントロールシート!S104","v":0},null,{"$f":"コントロールシート!U104&\"\"","v":""},{"$f":"コントロールシート!V104","v":0},null,{"$f":"コントロールシート!X104&\"\"","v":""},"km",{"$f":"コントロールシート!Z104&\"\"","v":""},"ｈ",{"$f":"コントロールシート!AB104&\"\"","v":""},null,{"$f":"コントロールシート!AD104&\"\"","v":""},"ｈ",{"$f":"コントロールシート!AF104&\"\"","v":""},null,null,{"$f":"コントロールシート!AI104&\"\"","v":""}]
[null,null,19,{"$f":"コントロールシート!G105&\"\"","v":""},null,null,{"$f":"コントロールシート!J105&\"\"","v":""},null,null,{"$f":"コントロールシート!M105&\"\"","v":""},null,null,{"$f":"コントロールシート!P105","v":0},null,{"$f":"コントロールシート!R105&\"\"","v":""},{"$f":"コントロールシート!S105","v":0},null,{"$f":"コントロールシート!U105&\"\"","v":""},{"$f":"コントロールシート!V105","v":0},null,{"$f":"コントロールシート!X105&\"\"","v":""},"km",{"$f":"コントロールシート!Z105&\"\"","v":""},"ｈ",{"$f":"コントロールシート!AB105&\"\"","v":""},null,{"$f":"コントロールシート!AD105&\"\"","v":""},"ｈ",{"$f":"コントロールシート!AF105&\"\"","v":""},null,null,{"$f":"コントロールシート!AI105&\"\"","v":""}]
[null,null,20,{"$f":"コントロールシート!G106&\"\"","v":""},null,null,{"$f":"コントロールシート!J106&\"\"","v":""},null,null,{"$f":"コントロールシート!M106&\"\"","v":""},null,null,{"$f":"コントロールシート!P106","v":0},null,{"$f":"コントロールシート!R106&\"\"","v":""},{"$f":"コントロールシート!S106","v":0},null,{"$f":"コントロールシート!U106&\"\"","v":""},{"$f":"コントロールシート!V106","v":0},null,{"$f":"コントロールシート!X106&\"\"","v":""},"km",{"$f":"コントロールシート!Z106&\"\"","v":""},"ｈ",{"$f":"コントロールシート!AB106&\"\"","v":""},null,{"$f":"コントロールシート!AD106&\"\"","v":""},"ｈ",{"$f":"コントロールシート!AF106&\"\"","v":""},null,null,{"$f":"コントロールシート!AI106&\"\"","v":""}]
[]
[null,null,null,"災害対策\n本部要員",null,null,"所属（役職）",null,null,"住所",null,null,null,null,"電話番号",null,null,"緊急連絡先",null,null,"勤務先まで\nの距離",null,"通常の\n通勤時間",null,"非常時\n参集手段",null,"非常時\n参集時間",null,"災害対策本部\n所属班"]
[null,null,1,{"$f":"コントロールシート!G109&\"\"","v":"流域　守 "},null,null,{"$f":"コントロールシート!J109&\"\"","v":""},null,null,{"$f":"コントロールシート!M109&\"\"","v":"名古屋市中村区・・・"},null,null,null,null,{"$f":"コントロールシート!R109&\"\"","v":"052-XXXX-XXXX"},null,null,{"$f":"コントロールシート!U109&\"\"","v":"070-YYYY-YYYY"},null,null,{"$f":"コントロールシート!X109&\"\"","v":"5"},"km",{"$f":"コントロールシート!Z109&\"\"","v":""},"ｈ",{"$f":"コントロールシート!AB109&\"\"","v":"自転車"},null,{"$f":"コントロールシート!AD109&\"\"","v":"0.5"},"ｈ",{"$f":"コントロールシート!AF109&\"\"","v":"総務班"}]
[null,null,2,{"$f":"コントロールシート!G110&\"\"","v":"流域　花子"},null,null,{"$f":"コントロールシート!J110&\"\"","v":""},null,null,{"$f":"コントロールシート!M110&\"\"","v":"名古屋市中村区・・・"},null,null,null,null,{"$f":"コントロールシート!R110&\"\"","v":"052-XXXX-XXXX"},null,null,{"$f":"コントロールシート!U110&\"\"","v":"070-YYYY-YYYY"},null,null,{"$f":"コントロールシート!X110&\"\"","v":"2"},"km",{"$f":"コントロールシート!Z110&\"\"","v":""},"ｈ",{"$f":"コントロールシート!AB110&\"\"","v":"徒歩"},null,{"$f":"コントロールシート!AD110&\"\"","v":"0.4"},"ｈ",{"$f":"コントロールシート!AF110&\"\"","v":"情報収集班"}]
[null,null,3,{"$f":"コントロールシート!G111&\"\"","v":""},null,null,{"$f":"コントロールシート!J111&\"\"","v":""},null,null,{"$f":"コントロールシート!M111&\"\"","v":""},null,null,null,null,{"$f":"コントロールシート!R111&\"\"","v":""},null,null,{"$f":"コントロールシート!U111&\"\"","v":""},null,null,{"$f":"コントロールシート!X111&\"\"","v":""},"km",{"$f":"コントロールシート!Z111&\"\"","v":""},"ｈ",{"$f":"コントロールシート!AB111&\"\"","v":""},null,{"$f":"コントロールシート!AD111&\"\"","v":""},"ｈ",{"$f":"コントロールシート!AF111&\"\"","v":""}]
[null,null,4,{"$f":"コントロールシート!G112&\"\"","v":""},null,null,{"$f":"コントロールシート!J112&\"\"","v":""},null,null,{"$f":"コントロールシート!M112&\"\"","v":""},null,null,null,null,{"$f":"コントロールシート!R112&\"\"","v":""},null,null,{"$f":"コントロールシート!U112&\"\"","v":""},null,null,{"$f":"コントロールシート!X112&\"\"","v":""},"km",{"$f":"コントロールシート!Z112&\"\"","v":""},"ｈ",{"$f":"コントロールシート!AB112&\"\"","v":""},null,{"$f":"コントロールシート!AD112&\"\"","v":""},"ｈ",{"$f":"コントロールシート!AF112&\"\"","v":""}]
[null,null,5,{"$f":"コントロールシート!G113&\"\"","v":""},null,null,{"$f":"コントロールシート!J113&\"\"","v":""},null,null,{"$f":"コントロールシート!M113&\"\"","v":""},null,null,null,null,{"$f":"コントロールシート!R113&\"\"","v":""},null,null,{"$f":"コントロールシート!U113&\"\"","v":""},null,null,{"$f":"コントロールシート!X113&\"\"","v":""},"km",{"$f":"コントロールシート!Z113&\"\"","v":""},"ｈ",{"$f":"コントロールシート!AB113&\"\"","v":""},null,{"$f":"コントロールシート!AD113&\"\"","v":""},"ｈ",{"$f":"コントロールシート!AF113&\"\"","v":""}]
[null,null,6,{"$f":"コントロールシート!G114&\"\"","v":""},null,null,{"$f":"コントロールシート!J114&\"\"","v":""},null,null,{"$f":"コントロールシート!M114&\"\"","v":""},null,null,null,null,{"$f":"コントロールシート!R114&\"\"","v":""},null,null,{"$f":"コントロールシート!U114&\"\"","v":""},null,null,{"$f":"コントロールシート!X114&\"\"","v":""},"km",{"$f":"コントロールシート!Z114&\"\"","v":""},"ｈ",{"$f":"コントロールシート!AB114&\"\"","v":""},null,{"$f":"コントロールシート!AD114&\"\"","v":""},"ｈ",{"$f":"コントロールシート!AF114&\"\"","v":""}]
[null,null,7,{"$f":"コントロールシート!G115&\"\"","v":""},null,null,{"$f":"コントロールシート!J115&\"\"","v":""},null,null,{"$f":"コントロールシート!M115&\"\"","v":""},null,null,null,null,{"$f":"コントロールシート!R115&\"\"","v":""},null,null,{"$f":"コントロールシート!U115&\"\"","v":""},null,null,{"$f":"コントロールシート!X115&\"\"","v":""},"km",{"$f":"コントロールシート!Z115&\"\"","v":""},"ｈ",{"$f":"コントロールシート!AB115&\"\"","v":""},null,{"$f":"コントロールシート!AD115&\"\"","v":""},"ｈ",{"$f":"コントロールシート!AF115&\"\"","v":""}]
[null,null,8,{"$f":"コントロールシート!G116&\"\"","v":""},null,null,{"$f":"コントロールシート!J116&\"\"","v":""},null,null,{"$f":"コントロールシート!M116&\"\"","v":""},null,null,null,null,{"$f":"コントロールシート!R116&\"\"","v":""},null,null,{"$f":"コントロールシート!U116&\"\"","v":""},null,null,{"$f":"コントロールシート!X116&\"\"","v":""},"km",{"$f":"コントロールシート!Z116&\"\"","v":""},"ｈ",{"$f":"コントロールシート!AB116&\"\"","v":""},null,{"$f":"コントロールシート!AD116&\"\"","v":""},"ｈ",{"$f":"コントロールシート!AF116&\"\"","v":""}]
[null,null,9,{"$f":"コントロールシート!G117&\"\"","v":""},null,null,{"$f":"コントロールシート!J117&\"\"","v":""},null,null,{"$f":"コントロールシート!M117&\"\"","v":""},null,null,null,null,{"$f":"コントロールシート!R117&\"\"","v":""},null,null,{"$f":"コントロールシート!U117&\"\"","v":""},null,null,{"$f":"コントロールシート!X117&\"\"","v":""},"km",{"$f":"コントロールシート!Z117&\"\"","v":""},"ｈ",{"$f":"コントロールシート!AB117&\"\"","v":""},null,{"$f":"コントロールシート!AD117&\"\"","v":""},"ｈ",{"$f":"コントロールシート!AF117&\"\"","v":""}]
[null,null,10,{"$f":"コントロールシート!G118&\"\"","v":""},null,null,{"$f":"コントロールシート!J118&\"\"","v":""},null,null,{"$f":"コントロールシート!M118&\"\"","v":""},null,null,null,null,{"$f":"コントロールシート!R118&\"\"","v":""},null,null,{"$f":"コントロールシート!U118&\"\"","v":""},null,null,{"$f":"コントロールシート!X118&\"\"","v":""},"km",{"$f":"コントロールシート!Z118&\"\"","v":""},"ｈ",{"$f":"コントロールシート!AB118&\"\"","v":""},null,{"$f":"コントロールシート!AD118&\"\"","v":""},"ｈ",{"$f":"コントロールシート!AF118&\"\"","v":""}]
[null,null,11,{"$f":"コントロールシート!G119&\"\"","v":""},null,null,{"$f":"コントロールシート!J119&\"\"","v":""},null,null,{"$f":"コントロールシート!M119&\"\"","v":""},null,null,null,null,{"$f":"コントロールシート!R119&\"\"","v":""},null,null,{"$f":"コントロールシート!U119&\"\"","v":""},null,null,{"$f":"コントロールシート!X119&\"\"","v":""},"km",{"$f":"コントロールシート!Z119&\"\"","v":""},"ｈ",{"$f":"コントロールシート!AB119&\"\"","v":""},null,{"$f":"コントロールシート!AD119&\"\"","v":""},"ｈ",{"$f":"コントロールシート!AF119&\"\"","v":""}]
[null,null,12,{"$f":"コントロールシート!G120&\"\"","v":""},null,null,{"$f":"コントロールシート!J120&\"\"","v":""},null,null,{"$f":"コントロールシート!M120&\"\"","v":""},null,null,null,null,{"$f":"コントロールシート!R120&\"\"","v":""},null,null,{"$f":"コントロールシート!U120&\"\"","v":""},null,null,{"$f":"コントロールシート!X120&\"\"","v":""},"km",{"$f":"コントロールシート!Z120&\"\"","v":""},"ｈ",{"$f":"コントロールシート!AB120&\"\"","v":""},null,{"$f":"コントロールシート!AD120&\"\"","v":""},"ｈ",{"$f":"コントロールシート!AF120&\"\"","v":""}]
[null,null,13,{"$f":"コントロールシート!G121&\"\"","v":""},null,null,{"$f":"コントロールシート!J121&\"\"","v":""},null,null,{"$f":"コントロールシート!M121&\"\"","v":""},null,null,null,null,{"$f":"コントロールシート!R121&\"\"","v":""},null,null,{"$f":"コントロールシート!U121&\"\"","v":""},null,null,{"$f":"コントロールシート!X121&\"\"","v":""},"km",{"$f":"コントロールシート!Z121&\"\"","v":""},"ｈ",{"$f":"コントロールシート!AB121&\"\"","v":""},null,{"$f":"コントロールシート!AD121&\"\"","v":""},"ｈ",{"$f":"コントロールシート!AF121&\"\"","v":""}]
[null,null,14,{"$f":"コントロールシート!G122&\"\"","v":""},null,null,{"$f":"コントロールシート!J122&\"\"","v":""},null,null,{"$f":"コントロールシート!M122&\"\"","v":""},null,null,null,null,{"$f":"コントロールシート!R122&\"\"","v":""},null,null,{"$f":"コントロールシート!U122&\"\"","v":""},null,null,{"$f":"コントロールシート!X122&\"\"","v":""},"km",{"$f":"コントロールシート!Z122&\"\"","v":""},"ｈ",{"$f":"コントロールシート!AB122&\"\"","v":""},null,{"$f":"コントロールシート!AD122&\"\"","v":""},"ｈ",{"$f":"コントロールシート!AF122&\"\"","v":""}]
[null,null,15,{"$f":"コントロールシート!G123&\"\"","v":""},null,null,{"$f":"コントロールシート!J123&\"\"","v":""},null,null,{"$f":"コントロールシート!M123&\"\"","v":""},null,null,null,null,{"$f":"コントロールシート!R123&\"\"","v":""},null,null,{"$f":"コントロールシート!U123&\"\"","v":""},null,null,{"$f":"コントロールシート!X123&\"\"","v":""},"km",{"$f":"コントロールシート!Z123&\"\"","v":""},"ｈ",{"$f":"コントロールシート!AB123&\"\"","v":""},null,{"$f":"コントロールシート!AD123&\"\"","v":""},"ｈ",{"$f":"コントロールシート!AF123&\"\"","v":""}]
[null,null,16,{"$f":"コントロールシート!G124&\"\"","v":""},null,null,{"$f":"コントロールシート!J124&\"\"","v":""},null,null,{"$f":"コントロールシート!M124&\"\"","v":""},null,null,null,null,{"$f":"コントロールシート!R124&\"\"","v":""},null,null,{"$f":"コントロールシート!U124&\"\"","v":""},null,null,{"$f":"コントロールシート!X124&\"\"","v":""},"km",{"$f":"コントロールシート!Z124&\"\"","v":""},"ｈ",{"$f":"コントロールシート!AB124&\"\"","v":""},null,{"$f":"コントロールシート!AD124&\"\"","v":""},"ｈ",{"$f":"コントロールシート!AF124&\"\"","v":""}]
[null,null,17,{"$f":"コントロールシート!G125&\"\"","v":""},null,null,{"$f":"コントロールシート!J125&\"\"","v":""},null,null,{"$f":"コントロールシート!M125&\"\"","v":""},null,null,null,null,{"$f":"コントロールシート!R125&\"\"","v":""},null,null,{"$f":"コントロールシート!U125&\"\"","v":""},null,null,{"$f":"コントロールシート!X125&\"\"","v":""},"km",{"$f":"コントロールシート!Z125&\"\"","v":""},"ｈ",{"$f":"コントロールシート!AB125&\"\"","v":""},null,{"$f":"コントロールシート!AD125&\"\"","v":""},"ｈ",{"$f":"コントロールシート!AF125&\"\"","v":""}]
[null,null,18,{"$f":"コントロールシート!G126&\"\"","v":""},null,null,{"$f":"コントロールシート!J126&\"\"","v":""},null,null,{"$f":"コントロールシート!M126&\"\"","v":""},null,null,null,null,{"$f":"コントロールシート!R126&\"\"","v":""},null,null,{"$f":"コントロールシート!U126&\"\"","v":""},null,null,{"$f":"コントロールシート!X126&\"\"","v":""},"km",{"$f":"コントロールシート!Z126&\"\"","v":""},"ｈ",{"$f":"コントロールシート!AB126&\"\"","v":""},null,{"$f":"コントロールシート!AD126&\"\"","v":""},"ｈ",{"$f":"コントロールシート!AF126&\"\"","v":""}]
[null,null,19,{"$f":"コントロールシート!G127&\"\"","v":""},null,null,{"$f":"コントロールシート!J127&\"\"","v":""},null,null,{"$f":"コントロールシート!M127&\"\"","v":""},null,null,null,null,{"$f":"コントロールシート!R127&\"\"","v":""},null,null,{"$f":"コントロールシート!U127&\"\"","v":""},null,null,{"$f":"コントロールシート!X127&\"\"","v":""},"km",{"$f":"コントロールシート!Z127&\"\"","v":""},"ｈ",{"$f":"コントロールシート!AB127&\"\"","v":""},null,{"$f":"コントロールシート!AD127&\"\"","v":""},"ｈ",{"$f":"コントロールシート!AF127&\"\"","v":""}]
[null,null,20,{"$f":"コントロールシート!G128&\"\"","v":""},null,null,{"$f":"コントロールシート!J128&\"\"","v":""},null,null,{"$f":"コントロールシート!M128&\"\"","v":""},null,null,null,null,{"$f":"コントロールシート!R128&\"\"","v":""},null,null,{"$f":"コントロールシート!U128&\"\"","v":""},null,null,{"$f":"コントロールシート!X128&\"\"","v":""},"km",{"$f":"コントロールシート!Z128&\"\"","v":""},"ｈ",{"$f":"コントロールシート!AB128&\"\"","v":""},null,{"$f":"コントロールシート!AD128&\"\"","v":""},"ｈ",{"$f":"コントロールシート!AF128&\"\"","v":""}]
[null,null,21,{"$f":"コントロールシート!G129&\"\"","v":""},null,null,{"$f":"コントロールシート!J129&\"\"","v":""},null,null,{"$f":"コントロールシート!M129&\"\"","v":""},null,null,null,null,{"$f":"コントロールシート!R129&\"\"","v":""},null,null,{"$f":"コントロールシート!U129&\"\"","v":""},null,null,{"$f":"コントロールシート!X129&\"\"","v":""},"km",{"$f":"コントロールシート!Z129&\"\"","v":""},"ｈ",{"$f":"コントロールシート!AB129&\"\"","v":""},null,{"$f":"コントロールシート!AD129&\"\"","v":""},"ｈ",{"$f":"コントロールシート!AF129&\"\"","v":""}]
[null,null,22,{"$f":"コントロールシート!G130&\"\"","v":""},null,null,{"$f":"コントロールシート!J130&\"\"","v":""},null,null,{"$f":"コントロールシート!M130&\"\"","v":""},null,null,null,null,{"$f":"コントロールシート!R130&\"\"","v":""},null,null,{"$f":"コントロールシート!U130&\"\"","v":""},null,null,{"$f":"コントロールシート!X130&\"\"","v":""},"km",{"$f":"コントロールシート!Z130&\"\"","v":""},"ｈ",{"$f":"コントロールシート!AB130&\"\"","v":""},null,{"$f":"コントロールシート!AD130&\"\"","v":""},"ｈ",{"$f":"コントロールシート!AF130&\"\"","v":""}]
[null,null,23,{"$f":"コントロールシート!G131&\"\"","v":""},null,null,{"$f":"コントロールシート!J131&\"\"","v":""},null,null,{"$f":"コントロールシート!M131&\"\"","v":""},null,null,null,null,{"$f":"コントロールシート!R131&\"\"","v":""},null,null,{"$f":"コントロールシート!U131&\"\"","v":""},null,null,{"$f":"コントロールシート!X131&\"\"","v":""},"km",{"$f":"コントロールシート!Z131&\"\"","v":""},"ｈ",{"$f":"コントロールシート!AB131&\"\"","v":""},null,{"$f":"コントロールシート!AD131&\"\"","v":""},"ｈ",{"$f":"コントロールシート!AF131&\"\"","v":""}]
[null,null,24,{"$f":"コントロールシート!G132&\"\"","v":""},null,null,{"$f":"コントロールシート!J132&\"\"","v":""},null,null,{"$f":"コントロールシート!M132&\"\"","v":""},null,null,null,null,{"$f":"コントロールシート!R132&\"\"","v":""},null,null,{"$f":"コントロールシート!U132&\"\"","v":""},null,null,{"$f":"コントロールシート!X132&\"\"","v":""},"km",{"$f":"コントロールシート!Z132&\"\"","v":""},"ｈ",{"$f":"コントロールシート!AB132&\"\"","v":""},null,{"$f":"コントロールシート!AD132&\"\"","v":""},"ｈ",{"$f":"コントロールシート!AF132&\"\"","v":""}]
[null,null,25,{"$f":"コントロールシート!G133&\"\"","v":""},null,null,{"$f":"コントロールシート!J133&\"\"","v":""},null,null,{"$f":"コントロールシート!M133&\"\"","v":""},null,null,null,null,{"$f":"コントロールシート!R133&\"\"","v":""},null,null,{"$f":"コントロールシート!U133&\"\"","v":""},null,null,{"$f":"コントロールシート!X133&\"\"","v":""},"km",{"$f":"コントロールシート!Z133&\"\"","v":""},"ｈ",{"$f":"コントロールシート!AB133&\"\"","v":""},null,{"$f":"コントロールシート!AD133&\"\"","v":""},"ｈ",{"$f":"コントロールシート!AF133&\"\"","v":""}]
[null,null,26,{"$f":"コントロールシート!G134&\"\"","v":""},null,null,{"$f":"コントロールシート!J134&\"\"","v":""},null,null,{"$f":"コントロールシート!M134&\"\"","v":""},null,null,null,null,{"$f":"コントロールシート!R134&\"\"","v":""},null,null,{"$f":"コントロールシート!U134&\"\"","v":""},null,null,{"$f":"コントロールシート!X134&\"\"","v":""},"km",{"$f":"コントロールシート!Z134&\"\"","v":""},"ｈ",{"$f":"コントロールシート!AB134&\"\"","v":""},null,{"$f":"コントロールシート!AD134&\"\"","v":""},"ｈ",{"$f":"コントロールシート!AF134&\"\"","v":""}]
[null,null,27,{"$f":"コントロールシート!G135&\"\"","v":""},null,null,{"$f":"コントロールシート!J135&\"\"","v":""},null,null,{"$f":"コントロールシート!M135&\"\"","v":""},null,null,null,null,{"$f":"コントロールシート!R135&\"\"","v":""},null,null,{"$f":"コントロールシート!U135&\"\"","v":""},null,null,{"$f":"コントロールシート!X135&\"\"","v":""},"km",{"$f":"コントロールシート!Z135&\"\"","v":""},"ｈ",{"$f":"コントロールシート!AB135&\"\"","v":""},null,{"$f":"コントロールシート!AD135&\"\"","v":""},"ｈ",{"$f":"コントロールシート!AF135&\"\"","v":""}]
[null,null,28,{"$f":"コントロールシート!G136&\"\"","v":""},null,null,{"$f":"コントロールシート!J136&\"\"","v":""},null,null,{"$f":"コントロールシート!M136&\"\"","v":""},null,null,null,null,{"$f":"コントロールシート!R136&\"\"","v":""},null,null,{"$f":"コントロールシート!U136&\"\"","v":""},null,null,{"$f":"コントロールシート!X136&\"\"","v":""},"km",{"$f":"コントロールシート!Z136&\"\"","v":""},"ｈ",{"$f":"コントロールシート!AB136&\"\"","v":""},null,{"$f":"コントロールシート!AD136&\"\"","v":""},"ｈ",{"$f":"コントロールシート!AF136&\"\"","v":""}]
[null,null,29,{"$f":"コントロールシート!G137&\"\"","v":""},null,null,{"$f":"コントロールシート!J137&\"\"","v":""},null,null,{"$f":"コントロールシート!M137&\"\"","v":""},null,null,null,null,{"$f":"コントロールシート!R137&\"\"","v":""},null,null,{"$f":"コントロールシート!U137&\"\"","v":""},null,null,{"$f":"コントロールシート!X137&\"\"","v":""},"km",{"$f":"コントロールシート!Z137&\"\"","v":""},"ｈ",{"$f":"コントロールシート!AB137&\"\"","v":""},null,{"$f":"コントロールシート!AD137&\"\"","v":""},"ｈ",{"$f":"コントロールシート!AF137&\"\"","v":""}]
[null,null,30,{"$f":"コントロールシート!G138&\"\"","v":""},null,null,{"$f":"コントロールシート!J138&\"\"","v":""},null,null,{"$f":"コントロールシート!M138&\"\"","v":""},null,null,null,null,{"$f":"コントロールシート!R138&\"\"","v":""},null,null,{"$f":"コントロールシート!U138&\"\"","v":""},null,null,{"$f":"コントロールシート!X138&\"\"","v":""},"km",{"$f":"コントロールシート!Z138&\"\"","v":""},"ｈ",{"$f":"コントロールシート!AB138&\"\"","v":""},null,{"$f":"コントロールシート!AD138&\"\"","v":""},"ｈ",{"$f":"コントロールシート!AF138&\"\"","v":""}]
[null,null,null,""]
[null,null,null,"災害対策\n本部要員",null,null,"所属（役職）",null,null,"住所",null,null,null,null,"電話番号",null,null,"緊急連絡先",null,null,"勤務先まで\nの距離",null,"通常の\n通勤時間",null,"非常時\n参集手段",null,"非常時\n参集時間",null,"災害対策本部\n所属班"]
[null,null,31,{"$f":"コントロールシート!G141&\"\"","v":""},null,null,{"$f":"コントロールシート!J141&\"\"","v":""},null,null,{"$f":"コントロールシート!M141&\"\"","v":""},null,null,null,null,{"$f":"コントロールシート!R141&\"\"","v":""},null,null,{"$f":"コントロールシート!U141&\"\"","v":""},null,null,{"$f":"コントロールシート!X141&\"\"","v":""},"km",{"$f":"コントロールシート!Z141&\"\"","v":""},"ｈ",{"$f":"コントロールシート!AB141&\"\"","v":""},null,{"$f":"コントロールシート!AD141&\"\"","v":""},"ｈ",{"$f":"コントロールシート!AF141&\"\"","v":""}]
[null,null,32,{"$f":"コントロールシート!G142&\"\"","v":""},null,null,{"$f":"コントロールシート!J142&\"\"","v":""},null,null,{"$f":"コントロールシート!M142&\"\"","v":""},null,null,null,null,{"$f":"コントロールシート!R142&\"\"","v":""},null,null,{"$f":"コントロールシート!U142&\"\"","v":""},null,null,{"$f":"コントロールシート!X142&\"\"","v":""},"km",{"$f":"コントロールシート!Z142&\"\"","v":""},"ｈ",{"$f":"コントロールシート!AB142&\"\"","v":""},null,{"$f":"コントロールシート!AD142&\"\"","v":""},"ｈ",{"$f":"コントロールシート!AF142&\"\"","v":""}]
[null,null,33,{"$f":"コントロールシート!G143&\"\"","v":""},null,null,{"$f":"コントロールシート!J143&\"\"","v":""},null,null,{"$f":"コントロールシート!M143&\"\"","v":""},null,null,null,null,{"$f":"コントロールシート!R143&\"\"","v":""},null,null,{"$f":"コントロールシート!U143&\"\"","v":""},null,null,{"$f":"コントロールシート!X143&\"\"","v":""},"km",{"$f":"コントロールシート!Z143&\"\"","v":""},"ｈ",{"$f":"コントロールシート!AB143&\"\"","v":""},null,{"$f":"コントロールシート!AD143&\"\"","v":""},"ｈ",{"$f":"コントロールシート!AF143&\"\"","v":""}]
[null,null,34,{"$f":"コントロールシート!G144&\"\"","v":""},null,null,{"$f":"コントロールシート!J144&\"\"","v":""},null,null,{"$f":"コントロールシート!M144&\"\"","v":""},null,null,null,null,{"$f":"コントロールシート!R144&\"\"","v":""},null,null,{"$f":"コントロールシート!U144&\"\"","v":""},null,null,{"$f":"コントロールシート!X144&\"\"","v":""},"km",{"$f":"コントロールシート!Z144&\"\"","v":""},"ｈ",{"$f":"コントロールシート!AB144&\"\"","v":""},null,{"$f":"コントロールシート!AD144&\"\"","v":""},"ｈ",{"$f":"コントロールシート!AF144&\"\"","v":""}]
[null,null,35,{"$f":"コントロールシート!G145&\"\"","v":""},null,null,{"$f":"コントロールシート!J145&\"\"","v":""},null,null,{"$f":"コントロールシート!M145&\"\"","v":""},null,null,null,null,{"$f":"コントロールシート!R145&\"\"","v":""},null,null,{"$f":"コントロールシート!U145&\"\"","v":""},null,null,{"$f":"コントロールシート!X145&\"\"","v":""},"km",{"$f":"コントロールシート!Z145&\"\"","v":""},"ｈ",{"$f":"コントロールシート!AB145&\"\"","v":""},null,{"$f":"コントロールシート!AD145&\"\"","v":""},"ｈ",{"$f":"コントロールシート!AF145&\"\"","v":""}]
[null,null,36,{"$f":"コントロールシート!G146&\"\"","v":""},null,null,{"$f":"コントロールシート!J146&\"\"","v":""},null,null,{"$f":"コントロールシート!M146&\"\"","v":""},null,null,null,null,{"$f":"コントロールシート!R146&\"\"","v":""},null,null,{"$f":"コントロールシート!U146&\"\"","v":""},null,null,{"$f":"コントロールシート!X146&\"\"","v":""},"km",{"$f":"コントロールシート!Z146&\"\"","v":""},"ｈ",{"$f":"コントロールシート!AB146&\"\"","v":""},null,{"$f":"コントロールシート!AD146&\"\"","v":""},"ｈ",{"$f":"コントロールシート!AF146&\"\"","v":""}]
[null,null,37,{"$f":"コントロールシート!G147&\"\"","v":""},null,null,{"$f":"コントロールシート!J147&\"\"","v":""},null,null,{"$f":"コントロールシート!M147&\"\"","v":""},null,null,null,null,{"$f":"コントロールシート!R147&\"\"","v":""},null,null,{"$f":"コントロールシート!U147&\"\"","v":""},null,null,{"$f":"コントロールシート!X147&\"\"","v":""},"km",{"$f":"コントロールシート!Z147&\"\"","v":""},"ｈ",{"$f":"コントロールシート!AB147&\"\"","v":""},null,{"$f":"コントロールシート!AD147&\"\"","v":""},"ｈ",{"$f":"コントロールシート!AF147&\"\"","v":""}]
[null,null,38,{"$f":"コントロールシート!G148&\"\"","v":""},null,null,{"$f":"コントロールシート!J148&\"\"","v":""},null,null,{"$f":"コントロールシート!M148&\"\"","v":""},null,null,null,null,{"$f":"コントロールシート!R148&\"\"","v":""},null,null,{"$f":"コントロールシート!U148&\"\"","v":""},null,null,{"$f":"コントロールシート!X148&\"\"","v":""},"km",{"$f":"コントロールシート!Z148&\"\"","v":""},"ｈ",{"$f":"コントロールシート!AB148&\"\"","v":""},null,{"$f":"コントロールシート!AD148&\"\"","v":""},"ｈ",{"$f":"コントロールシート!AF148&\"\"","v":""}]
[null,null,39,{"$f":"コントロールシート!G149&\"\"","v":""},null,null,{"$f":"コントロールシート!J149&\"\"","v":""},null,null,{"$f":"コントロールシート!M149&\"\"","v":""},null,null,null,null,{"$f":"コントロールシート!R149&\"\"","v":""},null,null,{"$f":"コントロールシート!U149&\"\"","v":""},null,null,{"$f":"コントロールシート!X149&\"\"","v":""},"km",{"$f":"コントロールシート!Z149&\"\"","v":""},"ｈ",{"$f":"コントロールシート!AB149&\"\"","v":""},null,{"$f":"コントロールシート!AD149&\"\"","v":""},"ｈ",{"$f":"コントロールシート!AF149&\"\"","v":""}]
[null,null,40,{"$f":"コントロールシート!G150&\"\"","v":""},null,null,{"$f":"コントロールシート!J150&\"\"","v":""},null,null,{"$f":"コントロールシート!M150&\"\"","v":""},null,null,null,null,{"$f":"コントロールシート!R150&\"\"","v":""},null,null,{"$f":"コントロールシート!U150&\"\"","v":""},null,null,{"$f":"コントロールシート!X150&\"\"","v":""},"km",{"$f":"コントロールシート!Z150&\"\"","v":""},"ｈ",{"$f":"コントロールシート!AB150&\"\"","v":""},null,{"$f":"コントロールシート!AD150&\"\"","v":""},"ｈ",{"$f":"コントロールシート!AF150&\"\"","v":""}]
[null,null,41,{"$f":"コントロールシート!G151&\"\"","v":""},null,null,{"$f":"コントロールシート!J151&\"\"","v":""},null,null,{"$f":"コントロールシート!M151&\"\"","v":""},null,null,null,null,{"$f":"コントロールシート!R151&\"\"","v":""},null,null,{"$f":"コントロールシート!U151&\"\"","v":""},null,null,{"$f":"コントロールシート!X151&\"\"","v":""},"km",{"$f":"コントロールシート!Z151&\"\"","v":""},"ｈ",{"$f":"コントロールシート!AB151&\"\"","v":""},null,{"$f":"コントロールシート!AD151&\"\"","v":""},"ｈ",{"$f":"コントロールシート!AF151&\"\"","v":""}]
[null,null,42,{"$f":"コントロールシート!G152&\"\"","v":""},null,null,{"$f":"コントロールシート!J152&\"\"","v":""},null,null,{"$f":"コントロールシート!M152&\"\"","v":""},null,null,null,null,{"$f":"コントロールシート!R152&\"\"","v":""},null,null,{"$f":"コントロールシート!U152&\"\"","v":""},null,null,{"$f":"コントロールシート!X152&\"\"","v":""},"km",{"$f":"コントロールシート!Z152&\"\"","v":""},"ｈ",{"$f":"コントロールシート!AB152&\"\"","v":""},null,{"$f":"コントロールシート!AD152&\"\"","v":""},"ｈ",{"$f":"コントロールシート!AF152&\"\"","v":""}]
[null,null,43,{"$f":"コントロールシート!G153&\"\"","v":""},null,null,{"$f":"コントロールシート!J153&\"\"","v":""},null,null,{"$f":"コントロールシート!M153&\"\"","v":""},null,null,null,null,{"$f":"コントロールシート!R153&\"\"","v":""},null,null,{"$f":"コントロールシート!U153&\"\"","v":""},null,null,{"$f":"コントロールシート!X153&\"\"","v":""},"km",{"$f":"コントロールシート!Z153&\"\"","v":""},"ｈ",{"$f":"コントロールシート!AB153&\"\"","v":""},null,{"$f":"コントロールシート!AD153&\"\"","v":""},"ｈ",{"$f":"コントロールシート!AF153&\"\"","v":""}]
[null,null,44,{"$f":"コントロールシート!G154&\"\"","v":""},null,null,{"$f":"コントロールシート!J154&\"\"","v":""},null,null,{"$f":"コントロールシート!M154&\"\"","v":""},null,null,null,null,{"$f":"コントロールシート!R154&\"\"","v":""},null,null,{"$f":"コントロールシート!U154&\"\"","v":""},null,null,{"$f":"コントロールシート!X154&\"\"","v":""},"km",{"$f":"コントロールシート!Z154&\"\"","v":""},"ｈ",{"$f":"コントロールシート!AB154&\"\"","v":""},null,{"$f":"コントロールシート!AD154&\"\"","v":""},"ｈ",{"$f":"コントロールシート!AF154&\"\"","v":""}]
[null,null,45,{"$f":"コントロールシート!G155&\"\"","v":""},null,null,{"$f":"コントロールシート!J155&\"\"","v":""},null,null,{"$f":"コントロールシート!M155&\"\"","v":""},null,null,null,null,{"$f":"コントロールシート!R155&\"\"","v":""},null,null,{"$f":"コントロールシート!U155&\"\"","v":""},null,null,{"$f":"コントロールシート!X155&\"\"","v":""},"km",{"$f":"コントロールシート!Z155&\"\"","v":""},"ｈ",{"$f":"コントロールシート!AB155&\"\"","v":""},null,{"$f":"コントロールシート!AD155&\"\"","v":""},"ｈ",{"$f":"コントロールシート!AF155&\"\"","v":""}]
[null,null,46,{"$f":"コントロールシート!G156&\"\"","v":""},null,null,{"$f":"コントロールシート!J156&\"\"","v":""},null,null,{"$f":"コントロールシート!M156&\"\"","v":""},null,null,null,null,{"$f":"コントロールシート!R156&\"\"","v":""},null,null,{"$f":"コントロールシート!U156&\"\"","v":""},null,null,{"$f":"コントロールシート!X156&\"\"","v":""},"km",{"$f":"コントロールシート!Z156&\"\"","v":""},"ｈ",{"$f":"コントロールシート!AB156&\"\"","v":""},null,{"$f":"コントロールシート!AD156&\"\"","v":""},"ｈ",{"$f":"コントロールシート!AF156&\"\"","v":""}]
[null,null,47,{"$f":"コントロールシート!G157&\"\"","v":""},null,null,{"$f":"コントロールシート!J157&\"\"","v":""},null,null,{"$f":"コントロールシート!M157&\"\"","v":""},null,null,null,null,{"$f":"コントロールシート!R157&\"\"","v":""},null,null,{"$f":"コントロールシート!U157&\"\"","v":""},null,null,{"$f":"コントロールシート!X157&\"\"","v":""},"km",{"$f":"コントロールシート!Z157&\"\"","v":""},"ｈ",{"$f":"コントロールシート!AB157&\"\"","v":""},null,{"$f":"コントロールシート!AD157&\"\"","v":""},"ｈ",{"$f":"コントロールシート!AF157&\"\"","v":""}]
[null,null,48,{"$f":"コントロールシート!G158&\"\"","v":""},null,null,{"$f":"コントロールシート!J158&\"\"","v":""},null,null,{"$f":"コントロールシート!M158&\"\"","v":""},null,null,null,null,{"$f":"コントロールシート!R158&\"\"","v":""},null,null,{"$f":"コントロールシート!U158&\"\"","v":""},null,null,{"$f":"コントロールシート!X158&\"\"","v":""},"km",{"$f":"コントロールシート!Z158&\"\"","v":""},"ｈ",{"$f":"コントロールシート!AB158&\"\"","v":""},null,{"$f":"コントロールシート!AD158&\"\"","v":""},"ｈ",{"$f":"コントロールシート!AF158&\"\"","v":""}]
[null,null,49,{"$f":"コントロールシート!G159&\"\"","v":""},null,null,{"$f":"コントロールシート!J159&\"\"","v":""},null,null,{"$f":"コントロールシート!M159&\"\"","v":""},null,null,null,null,{"$f":"コントロールシート!R159&\"\"","v":""},null,null,{"$f":"コントロールシート!U159&\"\"","v":""},null,null,{"$f":"コントロールシート!X159&\"\"","v":""},"km",{"$f":"コントロールシート!Z159&\"\"","v":""},"ｈ",{"$f":"コントロールシート!AB159&\"\"","v":""},null,{"$f":"コントロールシート!AD159&\"\"","v":""},"ｈ",{"$f":"コントロールシート!AF159&\"\"","v":""}]
[null,null,50,{"$f":"コントロールシート!G160&\"\"","v":""},null,null,{"$f":"コントロールシート!J160&\"\"","v":""},null,null,{"$f":"コントロールシート!M160&\"\"","v":""},null,null,null,null,{"$f":"コントロールシート!R160&\"\"","v":""},null,null,{"$f":"コントロールシート!U160&\"\"","v":""},null,null,{"$f":"コントロールシート!X160&\"\"","v":""},"km",{"$f":"コントロールシート!Z160&\"\"","v":""},"ｈ",{"$f":"コントロールシート!AB160&\"\"","v":""},null,{"$f":"コントロールシート!AD160&\"\"","v":""},"ｈ",{"$f":"コントロールシート!AF160&\"\"","v":""}]
[null,null,51,{"$f":"コントロールシート!G161&\"\"","v":""},null,null,{"$f":"コントロールシート!J161&\"\"","v":""},null,null,{"$f":"コントロールシート!M161&\"\"","v":""},null,null,null,null,{"$f":"コントロールシート!R161&\"\"","v":""},null,null,{"$f":"コントロールシート!U161&\"\"","v":""},null,null,{"$f":"コントロールシート!X161&\"\"","v":""},"km",{"$f":"コントロールシート!Z161&\"\"","v":""},"ｈ",{"$f":"コントロールシート!AB161&\"\"","v":""},null,{"$f":"コントロールシート!AD161&\"\"","v":""},"ｈ",{"$f":"コントロールシート!AF161&\"\"","v":""}]
[null,null,52,{"$f":"コントロールシート!G162&\"\"","v":""},null,null,{"$f":"コントロールシート!J162&\"\"","v":""},null,null,{"$f":"コントロールシート!M162&\"\"","v":""},null,null,null,null,{"$f":"コントロールシート!R162&\"\"","v":""},null,null,{"$f":"コントロールシート!U162&\"\"","v":""},null,null,{"$f":"コントロールシート!X162&\"\"","v":""},"km",{"$f":"コントロールシート!Z162&\"\"","v":""},"ｈ",{"$f":"コントロールシート!AB162&\"\"","v":""},null,{"$f":"コントロールシート!AD162&\"\"","v":""},"ｈ",{"$f":"コントロールシート!AF162&\"\"","v":""}]
[null,null,53,{"$f":"コントロールシート!G163&\"\"","v":""},null,null,{"$f":"コントロールシート!J163&\"\"","v":""},null,null,{"$f":"コントロールシート!M163&\"\"","v":""},null,null,null,null,{"$f":"コントロールシート!R163&\"\"","v":""},null,null,{"$f":"コントロールシート!U163&\"\"","v":""},null,null,{"$f":"コントロールシート!X163&\"\"","v":""},"km",{"$f":"コントロールシート!Z163&\"\"","v":""},"ｈ",{"$f":"コントロールシート!AB163&\"\"","v":""},null,{"$f":"コントロールシート!AD163&\"\"","v":""},"ｈ",{"$f":"コントロールシート!AF163&\"\"","v":""}]
[null,null,54,{"$f":"コントロールシート!G164&\"\"","v":""},null,null,{"$f":"コントロールシート!J164&\"\"","v":""},null,null,{"$f":"コントロールシート!M164&\"\"","v":""},null,null,null,null,{"$f":"コントロールシート!R164&\"\"","v":""},null,null,{"$f":"コントロールシート!U164&\"\"","v":""},null,null,{"$f":"コントロールシート!X164&\"\"","v":""},"km",{"$f":"コントロールシート!Z164&\"\"","v":""},"ｈ",{"$f":"コントロールシート!AB164&\"\"","v":""},null,{"$f":"コントロールシート!AD164&\"\"","v":""},"ｈ",{"$f":"コントロールシート!AF164&\"\"","v":""}]
[null,null,55,{"$f":"コントロールシート!G165&\"\"","v":""},null,null,{"$f":"コントロールシート!J165&\"\"","v":""},null,null,{"$f":"コントロールシート!M165&\"\"","v":""},null,null,null,null,{"$f":"コントロールシート!R165&\"\"","v":""},null,null,{"$f":"コントロールシート!U165&\"\"","v":""},null,null,{"$f":"コントロールシート!X165&\"\"","v":""},"km",{"$f":"コントロールシート!Z165&\"\"","v":""},"ｈ",{"$f":"コントロールシート!AB165&\"\"","v":""},null,{"$f":"コントロールシート!AD165&\"\"","v":""},"ｈ",{"$f":"コントロールシート!AF165&\"\"","v":""}]
[null,null,56,{"$f":"コントロールシート!G166&\"\"","v":""},null,null,{"$f":"コントロールシート!J166&\"\"","v":""},null,null,{"$f":"コントロールシート!M166&\"\"","v":""},null,null,null,null,{"$f":"コントロールシート!R166&\"\"","v":""},null,null,{"$f":"コントロールシート!U166&\"\"","v":""},null,null,{"$f":"コントロールシート!X166&\"\"","v":""},"km",{"$f":"コントロールシート!Z166&\"\"","v":""},"ｈ",{"$f":"コントロールシート!AB166&\"\"","v":""},null,{"$f":"コントロールシート!AD166&\"\"","v":""},"ｈ",{"$f":"コントロールシート!AF166&\"\"","v":""}]
[null,null,57,{"$f":"コントロールシート!G167&\"\"","v":""},null,null,{"$f":"コントロールシート!J167&\"\"","v":""},null,null,{"$f":"コントロールシート!M167&\"\"","v":""},null,null,null,null,{"$f":"コントロールシート!R167&\"\"","v":""},null,null,{"$f":"コントロールシート!U167&\"\"","v":""},null,null,{"$f":"コントロールシート!X167&\"\"","v":""},"km",{"$f":"コントロールシート!Z167&\"\"","v":""},"ｈ",{"$f":"コントロールシート!AB167&\"\"","v":""},null,{"$f":"コントロールシート!AD167&\"\"","v":""},"ｈ",{"$f":"コントロールシート!AF167&\"\"","v":""}]
[null,null,58,{"$f":"コントロールシート!G168&\"\"","v":""},null,null,{"$f":"コントロールシート!J168&\"\"","v":""},null,null,{"$f":"コントロールシート!M168&\"\"","v":""},null,null,null,null,{"$f":"コントロールシート!R168&\"\"","v":""},null,null,{"$f":"コントロールシート!U168&\"\"","v":""},null,null,{"$f":"コントロールシート!X168&\"\"","v":""},"km",{"$f":"コントロールシート!Z168&\"\"","v":""},"ｈ",{"$f":"コントロールシート!AB168&\"\"","v":""},null,{"$f":"コントロールシート!AD168&\"\"","v":""},"ｈ",{"$f":"コントロールシート!AF168&\"\"","v":""}]
[null,null,59,{"$f":"コントロールシート!G169&\"\"","v":""},null,null,{"$f":"コントロールシート!J169&\"\"","v":""},null,null,{"$f":"コントロールシート!M169&\"\"","v":""},null,null,null,null,{"$f":"コントロールシート!R169&\"\"","v":""},null,null,{"$f":"コントロールシート!U169&\"\"","v":""},null,null,{"$f":"コントロールシート!X169&\"\"","v":""},"km",{"$f":"コントロールシート!Z169&\"\"","v":""},"ｈ",{"$f":"コントロールシート!AB169&\"\"","v":""},null,{"$f":"コントロールシート!AD169&\"\"","v":""},"ｈ",{"$f":"コントロールシート!AF169&\"\"","v":""}]
[null,null,60,{"$f":"コントロールシート!G170&\"\"","v":""},null,null,{"$f":"コントロールシート!J170&\"\"","v":""},null,null,{"$f":"コントロールシート!M170&\"\"","v":""},null,null,null,null,{"$f":"コントロールシート!R170&\"\"","v":""},null,null,{"$f":"コントロールシート!U170&\"\"","v":""},null,null,{"$f":"コントロールシート!X170&\"\"","v":""},"km",{"$f":"コントロールシート!Z170&\"\"","v":""},"ｈ",{"$f":"コントロールシート!AB170&\"\"","v":""},null,{"$f":"コントロールシート!AD170&\"\"","v":""},"ｈ",{"$f":"コントロールシート!AF170&\"\"","v":""}]
[null,null,null,""]
[null,null,null,"災害対策\n本部要員",null,null,"所属（役職）",null,null,"住所",null,null,null,null,"電話番号",null,null,"緊急連絡先",null,null,"勤務先まで\nの距離",null,"通常の\n通勤時間",null,"非常時\n参集手段",null,"非常時\n参集時間",null,"災害対策本部\n所属班"]
[null,null,61,{"$f":"コントロールシート!G173&\"\"","v":""},null,null,{"$f":"コントロールシート!J173&\"\"","v":""},null,null,{"$f":"コントロールシート!M173&\"\"","v":""},null,null,null,null,{"$f":"コントロールシート!R173&\"\"","v":""},null,null,{"$f":"コントロールシート!U173&\"\"","v":""},null,null,{"$f":"コントロールシート!X173&\"\"","v":""},"km",{"$f":"コントロールシート!Z173&\"\"","v":""},"ｈ",{"$f":"コントロールシート!AB173&\"\"","v":""},null,{"$f":"コントロールシート!AD173&\"\"","v":""},"ｈ",{"$f":"コントロールシート!AF173&\"\"","v":""}]
[null,null,62,{"$f":"コントロールシート!G174&\"\"","v":""},null,null,{"$f":"コントロールシート!J174&\"\"","v":""},null,null,{"$f":"コントロールシート!M174&\"\"","v":""},null,null,null,null,{"$f":"コントロールシート!R174&\"\"","v":""},null,null,{"$f":"コントロールシート!U174&\"\"","v":""},null,null,{"$f":"コントロールシート!X174&\"\"","v":""},"km",{"$f":"コントロールシート!Z174&\"\"","v":""},"ｈ",{"$f":"コントロールシート!AB174&\"\"","v":""},null,{"$f":"コントロールシート!AD174&\"\"","v":""},"ｈ",{"$f":"コントロールシート!AF174&\"\"","v":""}]
[null,null,63,{"$f":"コントロールシート!G175&\"\"","v":""},null,null,{"$f":"コントロールシート!J175&\"\"","v":""},null,null,{"$f":"コントロールシート!M175&\"\"","v":""},null,null,null,null,{"$f":"コントロールシート!R175&\"\"","v":""},null,null,{"$f":"コントロールシート!U175&\"\"","v":""},null,null,{"$f":"コントロールシート!X175&\"\"","v":""},"km",{"$f":"コントロールシート!Z175&\"\"","v":""},"ｈ",{"$f":"コントロールシート!AB175&\"\"","v":""},null,{"$f":"コントロールシート!AD175&\"\"","v":""},"ｈ",{"$f":"コントロールシート!AF175&\"\"","v":""}]
[null,null,64,{"$f":"コントロールシート!G176&\"\"","v":""},null,null,{"$f":"コントロールシート!J176&\"\"","v":""},null,null,{"$f":"コントロールシート!M176&\"\"","v":""},null,null,null,null,{"$f":"コントロールシート!R176&\"\"","v":""},null,null,{"$f":"コントロールシート!U176&\"\"","v":""},null,null,{"$f":"コントロールシート!X176&\"\"","v":""},"km",{"$f":"コントロールシート!Z176&\"\"","v":""},"ｈ",{"$f":"コントロールシート!AB176&\"\"","v":""},null,{"$f":"コントロールシート!AD176&\"\"","v":""},"ｈ",{"$f":"コントロールシート!AF176&\"\"","v":""}]
[null,null,65,{"$f":"コントロールシート!G177&\"\"","v":""},null,null,{"$f":"コントロールシート!J177&\"\"","v":""},null,null,{"$f":"コントロールシート!M177&\"\"","v":""},null,null,null,null,{"$f":"コントロールシート!R177&\"\"","v":""},null,null,{"$f":"コントロールシート!U177&\"\"","v":""},null,null,{"$f":"コントロールシート!X177&\"\"","v":""},"km",{"$f":"コントロールシート!Z177&\"\"","v":""},"ｈ",{"$f":"コントロールシート!AB177&\"\"","v":""},null,{"$f":"コントロールシート!AD177&\"\"","v":""},"ｈ",{"$f":"コントロールシート!AF177&\"\"","v":""}]
[null,null,66,{"$f":"コントロールシート!G178&\"\"","v":""},null,null,{"$f":"コントロールシート!J178&\"\"","v":""},null,null,{"$f":"コントロールシート!M178&\"\"","v":""},null,null,null,null,{"$f":"コントロールシート!R178&\"\"","v":""},null,null,{"$f":"コントロールシート!U178&\"\"","v":""},null,null,{"$f":"コントロールシート!X178&\"\"","v":""},"km",{"$f":"コントロールシート!Z178&\"\"","v":""},"ｈ",{"$f":"コントロールシート!AB178&\"\"","v":""},null,{"$f":"コントロールシート!AD178&\"\"","v":""},"ｈ",{"$f":"コントロールシート!AF178&\"\"","v":""}]
[null,null,67,{"$f":"コントロールシート!G179&\"\"","v":""},null,null,{"$f":"コントロールシート!J179&\"\"","v":""},null,null,{"$f":"コントロールシート!M179&\"\"","v":""},null,null,null,null,{"$f":"コントロールシート!R179&\"\"","v":""},null,null,{"$f":"コントロールシート!U179&\"\"","v":""},null,null,{"$f":"コントロールシート!X179&\"\"","v":""},"km",{"$f":"コントロールシート!Z179&\"\"","v":""},"ｈ",{"$f":"コントロールシート!AB179&\"\"","v":""},null,{"$f":"コントロールシート!AD179&\"\"","v":""},"ｈ",{"$f":"コントロールシート!AF179&\"\"","v":""}]
[null,null,68,{"$f":"コントロールシート!G180&\"\"","v":""},null,null,{"$f":"コントロールシート!J180&\"\"","v":""},null,null,{"$f":"コントロールシート!M180&\"\"","v":""},null,null,null,null,{"$f":"コントロールシート!R180&\"\"","v":""},null,null,{"$f":"コントロールシート!U180&\"\"","v":""},null,null,{"$f":"コントロールシート!X180&\"\"","v":""},"km",{"$f":"コントロールシート!Z180&\"\"","v":""},"ｈ",{"$f":"コントロールシート!AB180&\"\"","v":""},null,{"$f":"コントロールシート!AD180&\"\"","v":""},"ｈ",{"$f":"コントロールシート!AF180&\"\"","v":""}]
[null,null,69,{"$f":"コントロールシート!G181&\"\"","v":""},null,null,{"$f":"コントロールシート!J181&\"\"","v":""},null,null,{"$f":"コントロールシート!M181&\"\"","v":""},null,null,null,null,{"$f":"コントロールシート!R181&\"\"","v":""},null,null,{"$f":"コントロールシート!U181&\"\"","v":""},null,null,{"$f":"コントロールシート!X181&\"\"","v":""},"km",{"$f":"コントロールシート!Z181&\"\"","v":""},"ｈ",{"$f":"コントロールシート!AB181&\"\"","v":""},null,{"$f":"コントロールシート!AD181&\"\"","v":""},"ｈ",{"$f":"コントロールシート!AF181&\"\"","v":""}]
[null,null,70,{"$f":"コントロールシート!G182&\"\"","v":""},null,null,{"$f":"コントロールシート!J182&\"\"","v":""},null,null,{"$f":"コントロールシート!M182&\"\"","v":""},null,null,null,null,{"$f":"コントロールシート!R182&\"\"","v":""},null,null,{"$f":"コントロールシート!U182&\"\"","v":""},null,null,{"$f":"コントロールシート!X182&\"\"","v":""},"km",{"$f":"コントロールシート!Z182&\"\"","v":""},"ｈ",{"$f":"コントロールシート!AB182&\"\"","v":""},null,{"$f":"コントロールシート!AD182&\"\"","v":""},"ｈ",{"$f":"コントロールシート!AF182&\"\"","v":""}]
[null,null,71,{"$f":"コントロールシート!G183&\"\"","v":""},null,null,{"$f":"コントロールシート!J183&\"\"","v":""},null,null,{"$f":"コントロールシート!M183&\"\"","v":""},null,null,null,null,{"$f":"コントロールシート!R183&\"\"","v":""},null,null,{"$f":"コントロールシート!U183&\"\"","v":""},null,null,{"$f":"コントロールシート!X183&\"\"","v":""},"km",{"$f":"コントロールシート!Z183&\"\"","v":""},"ｈ",{"$f":"コントロールシート!AB183&\"\"","v":""},null,{"$f":"コントロールシート!AD183&\"\"","v":""},"ｈ",{"$f":"コントロールシート!AF183&\"\"","v":""}]
[null,null,72,{"$f":"コントロールシート!G184&\"\"","v":""},null,null,{"$f":"コントロールシート!J184&\"\"","v":""},null,null,{"$f":"コントロールシート!M184&\"\"","v":""},null,null,null,null,{"$f":"コントロールシート!R184&\"\"","v":""},null,null,{"$f":"コントロールシート!U184&\"\"","v":""},null,null,{"$f":"コントロールシート!X184&\"\"","v":""},"km",{"$f":"コントロールシート!Z184&\"\"","v":""},"ｈ",{"$f":"コントロールシート!AB184&\"\"","v":""},null,{"$f":"コントロールシート!AD184&\"\"","v":""},"ｈ",{"$f":"コントロールシート!AF184&\"\"","v":""}]
[null,null,73,{"$f":"コントロールシート!G185&\"\"","v":""},null,null,{"$f":"コントロールシート!J185&\"\"","v":""},null,null,{"$f":"コントロールシート!M185&\"\"","v":""},null,null,null,null,{"$f":"コントロールシート!R185&\"\"","v":""},null,null,{"$f":"コントロールシート!U185&\"\"","v":""},null,null,{"$f":"コントロールシート!X185&\"\"","v":""},"km",{"$f":"コントロールシート!Z185&\"\"","v":""},"ｈ",{"$f":"コントロールシート!AB185&\"\"","v":""},null,{"$f":"コントロールシート!AD185&\"\"","v":""},"ｈ",{"$f":"コントロールシート!AF185&\"\"","v":""}]
[null,null,74,{"$f":"コントロールシート!G186&\"\"","v":""},null,null,{"$f":"コントロールシート!J186&\"\"","v":""},null,null,{"$f":"コントロールシート!M186&\"\"","v":""},null,null,null,null,{"$f":"コントロールシート!R186&\"\"","v":""},null,null,{"$f":"コントロールシート!U186&\"\"","v":""},null,null,{"$f":"コントロールシート!X186&\"\"","v":""},"km",{"$f":"コントロールシート!Z186&\"\"","v":""},"ｈ",{"$f":"コントロールシート!AB186&\"\"","v":""},null,{"$f":"コントロールシート!AD186&\"\"","v":""},"ｈ",{"$f":"コントロールシート!AF186&\"\"","v":""}]
[null,null,75,{"$f":"コントロールシート!G187&\"\"","v":""},null,null,{"$f":"コントロールシート!J187&\"\"","v":""},null,null,{"$f":"コントロールシート!M187&\"\"","v":""},null,null,null,null,{"$f":"コントロールシート!R187&\"\"","v":""},null,null,{"$f":"コントロールシート!U187&\"\"","v":""},null,null,{"$f":"コントロールシート!X187&\"\"","v":""},"km",{"$f":"コントロールシート!Z187&\"\"","v":""},"ｈ",{"$f":"コントロールシート!AB187&\"\"","v":""},null,{"$f":"コントロールシート!AD187&\"\"","v":""},"ｈ",{"$f":"コントロールシート!AF187&\"\"","v":""}]
[null,null,76,{"$f":"コントロールシート!G188&\"\"","v":""},null,null,{"$f":"コントロールシート!J188&\"\"","v":""},null,null,{"$f":"コントロールシート!M188&\"\"","v":""},null,null,null,null,{"$f":"コントロールシート!R188&\"\"","v":""},null,null,{"$f":"コントロールシート!U188&\"\"","v":""},null,null,{"$f":"コントロールシート!X188&\"\"","v":""},"km",{"$f":"コントロールシート!Z188&\"\"","v":""},"ｈ",{"$f":"コントロールシート!AB188&\"\"","v":""},null,{"$f":"コントロールシート!AD188&\"\"","v":""},"ｈ",{"$f":"コントロールシート!AF188&\"\"","v":""}]
[null,null,77,{"$f":"コントロールシート!G189&\"\"","v":""},null,null,{"$f":"コントロールシート!J189&\"\"","v":""},null,null,{"$f":"コントロールシート!M189&\"\"","v":""},null,null,null,null,{"$f":"コントロールシート!R189&\"\"","v":""},null,null,{"$f":"コントロールシート!U189&\"\"","v":""},null,null,{"$f":"コントロールシート!X189&\"\"","v":""},"km",{"$f":"コントロールシート!Z189&\"\"","v":""},"ｈ",{"$f":"コントロールシート!AB189&\"\"","v":""},null,{"$f":"コントロールシート!AD189&\"\"","v":""},"ｈ",{"$f":"コントロールシート!AF189&\"\"","v":""}]
[null,null,78,{"$f":"コントロールシート!G190&\"\"","v":""},null,null,{"$f":"コントロールシート!J190&\"\"","v":""},null,null,{"$f":"コントロールシート!M190&\"\"","v":""},null,null,null,null,{"$f":"コントロールシート!R190&\"\"","v":""},null,null,{"$f":"コントロールシート!U190&\"\"","v":""},null,null,{"$f":"コントロールシート!X190&\"\"","v":""},"km",{"$f":"コントロールシート!Z190&\"\"","v":""},"ｈ",{"$f":"コントロールシート!AB190&\"\"","v":""},null,{"$f":"コントロールシート!AD190&\"\"","v":""},"ｈ",{"$f":"コントロールシート!AF190&\"\"","v":""}]
[null,null,79,{"$f":"コントロールシート!G191&\"\"","v":""},null,null,{"$f":"コントロールシート!J191&\"\"","v":""},null,null,{"$f":"コントロールシート!M191&\"\"","v":""},null,null,null,null,{"$f":"コントロールシート!R191&\"\"","v":""},null,null,{"$f":"コントロールシート!U191&\"\"","v":""},null,null,{"$f":"コントロールシート!X191&\"\"","v":""},"km",{"$f":"コントロールシート!Z191&\"\"","v":""},"ｈ",{"$f":"コントロールシート!AB191&\"\"","v":""},null,{"$f":"コントロールシート!AD191&\"\"","v":""},"ｈ",{"$f":"コントロールシート!AF191&\"\"","v":""}]
[null,null,80,{"$f":"コントロールシート!G192&\"\"","v":""},null,null,{"$f":"コントロールシート!J192&\"\"","v":""},null,null,{"$f":"コントロールシート!M192&\"\"","v":""},null,null,null,null,{"$f":"コントロールシート!R192&\"\"","v":""},null,null,{"$f":"コントロールシート!U192&\"\"","v":""},null,null,{"$f":"コントロールシート!X192&\"\"","v":""},"km",{"$f":"コントロールシート!Z192&\"\"","v":""},"ｈ",{"$f":"コントロールシート!AB192&\"\"","v":""},null,{"$f":"コントロールシート!AD192&\"\"","v":""},"ｈ",{"$f":"コントロールシート!AF192&\"\"","v":""}]
[null,null,81,{"$f":"コントロールシート!G193&\"\"","v":""},null,null,{"$f":"コントロールシート!J193&\"\"","v":""},null,null,{"$f":"コントロールシート!M193&\"\"","v":""},null,null,null,null,{"$f":"コントロールシート!R193&\"\"","v":""},null,null,{"$f":"コントロールシート!U193&\"\"","v":""},null,null,{"$f":"コントロールシート!X193&\"\"","v":""},"km",{"$f":"コントロールシート!Z193&\"\"","v":""},"ｈ",{"$f":"コントロールシート!AB193&\"\"","v":""},null,{"$f":"コントロールシート!AD193&\"\"","v":""},"ｈ",{"$f":"コントロールシート!AF193&\"\"","v":""}]
[null,null,82,{"$f":"コントロールシート!G194&\"\"","v":""},null,null,{"$f":"コントロールシート!J194&\"\"","v":""},null,null,{"$f":"コントロールシート!M194&\"\"","v":""},null,null,null,null,{"$f":"コントロールシート!R194&\"\"","v":""},null,null,{"$f":"コントロールシート!U194&\"\"","v":""},null,null,{"$f":"コントロールシート!X194&\"\"","v":""},"km",{"$f":"コントロールシート!Z194&\"\"","v":""},"ｈ",{"$f":"コントロールシート!AB194&\"\"","v":""},null,{"$f":"コントロールシート!AD194&\"\"","v":""},"ｈ",{"$f":"コントロールシート!AF194&\"\"","v":""}]
[null,null,83,{"$f":"コントロールシート!G195&\"\"","v":""},null,null,{"$f":"コントロールシート!J195&\"\"","v":""},null,null,{"$f":"コントロールシート!M195&\"\"","v":""},null,null,null,null,{"$f":"コントロールシート!R195&\"\"","v":""},null,null,{"$f":"コントロールシート!U195&\"\"","v":""},null,null,{"$f":"コントロールシート!X195&\"\"","v":""},"km",{"$f":"コントロールシート!Z195&\"\"","v":""},"ｈ",{"$f":"コントロールシート!AB195&\"\"","v":""},null,{"$f":"コントロールシート!AD195&\"\"","v":""},"ｈ",{"$f":"コントロールシート!AF195&\"\"","v":""}]
[null,null,84,{"$f":"コントロールシート!G196&\"\"","v":""},null,null,{"$f":"コントロールシート!J196&\"\"","v":""},null,null,{"$f":"コントロールシート!M196&\"\"","v":""},null,null,null,null,{"$f":"コントロールシート!R196&\"\"","v":""},null,null,{"$f":"コントロールシート!U196&\"\"","v":""},null,null,{"$f":"コントロールシート!X196&\"\"","v":""},"km",{"$f":"コントロールシート!Z196&\"\"","v":""},"ｈ",{"$f":"コントロールシート!AB196&\"\"","v":""},null,{"$f":"コントロールシート!AD196&\"\"","v":""},"ｈ",{"$f":"コントロールシート!AF196&\"\"","v":""}]
[null,null,85,{"$f":"コントロールシート!G197&\"\"","v":""},null,null,{"$f":"コントロールシート!J197&\"\"","v":""},null,null,{"$f":"コントロールシート!M197&\"\"","v":""},null,null,null,null,{"$f":"コントロールシート!R197&\"\"","v":""},null,null,{"$f":"コントロールシート!U197&\"\"","v":""},null,null,{"$f":"コントロールシート!X197&\"\"","v":""},"km",{"$f":"コントロールシート!Z197&\"\"","v":""},"ｈ",{"$f":"コントロールシート!AB197&\"\"","v":""},null,{"$f":"コントロールシート!AD197&\"\"","v":""},"ｈ",{"$f":"コントロールシート!AF197&\"\"","v":""}]
[null,null,86,{"$f":"コントロールシート!G198&\"\"","v":""},null,null,{"$f":"コントロールシート!J198&\"\"","v":""},null,null,{"$f":"コントロールシート!M198&\"\"","v":""},null,null,null,null,{"$f":"コントロールシート!R198&\"\"","v":""},null,null,{"$f":"コントロールシート!U198&\"\"","v":""},null,null,{"$f":"コントロールシート!X198&\"\"","v":""},"km",{"$f":"コントロールシート!Z198&\"\"","v":""},"ｈ",{"$f":"コントロールシート!AB198&\"\"","v":""},null,{"$f":"コントロールシート!AD198&\"\"","v":""},"ｈ",{"$f":"コントロールシート!AF198&\"\"","v":""}]
[null,null,87,{"$f":"コントロールシート!G199&\"\"","v":""},null,null,{"$f":"コントロールシート!J199&\"\"","v":""},null,null,{"$f":"コントロールシート!M199&\"\"","v":""},null,null,null,null,{"$f":"コントロールシート!R199&\"\"","v":""},null,null,{"$f":"コントロールシート!U199&\"\"","v":""},null,null,{"$f":"コントロールシート!X199&\"\"","v":""},"km",{"$f":"コントロールシート!Z199&\"\"","v":""},"ｈ",{"$f":"コントロールシート!AB199&\"\"","v":""},null,{"$f":"コントロールシート!AD199&\"\"","v":""},"ｈ",{"$f":"コントロールシート!AF199&\"\"","v":""}]
[null,null,88,{"$f":"コントロールシート!G200&\"\"","v":""},null,null,{"$f":"コントロールシート!J200&\"\"","v":""},null,null,{"$f":"コントロールシート!M200&\"\"","v":""},null,null,null,null,{"$f":"コントロールシート!R200&\"\"","v":""},null,null,{"$f":"コントロールシート!U200&\"\"","v":""},null,null,{"$f":"コントロールシート!X200&\"\"","v":""},"km",{"$f":"コントロールシート!Z200&\"\"","v":""},"ｈ",{"$f":"コントロールシート!AB200&\"\"","v":""},null,{"$f":"コントロールシート!AD200&\"\"","v":""},"ｈ",{"$f":"コントロールシート!AF200&\"\"","v":""}]
[null,null,89,{"$f":"コントロールシート!G201&\"\"","v":""},null,null,{"$f":"コントロールシート!J201&\"\"","v":""},null,null,{"$f":"コントロールシート!M201&\"\"","v":""},null,null,null,null,{"$f":"コントロールシート!R201&\"\"","v":""},null,null,{"$f":"コントロールシート!U201&\"\"","v":""},null,null,{"$f":"コントロールシート!X201&\"\"","v":""},"km",{"$f":"コントロールシート!Z201&\"\"","v":""},"ｈ",{"$f":"コントロールシート!AB201&\"\"","v":""},null,{"$f":"コントロールシート!AD201&\"\"","v":""},"ｈ",{"$f":"コントロールシート!AF201&\"\"","v":""}]
[null,null,90,{"$f":"コントロールシート!G202&\"\"","v":""},null,null,{"$f":"コントロールシート!J202&\"\"","v":""},null,null,{"$f":"コントロールシート!M202&\"\"","v":""},null,null,null,null,{"$f":"コントロールシート!R202&\"\"","v":""},null,null,{"$f":"コントロールシート!U202&\"\"","v":""},null,null,{"$f":"コントロールシート!X202&\"\"","v":""},"km",{"$f":"コントロールシート!Z202&\"\"","v":""},"ｈ",{"$f":"コントロールシート!AB202&\"\"","v":""},null,{"$f":"コントロールシート!AD202&\"\"","v":""},"ｈ",{"$f":"コントロールシート!AF202&\"\"","v":""}]
[null,null,null,""]
[null,null,null,"災害対策\n本部要員",null,null,"所属（役職）",null,null,"住所",null,null,null,null,"電話番号",null,null,"緊急連絡先",null,null,"勤務先まで\nの距離",null,"通常の\n通勤時間",null,"非常時\n参集手段",null,"非常時\n参集時間",null,"災害対策本部\n所属班"]
[null,null,91,{"$f":"コントロールシート!G205&\"\"","v":""},null,null,{"$f":"コントロールシート!J205&\"\"","v":""},null,null,{"$f":"コントロールシート!M205&\"\"","v":""},null,null,null,null,{"$f":"コントロールシート!R205&\"\"","v":""},null,null,{"$f":"コントロールシート!U205&\"\"","v":""},null,null,{"$f":"コントロールシート!X205&\"\"","v":""},"km",{"$f":"コントロールシート!Z205&\"\"","v":""},"ｈ",{"$f":"コントロールシート!AB205&\"\"","v":""},null,{"$f":"コントロールシート!AD205&\"\"","v":""},"ｈ",{"$f":"コントロールシート!AF205&\"\"","v":""}]
[null,null,92,{"$f":"コントロールシート!G206&\"\"","v":""},null,null,{"$f":"コントロールシート!J206&\"\"","v":""},null,null,{"$f":"コントロールシート!M206&\"\"","v":""},null,null,null,null,{"$f":"コントロールシート!R206&\"\"","v":""},null,null,{"$f":"コントロールシート!U206&\"\"","v":""},null,null,{"$f":"コントロールシート!X206&\"\"","v":""},"km",{"$f":"コントロールシート!Z206&\"\"","v":""},"ｈ",{"$f":"コントロールシート!AB206&\"\"","v":""},null,{"$f":"コントロールシート!AD206&\"\"","v":""},"ｈ",{"$f":"コントロールシート!AF206&\"\"","v":""}]
[null,null,93,{"$f":"コントロールシート!G207&\"\"","v":""},null,null,{"$f":"コントロールシート!J207&\"\"","v":""},null,null,{"$f":"コントロールシート!M207&\"\"","v":""},null,null,null,null,{"$f":"コントロールシート!R207&\"\"","v":""},null,null,{"$f":"コントロールシート!U207&\"\"","v":""},null,null,{"$f":"コントロールシート!X207&\"\"","v":""},"km",{"$f":"コントロールシート!Z207&\"\"","v":""},"ｈ",{"$f":"コントロールシート!AB207&\"\"","v":""},null,{"$f":"コントロールシート!AD207&\"\"","v":""},"ｈ",{"$f":"コントロールシート!AF207&\"\"","v":""}]
[null,null,94,{"$f":"コントロールシート!G208&\"\"","v":""},null,null,{"$f":"コントロールシート!J208&\"\"","v":""},null,null,{"$f":"コントロールシート!M208&\"\"","v":""},null,null,null,null,{"$f":"コントロールシート!R208&\"\"","v":""},null,null,{"$f":"コントロールシート!U208&\"\"","v":""},null,null,{"$f":"コントロールシート!X208&\"\"","v":""},"km",{"$f":"コントロールシート!Z208&\"\"","v":""},"ｈ",{"$f":"コントロールシート!AB208&\"\"","v":""},null,{"$f":"コントロールシート!AD208&\"\"","v":""},"ｈ",{"$f":"コントロールシート!AF208&\"\"","v":""}]
[null,null,95,{"$f":"コントロールシート!G209&\"\"","v":""},null,null,{"$f":"コントロールシート!J209&\"\"","v":""},null,null,{"$f":"コントロールシート!M209&\"\"","v":""},null,null,null,null,{"$f":"コントロールシート!R209&\"\"","v":""},null,null,{"$f":"コントロールシート!U209&\"\"","v":""},null,null,{"$f":"コントロールシート!X209&\"\"","v":""},"km",{"$f":"コントロールシート!Z209&\"\"","v":""},"ｈ",{"$f":"コントロールシート!AB209&\"\"","v":""},null,{"$f":"コントロールシート!AD209&\"\"","v":""},"ｈ",{"$f":"コントロールシート!AF209&\"\"","v":""}]
[null,null,96,{"$f":"コントロールシート!G210&\"\"","v":""},null,null,{"$f":"コントロールシート!J210&\"\"","v":""},null,null,{"$f":"コントロールシート!M210&\"\"","v":""},null,null,null,null,{"$f":"コントロールシート!R210&\"\"","v":""},null,null,{"$f":"コントロールシート!U210&\"\"","v":""},null,null,{"$f":"コントロールシート!X210&\"\"","v":""},"km",{"$f":"コントロールシート!Z210&\"\"","v":""},"ｈ",{"$f":"コントロールシート!AB210&\"\"","v":""},null,{"$f":"コントロールシート!AD210&\"\"","v":""},"ｈ",{"$f":"コントロールシート!AF210&\"\"","v":""}]
[null,null,97,{"$f":"コントロールシート!G211&\"\"","v":""},null,null,{"$f":"コントロールシート!J211&\"\"","v":""},null,null,{"$f":"コントロールシート!M211&\"\"","v":""},null,null,null,null,{"$f":"コントロールシート!R211&\"\"","v":""},null,null,{"$f":"コントロールシート!U211&\"\"","v":""},null,null,{"$f":"コントロールシート!X211&\"\"","v":""},"km",{"$f":"コントロールシート!Z211&\"\"","v":""},"ｈ",{"$f":"コントロールシート!AB211&\"\"","v":""},null,{"$f":"コントロールシート!AD211&\"\"","v":""},"ｈ",{"$f":"コントロールシート!AF211&\"\"","v":""}]
[null,null,98,{"$f":"コントロールシート!G212&\"\"","v":""},null,null,{"$f":"コントロールシート!J212&\"\"","v":""},null,null,{"$f":"コントロールシート!M212&\"\"","v":""},null,null,null,null,{"$f":"コントロールシート!R212&\"\"","v":""},null,null,{"$f":"コントロールシート!U212&\"\"","v":""},null,null,{"$f":"コントロールシート!X212&\"\"","v":""},"km",{"$f":"コントロールシート!Z212&\"\"","v":""},"ｈ",{"$f":"コントロールシート!AB212&\"\"","v":""},null,{"$f":"コントロールシート!AD212&\"\"","v":""},"ｈ",{"$f":"コントロールシート!AF212&\"\"","v":""}]
[null,null,99,{"$f":"コントロールシート!G213&\"\"","v":""},null,null,{"$f":"コントロールシート!J213&\"\"","v":""},null,null,{"$f":"コントロールシート!M213&\"\"","v":""},null,null,null,null,{"$f":"コントロールシート!R213&\"\"","v":""},null,null,{"$f":"コントロールシート!U213&\"\"","v":""},null,null,{"$f":"コントロールシート!X213&\"\"","v":""},"km",{"$f":"コントロールシート!Z213&\"\"","v":""},"ｈ",{"$f":"コントロールシート!AB213&\"\"","v":""},null,{"$f":"コントロールシート!AD213&\"\"","v":""},"ｈ",{"$f":"コントロールシート!AF213&\"\"","v":""}]
[null,null,100,{"$f":"コントロールシート!G214&\"\"","v":""},null,null,{"$f":"コントロールシート!J214&\"\"","v":""},null,null,{"$f":"コントロールシート!M214&\"\"","v":""},null,null,null,null,{"$f":"コントロールシート!R214&\"\"","v":""},null,null,{"$f":"コントロールシート!U214&\"\"","v":""},null,null,{"$f":"コントロールシート!X214&\"\"","v":""},"km",{"$f":"コントロールシート!Z214&\"\"","v":""},"ｈ",{"$f":"コントロールシート!AB214&\"\"","v":""},null,{"$f":"コントロールシート!AD214&\"\"","v":""},"ｈ",{"$f":"コントロールシート!AF214&\"\"","v":""}]
[null,null,101,{"$f":"コントロールシート!G215&\"\"","v":""},null,null,{"$f":"コントロールシート!J215&\"\"","v":""},null,null,{"$f":"コントロールシート!M215&\"\"","v":""},null,null,null,null,{"$f":"コントロールシート!R215&\"\"","v":""},null,null,{"$f":"コントロールシート!U215&\"\"","v":""},null,null,{"$f":"コントロールシート!X215&\"\"","v":""},"km",{"$f":"コントロールシート!Z215&\"\"","v":""},"ｈ",{"$f":"コントロールシート!AB215&\"\"","v":""},null,{"$f":"コントロールシート!AD215&\"\"","v":""},"ｈ",{"$f":"コントロールシート!AF215&\"\"","v":""}]
[null,null,102,{"$f":"コントロールシート!G216&\"\"","v":""},null,null,{"$f":"コントロールシート!J216&\"\"","v":""},null,null,{"$f":"コントロールシート!M216&\"\"","v":""},null,null,null,null,{"$f":"コントロールシート!R216&\"\"","v":""},null,null,{"$f":"コントロールシート!U216&\"\"","v":""},null,null,{"$f":"コントロールシート!X216&\"\"","v":""},"km",{"$f":"コントロールシート!Z216&\"\"","v":""},"ｈ",{"$f":"コントロールシート!AB216&\"\"","v":""},null,{"$f":"コントロールシート!AD216&\"\"","v":""},"ｈ",{"$f":"コントロールシート!AF216&\"\"","v":""}]
[null,null,103,{"$f":"コントロールシート!G217&\"\"","v":""},null,null,{"$f":"コントロールシート!J217&\"\"","v":""},null,null,{"$f":"コントロールシート!M217&\"\"","v":""},null,null,null,null,{"$f":"コントロールシート!R217&\"\"","v":""},null,null,{"$f":"コントロールシート!U217&\"\"","v":""},null,null,{"$f":"コントロールシート!X217&\"\"","v":""},"km",{"$f":"コントロールシート!Z217&\"\"","v":""},"ｈ",{"$f":"コントロールシート!AB217&\"\"","v":""},null,{"$f":"コントロールシート!AD217&\"\"","v":""},"ｈ",{"$f":"コントロールシート!AF217&\"\"","v":""}]
[null,null,104,{"$f":"コントロールシート!G218&\"\"","v":""},null,null,{"$f":"コントロールシート!J218&\"\"","v":""},null,null,{"$f":"コントロールシート!M218&\"\"","v":""},null,null,null,null,{"$f":"コントロールシート!R218&\"\"","v":""},null,null,{"$f":"コントロールシート!U218&\"\"","v":""},null,null,{"$f":"コントロールシート!X218&\"\"","v":""},"km",{"$f":"コントロールシート!Z218&\"\"","v":""},"ｈ",{"$f":"コントロールシート!AB218&\"\"","v":""},null,{"$f":"コントロールシート!AD218&\"\"","v":""},"ｈ",{"$f":"コントロールシート!AF218&\"\"","v":""}]
[null,null,105,{"$f":"コントロールシート!G219&\"\"","v":""},null,null,{"$f":"コントロールシート!J219&\"\"","v":""},null,null,{"$f":"コントロールシート!M219&\"\"","v":""},null,null,null,null,{"$f":"コントロールシート!R219&\"\"","v":""},null,null,{"$f":"コントロールシート!U219&\"\"","v":""},null,null,{"$f":"コントロールシート!X219&\"\"","v":""},"km",{"$f":"コントロールシート!Z219&\"\"","v":""},"ｈ",{"$f":"コントロールシート!AB219&\"\"","v":""},null,{"$f":"コントロールシート!AD219&\"\"","v":""},"ｈ",{"$f":"コントロールシート!AF219&\"\"","v":""}]
[null,null,106,{"$f":"コントロールシート!G220&\"\"","v":""},null,null,{"$f":"コントロールシート!J220&\"\"","v":""},null,null,{"$f":"コントロールシート!M220&\"\"","v":""},null,null,null,null,{"$f":"コントロールシート!R220&\"\"","v":""},null,null,{"$f":"コントロールシート!U220&\"\"","v":""},null,null,{"$f":"コントロールシート!X220&\"\"","v":""},"km",{"$f":"コントロールシート!Z220&\"\"","v":""},"ｈ",{"$f":"コントロールシート!AB220&\"\"","v":""},null,{"$f":"コントロールシート!AD220&\"\"","v":""},"ｈ",{"$f":"コントロールシート!AF220&\"\"","v":""}]
[null,null,107,{"$f":"コントロールシート!G221&\"\"","v":""},null,null,{"$f":"コントロールシート!J221&\"\"","v":""},null,null,{"$f":"コントロールシート!M221&\"\"","v":""},null,null,null,null,{"$f":"コントロールシート!R221&\"\"","v":""},null,null,{"$f":"コントロールシート!U221&\"\"","v":""},null,null,{"$f":"コントロールシート!X221&\"\"","v":""},"km",{"$f":"コントロールシート!Z221&\"\"","v":""},"ｈ",{"$f":"コントロールシート!AB221&\"\"","v":""},null,{"$f":"コントロールシート!AD221&\"\"","v":""},"ｈ",{"$f":"コントロールシート!AF221&\"\"","v":""}]
[null,null,108,{"$f":"コントロールシート!G222&\"\"","v":""},null,null,{"$f":"コントロールシート!J222&\"\"","v":""},null,null,{"$f":"コントロールシート!M222&\"\"","v":""},null,null,null,null,{"$f":"コントロールシート!R222&\"\"","v":""},null,null,{"$f":"コントロールシート!U222&\"\"","v":""},null,null,{"$f":"コントロールシート!X222&\"\"","v":""},"km",{"$f":"コントロールシート!Z222&\"\"","v":""},"ｈ",{"$f":"コントロールシート!AB222&\"\"","v":""},null,{"$f":"コントロールシート!AD222&\"\"","v":""},"ｈ",{"$f":"コントロールシート!AF222&\"\"","v":""}]
[null,null,109,{"$f":"コントロールシート!G223&\"\"","v":""},null,null,{"$f":"コントロールシート!J223&\"\"","v":""},null,null,{"$f":"コントロールシート!M223&\"\"","v":""},null,null,null,null,{"$f":"コントロールシート!R223&\"\"","v":""},null,null,{"$f":"コントロールシート!U223&\"\"","v":""},null,null,{"$f":"コントロールシート!X223&\"\"","v":""},"km",{"$f":"コントロールシート!Z223&\"\"","v":""},"ｈ",{"$f":"コントロールシート!AB223&\"\"","v":""},null,{"$f":"コントロールシート!AD223&\"\"","v":""},"ｈ",{"$f":"コントロールシート!AF223&\"\"","v":""}]
[null,null,110,{"$f":"コントロールシート!G224&\"\"","v":""},null,null,{"$f":"コントロールシート!J224&\"\"","v":""},null,null,{"$f":"コントロールシート!M224&\"\"","v":""},null,null,null,null,{"$f":"コントロールシート!R224&\"\"","v":""},null,null,{"$f":"コントロールシート!U224&\"\"","v":""},null,null,{"$f":"コントロールシート!X224&\"\"","v":""},"km",{"$f":"コントロールシート!Z224&\"\"","v":""},"ｈ",{"$f":"コントロールシート!AB224&\"\"","v":""},null,{"$f":"コントロールシート!AD224&\"\"","v":""},"ｈ",{"$f":"コントロールシート!AF224&\"\"","v":""}]
[null,null,111,{"$f":"コントロールシート!G225&\"\"","v":""},null,null,{"$f":"コントロールシート!J225&\"\"","v":""},null,null,{"$f":"コントロールシート!M225&\"\"","v":""},null,null,null,null,{"$f":"コントロールシート!R225&\"\"","v":""},null,null,{"$f":"コントロールシート!U225&\"\"","v":""},null,null,{"$f":"コントロールシート!X225&\"\"","v":""},"km",{"$f":"コントロールシート!Z225&\"\"","v":""},"ｈ",{"$f":"コントロールシート!AB225&\"\"","v":""},null,{"$f":"コントロールシート!AD225&\"\"","v":""},"ｈ",{"$f":"コントロールシート!AF225&\"\"","v":""}]
[null,null,112,{"$f":"コントロールシート!G226&\"\"","v":""},null,null,{"$f":"コントロールシート!J226&\"\"","v":""},null,null,{"$f":"コントロールシート!M226&\"\"","v":""},null,null,null,null,{"$f":"コントロールシート!R226&\"\"","v":""},null,null,{"$f":"コントロールシート!U226&\"\"","v":""},null,null,{"$f":"コントロールシート!X226&\"\"","v":""},"km",{"$f":"コントロールシート!Z226&\"\"","v":""},"ｈ",{"$f":"コントロールシート!AB226&\"\"","v":""},null,{"$f":"コントロールシート!AD226&\"\"","v":""},"ｈ",{"$f":"コントロールシート!AF226&\"\"","v":""}]
[null,null,113,{"$f":"コントロールシート!G227&\"\"","v":""},null,null,{"$f":"コントロールシート!J227&\"\"","v":""},null,null,{"$f":"コントロールシート!M227&\"\"","v":""},null,null,null,null,{"$f":"コントロールシート!R227&\"\"","v":""},null,null,{"$f":"コントロールシート!U227&\"\"","v":""},null,null,{"$f":"コントロールシート!X227&\"\"","v":""},"km",{"$f":"コントロールシート!Z227&\"\"","v":""},"ｈ",{"$f":"コントロールシート!AB227&\"\"","v":""},null,{"$f":"コントロールシート!AD227&\"\"","v":""},"ｈ",{"$f":"コントロールシート!AF227&\"\"","v":""}]
[null,null,114,{"$f":"コントロールシート!G228&\"\"","v":""},null,null,{"$f":"コントロールシート!J228&\"\"","v":""},null,null,{"$f":"コントロールシート!M228&\"\"","v":""},null,null,null,null,{"$f":"コントロールシート!R228&\"\"","v":""},null,null,{"$f":"コントロールシート!U228&\"\"","v":""},null,null,{"$f":"コントロールシート!X228&\"\"","v":""},"km",{"$f":"コントロールシート!Z228&\"\"","v":""},"ｈ",{"$f":"コントロールシート!AB228&\"\"","v":""},null,{"$f":"コントロールシート!AD228&\"\"","v":""},"ｈ",{"$f":"コントロールシート!AF228&\"\"","v":""}]
[null,null,115,{"$f":"コントロールシート!G229&\"\"","v":""},null,null,{"$f":"コントロールシート!J229&\"\"","v":""},null,null,{"$f":"コントロールシート!M229&\"\"","v":""},null,null,null,null,{"$f":"コントロールシート!R229&\"\"","v":""},null,null,{"$f":"コントロールシート!U229&\"\"","v":""},null,null,{"$f":"コントロールシート!X229&\"\"","v":""},"km",{"$f":"コントロールシート!Z229&\"\"","v":""},"ｈ",{"$f":"コントロールシート!AB229&\"\"","v":""},null,{"$f":"コントロールシート!AD229&\"\"","v":""},"ｈ",{"$f":"コントロールシート!AF229&\"\"","v":""}]
[null,null,116,{"$f":"コントロールシート!G230&\"\"","v":""},null,null,{"$f":"コントロールシート!J230&\"\"","v":""},null,null,{"$f":"コントロールシート!M230&\"\"","v":""},null,null,null,null,{"$f":"コントロールシート!R230&\"\"","v":""},null,null,{"$f":"コントロールシート!U230&\"\"","v":""},null,null,{"$f":"コントロールシート!X230&\"\"","v":""},"km",{"$f":"コントロールシート!Z230&\"\"","v":""},"ｈ",{"$f":"コントロールシート!AB230&\"\"","v":""},null,{"$f":"コントロールシート!AD230&\"\"","v":""},"ｈ",{"$f":"コントロールシート!AF230&\"\"","v":""}]
[null,null,117,{"$f":"コントロールシート!G231&\"\"","v":""},null,null,{"$f":"コントロールシート!J231&\"\"","v":""},null,null,{"$f":"コントロールシート!M231&\"\"","v":""},null,null,null,null,{"$f":"コントロールシート!R231&\"\"","v":""},null,null,{"$f":"コントロールシート!U231&\"\"","v":""},null,null,{"$f":"コントロールシート!X231&\"\"","v":""},"km",{"$f":"コントロールシート!Z231&\"\"","v":""},"ｈ",{"$f":"コントロールシート!AB231&\"\"","v":""},null,{"$f":"コントロールシート!AD231&\"\"","v":""},"ｈ",{"$f":"コントロールシート!AF231&\"\"","v":""}]
[null,null,118,{"$f":"コントロールシート!G232&\"\"","v":""},null,null,{"$f":"コントロールシート!J232&\"\"","v":""},null,null,{"$f":"コントロールシート!M232&\"\"","v":""},null,null,null,null,{"$f":"コントロールシート!R232&\"\"","v":""},null,null,{"$f":"コントロールシート!U232&\"\"","v":""},null,null,{"$f":"コントロールシート!X232&\"\"","v":""},"km",{"$f":"コントロールシート!Z232&\"\"","v":""},"ｈ",{"$f":"コントロールシート!AB232&\"\"","v":""},null,{"$f":"コントロールシート!AD232&\"\"","v":""},"ｈ",{"$f":"コントロールシート!AF232&\"\"","v":""}]
[null,null,119,{"$f":"コントロールシート!G233&\"\"","v":""},null,null,{"$f":"コントロールシート!J233&\"\"","v":""},null,null,{"$f":"コントロールシート!M233&\"\"","v":""},null,null,null,null,{"$f":"コントロールシート!R233&\"\"","v":""},null,null,{"$f":"コントロールシート!U233&\"\"","v":""},null,null,{"$f":"コントロールシート!X233&\"\"","v":""},"km",{"$f":"コントロールシート!Z233&\"\"","v":""},"ｈ",{"$f":"コントロールシート!AB233&\"\"","v":""},null,{"$f":"コントロールシート!AD233&\"\"","v":""},"ｈ",{"$f":"コントロールシート!AF233&\"\"","v":""}]
[null,null,120,{"$f":"コントロールシート!G234&\"\"","v":""},null,null,{"$f":"コントロールシート!J234&\"\"","v":""},null,null,{"$f":"コントロールシート!M234&\"\"","v":""},null,null,null,null,{"$f":"コントロールシート!R234&\"\"","v":""},null,null,{"$f":"コントロールシート!U234&\"\"","v":""},null,null,{"$f":"コントロールシート!X234&\"\"","v":""},"km",{"$f":"コントロールシート!Z234&\"\"","v":""},"ｈ",{"$f":"コントロールシート!AB234&\"\"","v":""},null,{"$f":"コントロールシート!AD234&\"\"","v":""},"ｈ",{"$f":"コントロールシート!AF234&\"\"","v":""}]
[null,null,null,""]
[null,null,null,"災害対策\n本部要員",null,null,"所属（役職）",null,null,"住所",null,null,null,null,"電話番号",null,null,"緊急連絡先",null,null,"勤務先まで\nの距離",null,"通常の\n通勤時間",null,"非常時\n参集手段",null,"非常時\n参集時間",null,"災害対策本部\n所属班"]
[null,null,121,{"$f":"コントロールシート!G237&\"\"","v":""},null,null,{"$f":"コントロールシート!J237&\"\"","v":""},null,null,{"$f":"コントロールシート!M237&\"\"","v":""},null,null,null,null,{"$f":"コントロールシート!R237&\"\"","v":""},null,null,{"$f":"コントロールシート!U237&\"\"","v":""},null,null,{"$f":"コントロールシート!X237&\"\"","v":""},"km",{"$f":"コントロールシート!Z237&\"\"","v":""},"ｈ",{"$f":"コントロールシート!AB237&\"\"","v":""},null,{"$f":"コントロールシート!AD237&\"\"","v":""},"ｈ",{"$f":"コントロールシート!AF237&\"\"","v":""}]
[null,null,122,{"$f":"コントロールシート!G238&\"\"","v":""},null,null,{"$f":"コントロールシート!J238&\"\"","v":""},null,null,{"$f":"コントロールシート!M238&\"\"","v":""},null,null,null,null,{"$f":"コントロールシート!R238&\"\"","v":""},null,null,{"$f":"コントロールシート!U238&\"\"","v":""},null,null,{"$f":"コントロールシート!X238&\"\"","v":""},"km",{"$f":"コントロールシート!Z238&\"\"","v":""},"ｈ",{"$f":"コントロールシート!AB238&\"\"","v":""},null,{"$f":"コントロールシート!AD238&\"\"","v":""},"ｈ",{"$f":"コントロールシート!AF238&\"\"","v":""}]
[null,null,123,{"$f":"コントロールシート!G239&\"\"","v":""},null,null,{"$f":"コントロールシート!J239&\"\"","v":""},null,null,{"$f":"コントロールシート!M239&\"\"","v":""},null,null,null,null,{"$f":"コントロールシート!R239&\"\"","v":""},null,null,{"$f":"コントロールシート!U239&\"\"","v":""},null,null,{"$f":"コントロールシート!X239&\"\"","v":""},"km",{"$f":"コントロールシート!Z239&\"\"","v":""},"ｈ",{"$f":"コントロールシート!AB239&\"\"","v":""},null,{"$f":"コントロールシート!AD239&\"\"","v":""},"ｈ",{"$f":"コントロールシート!AF239&\"\"","v":""}]
[null,null,124,{"$f":"コントロールシート!G240&\"\"","v":""},null,null,{"$f":"コントロールシート!J240&\"\"","v":""},null,null,{"$f":"コントロールシート!M240&\"\"","v":""},null,null,null,null,{"$f":"コントロールシート!R240&\"\"","v":""},null,null,{"$f":"コントロールシート!U240&\"\"","v":""},null,null,{"$f":"コントロールシート!X240&\"\"","v":""},"km",{"$f":"コントロールシート!Z240&\"\"","v":""},"ｈ",{"$f":"コントロールシート!AB240&\"\"","v":""},null,{"$f":"コントロールシート!AD240&\"\"","v":""},"ｈ",{"$f":"コントロールシート!AF240&\"\"","v":""}]
[null,null,125,{"$f":"コントロールシート!G241&\"\"","v":""},null,null,{"$f":"コントロールシート!J241&\"\"","v":""},null,null,{"$f":"コントロールシート!M241&\"\"","v":""},null,null,null,null,{"$f":"コントロールシート!R241&\"\"","v":""},null,null,{"$f":"コントロールシート!U241&\"\"","v":""},null,null,{"$f":"コントロールシート!X241&\"\"","v":""},"km",{"$f":"コントロールシート!Z241&\"\"","v":""},"ｈ",{"$f":"コントロールシート!AB241&\"\"","v":""},null,{"$f":"コントロールシート!AD241&\"\"","v":""},"ｈ",{"$f":"コントロールシート!AF241&\"\"","v":""}]
[null,null,126,{"$f":"コントロールシート!G242&\"\"","v":""},null,null,{"$f":"コントロールシート!J242&\"\"","v":""},null,null,{"$f":"コントロールシート!M242&\"\"","v":""},null,null,null,null,{"$f":"コントロールシート!R242&\"\"","v":""},null,null,{"$f":"コントロールシート!U242&\"\"","v":""},null,null,{"$f":"コントロールシート!X242&\"\"","v":""},"km",{"$f":"コントロールシート!Z242&\"\"","v":""},"ｈ",{"$f":"コントロールシート!AB242&\"\"","v":""},null,{"$f":"コントロールシート!AD242&\"\"","v":""},"ｈ",{"$f":"コントロールシート!AF242&\"\"","v":""}]
[null,null,127,{"$f":"コントロールシート!G243&\"\"","v":""},null,null,{"$f":"コントロールシート!J243&\"\"","v":""},null,null,{"$f":"コントロールシート!M243&\"\"","v":""},null,null,null,null,{"$f":"コントロールシート!R243&\"\"","v":""},null,null,{"$f":"コントロールシート!U243&\"\"","v":""},null,null,{"$f":"コントロールシート!X243&\"\"","v":""},"km",{"$f":"コントロールシート!Z243&\"\"","v":""},"ｈ",{"$f":"コントロールシート!AB243&\"\"","v":""},null,{"$f":"コントロールシート!AD243&\"\"","v":""},"ｈ",{"$f":"コントロールシート!AF243&\"\"","v":""}]
[null,null,128,{"$f":"コントロールシート!G244&\"\"","v":""},null,null,{"$f":"コントロールシート!J244&\"\"","v":""},null,null,{"$f":"コントロールシート!M244&\"\"","v":""},null,null,null,null,{"$f":"コントロールシート!R244&\"\"","v":""},null,null,{"$f":"コントロールシート!U244&\"\"","v":""},null,null,{"$f":"コントロールシート!X244&\"\"","v":""},"km",{"$f":"コントロールシート!Z244&\"\"","v":""},"ｈ",{"$f":"コントロールシート!AB244&\"\"","v":""},null,{"$f":"コントロールシート!AD244&\"\"","v":""},"ｈ",{"$f":"コントロールシート!AF244&\"\"","v":""}]
[null,null,129,{"$f":"コントロールシート!G245&\"\"","v":""},null,null,{"$f":"コントロールシート!J245&\"\"","v":""},null,null,{"$f":"コントロールシート!M245&\"\"","v":""},null,null,null,null,{"$f":"コントロールシート!R245&\"\"","v":""},null,null,{"$f":"コントロールシート!U245&\"\"","v":""},null,null,{"$f":"コントロールシート!X245&\"\"","v":""},"km",{"$f":"コントロールシート!Z245&\"\"","v":""},"ｈ",{"$f":"コントロールシート!AB245&\"\"","v":""},null,{"$f":"コントロールシート!AD245&\"\"","v":""},"ｈ",{"$f":"コントロールシート!AF245&\"\"","v":""}]
[null,null,130,{"$f":"コントロールシート!G246&\"\"","v":""},null,null,{"$f":"コントロールシート!J246&\"\"","v":""},null,null,{"$f":"コントロールシート!M246&\"\"","v":""},null,null,null,null,{"$f":"コントロールシート!R246&\"\"","v":""},null,null,{"$f":"コントロールシート!U246&\"\"","v":""},null,null,{"$f":"コントロールシート!X246&\"\"","v":""},"km",{"$f":"コントロールシート!Z246&\"\"","v":""},"ｈ",{"$f":"コントロールシート!AB246&\"\"","v":""},null,{"$f":"コントロールシート!AD246&\"\"","v":""},"ｈ",{"$f":"コントロールシート!AF246&\"\"","v":""}]
[null,null,131,{"$f":"コントロールシート!G247&\"\"","v":""},null,null,{"$f":"コントロールシート!J247&\"\"","v":""},null,null,{"$f":"コントロールシート!M247&\"\"","v":""},null,null,null,null,{"$f":"コントロールシート!R247&\"\"","v":""},null,null,{"$f":"コントロールシート!U247&\"\"","v":""},null,null,{"$f":"コントロールシート!X247&\"\"","v":""},"km",{"$f":"コントロールシート!Z247&\"\"","v":""},"ｈ",{"$f":"コントロールシート!AB247&\"\"","v":""},null,{"$f":"コントロールシート!AD247&\"\"","v":""},"ｈ",{"$f":"コントロールシート!AF247&\"\"","v":""}]
[null,null,132,{"$f":"コントロールシート!G248&\"\"","v":""},null,null,{"$f":"コントロールシート!J248&\"\"","v":""},null,null,{"$f":"コントロールシート!M248&\"\"","v":""},null,null,null,null,{"$f":"コントロールシート!R248&\"\"","v":""},null,null,{"$f":"コントロールシート!U248&\"\"","v":""},null,null,{"$f":"コントロールシート!X248&\"\"","v":""},"km",{"$f":"コントロールシート!Z248&\"\"","v":""},"ｈ",{"$f":"コントロールシート!AB248&\"\"","v":""},null,{"$f":"コントロールシート!AD248&\"\"","v":""},"ｈ",{"$f":"コントロールシート!AF248&\"\"","v":""}]
[null,null,133,{"$f":"コントロールシート!G249&\"\"","v":""},null,null,{"$f":"コントロールシート!J249&\"\"","v":""},null,null,{"$f":"コントロールシート!M249&\"\"","v":""},null,null,null,null,{"$f":"コントロールシート!R249&\"\"","v":""},null,null,{"$f":"コントロールシート!U249&\"\"","v":""},null,null,{"$f":"コントロールシート!X249&\"\"","v":""},"km",{"$f":"コントロールシート!Z249&\"\"","v":""},"ｈ",{"$f":"コントロールシート!AB249&\"\"","v":""},null,{"$f":"コントロールシート!AD249&\"\"","v":""},"ｈ",{"$f":"コントロールシート!AF249&\"\"","v":""}]
[null,null,134,{"$f":"コントロールシート!G250&\"\"","v":""},null,null,{"$f":"コントロールシート!J250&\"\"","v":""},null,null,{"$f":"コントロールシート!M250&\"\"","v":""},null,null,null,null,{"$f":"コントロールシート!R250&\"\"","v":""},null,null,{"$f":"コントロールシート!U250&\"\"","v":""},null,null,{"$f":"コントロールシート!X250&\"\"","v":""},"km",{"$f":"コントロールシート!Z250&\"\"","v":""},"ｈ",{"$f":"コントロールシート!AB250&\"\"","v":""},null,{"$f":"コントロールシート!AD250&\"\"","v":""},"ｈ",{"$f":"コントロールシート!AF250&\"\"","v":""}]
[null,null,135,{"$f":"コントロールシート!G251&\"\"","v":""},null,null,{"$f":"コントロールシート!J251&\"\"","v":""},null,null,{"$f":"コントロールシート!M251&\"\"","v":""},null,null,null,null,{"$f":"コントロールシート!R251&\"\"","v":""},null,null,{"$f":"コントロールシート!U251&\"\"","v":""},null,null,{"$f":"コントロールシート!X251&\"\"","v":""},"km",{"$f":"コントロールシート!Z251&\"\"","v":""},"ｈ",{"$f":"コントロールシート!AB251&\"\"","v":""},null,{"$f":"コントロールシート!AD251&\"\"","v":""},"ｈ",{"$f":"コントロールシート!AF251&\"\"","v":""}]
[null,null,136,{"$f":"コントロールシート!G252&\"\"","v":""},null,null,{"$f":"コントロールシート!J252&\"\"","v":""},null,null,{"$f":"コントロールシート!M252&\"\"","v":""},null,null,null,null,{"$f":"コントロールシート!R252&\"\"","v":""},null,null,{"$f":"コントロールシート!U252&\"\"","v":""},null,null,{"$f":"コントロールシート!X252&\"\"","v":""},"km",{"$f":"コントロールシート!Z252&\"\"","v":""},"ｈ",{"$f":"コントロールシート!AB252&\"\"","v":""},null,{"$f":"コントロールシート!AD252&\"\"","v":""},"ｈ",{"$f":"コントロールシート!AF252&\"\"","v":""}]
[null,null,137,{"$f":"コントロールシート!G253&\"\"","v":""},null,null,{"$f":"コントロールシート!J253&\"\"","v":""},null,null,{"$f":"コントロールシート!M253&\"\"","v":""},null,null,null,null,{"$f":"コントロールシート!R253&\"\"","v":""},null,null,{"$f":"コントロールシート!U253&\"\"","v":""},null,null,{"$f":"コントロールシート!X253&\"\"","v":""},"km",{"$f":"コントロールシート!Z253&\"\"","v":""},"ｈ",{"$f":"コントロールシート!AB253&\"\"","v":""},null,{"$f":"コントロールシート!AD253&\"\"","v":""},"ｈ",{"$f":"コントロールシート!AF253&\"\"","v":""}]
[null,null,138,{"$f":"コントロールシート!G254&\"\"","v":""},null,null,{"$f":"コントロールシート!J254&\"\"","v":""},null,null,{"$f":"コントロールシート!M254&\"\"","v":""},null,null,null,null,{"$f":"コントロールシート!R254&\"\"","v":""},null,null,{"$f":"コントロールシート!U254&\"\"","v":""},null,null,{"$f":"コントロールシート!X254&\"\"","v":""},"km",{"$f":"コントロールシート!Z254&\"\"","v":""},"ｈ",{"$f":"コントロールシート!AB254&\"\"","v":""},null,{"$f":"コントロールシート!AD254&\"\"","v":""},"ｈ",{"$f":"コントロールシート!AF254&\"\"","v":""}]
[null,null,139,{"$f":"コントロールシート!G255&\"\"","v":""},null,null,{"$f":"コントロールシート!J255&\"\"","v":""},null,null,{"$f":"コントロールシート!M255&\"\"","v":""},null,null,null,null,{"$f":"コントロールシート!R255&\"\"","v":""},null,null,{"$f":"コントロールシート!U255&\"\"","v":""},null,null,{"$f":"コントロールシート!X255&\"\"","v":""},"km",{"$f":"コントロールシート!Z255&\"\"","v":""},"ｈ",{"$f":"コントロールシート!AB255&\"\"","v":""},null,{"$f":"コントロールシート!AD255&\"\"","v":""},"ｈ",{"$f":"コントロールシート!AF255&\"\"","v":""}]
[null,null,140,{"$f":"コントロールシート!G256&\"\"","v":""},null,null,{"$f":"コントロールシート!J256&\"\"","v":""},null,null,{"$f":"コントロールシート!M256&\"\"","v":""},null,null,null,null,{"$f":"コントロールシート!R256&\"\"","v":""},null,null,{"$f":"コントロールシート!U256&\"\"","v":""},null,null,{"$f":"コントロールシート!X256&\"\"","v":""},"km",{"$f":"コントロールシート!Z256&\"\"","v":""},"ｈ",{"$f":"コントロールシート!AB256&\"\"","v":""},null,{"$f":"コントロールシート!AD256&\"\"","v":""},"ｈ",{"$f":"コントロールシート!AF256&\"\"","v":""}]
[null,null,141,{"$f":"コントロールシート!G257&\"\"","v":""},null,null,{"$f":"コントロールシート!J257&\"\"","v":""},null,null,{"$f":"コントロールシート!M257&\"\"","v":""},null,null,null,null,{"$f":"コントロールシート!R257&\"\"","v":""},null,null,{"$f":"コントロールシート!U257&\"\"","v":""},null,null,{"$f":"コントロールシート!X257&\"\"","v":""},"km",{"$f":"コントロールシート!Z257&\"\"","v":""},"ｈ",{"$f":"コントロールシート!AB257&\"\"","v":""},null,{"$f":"コントロールシート!AD257&\"\"","v":""},"ｈ",{"$f":"コントロールシート!AF257&\"\"","v":""}]
[null,null,142,{"$f":"コントロールシート!G258&\"\"","v":""},null,null,{"$f":"コントロールシート!J258&\"\"","v":""},null,null,{"$f":"コントロールシート!M258&\"\"","v":""},null,null,null,null,{"$f":"コントロールシート!R258&\"\"","v":""},null,null,{"$f":"コントロールシート!U258&\"\"","v":""},null,null,{"$f":"コントロールシート!X258&\"\"","v":""},"km",{"$f":"コントロールシート!Z258&\"\"","v":""},"ｈ",{"$f":"コントロールシート!AB258&\"\"","v":""},null,{"$f":"コントロールシート!AD258&\"\"","v":""},"ｈ",{"$f":"コントロールシート!AF258&\"\"","v":""}]
[null,null,143,{"$f":"コントロールシート!G259&\"\"","v":""},null,null,{"$f":"コントロールシート!J259&\"\"","v":""},null,null,{"$f":"コントロールシート!M259&\"\"","v":""},null,null,null,null,{"$f":"コントロールシート!R259&\"\"","v":""},null,null,{"$f":"コントロールシート!U259&\"\"","v":""},null,null,{"$f":"コントロールシート!X259&\"\"","v":""},"km",{"$f":"コントロールシート!Z259&\"\"","v":""},"ｈ",{"$f":"コントロールシート!AB259&\"\"","v":""},null,{"$f":"コントロールシート!AD259&\"\"","v":""},"ｈ",{"$f":"コントロールシート!AF259&\"\"","v":""}]
[null,null,144,{"$f":"コントロールシート!G260&\"\"","v":""},null,null,{"$f":"コントロールシート!J260&\"\"","v":""},null,null,{"$f":"コントロールシート!M260&\"\"","v":""},null,null,null,null,{"$f":"コントロールシート!R260&\"\"","v":""},null,null,{"$f":"コントロールシート!U260&\"\"","v":""},null,null,{"$f":"コントロールシート!X260&\"\"","v":""},"km",{"$f":"コントロールシート!Z260&\"\"","v":""},"ｈ",{"$f":"コントロールシート!AB260&\"\"","v":""},null,{"$f":"コントロールシート!AD260&\"\"","v":""},"ｈ",{"$f":"コントロールシート!AF260&\"\"","v":""}]
[null,null,145,{"$f":"コントロールシート!G261&\"\"","v":""},null,null,{"$f":"コントロールシート!J261&\"\"","v":""},null,null,{"$f":"コントロールシート!M261&\"\"","v":""},null,null,null,null,{"$f":"コントロールシート!R261&\"\"","v":""},null,null,{"$f":"コントロールシート!U261&\"\"","v":""},null,null,{"$f":"コントロールシート!X261&\"\"","v":""},"km",{"$f":"コントロールシート!Z261&\"\"","v":""},"ｈ",{"$f":"コントロールシート!AB261&\"\"","v":""},null,{"$f":"コントロールシート!AD261&\"\"","v":""},"ｈ",{"$f":"コントロールシート!AF261&\"\"","v":""}]
[null,null,146,{"$f":"コントロールシート!G262&\"\"","v":""},null,null,{"$f":"コントロールシート!J262&\"\"","v":""},null,null,{"$f":"コントロールシート!M262&\"\"","v":""},null,null,null,null,{"$f":"コントロールシート!R262&\"\"","v":""},null,null,{"$f":"コントロールシート!U262&\"\"","v":""},null,null,{"$f":"コントロールシート!X262&\"\"","v":""},"km",{"$f":"コントロールシート!Z262&\"\"","v":""},"ｈ",{"$f":"コントロールシート!AB262&\"\"","v":""},null,{"$f":"コントロールシート!AD262&\"\"","v":""},"ｈ",{"$f":"コントロールシート!AF262&\"\"","v":""}]
[null,null,147,{"$f":"コントロールシート!G263&\"\"","v":""},null,null,{"$f":"コントロールシート!J263&\"\"","v":""},null,null,{"$f":"コントロールシート!M263&\"\"","v":""},null,null,null,null,{"$f":"コントロールシート!R263&\"\"","v":""},null,null,{"$f":"コントロールシート!U263&\"\"","v":""},null,null,{"$f":"コントロールシート!X263&\"\"","v":""},"km",{"$f":"コントロールシート!Z263&\"\"","v":""},"ｈ",{"$f":"コントロールシート!AB263&\"\"","v":""},null,{"$f":"コントロールシート!AD263&\"\"","v":""},"ｈ",{"$f":"コントロールシート!AF263&\"\"","v":""}]
[null,null,148,{"$f":"コントロールシート!G264&\"\"","v":""},null,null,{"$f":"コントロールシート!J264&\"\"","v":""},null,null,{"$f":"コントロールシート!M264&\"\"","v":""},null,null,null,null,{"$f":"コントロールシート!R264&\"\"","v":""},null,null,{"$f":"コントロールシート!U264&\"\"","v":""},null,null,{"$f":"コントロールシート!X264&\"\"","v":""},"km",{"$f":"コントロールシート!Z264&\"\"","v":""},"ｈ",{"$f":"コントロールシート!AB264&\"\"","v":""},null,{"$f":"コントロールシート!AD264&\"\"","v":""},"ｈ",{"$f":"コントロールシート!AF264&\"\"","v":""}]
[null,null,149,{"$f":"コントロールシート!G265&\"\"","v":""},null,null,{"$f":"コントロールシート!J265&\"\"","v":""},null,null,{"$f":"コントロールシート!M265&\"\"","v":""},null,null,null,null,{"$f":"コントロールシート!R265&\"\"","v":""},null,null,{"$f":"コントロールシート!U265&\"\"","v":""},null,null,{"$f":"コントロールシート!X265&\"\"","v":""},"km",{"$f":"コントロールシート!Z265&\"\"","v":""},"ｈ",{"$f":"コントロールシート!AB265&\"\"","v":""},null,{"$f":"コントロールシート!AD265&\"\"","v":""},"ｈ",{"$f":"コントロールシート!AF265&\"\"","v":""}]
[null,null,150,{"$f":"コントロールシート!G266&\"\"","v":""},null,null,{"$f":"コントロールシート!J266&\"\"","v":""},null,null,{"$f":"コントロールシート!M266&\"\"","v":""},null,null,null,null,{"$f":"コントロールシート!R266&\"\"","v":""},null,null,{"$f":"コントロールシート!U266&\"\"","v":""},null,null,{"$f":"コントロールシート!X266&\"\"","v":""},"km",{"$f":"コントロールシート!Z266&\"\"","v":""},"ｈ",{"$f":"コントロールシート!AB266&\"\"","v":""},null,{"$f":"コントロールシート!AD266&\"\"","v":""},"ｈ",{"$f":"コントロールシート!AF266&\"\"","v":""}]

{"sheet":"2. 災害対策要員名簿","index":7,"n_rows":142,"n_cols":38,"rows_kept":142,"cut":false,"hidden":true,"merged":[[2,3,2,28]]}
[]
[null,"2. 災害対策要員名簿",null,null,null,null,null,null,null,null,null,null,null,null,null,null,null,null,null,null,null,null,null,null,null,null,null,null,null,null,null,null,null,null,null,{"$f":"コントロールシート!AY108+2","v":2},{"$f":"'1. BCP基本方針の検討'!AK2+1","v":3},"flag"]
[null,null,null,"災害対策本部構成員の名簿は以下のとおりである。\n（総従業員数が150名以下の場合は、従業員名簿を兼ねることも可）\n従業員名簿を兼ねない場合、従業員名簿は別途作成・保管するものとする。\n※ 本名簿が150名を超える場合は別途個別に作成し､添付するものとする。",null,null,null,null,null,null,null,null,null,null,null,null,null,null,null,null,null,null,null,null,null,null,null,null,null,null,null,null,null,null,null,null,null,1]
[null,null,null,null,null,null,null,null,null,null,null,null,null,null,null,null,null,null,null,null,null,null,null,null,null,null,null,null,null,null,null,null,null,null,null,null,null,1]
[null,null,null,null,null,null,null,null,null,null,null,null,null,null,null,null,null,null,null,null,null,null,null,null,null,null,null,null,null,null,null,null,null,null,null,null,null,1]
[null,null,"【災害対策本部役職者名簿】",null,null,null,null,null,null,null,null,null,null,null,null,null,null,null,null,null,null,null,null,null,null,null,null,null,{"$f":"\"名簿作成年月日　\" & コントロールシート!J69","v":"名簿作成年月日　2022/11/1"},null,null,null,null,null,null,null,null,1]
[null,null,null,null,null,null,null,null,null,null,null,null,null,null,null,null,null,null,null,null,null,null,null,null,null,null,null,null,null,null,null,null,null,null,null,null,null,1]
[null,null,null,null,null,null,null,null,null,null,null,null,null,null,null,null,null,null,null,null,null,null,null,null,null,null,null,null,null,null,null,null,null,null,null,null,null,1]
[null,null,null,null,null,null,null,null,null,null,null,null,null,null,null,null,null,null,null,null,null,null,null,null,null,null,null,null,null,null,null,null,null,null,null,null,null,1]
[null,null,null,null,null,null,null,null,null,null,null,null,null,null,null,null,null,null,null,null,null,null,null,null,null,null,null,null,null,null,null,null,null,null,null,null,null,1]
[null,null,null,null,null,null,null,null,null,null,null,null,null,null,null,null,null,null,null,null,null,null,null,null,null,null,null,null,null,null,null,null,null,null,null,null,null,1]
[null,null,null,null,null,null,null,null,null,null,null,null,null,null,null,null,null,null,null,null,null,null,null,null,null,null,null,null,null,null,null,null,null,null,null,null,null,1]
[null,null,null,null,null,null,null,null,null,null,null,null,null,null,null,null,null,null,null,null,null,null,null,null,null,null,null,null,null,null,null,null,null,null,null,null,null,1]
[null,null,null,null,null,null,null,null,null,null,null,null,null,null,null,null,null,null,null,null,null,null,null,null,null,null,null,null,null,null,null,null,null,null,null,null,null,1]
[null,null,null,null,null,null,null,null,null,null,null,null,null,null,null,null,null,null,null,null,null,null,null,null,null,null,null,null,null,null,null,null,null,null,null,null,null,1]
[null,null,null,null,null,null,null,null,null,null,null,null,null,null,null,null,null,null,null,null,null,null,null,null,null,null,null,null,null,null,null,null,null,null,null,null,null,1]
[null,null,null,null,null,null,null,null,null,null,null,null,null,null,null,null,null,null,null,null,null,null,null,null,null,null,null,null,null,null,null,null,null,null,null,null,null,1]
[null,null,null,null,null,null,null,null,null,null,null,null,null,null,null,null,null,null,null,null,null,null,null,null,null,null,null,null,null,null,null,null,null,null,null,null,null,1]
[null,null,null,null,null,null,null,null,null,null,null,null,null,null,null,null,null,null,null,null,null,null,null,null,null,null,null,null,null,null,null,null,null,null,null,null,null,1]
[null,null,null,null,null,null,null,null,null,null,null,null,null,null,null,null,null,null,null,null,null,null,null,null,null,null,null,null,null,null,null,null,null,null,null,null,null,1]
[null,null,null,null,null,null,null,null,null,null,null,null,null,null,null,null,null,null,null,null,null,null,null,null,null,null,null,null,null,null,null,null,null,null,null,null,null,1]
[null,null,null,null,null,null,null,null,null,null,null,null,null,null,null,null,null,null,null,null,null,null,null,null,null,null,null,null,null,null,null,null,null,null,null,null,null,1]
[null,null,null,null,null,null,null,null,null,null,null,null,null,null,null,null,null,null,null,null,null,null,null,null,null,null,null,null,null,null,null,null,null,null,null,null,null,1]
[null,null,null,null,null,null,null,null,null,null,null,null,null,null,null,null,null,null,null,null,null,null,null,null,null,null,null,null,null,null,null,null,null,null,null,null,null,1]
[null,null,"【災害対策本部要員名簿】",null,null,null,null,null,null,null,null,null,null,null,null,null,null,null,null,null,null,null,null,null,null,null,null,null,null,null,null,null,null,null,null,null,null,1]
[null,null,null,null,null,null,null,null,null,null,null,null,null,null,null,null,null,null,null,null,null,null,null,null,null,null,null,null,null,null,null,null,null,null,null,null,null,1]
[null,null,null,null,null,null,null,null,null,null,null,null,null,null,null,null,null,null,null,null,null,null,null,null,null,null,null,null,null,null,null,null,null,null,null,null,null,1]
[null,null,null,null,null,null,null,null,null,null,null,null,null,null,null,null,null,null,null,null,null,null,null,null,null,null,null,null,null,null,null,null,null,null,null,null,null,1]
[null,null,null,null,null,null,null,null,null,null,null,null,null,null,null,null,null,null,null,null,null,null,null,null,null,null,null,null,null,null,null,null,null,null,null,null,null,1]
[null,null,null,null,null,null,null,null,null,null,null,null,null,null,null,null,null,null,null,null,null,null,null,null,null,null,null,null,null,null,null,null,null,null,null,null,null,1]
[null,null,null,null,null,null,null,null,null,null,null,null,null,null,null,null,null,null,null,null,null,null,null,null,null,null,null,null,null,null,null,null,null,null,null,null,null,1]
[null,null,null,null,null,null,null,null,null,null,null,null,null,null,null,null,null,null,null,null,null,null,null,null,null,null,null,null,null,null,null,null,null,null,null,null,null,1]
[null,null,null,null,null,null,null,null,null,null,null,null,null,null,null,null,null,null,null,null,null,null,null,null,null,null,null,null,null,null,null,null,null,null,null,null,null,1]
[null,null,null,null,null,null,null,null,null,null,null,null,null,null,null,null,null,null,null,null,null,null,null,null,null,null,null,null,null,null,null,null,null,null,null,null,null,1]
[null,null,null,null,null,null,null,null,null,null,null,null,null,null,null,null,null,null,null,null,null,null,null,null,null,null,null,null,null,null,null,null,null,null,null,null,null,1]
[null,null,null,null,null,null,null,null,null,null,null,null,null,null,null,null,null,null,null,null,null,null,null,null,null,null,null,null,null,null,null,null,null,null,null,null,null,1]
[null,null,null,null,null,null,null,null,null,null,null,null,null,null,null,null,null,null,null,null,null,null,null,null,null,null,null,null,null,null,null,null,null,null,null,null,null,1]
[null,null,null,null,null,null,null,null,null,null,null,null,null,null,null,null,null,null,null,null,null,null,null,null,null,null,null,null,null,null,null,null,null,null,null,null,null,1]
[null,null,null,null,null,null,null,null,null,null,null,null,null,null,null,null,null,null,null,null,null,null,null,null,null,null,null,null,null,null,null,null,null,null,null,null,null,1]
[null,null,null,null,null,null,null,null,null,null,null,null,null,null,null,null,null,null,null,null,null,null,null,null,null,null,null,null,null,null,null,null,null,null,null,null,null,1]
[null,null,null,null,null,null,null,null,null,null,null,null,null,null,null,null,null,null,null,null,null,null,null,null,null,null,null,null,null,null,null,null,null,null,null,null,null,1]
[null,null,null,null,null,null,null,null,null,null,null,null,null,null,null,null,null,null,null,null,null,null,null,null,null,null,null,null,null,null,null,null,null,null,null,null,null,1]
[null,null,null,null,null,null,null,null,null,null,null,null,null,null,null,null,null,null,null,null,null,null,null,null,null,null,null,null,null,null,null,null,null,null,null,null,null,1]
[null,null,null,null,null,null,null,null,null,null,null,null,null,null,null,null,null,null,null,null,null,null,null,null,null,null,null,null,null,null,null,null,null,null,null,null,null,1]
[null,null,null,null,null,null,null,null,null,null,null,null,null,null,null,null,null,null,null,null,null,null,null,null,null,null,null,null,null,null,null,null,null,null,null,null,null,1]
[null,null,null,null,null,null,null,null,null,null,null,null,null,null,null,null,null,null,null,null,null,null,null,null,null,null,null,null,null,null,null,null,null,null,null,null,null,1]
[null,null,null,null,null,null,null,null,null,null,null,null,null,null,null,null,null,null,null,null,null,null,null,null,null,null,null,null,null,null,null,null,null,null,null,null,null,1]
[null,null,null,null,null,null,null,null,null,null,null,null,null,null,null,null,null,null,null,null,null,null,null,null,null,null,null,null,null,null,{"$f":"IF(コントロールシート!AX140>0,3,0)","v":0},null,null,null,null,null,null,{"$f":"IF($AE$48=3,1,0)","v":0}]
[null,null,"【災害対策本部要員名簿】",null,null,null,null,null,null,null,null,null,null,null,null,null,null,null,null,null,null,null,null,null,null,null,null,null,null,null,null,null,null,null,null,null,null,{"$f":"IF($AE$48=3,1,0)","v":0}]
[null,null,null,null,null,null,null,null,null,null,null,null,null,null,null,null,null,null,null,null,null,null,null,null,null,null,null,null,null,null,null,null,null,null,null,null,null,0]
[null,null,null,null,null,null,null,null,null,null,null,null,null,null,null,null,null,null,null,null,null,null,null,null,null,null,null,null,null,null,null,null,null,null,null,null,null,0]
[null,null,null,null,null,null,null,null,null,null,null,null,null,null,null,null,null,null,null,null,null,null,null,null,null,null,null,null,null,null,null,null,null,null,null,null,null,0]
[null,null,null,null,null,null,null,null,null,null,null,null,null,null,null,null,null,null,null,null,null,null,null,null,null,null,null,null,null,null,null,null,null,null,null,null,null,0]
[null,null,null,null,null,null,null,null,null,null,null,null,null,null,null,null,null,null,null,null,null,null,null,null,null,null,null,null,null,null,null,null,null,null,null,null,null,0]
[null,null,null,null,null,null,null,null,null,null,null,null,null,null,null,null,null,null,null,null,null,null,null,null,null,null,null,null,null,null,null,null,null,null,null,null,null,0]
[null,null,null,null,null,null,null,null,null,null,null,null,null,null,null,null,null,null,null,null,null,null,null,null,null,null,null,null,null,null,null,null,null,null,null,null,null,0]
[null,null,null,null,null,null,null,null,null,null,null,null,null,null,null,null,null,null,null,null,null,null,null,null,null,null,null,null,null,null,null,null,null,null,null,null,null,0]
[null,null,null,null,null,null,null,null,null,null,null,null,null,null,null,null,null,null,null,null,null,null,null,null,null,null,null,null,null,null,null,null,null,null,null,null,null,0]
[null,null,null,null,null,null,null,null,null,null,null,null,null,null,null,null,null,null,null,null,null,null,null,null,null,null,null,null,null,null,null,null,null,null,null,null,null,0]
[null,null,null,null,null,null,null,null,null,null,null,null,null,null,null,null,null,null,null,null,null,null,null,null,null,null,null,null,null,null,null,null,null,null,null,null,null,0]
[null,null,null,null,null,null,null,null,null,null,null,null,null,null,null,null,null,null,null,null,null,null,null,null,null,null,null,null,null,null,null,null,null,null,null,null,null,0]
[null,null,null,null,null,null,null,null,null,null,null,null,null,null,null,null,null,null,null,null,null,null,null,null,null,null,null,null,null,null,null,null,null,null,null,null,null,0]
[null,null,null,null,null,null,null,null,null,null,null,null,null,null,null,null,null,null,null,null,null,null,null,null,null,null,null,null,null,null,null,null,null,null,null,null,null,0]
[null,null,null,null,null,null,null,null,null,null,null,null,null,null,null,null,null,null,null,null,null,null,null,null,null,null,null,null,null,null,null,null,null,null,null,null,null,0]
[null,null,null,null,null,null,null,null,null,null,null,null,null,null,null,null,null,null,null,null,null,null,null,null,null,null,null,null,null,null,null,null,null,null,null,null,null,0]
[null,null,null,null,null,null,null,null,null,null,null,null,null,null,null,null,null,null,null,null,null,null,null,null,null,null,null,null,null,null,null,null,null,null,null,null,null,0]
[null,null,null,null,null,null,null,null,null,null,null,null,null,null,null,null,null,null,null,null,null,null,null,null,null,null,null,null,null,null,null,null,null,null,null,null,null,0]
[null,null,null,null,null,null,null,null,null,null,null,null,null,null,null,null,null,null,null,null,null,null,null,null,null,null,null,null,null,null,null,null,null,null,null,null,null,0]
[null,null,null,null,null,null,null,null,null,null,null,null,null,null,null,null,null,null,null,null,null,null,null,null,null,null,null,null,null,null,null,null,null,null,null,null,null,0]
[null,null,null,null,null,null,null,null,null,null,null,null,null,null,null,null,null,null,null,null,null,null,null,null,null,null,null,null,null,null,null,null,null,null,null,null,null,{"$f":"IF($AE$48=3,1,0)","v":0}]
[null,null,null,null,null,null,null,null,null,null,null,null,null,null,null,null,null,null,null,null,null,null,null,null,null,null,null,null,null,null,null,null,null,null,null,null,null,{"$f":"IF($AE$48=3,1,0)","v":0}]
[null,null,null,null,null,null,null,null,null,null,null,null,null,null,null,null,null,null,null,null,null,null,null,null,null,null,null,null,null,null,{"$f":"IF(COUNTIF(コントロールシート!G173:W202,\"<>\")>0,4,0)","v":0},null,null,null,null,null,null,{"$f":"IF($AE$72=4,1,0)","v":0}]
[null,null,"【災害対策本部要員名簿】",null,null,null,null,null,null,null,null,null,null,null,null,null,null,null,null,null,null,null,null,null,null,null,null,null,null,null,null,null,null,null,null,null,null,0]
[null,null,null,null,null,null,null,null,null,null,null,null,null,null,null,null,null,null,null,null,null,null,null,null,null,null,null,null,null,null,null,null,null,null,null,null,null,0]
[null,null,null,null,null,null,null,null,null,null,null,null,null,null,null,null,null,null,null,null,null,null,null,null,null,null,null,null,null,null,null,null,null,null,null,null,null,0]
[null,null,null,null,null,null,null,null,null,null,null,null,null,null,null,null,null,null,null,null,null,null,null,null,null,null,null,null,null,null,null,null,null,null,null,null,null,0]
[null,null,null,null,null,null,null,null,null,null,null,null,null,null,null,null,null,null,null,null,null,null,null,null,null,null,null,null,null,null,null,null,null,null,null,null,null,0]
[null,null,null,null,null,null,null,null,null,null,null,null,null,null,null,null,null,null,null,null,null,null,null,null,null,null,null,null,null,null,null,null,null,null,null,null,null,0]
[null,null,null,null,null,null,null,null,null,null,null,null,null,null,null,null,null,null,null,null,null,null,null,null,null,null,null,null,null,null,null,null,null,null,null,null,null,0]
[null,null,null,null,null,null,null,null,null,null,null,null,null,null,null,null,null,null,null,null,null,null,null,null,null,null,null,null,null,null,null,null,null,null,null,null,null,0]
[null,null,null,null,null,null,null,null,null,null,null,null,null,null,null,null,null,null,null,null,null,null,null,null,null,null,null,null,null,null,null,null,null,null,null,null,null,0]
[null,null,null,null,null,null,null,null,null,null,null,null,null,null,null,null,null,null,null,null,null,null,null,null,null,null,null,null,null,null,null,null,null,null,null,null,null,0]
[null,null,null,null,null,null,null,null,null,null,null,null,null,null,null,null,null,null,null,null,null,null,null,null,null,null,null,null,null,null,null,null,null,null,null,null,null,0]
[null,null,null,null,null,null,null,null,null,null,null,null,null,null,null,null,null,null,null,null,null,null,null,null,null,null,null,null,null,null,null,null,null,null,null,null,null,0]
[null,null,null,null,null,null,null,null,null,null,null,null,null,null,null,null,null,null,null,null,null,null,null,null,null,null,null,null,null,null,null,null,null,null,null,null,null,0]
[null,null,null,null,null,null,null,null,null,null,null,null,null,null,null,null,null,null,null,null,null,null,null,null,null,null,null,null,null,null,null,null,null,null,null,null,null,0]
[null,null,null,null,null,null,null,null,null,null,null,null,null,null,null,null,null,null,null,null,null,null,null,null,null,null,null,null,null,null,null,null,null,null,null,null,null,0]
[null,null,null,null,null,null,null,null,null,null,null,null,null,null,null,null,null,null,null,null,null,null,null,null,null,null,null,null,null,null,null,null,null,null,null,null,null,0]
[null,null,null,null,null,null,null,null,null,null,null,null,null,null,null,null,null,null,null,null,null,null,null,null,null,null,null,null,null,null,null,null,null,null,null,null,null,0]
[null,null,null,null,null,null,null,null,null,null,null,null,null,null,null,null,null,null,null,null,null,null,null,null,null,null,null,null,null,null,null,null,null,null,null,null,null,0]
[null,null,null,null,null,null,null,null,null,null,null,null,null,null,null,null,null,null,null,null,null,null,null,null,null,null,null,null,null,null,null,null,null,null,null,null,null,0]
[null,null,null,null,null,null,null,null,null,null,null,null,null,null,null,null,null,null,null,null,null,null,null,null,null,null,null,null,null,null,null,null,null,null,null,null,null,0]
[null,null,null,null,null,null,null,null,null,null,null,null,null,null,null,null,null,null,null,null,null,null,null,null,null,null,null,null,null,null,null,null,null,null,null,null,null,0]
[null,null,null,null,null,null,null,null,null,null,null,null,null,null,null,null,null,null,null,null,null,null,null,null,null,null,null,null,null,null,null,null,null,null,null,null,null,0]
[null,null,null,null,null,null,null,null,null,null,null,null,null,null,null,null,null,null,null,null,null,null,null,null,null,null,null,null,null,null,null,null,null,null,null,null,null,0]
[null,null,null,null,null,null,null,null,null,null,null,null,null,null,null,null,null,null,null,null,null,null,null,null,null,null,null,null,null,null,{"$f":"IF(COUNTIF(コントロールシート!G205:W234,\"<>\")>0,5,0)","v":0},null,null,null,null,null,null,{"$f":"IF($AE$96=5,1,0)","v":0}]
[null,null,"【災害対策本部要員名簿】",null,null,null,null,null,null,null,null,null,null,null,null,null,null,null,null,null,null,null,null,null,null,null,null,null,null,null,null,null,null,null,null,null,null,{"$f":"IF($AE$96=5,1,0)","v":0}]
[null,null,null,null,null,null,null,null,null,null,null,null,null,null,null,null,null,null,null,null,null,null,null,null,null,null,null,null,null,null,null,null,null,null,null,null,null,0]
[null,null,null,null,null,null,null,null,null,null,null,null,null,null,null,null,null,null,null,null,null,null,null,null,null,null,null,null,null,null,null,null,null,null,null,null,null,0]
[null,null,null,null,null,null,null,null,null,null,null,null,null,null,null,null,null,null,null,null,null,null,null,null,null,null,null,null,null,null,null,null,null,null,null,null,null,0]
[null,null,null,null,null,null,null,null,null,null,null,null,null,null,null,null,null,null,null,null,null,null,null,null,null,null,null,null,null,null,null,null,null,null,null,null,null,0]
[null,null,null,null,null,null,null,null,null,null,null,null,null,null,null,null,null,null,null,null,null,null,null,null,null,null,null,null,null,null,null,null,null,null,null,null,null,0]
[null,null,null,null,null,null,null,null,null,null,null,null,null,null,null,null,null,null,null,null,null,null,null,null,null,null,null,null,null,null,null,null,null,null,null,null,null,0]
[null,null,null,null,null,null,null,null,null,null,null,null,null,null,null,null,null,null,null,null,null,null,null,null,null,null,null,null,null,null,null,null,null,null,null,null,null,0]
[null,null,null,null,null,null,null,null,null,null,null,null,null,null,null,null,null,null,null,null,null,null,null,null,null,null,null,null,null,null,null,null,null,null,null,null,null,0]
[null,null,null,null,null,null,null,null,null,null,null,null,null,null,null,null,null,null,null,null,null,null,null,null,null,null,null,null,null,null,null,null,null,null,null,null,null,0]
[null,null,null,null,null,null,null,null,null,null,null,null,null,null,null,null,null,null,null,null,null,null,null,null,null,null,null,null,null,null,null,null,null,null,null,null,null,0]
[null,null,null,null,null,null,null,null,null,null,null,null,null,null,null,null,null,null,null,null,null,null,null,null,null,null,null,null,null,null,null,null,null,null,null,null,null,0]
[null,null,null,null,null,null,null,null,null,null,null,null,null,null,null,null,null,null,null,null,null,null,null,null,null,null,null,null,null,null,null,null,null,null,null,null,null,0]
[null,null,null,null,null,null,null,null,null,null,null,null,null,null,null,null,null,null,null,null,null,null,null,null,null,null,null,null,null,null,null,null,null,null,null,null,null,0]
[null,null,null,null,null,null,null,null,null,null,null,null,null,null,null,null,null,null,null,null,null,null,null,null,null,null,null,null,null,null,null,null,null,null,null,null,null,0]
[null,null,null,null,null,null,null,null,null,null,null,null,null,null,null,null,null,null,null,null,null,null,null,null,null,null,null,null,null,null,null,null,null,null,null,null,null,0]
[null,null,null,null,null,null,null,null,null,null,null,null,null,null,null,null,null,null,null,null,null,null,null,null,null,null,null,null,null,null,null,null,null,null,null,null,null,0]
[null,null,null,null,null,null,null,null,null,null,null,null,null,null,null,null,null,null,null,null,null,null,null,null,null,null,null,null,null,null,null,null,null,null,null,null,null,0]
[null,null,null,null,null,null,null,null,null,null,null,null,null,null,null,null,null,null,null,null,null,null,null,null,null,null,null,null,null,null,null,null,null,null,null,null,null,0]
[null,null,null,null,null,null,null,null,null,null,null,null,null,null,null,null,null,null,null,null,null,null,null,null,null,null,null,null,null,null,null,null,null,null,null,null,null,0]
[null,null,null,null,null,null,null,null,null,null,null,null,null,null,null,null,null,null,null,null,null,null,null,null,null,null,null,null,null,null,null,null,null,null,null,null,null,0]
[null,null,null,null,null,null,null,null,null,null,null,null,null,null,null,null,null,null,null,null,null,null,null,null,null,null,null,null,null,null,null,null,null,null,null,null,null,0]
[null,null,null,null,null,null,null,null,null,null,null,null,null,null,null,null,null,null,null,null,null,null,null,null,null,null,null,null,null,null,null,null,null,null,null,null,null,0]
[null,null,null,null,null,null,null,null,null,null,null,null,null,null,null,null,null,null,null,null,null,null,null,null,null,null,null,null,null,null,{"$f":"IF(COUNTIF(コントロールシート!G237:W266,\"<>\")>0,6,0)","v":0},null,null,null,null,null,null,{"$f":"IF($AE$120=6,1,0)","v":0}]
[null,null,"【災害対策本部要員名簿】",null,null,null,null,null,null,null,null,null,null,null,null,null,null,null,null,null,null,null,null,null,null,null,null,null,null,null,null,null,null,null,null,null,null,{"$f":"IF($AE$120=6,1,0)","v":0}]
[null,null,null,null,null,null,null,null,null,null,null,null,null,null,null,null,null,null,null,null,null,null,null,null,null,null,null,null,null,null,null,null,null,null,null,null,null,0]
[null,null,null,null,null,null,null,null,null,null,null,null,null,null,null,null,null,null,null,null,null,null,null,null,null,null,null,null,null,null,null,null,null,null,null,null,null,0]
[null,null,null,null,null,null,null,null,null,null,null,null,null,null,null,null,null,null,null,null,null,null,null,null,null,null,null,null,null,null,null,null,null,null,null,null,null,0]
[null,null,null,null,null,null,null,null,null,null,null,null,null,null,null,null,null,null,null,null,null,null,null,null,null,null,null,null,null,null,null,null,null,null,null,null,null,0]
[null,null,null,null,null,null,null,null,null,null,null,null,null,null,null,null,null,null,null,null,null,null,null,null,null,null,null,null,null,null,null,null,null,null,null,null,null,0]
[null,null,null,null,null,null,null,null,null,null,null,null,null,null,null,null,null,null,null,null,null,null,null,null,null,null,null,null,null,null,null,null,null,null,null,null,null,0]
[null,null,null,null,null,null,null,null,null,null,null,null,null,null,null,null,null,null,null,null,null,null,null,null,null,null,null,null,null,null,null,null,null,null,null,null,null,0]
[null,null,null,null,null,null,null,null,null,null,null,null,null,null,null,null,null,null,null,null,null,null,null,null,null,null,null,null,null,null,null,null,null,null,null,null,null,0]
[null,null,null,null,null,null,null,null,null,null,null,null,null,null,null,null,null,null,null,null,null,null,null,null,null,null,null,null,null,null,null,null,null,null,null,null,null,0]
[null,null,null,null,null,null,null,null,null,null,null,null,null,null,null,null,null,null,null,null,null,null,null,null,null,null,null,null,null,null,null,null,null,null,null,null,null,0]
[null,null,null,null,null,null,null,null,null,null,null,null,null,null,null,null,null,null,null,null,null,null,null,null,null,null,null,null,null,null,null,null,null,null,null,null,null,0]
[null,null,null,null,null,null,null,null,null,null,null,null,null,null,null,null,null,null,null,null,null,null,null,null,null,null,null,null,null,null,null,null,null,null,null,null,null,0]
[null,null,null,null,null,null,null,null,null,null,null,null,null,null,null,null,null,null,null,null,null,null,null,null,null,null,null,null,null,null,null,null,null,null,null,null,null,0]
[null,null,null,null,null,null,null,null,null,null,null,null,null,null,null,null,null,null,null,null,null,null,null,null,null,null,null,null,null,null,null,null,null,null,null,null,null,0]
[null,null,null,null,null,null,null,null,null,null,null,null,null,null,null,null,null,null,null,null,null,null,null,null,null,null,null,null,null,null,null,null,null,null,null,null,null,0]
[null,null,null,null,null,null,null,null,null,null,null,null,null,null,null,null,null,null,null,null,null,null,null,null,null,null,null,null,null,null,null,null,null,null,null,null,null,0]
[null,null,null,null,null,null,null,null,null,null,null,null,null,null,null,null,null,null,null,null,null,null,null,null,null,null,null,null,null,null,null,null,null,null,null,null,null,0]
[null,null,null,null,null,null,null,null,null,null,null,null,null,null,null,null,null,null,null,null,null,null,null,null,null,null,null,null,null,null,null,null,null,null,null,null,null,0]
[null,null,null,null,null,null,null,null,null,null,null,null,null,null,null,null,null,null,null,null,null,null,null,null,null,null,null,null,null,null,null,null,null,null,null,null,null,0]
[null,null,null,null,null,null,null,null,null,null,null,null,null,null,null,null,null,null,null,null,null,null,null,null,null,null,null,null,null,null,null,null,null,null,null,null,null,0]
[null,null,null,null,null,null,null,null,null,null,null,null,null,null,null,null,null,null,null,null,null,null,null,null,null,null,null,null,null,null,null,null,null,null,null,null,null,0]

{"sheet":"3. 水害リスクの把握","index":8,"n_rows":37,"n_cols":38,"rows_kept":37,"cut":false,"hidden":true,"merged":[[36,4,36,27],[3,3,3,8],[4,3,4,8],[3,9,3,15],[7,2,7,5],[4,9,4,15],[9,8,9,12],[5,3,5,28],[9,3,9,7],[8,3,8,26],[26,3,26,26],[25,2,25,5],[27,3,27,7],[27,8,27,12],[22,3,22,27]]}
[]
[null,"3. 水害リスクの把握",null,null,null,null,null,null,null,null,null,null,null,null,null,null,null,null,null,null,null,null,null,null,null,null,null,null,null,null,null,null,null,null,null,2,{"$f":"'2. 災害対策要員名簿'!AJ2+'2. 災害対策要員名簿'!AK2","v":5},"flag"]
[null,null,"● 施設周辺の浸水想定",null,null,null,null,null,null,null,null,null,null,null,null,null,null,null,null,null,null,null,null,null,null,null,null,null,null,null,null,null,null,null,null,null,null,1]
[null,null,null,"施設の階数",null,null,null,null,null,{"$f":"コントロールシート!J307","v":"3階"},null,null,null,null,null,null,null,null,null,null,null,null,null,null,null,null,null,null,null,null,null,null,null,null,null,null,null,1]
[null,null,null,"想定浸水継続時間",null,null,null,null,null,{"$f":"コントロールシート!M332&\"\"","v":"12時間未満"},null,null,null,null,null,null,null,null,null,null,null,null,null,null,null,null,null,null,null,null,null,null,null,null,null,null,null,1]
[null,null,null,"洪水時の施設周辺の浸水想定は、以下の通りである。\n従業員は、いのちを守るため、予め定められた避難行動を行うこと。",null,null,null,null,null,null,null,null,null,null,null,null,null,null,null,null,null,null,null,null,null,null,null,null,null,null,null,null,null,null,null,null,null,1]
[null,null,null,null,null,null,null,null,null,null,null,null,null,null,null,null,null,null,null,null,null,null,null,null,null,null,null,null,null,null,null,null,null,null,null,null,null,1]
[null,null,"外水氾濫",null,null,null,null,null,null,null,null,null,null,null,null,null,null,null,null,null,null,null,null,null,null,null,null,null,null,null,null,null,null,null,null,null,null,1]
[null,null,null,"「外水氾濫」 は、多量の雨により河川の水が溢れたり、堤防が決壊したりすることで\n市街地に水が流れ込む現象。",null,null,null,null,null,null,null,null,null,null,null,null,null,null,null,null,null,null,null,null,null,null,null,null,null,null,null,null,null,null,null,null,null,1]
[null,null,null,"想定される 外水\n最大浸水深",null,null,null,null,{"$f":"コントロールシート!J308","v":"3.0m～5.0m"},null,null,null,null,null,null,null,null,null,null,null,null,null,null,null,null,null,null,null,null,null,null,null,null,null,null,null,null,1]
[null,null,null,null,null,null,null,null,null,null,null,null,null,null,null,null,null,null,null,null,null,null,null,null,null,null,null,null,null,null,null,null,null,null,null,null,null,1]
[null,null,null,null,null,null,null,null,null,null,null,null,null,null,null,null,null,null,null,null,null,null,null,null,null,null,null,null,null,null,null,null,null,null,null,null,null,1]
[null,null,null,null,null,null,null,null,null,null,null,null,null,null,null,null,null,null,null,null,null,null,null,null,null,null,null,null,null,null,null,null,null,null,null,null,null,1]
[null,null,null,null,null,null,null,null,null,null,null,null,null,null,null,null,null,null,null,null,null,null,null,null,null,null,null,null,null,null,null,null,null,null,null,null,null,1]
[null,null,null,null,null,null,null,null,null,null,null,null,null,null,null,null,null,null,null,null,null,null,null,null,null,null,null,null,null,null,null,null,null,null,null,null,null,1]
[null,null,null,null,null,null,null,null,null,null,null,null,null,null,null,null,null,null,null,null,null,null,null,null,null,null,null,null,null,null,null,null,null,null,null,null,null,1]
[null,null,null,null,null,null,null,null,null,null,null,null,null,null,null,null,null,null,null,null,null,null,null,null,null,null,null,null,null,null,null,null,null,null,null,null,null,1]
[null,null,null,null,null,null,null,null,null,null,null,null,null,null,null,null,null,null,null,null,null,null,null,null,null,null,null,null,null,null,null,null,null,null,null,null,null,1]
[null,null,null,null,null,null,null,null,null,null,null,null,null,null,null,null,null,null,null,null,null,null,null,null,null,null,null,null,null,null,null,null,null,null,null,null,null,1]
[null,null,null,null,null,null,null,null,null,null,null,null,null,null,null,null,null,null,null,null,null,null,null,null,null,null,null,null,null,null,null,null,null,null,null,null,null,1]
[null,null,null,"いのちを守るための避難行動",null,null,null,null,null,null,null,null,null,null,null,null,null,null,null,null,null,null,null,null,null,null,null,null,null,null,null,null,null,null,null,null,null,1]
[null,null,null,null,{"$f":"IF(AE22=0,\"●●へ避難\",AE22&\" へ避難\")","v":"○○学校（指定避難所） へ避難"},null,null,null,null,null,null,null,null,null,null,null,null,null,null,null,null,null,null,null,null,null,null,null,null,null,{"$f":"コントロールシート!H361","v":"○○学校（指定避難所）"},null,null,null,null,null,null,1]
[null,null,null,{"$f":"\"（ただし、\"&IF(AE22=0,\"●●\",AE22)&\" が何らかの要因で安全でないと判断された場合で、\n　 移動が可能な場合は、別のより安全な場所へ移動し、いのちを守ることを優先する）\"","v":"（ただし、○○学校（指定避難所） が何らかの要因で安全でないと判断された場合で、\n　 移動が可能な場合は、別のより安全な場所へ移動し、いのちを守ることを優先する）"},null,null,null,null,null,null,null,null,null,null,null,null,null,null,null,null,null,null,null,null,null,null,null,null,null,null,null,null,null,null,null,null,null,1]
[null,null,null,null,null,null,null,null,null,null,null,null,null,null,null,null,null,null,null,null,null,null,null,null,null,null,null,null,null,null,null,null,null,null,null,null,null,1]
[null,null,null,null,null,null,null,null,null,null,null,null,null,null,null,null,null,null,null,null,null,null,null,null,null,null,null,null,null,null,null,null,null,null,null,null,null,1]
[null,null,"内水氾濫",null,null,null,null,null,null,null,null,null,null,null,null,null,null,null,null,null,null,null,null,null,null,null,null,null,null,null,null,null,null,null,null,null,null,1]
[null,null,null,"「内水氾濫」は2つのパターンに分けることができる。\n　1. 短時間強雨により都市部の排水能力が追い付かずに冠水が広がる 「氾濫型」\n　2. 河川の増水により排水路を逆流することで発生する 「湛水型」",null,null,null,null,null,null,null,null,null,null,null,null,null,null,null,null,null,null,null,null,null,null,null,null,null,null,null,null,null,null,null,null,null,1]
[null,null,null,"想定される 内水\n最大浸水深",null,null,null,null,{"$f":"コントロールシート!J338&\"\"","v":"0.5m～1.0m"},null,null,null,null,null,null,null,null,null,null,null,null,null,null,null,null,null,null,null,null,null,null,null,null,null,null,null,null,1]
[null,null,null,null,null,null,null,null,null,null,null,null,null,null,null,null,null,null,null,null,null,null,null,null,null,null,null,null,null,null,null,null,null,null,null,null,null,1]
[null,null,null,null,null,null,null,null,null,null,null,null,null,null,null,null,null,null,null,null,null,null,null,null,null,null,null,null,null,null,null,null,null,null,null,null,null,1]
[null,null,null,null,null,null,null,null,null,null,null,null,null,null,null,null,null,null,null,null,null,null,null,null,null,null,null,null,null,null,null,null,null,null,null,null,null,1]
[null,null,null,null,null,null,null,null,null,null,null,null,null,null,null,null,null,null,null,null,null,null,null,null,null,null,null,null,null,null,null,null,null,null,null,null,null,1]
[null,null,null,null,null,null,null,null,null,null,null,null,null,null,null,null,null,null,null,null,null,null,null,null,null,null,null,null,null,null,null,null,null,null,null,null,null,1]
[null,null,null,null,null,null,null,null,null,null,null,null,null,null,null,null,null,null,null,null,null,null,null,null,null,null,null,null,null,null,null,null,null,null,null,null,null,1]
[null,null,null,"いのちを守るための避難行動",null,null,null,null,null,null,null,null,null,null,null,null,null,null,null,null,null,null,null,null,null,null,null,null,null,null,null,null,null,null,null,null,null,1]
[null,null,null,null,{"$f":"E22","v":"○○学校（指定避難所） へ避難"},null,null,null,null,null,null,null,null,null,null,null,null,null,null,null,null,null,null,null,null,null,null,null,null,null,{"$f":"コントロールシート!H361","v":"○○学校（指定避難所）"},null,null,null,null,null,null,1]
[null,null,null,null,{"$f":"D23","v":"（ただし、○○学校（指定避難所） が何らかの要因で安全でないと判断された場合で、\n　 移動が可能な場合は、別のより安全な場所へ移動し、いのちを守ることを優先する）"},null,null,null,null,null,null,null,null,null,null,null,null,null,null,null,null,null,null,null,null,null,null,null,null,null,null,null,null,null,null,null,null,1]

{"sheet":"4. 避難の計画","index":9,"n_rows":68,"n_cols":39,"rows_kept":68,"cut":false,"hidden":true,"merged":[[3,2,3,7],[38,2,38,6],[38,7,38,15],[38,24,38,27],[38,16,38,19],[38,20,38,23],[39,27,41,27],[39,20,41,22],[39,24,41,26],[39,17,39,19],[40,17,40,19],[41,16,41,19],[46,2,46,7],[46,8,46,10],[46,11,46,16],[41,14,41,15],[39,23,41,23],[41,2,41,6],[39,2,40,6],[39,7,40,7],[39,14,40,15],[39,8,40,13],[41,8,41,13],[46,17,46,25],[64,2,65,27],[53,3,55,26],[48,2,48,27],[50,19,50,20],[51,19,51,20],[59,2,62,27]]}
[]
[null,"4. 避難の計画",null,null,null,null,null,null,null,null,null,null,null,null,null,null,null,null,null,null,null,null,null,null,null,null,null,null,null,null,null,null,null,null,null,2,{"$f":"'3. 水害リスクの把握'!AJ2+'3. 水害リスクの把握'!AK2","v":7},"flag1","flag2"]
[null,null,"洪水を想定した避難場所と避難経路は、以下の場所とする。",null,null,null,null,null,null,null,null,null,null,null,null,null,null,null,null,null,null,null,null,null,null,null,null,null,null,null,null,null,null,null,null,null,null,1,1]
[null,null,"避難経路図",null,null,null,null,null,null,null,null,null,null,null,null,null,null,null,null,null,null,null,null,null,null,null,null,null,null,null,null,null,null,null,null,null,null,1,1]
[null,null,null,null,null,null,null,null,null,null,null,null,null,null,null,null,null,null,null,null,null,null,null,null,null,null,null,null,null,null,null,null,null,null,null,null,null,1,1]
[null,null,null,null,null,null,null,null,null,null,null,null,null,null,null,null,null,null,null,null,null,null,null,null,null,null,null,null,null,null,null,null,null,null,null,null,null,1,1]
[null,null,null,null,null,null,null,null,null,null,null,null,null,null,null,null,null,null,null,null,null,null,null,null,null,null,null,null,null,null,null,null,null,null,null,null,null,1,1]
[null,null,null,null,null,null,null,null,null,null,null,null,null,null,null,null,null,null,null,null,null,null,null,null,null,null,null,null,null,null,null,null,null,null,null,null,null,1,1]
[null,null,null,null,null,null,null,null,null,null,null,null,null,null,null,null,null,null,null,null,null,null,null,null,null,null,null,null,null,null,null,null,null,null,null,null,null,1,1]
[null,null,null,null,null,null,null,null,null,null,null,null,null,null,null,null,null,null,null,null,null,null,null,null,null,null,null,null,null,null,null,null,null,null,null,null,null,1,1]
[null,null,null,null,null,null,null,null,null,null,null,null,null,null,null,null,null,null,null,null,null,null,null,null,null,null,null,null,null,null,null,null,null,null,null,null,null,1,1]
[null,null,null,null,null,null,null,null,null,null,null,null,null,null,null,null,null,null,null,null,null,null,null,null,null,null,null,null,null,null,null,null,null,null,null,null,null,1,1]
[null,null,null,null,null,null,null,null,null,null,null,null,null,null,null,null,null,null,null,null,null,null,null,null,null,null,null,null,null,null,null,null,null,null,null,null,null,1,1]
[null,null,null,null,null,null,null,null,null,null,null,null,null,null,null,null,null,null,null,null,null,null,null,null,null,null,null,null,null,null,null,null,null,null,null,null,null,1,1]
[null,null,null,null,null,null,null,null,null,null,null,null,null,null,null,null,null,null,null,null,null,null,null,null,null,null,null,null,null,null,null,null,null,null,null,null,null,1,1]
[null,null,null,null,null,null,null,null,null,null,null,null,null,null,null,null,null,null,null,null,null,null,null,null,null,null,null,null,null,null,null,null,null,null,null,null,null,1,1]
[null,null,null,null,null,null,null,null,null,null,null,null,null,null,null,null,null,null,null,null,null,null,null,null,null,null,null,null,null,null,null,null,null,null,null,null,null,1,1]
[null,null,null,null,null,null,null,null,null,null,null,null,null,null,null,null,null,null,null,null,null,null,null,null,null,null,null,null,null,null,null,null,null,null,null,null,null,1,1]
[null,null,null,null,null,null,null,null,null,null,null,null,null,null,null,null,null,null,null,null,null,null,null,null,null,null,null,null,null,null,null,null,null,null,null,null,null,1,1]
[null,null,null,null,null,null,null,null,null,null,null,null,null,null,null,null,null,null,null,null,null,null,null,null,null,null,null,null,null,null,{"$f":"IF(コントロールシート!I321=\"可能です\",\"自社の上層階に垂直避難する\",\"\")","v":"自社の上層階に垂直避難する"},null,null,null,null,null,null,1,1]
[null,null,null,null,null,null,null,null,null,null,null,null,null,null,null,null,null,null,null,null,null,null,null,null,null,null,null,null,null,null,null,null,null,null,null,null,null,1,1]
[null,null,null,null,null,null,null,null,null,null,null,null,null,null,null,null,null,null,null,null,null,null,null,null,null,null,null,null,null,null,null,null,null,null,null,null,null,1,1]
[null,null,null,null,null,null,null,null,null,null,null,null,null,null,null,null,null,null,null,null,null,null,null,null,null,null,null,null,null,null,null,null,null,null,null,null,null,1,1]
[null,null,null,null,null,null,null,null,null,null,null,null,null,null,null,null,null,null,null,null,null,null,null,null,null,null,null,null,null,null,null,null,null,null,null,null,null,1,1]
[null,null,null,null,null,null,null,null,null,null,null,null,null,null,null,null,null,null,null,null,null,null,null,null,null,null,null,null,null,null,null,null,null,null,null,null,null,1,1]
[null,null,null,null,null,null,null,null,null,null,null,null,null,null,null,null,null,null,null,null,null,null,null,null,null,null,null,null,null,null,null,null,null,null,null,null,null,1,1]
[null,null,null,null,null,null,null,null,null,null,null,null,null,null,null,null,null,null,null,null,null,null,null,null,null,null,null,null,null,null,null,null,null,null,null,null,null,1,1]
[null,null,null,null,null,null,null,null,null,null,null,null,null,null,null,null,null,null,null,null,null,null,null,null,null,null,null,null,null,null,null,null,null,null,null,null,null,1,1]
[null,null,null,null,null,null,null,null,null,null,null,null,null,null,null,null,null,null,null,null,null,null,null,null,null,null,null,null,null,null,null,null,null,null,null,null,null,1,1]
[null,null,null,null,null,null,null,null,null,null,null,null,null,null,null,null,null,null,null,null,null,null,null,null,null,null,null,null,null,null,null,null,null,null,null,null,null,1,1]
[null,null,null,null,null,null,null,null,null,null,null,null,null,null,null,null,null,null,null,null,null,null,null,null,null,null,null,null,null,null,null,null,null,null,null,null,null,1,1]
[null,null,null,null,null,null,null,null,null,null,null,null,null,null,null,null,null,null,null,null,null,null,null,null,null,null,null,null,null,null,null,null,null,null,null,null,null,1,1]
[null,null,null,null,null,null,null,null,null,null,null,null,null,null,null,null,null,null,null,null,null,null,null,null,null,null,null,null,null,null,null,null,null,null,null,null,null,1,1]
[null,null,null,null,null,null,null,null,null,null,null,null,null,null,null,null,null,null,null,null,null,null,null,null,null,null,null,null,null,null,null,null,null,null,null,null,null,1,1]
[null,null,null,null,null,null,null,null,null,null,null,null,null,null,null,null,null,null,null,null,null,null,null,null,null,null,null,null,null,null,null,null,null,null,null,null,null,1,1]
[null,null,null,null,null,null,null,null,null,null,null,null,null,null,null,null,null,null,null,null,null,null,null,null,null,null,null,null,null,null,null,null,null,null,null,null,null,1,1]
[null,null,null,null,null,null,null,null,null,null,null,null,null,null,null,null,null,null,null,null,null,null,null,null,null,null,null,null,null,null,null,null,null,null,null,null,null,1,1]
[null,null,null,null,null,null,null,null,null,null,null,null,null,null,null,null,null,null,null,null,null,null,null,null,null,null,null,null,null,null,null,null,null,null,null,null,null,1,1]
[null,null,null,null,null,null,null,"避難場所の名称",null,null,null,null,null,null,null,null,"移動手段",null,null,null,"避難準備時間",null,null,null,"避難時間",null,null,null,null,null,null,null,null,null,null,null,null,1,0]
[null,null,"避難場所への避難",null,null,null,null,"（",{"$f":"コントロールシート!H361","v":"○○学校（指定避難所）"},null,null,null,null,null,"）",null,{"$f":"IF(コントロールシート!AO363=TRUE,\"✅\",\"\")","v":"✅"},"徒歩",null,null,{"$f":"コントロールシート!J366","v":5},null,null,"分",{"$f":"コントロールシート!J367","v":5},null,null,"分",null,null,null,null,null,null,null,null,null,1,0]
[null,null,null,null,null,null,null,null,null,null,null,null,null,null,null,null,{"$f":"IF(コントロールシート!AO364=TRUE,\"✅\",\"\")","v":""},"車両",null,null,null,null,null,null,null,null,null,null,null,null,null,null,null,null,null,null,null,1,0]
[null,null,"自社からの距離",null,null,null,null,"（",{"$f":"コントロールシート!O361","v":0},null,null,null,null,null,"）m",null,{"$f":"コントロールシート!L364&\"\"","v":""},null,null,null,null,null,null,null,null,null,null,null,null,null,null,null,null,null,null,null,null,1,0]
[null,null,null,null,null,null,null,null,null,null,null,null,null,null,null,null,null,null,null,null,null,null,null,null,null,null,null,null,null,null,null,null,null,null,null,null,null,1,0]
[null,null,null,null,null,null,null,null,null,null,null,null,null,null,null,null,null,null,null,null,null,null,null,null,null,null,null,null,null,null,null,null,null,null,null,null,null,1,0]
[null,null,"避難行動を開始する基準となる場所と警戒レベルは以下の通りである。",null,null,null,null,null,null,null,null,null,null,null,null,null,null,null,null,null,null,null,null,null,null,null,null,null,null,null,null,null,null,null,null,null,null,1,0]
[null,null,null,null,null,null,null,null,null,null,null,null,null,null,null,null,null,null,null,null,null,null,null,null,null,null,null,null,null,null,null,null,null,null,null,null,null,1,0]
[null,null,{"$f":"コントロールシート!F372","v":"名古屋市（中村区）"},null,null,null,null,null,"によって、",null,null,{"$f":"コントロールシート!L372","v":"警戒レベル3"},null,null,null,null,null,"　相当以上が発令された場合",null,null,null,null,null,null,null,null,null,null,null,null,null,null,null,null,null,null,null,1,0]
[null,null,null,null,null,null,null,null,null,null,null,null,null,null,null,null,null,null,null,null,null,null,null,null,null,null,null,null,null,null,null,null,null,null,null,null,null,1,0]
[null,null,{"$f":"IF(L47=\"警戒レベル3\",AE49,IF(L47=\"警戒レベル4\",AG49,\"\"))","v":"※ 警戒レベル３ 相当は大雨警報（土砂災害）や洪水警報、氾濫警戒情報等が出され、\n　　自治体からは 「高齢者等避難」 が発令される段階。"},null,null,null,null,null,null,null,null,null,null,null,null,null,null,null,null,null,null,null,null,null,null,null,null,null,null,null,"※ 警戒レベル３ 相当は大雨警報（土砂災害）や洪水警報、氾濫警戒情報等が出され、\n　　自治体からは 「高齢者等避難」 が発令される段階。",null,"※ 警戒レベル４ 相当は、土砂災害警戒情報や氾濫危険情報等が出され、自治体からは\n　　「避難指示」 が発令される段階。",null,null,null,null,1,0]
[null,null,null,null,null,null,null,null,null,null,null,null,null,null,null,null,null,null,null,null,null,null,null,null,null,null,null,null,null,null,null,null,null,null,null,null,null,1,0]
[null,null,"この基準に従ってBCP体制を発動した場合、猶予時間（目安）は",null,null,null,null,null,null,null,null,null,null,null,null,null,null,null,null,{"$f":"コントロールシート!R377","v":90},null,"分未満",null,null,null,null,null,null,null,null,null,null,null,null,null,null,null,1,0]
[null,null,"また、従業員の避難にかかる時間（避難準備時間+避難時間）は",null,null,null,null,null,null,null,null,null,null,null,null,null,null,null,null,{"$f":"コントロールシート!R378","v":10},null,"分",null,null,null,null,null,null,null,null,null,null,null,null,null,null,null,1,0]
[null,null,null,null,null,null,null,null,null,null,null,null,null,null,null,null,null,null,null,null,null,null,null,null,null,null,null,null,null,null,{"$f":"IF(コントロールシート!V377=\"\",0,1)","v":0},null,null,null,null,null,null,{"$f":"$AE$53","v":0},0]
[null,null,null,"※ 避難完了までに必要な時間が不足しているので、「避難行動を開始する基準と\n　　なる警戒レベルを下げる」　もしくは 「避難準備時間を短くする（最適化する）」",null,null,null,null,null,null,null,null,null,null,null,null,null,null,null,null,null,null,null,null,null,null,null,null,null,null,null,null,null,null,null,null,null,{"$f":"$AE$53","v":0},0]
[null,null,null,null,null,null,null,null,null,null,null,null,null,null,null,null,null,null,null,null,null,null,null,null,null,null,null,null,null,null,null,null,null,null,null,null,null,0,0]
[null,null,null,null,null,null,null,null,null,null,null,null,null,null,null,null,null,null,null,null,null,null,null,null,null,null,null,null,null,null,null,null,null,null,null,null,null,0,0]
[null,null,null,null,null,null,null,null,null,null,null,null,null,null,null,null,null,null,null,null,null,null,null,null,null,null,null,null,null,null,null,null,null,null,null,null,null,0,0]
[null,null,"猶予時間以内に必要な対策を実施し、従業員はいのちを守るために避難行動をする。",null,null,null,null,null,null,null,null,null,null,null,null,null,null,null,null,null,null,null,null,null,null,null,null,null,null,null,null,null,null,null,null,null,null,1,0]
[null,null,null,null,null,null,null,null,null,null,null,null,null,null,null,null,null,null,null,null,null,null,null,null,null,null,null,null,null,null,null,null,null,null,null,null,null,1,0]
[null,null,"猶予時間とは…\n河川の水位が避難判断水位（警戒レベル３相当）や氾濫危険水位（警戒レベル４相当）に達した時点から、氾濫が発生するまでの目安の時間。もっと短い場合や、警戒レベル４相当が突然発令される可能性もある。この時間内に避難を完了できなければ、洪水の被害にあってしまう。",null,null,null,null,null,null,null,null,null,null,null,null,null,null,null,null,null,null,null,null,null,null,null,null,null,null,null,null,null,null,null,null,null,null,1,0]
[null,null,null,null,null,null,null,null,null,null,null,null,null,null,null,null,null,null,null,null,null,null,null,null,null,null,null,null,null,null,null,null,null,null,null,null,null,1,0]
[null,null,null,null,null,null,null,null,null,null,null,null,null,null,null,null,null,null,null,null,null,null,null,null,null,null,null,null,null,null,null,null,null,null,null,null,null,1,0]
[null,null,null,null,null,null,null,null,null,null,null,null,null,null,null,null,null,null,null,null,null,null,null,null,null,null,null,null,null,null,null,null,null,null,null,null,null,1,0]
[null,null,null,null,null,null,null,null,null,null,null,null,null,null,null,null,null,null,null,null,null,null,null,null,null,null,null,null,null,null,null,null,null,null,null,null,null,1,0]
[null,null,"※ 避難を必要とする従業員や来訪者の中に 避難行動要支援者 が含まれる場合は、警戒レベル３\n　　相当 時点で避難行動要支援者の避難を開始すること。",null,null,null,null,null,null,null,null,null,null,null,null,null,null,null,null,null,null,null,null,null,null,null,null,null,null,null,null,null,null,null,null,null,null,1,0]
[null,null,null,null,null,null,null,null,null,null,null,null,null,null,null,null,null,null,null,null,null,null,null,null,null,null,null,null,null,null,null,null,null,null,null,null,null,1,0]
[null,null,null,null,null,null,null,null,null,null,null,null,null,null,null,null,null,null,null,null,null,null,null,null,null,null,null,null,null,null,null,null,null,null,null,null,null,1,0]
[null,null,null,null,null,null,null,null,null,null,null,null,null,null,null,null,null,null,null,null,null,null,null,null,null,null,null,null,null,null,null,null,null,null,null,null,null,1,0]

{"sheet":"業務","index":10,"n_rows":59,"n_cols":40,"rows_kept":59,"cut":false,"hidden":true,"merged":[[4,10,4,11],[2,15,2,17],[2,23,2,24],[2,28,2,29],[2,30,2,33],[2,18,2,19],[2,20,2,22],[2,25,2,27]]}
[]
[null,{"$f":"S4+T4","v":11},{"$f":"COUNTIF(U6:W59,\"✅\")","v":9},{"$f":"COUNTIF(V6:V59,\"✅\")","v":5},{"$f":"COUNTIF(V6:V59,\"✅\")","v":5},null,null,{"$f":"COUNTIF(T6:T59,\"✅\")","v":2},{"$f":"COUNTIF(U6:U59,\"✅\")","v":4},null,null,null,null,null,null,null,null,null,null,null,null,null,null,null,null,{"$f":"コントロールシート!AO677","v":"Lv.3"}]
[null,5.2,6.1,6.2,7.1,"8.1A","8.1B",8.1999999999999993,10,null,null,null,null,null,null,6.2,null,null,5.2,null,6.1,null,null,7.1,null,8.1,null,null,8.1999999999999993,null,10]
[null,null,null,null,null,null,null,null,null,null,null,null,null,null,null,null,null,null,{"$f":"COUNTIF(S6:S59,\"✅\")","v":9},{"$f":"COUNTIF(T6:T59,\"✅\")","v":2},{"$f":"COUNTIF(U6:U59,\"✅\")","v":4},{"$f":"COUNTIF(V6:V59,\"✅\")","v":5},{"$f":"COUNTIF(W6:W59,\"✅\")","v":0},null,null,null,null,null,null,null,null,null,null,null,null,{"$f":"MAX(AJ6:AJ59)","v":4},{"$f":"MAX(AK6:AK59)","v":0},5,0,0]
[null,null,null,null,null,null,null,null,null,null,"重要業務の継続に必要な経営資源",null,"想定される浸水被害","具体的な対策内容","対応班","対応時間","対応人数","グループ","可","不可","事前","直前","事後","リーダー","代行者","レベル","タイムライン行動","避難後\n所要時間","タイムライン行動","期限","時期","誰が","自由記入1","自由記入2",null,"平常時","Lv.2","Lv.3","Lv.4","避難後"]
[null,1,{"$f":"IF(S6<>\"\",MAX($C$5:C5)+1,\"\")","v":1},{"$f":"IF(V6<>\"\",MAX($D$5:D5)+1,\"\")","v":""},{"$f":"IF(V6<>\"\",MAX($E$5:E5)+1,\"\")","v":""},null,null,{"$f":"IF(T6<>\"\",MAX($H$5:H5)+1,\"\")","v":""},{"$f":"IF(U6<>\"\",MAX($I$5:I5)+1,\"\")","v":1},null,{"$f":"IFERROR(OFFSET(コントロールシート!AX$394,MATCH(B6,コントロールシート!$AZ$395:$AZ$455,0),0)&\"\",\"\")","v":"インフラ"},{"$f":"IFERROR(OFFSET(コントロールシート!I$394,MATCH(B6,コントロールシート!$AZ$395:$AZ$455,0),0)&\"\",\"\")","v":"電気"},{"$f":"IFERROR(OFFSET(コントロールシート!N$394,MATCH(B6,コントロールシート!$AZ$395:$AZ$455,0),0)&\"\",\"\")","v":"電気が供給されない"},{"$f":"IFERROR(OFFSET(コントロールシート!V$464,MATCH(B6,コントロールシート!$AZ$465:$AZ$518,0),0)&\"\",\"\")","v":"発電機を購入する"},{"$f":"IFERROR(OFFSET(コントロールシート!AF$464,MATCH(B6,コントロールシート!$AZ$465:$AZ$518,0),0)&\"\",\"\")","v":""},{"$f":"IFERROR(OFFSET(コントロールシート!AC$524,MATCH($B6,コントロールシート!$AZ$525:$AZ$578,0),0)&\"\",\"\")","v":""},{"$f":"IFERROR(OFFSET(コントロールシート!AF$524,MATCH($B6,コントロールシート!$AZ$525:$AZ$578,0),0)&\"\",\"\")","v":""},{"$f":"IFERROR(OFFSET(コントロールシート!AI$524,MATCH($B6,コントロールシート!$AZ$525:$AZ$578,0),0)&\"\",\"\")","v":""},{"$f":"IFERROR(IF(VLOOKUP(B6,コントロールシート!$C$395:$AP$455,COLUMN(コントロールシート!AO6)-2,FALSE)=TRUE,\"✅\",\"\"),\"\")","v":"✅"},{"$f":"IFERROR(IF(VLOOKUP(B6,コントロールシート!$C$395:$AP$455,COLUMN(コントロールシート!AP6)-2,FALSE)=TRUE,\"✅\",\"\"),\"\")","v":""},{"$f":"IFERROR(IF(OFFSET(コントロールシート!AO$464,MATCH($B6,コントロールシート!$AZ$465:$AZ$518,0),0)=TRUE,\"✅\",\"\"),\"\")","v":"✅"},{"$f":"IFERROR(IF(OFFSET(コントロールシート!AP$464,MATCH($B6,コントロールシート!$AZ$465:$AZ$518,0),0)=TRUE,\"✅\",\"\"),\"\")","v":""},{"$f":"IFERROR(IF(OFFSET(コントロールシート!AQ$464,MATCH($B6,コントロールシート!$AZ$465:$AZ$518,0),0)=TRUE,\"✅\",\"\"),\"\")","v":""},{"$f":"IFERROR(OFFSET(コントロールシート!AC$600,MATCH($B6,コントロールシート!$AZ$601:$AZ$654,0),0)&\"\",\"\")","v":""},{"$f":"IFERROR(OFFSET(コントロールシート!AF$600,MATCH($B6,コントロールシート!$AZ$601:$AZ$654,0),0)&\"\",\"\")","v":""},{"$f":"IF(U6<>\"\",\"平常時\",IF(V6<>\"\",IFERROR(OFFSET(コントロールシート!V$682,MATCH($B6,コントロールシート!$AZ$683:$AZ$736,0),0)&\"\",\"\"),IF(W6<>\"\",\"避難後\",\"\")))","v":"平常時"},{"$f":"IF(P6<>\"\",N6&\"(\"&P6&\"分)\",IF(AB6<>\"\",N6&\"(\"&AB6&\")\",IF(AE6<>\"\",N6&\"(\"&AE6&\")\",\"\")))","v":"発電機を購入する(2023年3月までに)"},{"$f":"IFERROR(OFFSET(コントロールシート!X$745,MATCH($B6,コントロールシート!$AZ$746:$AZ$799,0),0)&\"\",\"\")","v":""},{"$f":"IFERROR(OFFSET(コントロールシート!$W$819,MATCH(業務!B6,コントロールシート!$AZ$820:$AZ$873,0),0)&\"\",\"\")","v":""},{"$f":"IFERROR(OFFSET(コントロールシート!$AI$819,MATCH(B6,コントロールシート!$AZ$820:$AZ$873,0),0)&\"\",\"\")","v":""},{"$f":"IFERROR(OFFSET(コントロールシート!$AX$1004,MATCH(B6,コントロールシート!$BB$1005:$BB$1217,0),0)&\"\",\"\")","v":"2023年3月までに"},{"$f":"IFERROR(OFFSET(コントロールシート!$AY$1004,MATCH(B6,コントロールシート!$BB$1005:$BB$1217,0),0)&\"\",\"\")","v":"総務部長"},{"$f":"IFERROR(OFFSET(コントロールシート!$AZ$1004,MATCH(B6,コントロールシート!$BB$1005:$BB$1217,0),0)&\"\",\"\")","v":"年内に、購入する発電機の検討を開始する"},{"$f":"IFERROR(OFFSET(コントロールシート!$BA$1004,MATCH(B6,コントロールシート!$BB$1005:$BB$1217,0),0)&\"\",\"\")","v":"財務部長と要調整"},null,{"$f":"IF($Z6=AJ$5,MAX(AJ$5:AJ5)+1,\"\")","v":1},{"$f":"IF($Z6=AK$5,MAX(AK$5:AK5)+1,\"\")","v":""},{"$f":"IF($Z6=AL$5,MAX(AL$5:AL5)+1,\"\")","v":""},{"$f":"IF($Z6=AM$5,MAX(AM$5:AM5)+1,\"\")","v":""},{"$f":"IF($Z6=AN$5,MAX(AN$5:AN5)+1,\"\")","v":""}]
[null,2,{"$f":"IF(S7<>\"\",MAX($C$5:C6)+1,\"\")","v":2},{"$f":"IF(V7<>\"\",MAX($D$5:D6)+1,\"\")","v":""},{"$f":"IF(V7<>\"\",MAX($E$5:E6)+1,\"\")","v":""},null,null,{"$f":"IF(T7<>\"\",MAX($H$5:H6)+1,\"\")","v":""},{"$f":"IF(U7<>\"\",MAX($I$5:I6)+1,\"\")","v":2},null,{"$f":"IFERROR(OFFSET(コントロールシート!AX$394,MATCH(B7,コントロールシート!$AZ$395:$AZ$455,0),0)&\"\",\"\")","v":"インフラ"},{"$f":"IFERROR(OFFSET(コントロールシート!I$394,MATCH(B7,コントロールシート!$AZ$395:$AZ$455,0),0)&\"\",\"\")","v":"水道"},{"$f":"IFERROR(OFFSET(コントロールシート!N$394,MATCH(B7,コントロールシート!$AZ$395:$AZ$455,0),0)&\"\",\"\")","v":"飲料水や生活用水が供給されない"},{"$f":"IFERROR(OFFSET(コントロールシート!V$464,MATCH(B7,コントロールシート!$AZ$465:$AZ$518,0),0)&\"\",\"\")","v":"必要な水を高台にある営業所に備蓄する"},{"$f":"IFERROR(OFFSET(コントロールシート!AF$464,MATCH(B7,コントロールシート!$AZ$465:$AZ$518,0),0)&\"\",\"\")","v":""},{"$f":"IFERROR(OFFSET(コントロールシート!AC$524,MATCH($B7,コントロールシート!$AZ$525:$AZ$578,0),0)&\"\",\"\")","v":""},{"$f":"IFERROR(OFFSET(コントロールシート!AF$524,MATCH($B7,コントロールシート!$AZ$525:$AZ$578,0),0)&\"\",\"\")","v":""},{"$f":"IFERROR(OFFSET(コントロールシート!AI$524,MATCH($B7,コントロールシート!$AZ$525:$AZ$578,0),0)&\"\",\"\")","v":""},{"$f":"IFERROR(IF(VLOOKUP(B7,コントロールシート!$C$395:$AP$455,COLUMN(コントロールシート!AO7)-2,FALSE)=TRUE,\"✅\",\"\"),\"\")","v":"✅"},{"$f":"IFERROR(IF(VLOOKUP(B7,コントロールシート!$C$395:$AP$455,COLUMN(コントロールシート!AP7)-2,FALSE)=TRUE,\"✅\",\"\"),\"\")","v":""},{"$f":"IFERROR(IF(OFFSET(コントロールシート!AO$464,MATCH($B7,コントロールシート!$AZ$465:$AZ$518,0),0)=TRUE,\"✅\",\"\"),\"\")","v":"✅"},{"$f":"IFERROR(IF(OFFSET(コントロールシート!AP$464,MATCH($B7,コントロールシート!$AZ$465:$AZ$518,0),0)=TRUE,\"✅\",\"\"),\"\")","v":""},{"$f":"IFERROR(IF(OFFSET(コントロールシート!AQ$464,MATCH($B7,コントロールシート!$AZ$465:$AZ$518,0),0)=TRUE,\"✅\",\"\"),\"\")","v":""},{"$f":"IFERROR(OFFSET(コントロールシート!AC$600,MATCH($B7,コントロールシート!$AZ$601:$AZ$654,0),0)&\"\",\"\")","v":""},{"$f":"IFERROR(OFFSET(コントロールシート!AF$600,MATCH($B7,コントロールシート!$AZ$601:$AZ$654,0),0)&\"\",\"\")","v":""},{"$f":"IF(U7<>\"\",\"平常時\",IF(V7<>\"\",IFERROR(OFFSET(コントロールシート!V$682,MATCH($B7,コントロールシート!$AZ$683:$AZ$736,0),0)&\"\",\"\"),IF(W7<>\"\",\"避難後\",\"\")))","v":"平常時"},{"$f":"IF(P7<>\"\",N7&\"(\"&P7&\"分)\",IF(AB7<>\"\",N7&\"(\"&AB7&\")\",IF(AE7<>\"\",N7&\"(\"&AE7&\")\",\"\")))","v":"必要な水を高台にある営業所に備蓄する(2022年12月までに)"},{"$f":"IFERROR(OFFSET(コントロールシート!X$745,MATCH($B7,コントロールシート!$AZ$746:$AZ$799,0),0)&\"\",\"\")","v":""},{"$f":"IFERROR(OFFSET(コントロールシート!$W$819,MATCH(業務!B7,コントロールシート!$AZ$820:$AZ$873,0),0)&\"\",\"\")","v":""},{"$f":"IFERROR(OFFSET(コントロールシート!$AI$819,MATCH(B7,コントロールシート!$AZ$820:$AZ$873,0),0)&\"\",\"\")","v":""},{"$f":"IFERROR(OFFSET(コントロールシート!$AX$1004,MATCH(B7,コントロールシート!$BB$1005:$BB$1217,0),0)&\"\",\"\")","v":"2022年12月までに"},{"$f":"IFERROR(OFFSET(コントロールシート!$AY$1004,MATCH(B7,コントロールシート!$BB$1005:$BB$1217,0),0)&\"\",\"\")","v":"総務部長"},{"$f":"IFERROR(OFFSET(コントロールシート!$AZ$1004,MATCH(B7,コントロールシート!$BB$1005:$BB$1217,0),0)&\"\",\"\")","v":"従業員数×3日分の飲料水を購入する"},{"$f":"IFERROR(OFFSET(コントロールシート!$BA$1004,MATCH(B7,コントロールシート!$BB$1005:$BB$1217,0),0)&\"\",\"\")","v":""},null,{"$f":"IF($Z7=AJ$5,MAX(AJ$5:AJ6)+1,\"\")","v":2},{"$f":"IF($Z7=AK$5,MAX(AK$5:AK6)+1,\"\")","v":""},{"$f":"IF($Z7=AL$5,MAX(AL$5:AL6)+1,\"\")","v":""},{"$f":"IF($Z7=AM$5,MAX(AM$5:AM6)+1,\"\")","v":""},{"$f":"IF($Z7=AN$5,MAX(AN$5:AN6)+1,\"\")","v":""}]
[null,3,{"$f":"IF(S8<>\"\",MAX($C$5:C7)+1,\"\")","v":""},{"$f":"IF(V8<>\"\",MAX($D$5:D7)+1,\"\")","v":""},{"$f":"IF(V8<>\"\",MAX($E$5:E7)+1,\"\")","v":""},null,null,{"$f":"IF(T8<>\"\",MAX($H$5:H7)+1,\"\")","v":1},{"$f":"IF(U8<>\"\",MAX($I$5:I7)+1,\"\")","v":""},null,{"$f":"IFERROR(OFFSET(コントロールシート!AX$394,MATCH(B8,コントロールシート!$AZ$395:$AZ$455,0),0)&\"\",\"\")","v":"インフラ"},{"$f":"IFERROR(OFFSET(コントロールシート!I$394,MATCH(B8,コントロールシート!$AZ$395:$AZ$455,0),0)&\"\",\"\")","v":"道路"},{"$f":"IFERROR(OFFSET(コントロールシート!N$394,MATCH(B8,コントロールシート!$AZ$395:$AZ$455,0),0)&\"\",\"\")","v":"道路が通行止めとなる"},{"$f":"IFERROR(OFFSET(コントロールシート!V$464,MATCH(B8,コントロールシート!$AZ$465:$AZ$518,0),0)&\"\",\"\")","v":""},{"$f":"IFERROR(OFFSET(コントロールシート!AF$464,MATCH(B8,コントロールシート!$AZ$465:$AZ$518,0),0)&\"\",\"\")","v":""},{"$f":"IFERROR(OFFSET(コントロールシート!AC$524,MATCH($B8,コントロールシート!$AZ$525:$AZ$578,0),0)&\"\",\"\")","v":""},{"$f":"IFERROR(OFFSET(コントロールシート!AF$524,MATCH($B8,コントロールシート!$AZ$525:$AZ$578,0),0)&\"\",\"\")","v":""},{"$f":"IFERROR(OFFSET(コントロールシート!AI$524,MATCH($B8,コントロールシート!$AZ$525:$AZ$578,0),0)&\"\",\"\")","v":""},{"$f":"IFERROR(IF(VLOOKUP(B8,コントロールシート!$C$395:$AP$455,COLUMN(コントロールシート!AO8)-2,FALSE)=TRUE,\"✅\",\"\"),\"\")","v":""},{"$f":"IFERROR(IF(VLOOKUP(B8,コントロールシート!$C$395:$AP$455,COLUMN(コントロールシート!AP8)-2,FALSE)=TRUE,\"✅\",\"\"),\"\")","v":"✅"},{"$f":"IFERROR(IF(OFFSET(コントロールシート!AO$464,MATCH($B8,コントロールシート!$AZ$465:$AZ$518,0),0)=TRUE,\"✅\",\"\"),\"\")","v":""},{"$f":"IFERROR(IF(OFFSET(コントロールシート!AP$464,MATCH($B8,コントロールシート!$AZ$465:$AZ$518,0),0)=TRUE,\"✅\",\"\"),\"\")","v":""},{"$f":"IFERROR(IF(OFFSET(コントロールシート!AQ$464,MATCH($B8,コントロールシート!$AZ$465:$AZ$518,0),0)=TRUE,\"✅\",\"\"),\"\")","v":""},{"$f":"IFERROR(OFFSET(コントロールシート!AC$600,MATCH($B8,コントロールシート!$AZ$601:$AZ$654,0),0)&\"\",\"\")","v":""},{"$f":"IFERROR(OFFSET(コントロールシート!AF$600,MATCH($B8,コントロールシート!$AZ$601:$AZ$654,0),0)&\"\",\"\")","v":""},{"$f":"IF(U8<>\"\",\"平常時\",IF(V8<>\"\",IFERROR(OFFSET(コントロールシート!V$682,MATCH($B8,コントロールシート!$AZ$683:$AZ$736,0),0)&\"\",\"\"),IF(W8<>\"\",\"避難後\",\"\")))","v":""},"",{"$f":"IFERROR(OFFSET(コントロールシート!X$745,MATCH($B8,コントロールシート!$AZ$746:$AZ$799,0),0)&\"\",\"\")","v":""},{"$f":"IFERROR(OFFSET(コントロールシート!$W$819,MATCH(業務!B8,コントロールシート!$AZ$820:$AZ$873,0),0)&\"\",\"\")","v":"簡易型ゴムボートの購入"},{"$f":"IFERROR(OFFSET(コントロールシート!$AI$819,MATCH(B8,コントロールシート!$AZ$820:$AZ$873,0),0)&\"\",\"\")","v":"6ヶ月以内"},{"$f":"IFERROR(OFFSET(コントロールシート!$AX$1004,MATCH(B8,コントロールシート!$BB$1005:$BB$1217,0),0)&\"\",\"\")","v":""},{"$f":"IFERROR(OFFSET(コントロールシート!$AY$1004,MATCH(B8,コントロールシート!$BB$1005:$BB$1217,0),0)&\"\",\"\")","v":""},{"$f":"IFERROR(OFFSET(コントロールシート!$AZ$1004,MATCH(B8,コントロールシート!$BB$1005:$BB$1217,0),0)&\"\",\"\")","v":""},{"$f":"IFERROR(OFFSET(コントロールシート!$BA$1004,MATCH(B8,コントロールシート!$BB$1005:$BB$1217,0),0)&\"\",\"\")","v":""},null,{"$f":"IF($Z8=AJ$5,MAX(AJ$5:AJ7)+1,\"\")","v":""},{"$f":"IF($Z8=AK$5,MAX(AK$5:AK7)+1,\"\")","v":""},{"$f":"IF($Z8=AL$5,MAX(AL$5:AL7)+1,\"\")","v":""},{"$f":"IF($Z8=AM$5,MAX(AM$5:AM7)+1,\"\")","v":""},{"$f":"IF($Z8=AN$5,MAX(AN$5:AN7)+1,\"\")","v":""}]
[null,4,{"$f":"IF(S9<>\"\",MAX($C$5:C8)+1,\"\")","v":3},{"$f":"IF(V9<>\"\",MAX($D$5:D8)+1,\"\")","v":1},{"$f":"IF(V9<>\"\",MAX($E$5:E8)+1,\"\")","v":1},null,null,{"$f":"IF(T9<>\"\",MAX($H$5:H8)+1,\"\")","v":""},{"$f":"IF(U9<>\"\",MAX($I$5:I8)+1,\"\")","v":""},null,{"$f":"IFERROR(OFFSET(コントロールシート!AX$394,MATCH(B9,コントロールシート!$AZ$395:$AZ$455,0),0)&\"\",\"\")","v":"人"},{"$f":"IFERROR(OFFSET(コントロールシート!I$394,MATCH(B9,コントロールシート!$AZ$395:$AZ$455,0),0)&\"\",\"\")","v":"従業員（管理者）"},{"$f":"IFERROR(OFFSET(コントロールシート!N$394,MATCH(B9,コントロールシート!$AZ$395:$AZ$455,0),0)&\"\",\"\")","v":"通行規制等により、本社への参集が不可能となる"},{"$f":"IFERROR(OFFSET(コントロールシート!V$464,MATCH(B9,コントロールシート!$AZ$465:$AZ$518,0),0)&\"\",\"\")","v":"通行規制が予期される場合、本社ではなく、高台営業所に参集するよう連絡する"},{"$f":"IFERROR(OFFSET(コントロールシート!AF$464,MATCH(B9,コントロールシート!$AZ$465:$AZ$518,0),0)&\"\",\"\")","v":"避難誘導班"},{"$f":"IFERROR(OFFSET(コントロールシート!AC$524,MATCH($B9,コントロールシート!$AZ$525:$AZ$578,0),0)&\"\",\"\")","v":"5"},{"$f":"IFERROR(OFFSET(コントロールシート!AF$524,MATCH($B9,コントロールシート!$AZ$525:$AZ$578,0),0)&\"\",\"\")","v":"1"},{"$f":"IFERROR(OFFSET(コントロールシート!AI$524,MATCH($B9,コントロールシート!$AZ$525:$AZ$578,0),0)&\"\",\"\")","v":""},{"$f":"IFERROR(IF(VLOOKUP(B9,コントロールシート!$C$395:$AP$455,COLUMN(コントロールシート!AO9)-2,FALSE)=TRUE,\"✅\",\"\"),\"\")","v":"✅"},{"$f":"IFERROR(IF(VLOOKUP(B9,コントロールシート!$C$395:$AP$455,COLUMN(コントロールシート!AP9)-2,FALSE)=TRUE,\"✅\",\"\"),\"\")","v":""},{"$f":"IFERROR(IF(OFFSET(コントロールシート!AO$464,MATCH($B9,コントロールシート!$AZ$465:$AZ$518,0),0)=TRUE,\"✅\",\"\"),\"\")","v":""},{"$f":"IFERROR(IF(OFFSET(コントロールシート!AP$464,MATCH($B9,コントロールシート!$AZ$465:$AZ$518,0),0)=TRUE,\"✅\",\"\"),\"\")","v":"✅"},{"$f":"IFERROR(IF(OFFSET(コントロールシート!AQ$464,MATCH($B9,コントロールシート!$AZ$465:$AZ$518,0),0)=TRUE,\"✅\",\"\"),\"\")","v":""},{"$f":"IFERROR(OFFSET(コントロールシート!AC$600,MATCH($B9,コントロールシート!$AZ$601:$AZ$654,0),0)&\"\",\"\")","v":"流域　九郎"},{"$f":"IFERROR(OFFSET(コントロールシート!AF$600,MATCH($B9,コントロールシート!$AZ$601:$AZ$654,0),0)&\"\",\"\")","v":""},{"$f":"IF(U9<>\"\",\"平常時\",IF(V9<>\"\",IFERROR(OFFSET(コントロールシート!V$682,MATCH($B9,コントロールシート!$AZ$683:$AZ$736,0),0)&\"\",\"\"),IF(W9<>\"\",\"避難後\",\"\")))","v":"Lv.3"},"通行規制が予期される場合、本社ではなく、高台営業所に参集するよう連絡する(5分)",{"$f":"IFERROR(OFFSET(コントロールシート!X$745,MATCH($B9,コントロールシート!$AZ$746:$AZ$799,0),0)&\"\",\"\")","v":""},{"$f":"IFERROR(OFFSET(コントロールシート!$W$819,MATCH(業務!B9,コントロールシート!$AZ$820:$AZ$873,0),0)&\"\",\"\")","v":""},{"$f":"IFERROR(OFFSET(コントロールシート!$AI$819,MATCH(B9,コントロールシート!$AZ$820:$AZ$873,0),0)&\"\",\"\")","v":""},{"$f":"IFERROR(OFFSET(コントロールシート!$AX$1004,MATCH(B9,コントロールシート!$BB$1005:$BB$1217,0),0)&\"\",\"\")","v":""},{"$f":"IFERROR(OFFSET(コントロールシート!$AY$1004,MATCH(B9,コントロールシート!$BB$1005:$BB$1217,0),0)&\"\",\"\")","v":""},{"$f":"IFERROR(OFFSET(コントロールシート!$AZ$1004,MATCH(B9,コントロールシート!$BB$1005:$BB$1217,0),0)&\"\",\"\")","v":""},{"$f":"IFERROR(OFFSET(コントロールシート!$BA$1004,MATCH(B9,コントロールシート!$BB$1005:$BB$1217,0),0)&\"\",\"\")","v":""},null,{"$f":"IF($Z9=AJ$5,MAX(AJ$5:AJ8)+1,\"\")","v":""},{"$f":"IF($Z9=AK$5,MAX(AK$5:AK8)+1,\"\")","v":""},{"$f":"IF($Z9=AL$5,MAX(AL$5:AL8)+1,\"\")","v":1},{"$f":"IF($Z9=AM$5,MAX(AM$5:AM8)+1,\"\")","v":""},{"$f":"IF($Z9=AN$5,MAX(AN$5:AN8)+1,\"\")","v":""}]
[null,5,{"$f":"IF(S10<>\"\",MAX($C$5:C9)+1,\"\")","v":4},{"$f":"IF(V10<>\"\",MAX($D$5:D9)+1,\"\")","v":""},{"$f":"IF(V10<>\"\",MAX($E$5:E9)+1,\"\")","v":""},null,null,{"$f":"IF(T10<>\"\",MAX($H$5:H9)+1,\"\")","v":""},{"$f":"IF(U10<>\"\",MAX($I$5:I9)+1,\"\")","v":3},null,{"$f":"IFERROR(OFFSET(コントロールシート!AX$394,MATCH(B10,コントロールシート!$AZ$395:$AZ$455,0),0)&\"\",\"\")","v":"人"},{"$f":"IFERROR(OFFSET(コントロールシート!I$394,MATCH(B10,コントロールシート!$AZ$395:$AZ$455,0),0)&\"\",\"\")","v":"従業員（作業員）"},{"$f":"IFERROR(OFFSET(コントロールシート!N$394,MATCH(B10,コントロールシート!$AZ$395:$AZ$455,0),0)&\"\",\"\")","v":"従業員が出勤できない"},{"$f":"IFERROR(OFFSET(コントロールシート!V$464,MATCH(B10,コントロールシート!$AZ$465:$AZ$518,0),0)&\"\",\"\")","v":"従業員のクロストレーニングを実施する"},{"$f":"IFERROR(OFFSET(コントロールシート!AF$464,MATCH(B10,コントロールシート!$AZ$465:$AZ$518,0),0)&\"\",\"\")","v":""},{"$f":"IFERROR(OFFSET(コントロールシート!AC$524,MATCH($B10,コントロールシート!$AZ$525:$AZ$578,0),0)&\"\",\"\")","v":""},{"$f":"IFERROR(OFFSET(コントロールシート!AF$524,MATCH($B10,コントロールシート!$AZ$525:$AZ$578,0),0)&\"\",\"\")","v":""},{"$f":"IFERROR(OFFSET(コントロールシート!AI$524,MATCH($B10,コントロールシート!$AZ$525:$AZ$578,0),0)&\"\",\"\")","v":""},{"$f":"IFERROR(IF(VLOOKUP(B10,コントロールシート!$C$395:$AP$455,COLUMN(コントロールシート!AO10)-2,FALSE)=TRUE,\"✅\",\"\"),\"\")","v":"✅"},{"$f":"IFERROR(IF(VLOOKUP(B10,コントロールシート!$C$395:$AP$455,COLUMN(コントロールシート!AP10)-2,FALSE)=TRUE,\"✅\",\"\"),\"\")","v":""},{"$f":"IFERROR(IF(OFFSET(コントロールシート!AO$464,MATCH($B10,コントロールシート!$AZ$465:$AZ$518,0),0)=TRUE,\"✅\",\"\"),\"\")","v":"✅"},{"$f":"IFERROR(IF(OFFSET(コントロールシート!AP$464,MATCH($B10,コントロールシート!$AZ$465:$AZ$518,0),0)=TRUE,\"✅\",\"\"),\"\")","v":""},{"$f":"IFERROR(IF(OFFSET(コントロールシート!AQ$464,MATCH($B10,コントロールシート!$AZ$465:$AZ$518,0),0)=TRUE,\"✅\",\"\"),\"\")","v":""},{"$f":"IFERROR(OFFSET(コントロールシート!AC$600,MATCH($B10,コントロールシート!$AZ$601:$AZ$654,0),0)&\"\",\"\")","v":""},{"$f":"IFERROR(OFFSET(コントロールシート!AF$600,MATCH($B10,コントロールシート!$AZ$601:$AZ$654,0),0)&\"\",\"\")","v":""},{"$f":"IF(U10<>\"\",\"平常時\",IF(V10<>\"\",IFERROR(OFFSET(コントロールシート!V$682,MATCH($B10,コントロールシート!$AZ$683:$AZ$736,0),0)&\"\",\"\"),IF(W10<>\"\",\"避難後\",\"\")))","v":"平常時"},"従業員のクロストレーニングを実施する(2024年3月までに)",{"$f":"IFERROR(OFFSET(コントロールシート!X$745,MATCH($B10,コントロールシート!$AZ$746:$AZ$799,0),0)&\"\",\"\")","v":""},{"$f":"IFERROR(OFFSET(コントロールシート!$W$819,MATCH(業務!B10,コントロールシート!$AZ$820:$AZ$873,0),0)&\"\",\"\")","v":""},{"$f":"IFERROR(OFFSET(コントロールシート!$AI$819,MATCH(B10,コントロールシート!$AZ$820:$AZ$873,0),0)&\"\",\"\")","v":""},{"$f":"IFERROR(OFFSET(コントロールシート!$AX$1004,MATCH(B10,コントロールシート!$BB$1005:$BB$1217,0),0)&\"\",\"\")","v":"2024年3月までに"},{"$f":"IFERROR(OFFSET(コントロールシート!$AY$1004,MATCH(B10,コントロールシート!$BB$1005:$BB$1217,0),0)&\"\",\"\")","v":"管理部長"},{"$f":"IFERROR(OFFSET(コントロールシート!$AZ$1004,MATCH(B10,コントロールシート!$BB$1005:$BB$1217,0),0)&\"\",\"\")","v":"年内に、業務に必要なスキルの洗い出しを実施する"},{"$f":"IFERROR(OFFSET(コントロールシート!$BA$1004,MATCH(B10,コントロールシート!$BB$1005:$BB$1217,0),0)&\"\",\"\")","v":""},null,{"$f":"IF($Z10=AJ$5,MAX(AJ$5:AJ9)+1,\"\")","v":3},{"$f":"IF($Z10=AK$5,MAX(AK$5:AK9)+1,\"\")","v":""},{"$f":"IF($Z10=AL$5,MAX(AL$5:AL9)+1,\"\")","v":""},{"$f":"IF($Z10=AM$5,MAX(AM$5:AM9)+1,\"\")","v":""},{"$f":"IF($Z10=AN$5,MAX(AN$5:AN9)+1,\"\")","v":""}]
[null,6,{"$f":"IF(S11<>\"\",MAX($C$5:C10)+1,\"\")","v":""},{"$f":"IF(V11<>\"\",MAX($D$5:D10)+1,\"\")","v":""},{"$f":"IF(V11<>\"\",MAX($E$5:E10)+1,\"\")","v":""},null,null,{"$f":"IF(T11<>\"\",MAX($H$5:H10)+1,\"\")","v":2},{"$f":"IF(U11<>\"\",MAX($I$5:I10)+1,\"\")","v":""},null,{"$f":"IFERROR(OFFSET(コントロールシート!AX$394,MATCH(B11,コントロールシート!$AZ$395:$AZ$455,0),0)&\"\",\"\")","v":"物"},{"$f":"IFERROR(OFFSET(コントロールシート!I$394,MATCH(B11,コントロールシート!$AZ$395:$AZ$455,0),0)&\"\",\"\")","v":"事務所"},{"$f":"IFERROR(OFFSET(コントロールシート!N$394,MATCH(B11,コントロールシート!$AZ$395:$AZ$455,0),0)&\"\",\"\")","v":"浸水により、本社は2階まで使用不可"},{"$f":"IFERROR(OFFSET(コントロールシート!V$464,MATCH(B11,コントロールシート!$AZ$465:$AZ$518,0),0)&\"\",\"\")","v":""},{"$f":"IFERROR(OFFSET(コントロールシート!AF$464,MATCH(B11,コントロールシート!$AZ$465:$AZ$518,0),0)&\"\",\"\")","v":""},{"$f":"IFERROR(OFFSET(コントロールシート!AC$524,MATCH($B11,コントロールシート!$AZ$525:$AZ$578,0),0)&\"\",\"\")","v":""},{"$f":"IFERROR(OFFSET(コントロールシート!AF$524,MATCH($B11,コントロールシート!$AZ$525:$AZ$578,0),0)&\"\",\"\")","v":""},{"$f":"IFERROR(OFFSET(コントロールシート!AI$524,MATCH($B11,コントロールシート!$AZ$525:$AZ$578,0),0)&\"\",\"\")","v":""},{"$f":"IFERROR(IF(VLOOKUP(B11,コントロールシート!$C$395:$AP$455,COLUMN(コントロールシート!AO11)-2,FALSE)=TRUE,\"✅\",\"\"),\"\")","v":""},{"$f":"IFERROR(IF(VLOOKUP(B11,コントロールシート!$C$395:$AP$455,COLUMN(コントロールシート!AP11)-2,FALSE)=TRUE,\"✅\",\"\"),\"\")","v":"✅"},{"$f":"IFERROR(IF(OFFSET(コントロールシート!AO$464,MATCH($B11,コントロールシート!$AZ$465:$AZ$518,0),0)=TRUE,\"✅\",\"\"),\"\")","v":""},{"$f":"IFERROR(IF(OFFSET(コントロールシート!AP$464,MATCH($B11,コントロールシート!$AZ$465:$AZ$518,0),0)=TRUE,\"✅\",\"\"),\"\")","v":""},{"$f":"IFERROR(IF(OFFSET(コントロールシート!AQ$464,MATCH($B11,コントロールシート!$AZ$465:$AZ$518,0),0)=TRUE,\"✅\",\"\"),\"\")","v":""},{"$f":"IFERROR(OFFSET(コントロールシート!AC$600,MATCH($B11,コントロールシート!$AZ$601:$AZ$654,0),0)&\"\",\"\")","v":""},{"$f":"IFERROR(OFFSET(コントロールシート!AF$600,MATCH($B11,コントロールシート!$AZ$601:$AZ$654,0),0)&\"\",\"\")","v":""},{"$f":"IF(U11<>\"\",\"平常時\",IF(V11<>\"\",IFERROR(OFFSET(コントロールシート!V$682,MATCH($B11,コントロールシート!$AZ$683:$AZ$736,0),0)&\"\",\"\"),IF(W11<>\"\",\"避難後\",\"\")))","v":""},"",{"$f":"IFERROR(OFFSET(コントロールシート!X$745,MATCH($B11,コントロールシート!$AZ$746:$AZ$799,0),0)&\"\",\"\")","v":""},{"$f":"IFERROR(OFFSET(コントロールシート!$W$819,MATCH(業務!B11,コントロールシート!$AZ$820:$AZ$873,0),0)&\"\",\"\")","v":"3階に事務所を移動"},{"$f":"IFERROR(OFFSET(コントロールシート!$AI$819,MATCH(B11,コントロールシート!$AZ$820:$AZ$873,0),0)&\"\",\"\")","v":"1年以内"},{"$f":"IFERROR(OFFSET(コントロールシート!$AX$1004,MATCH(B11,コントロールシート!$BB$1005:$BB$1217,0),0)&\"\",\"\")","v":""},{"$f":"IFERROR(OFFSET(コントロールシート!$AY$1004,MATCH(B11,コントロールシート!$BB$1005:$BB$1217,0),0)&\"\",\"\")","v":""},{"$f":"IFERROR(OFFSET(コントロールシート!$AZ$1004,MATCH(B11,コントロールシート!$BB$1005:$BB$1217,0),0)&\"\",\"\")","v":""},{"$f":"IFERROR(OFFSET(コントロールシート!$BA$1004,MATCH(B11,コントロールシート!$BB$1005:$BB$1217,0),0)&\"\",\"\")","v":""},null,{"$f":"IF($Z11=AJ$5,MAX(AJ$5:AJ10)+1,\"\")","v":""},{"$f":"IF($Z11=AK$5,MAX(AK$5:AK10)+1,\"\")","v":""},{"$f":"IF($Z11=AL$5,MAX(AL$5:AL10)+1,\"\")","v":""},{"$f":"IF($Z11=AM$5,MAX(AM$5:AM10)+1,\"\")","v":""},{"$f":"IF($Z11=AN$5,MAX(AN$5:AN10)+1,\"\")","v":""}]
[null,7,{"$f":"IF(S12<>\"\",MAX($C$5:C11)+1,\"\")","v":5},{"$f":"IF(V12<>\"\",MAX($D$5:D11)+1,\"\")","v":2},{"$f":"IF(V12<>\"\",MAX($E$5:E11)+1,\"\")","v":2},null,null,{"$f":"IF(T12<>\"\",MAX($H$5:H11)+1,\"\")","v":""},{"$f":"IF(U12<>\"\",MAX($I$5:I11)+1,\"\")","v":""},null,{"$f":"IFERROR(OFFSET(コントロールシート!AX$394,MATCH(B12,コントロールシート!$AZ$395:$AZ$455,0),0)&\"\",\"\")","v":"物"},{"$f":"IFERROR(OFFSET(コントロールシート!I$394,MATCH(B12,コントロールシート!$AZ$395:$AZ$455,0),0)&\"\",\"\")","v":"社用車"},{"$f":"IFERROR(OFFSET(コントロールシート!N$394,MATCH(B12,コントロールシート!$AZ$395:$AZ$455,0),0)&\"\",\"\")","v":"トラックが流出・水没による故障が発生する"},{"$f":"IFERROR(OFFSET(コントロールシート!V$464,MATCH(B12,コントロールシート!$AZ$465:$AZ$518,0),0)&\"\",\"\")","v":"トラックを本社から高台営業所に移動させる"},{"$f":"IFERROR(OFFSET(コントロールシート!AF$464,MATCH(B12,コントロールシート!$AZ$465:$AZ$518,0),0)&\"\",\"\")","v":"復旧対策班"},{"$f":"IFERROR(OFFSET(コントロールシート!AC$524,MATCH($B12,コントロールシート!$AZ$525:$AZ$578,0),0)&\"\",\"\")","v":"30"},{"$f":"IFERROR(OFFSET(コントロールシート!AF$524,MATCH($B12,コントロールシート!$AZ$525:$AZ$578,0),0)&\"\",\"\")","v":"2"},{"$f":"IFERROR(OFFSET(コントロールシート!AI$524,MATCH($B12,コントロールシート!$AZ$525:$AZ$578,0),0)&\"\",\"\")","v":"A"},{"$f":"IFERROR(IF(VLOOKUP(B12,コントロールシート!$C$395:$AP$455,COLUMN(コントロールシート!AO12)-2,FALSE)=TRUE,\"✅\",\"\"),\"\")","v":"✅"},{"$f":"IFERROR(IF(VLOOKUP(B12,コントロールシート!$C$395:$AP$455,COLUMN(コントロールシート!AP12)-2,FALSE)=TRUE,\"✅\",\"\"),\"\")","v":""},{"$f":"IFERROR(IF(OFFSET(コントロールシート!AO$464,MATCH($B12,コントロールシート!$AZ$465:$AZ$518,0),0)=TRUE,\"✅\",\"\"),\"\")","v":""},{"$f":"IFERROR(IF(OFFSET(コントロールシート!AP$464,MATCH($B12,コントロールシート!$AZ$465:$AZ$518,0),0)=TRUE,\"✅\",\"\"),\"\")","v":"✅"},{"$f":"IFERROR(IF(OFFSET(コントロールシート!AQ$464,MATCH($B12,コントロールシート!$AZ$465:$AZ$518,0),0)=TRUE,\"✅\",\"\"),\"\")","v":""},{"$f":"IFERROR(OFFSET(コントロールシート!AC$600,MATCH($B12,コントロールシート!$AZ$601:$AZ$654,0),0)&\"\",\"\")","v":"流域　五郎"},{"$f":"IFERROR(OFFSET(コントロールシート!AF$600,MATCH($B12,コントロールシート!$AZ$601:$AZ$654,0),0)&\"\",\"\")","v":""},{"$f":"IF(U12<>\"\",\"平常時\",IF(V12<>\"\",IFERROR(OFFSET(コントロールシート!V$682,MATCH($B12,コントロールシート!$AZ$683:$AZ$736,0),0)&\"\",\"\"),IF(W12<>\"\",\"避難後\",\"\")))","v":"Lv.3"},"トラックを本社から高台営業所に移動させる(30分)",{"$f":"IFERROR(OFFSET(コントロールシート!X$745,MATCH($B12,コントロールシート!$AZ$746:$AZ$799,0),0)&\"\",\"\")","v":""},{"$f":"IFERROR(OFFSET(コントロールシート!$W$819,MATCH(業務!B12,コントロールシート!$AZ$820:$AZ$873,0),0)&\"\",\"\")","v":""},{"$f":"IFERROR(OFFSET(コントロールシート!$AI$819,MATCH(B12,コントロールシート!$AZ$820:$AZ$873,0),0)&\"\",\"\")","v":""},{"$f":"IFERROR(OFFSET(コントロールシート!$AX$1004,MATCH(B12,コントロールシート!$BB$1005:$BB$1217,0),0)&\"\",\"\")","v":""},{"$f":"IFERROR(OFFSET(コントロールシート!$AY$1004,MATCH(B12,コントロールシート!$BB$1005:$BB$1217,0),0)&\"\",\"\")","v":""},{"$f":"IFERROR(OFFSET(コントロールシート!$AZ$1004,MATCH(B12,コントロールシート!$BB$1005:$BB$1217,0),0)&\"\",\"\")","v":""},{"$f":"IFERROR(OFFSET(コントロールシート!$BA$1004,MATCH(B12,コントロールシート!$BB$1005:$BB$1217,0),0)&\"\",\"\")","v":""},null,{"$f":"IF($Z12=AJ$5,MAX(AJ$5:AJ11)+1,\"\")","v":""},{"$f":"IF($Z12=AK$5,MAX(AK$5:AK11)+1,\"\")","v":""},{"$f":"IF($Z12=AL$5,MAX(AL$5:AL11)+1,\"\")","v":2},{"$f":"IF($Z12=AM$5,MAX(AM$5:AM11)+1,\"\")","v":""},{"$f":"IF($Z12=AN$5,MAX(AN$5:AN11)+1,\"\")","v":""}]
[null,8,{"$f":"IF(S13<>\"\",MAX($C$5:C12)+1,\"\")","v":6},{"$f":"IF(V13<>\"\",MAX($D$5:D12)+1,\"\")","v":3},{"$f":"IF(V13<>\"\",MAX($E$5:E12)+1,\"\")","v":3},null,null,{"$f":"IF(T13<>\"\",MAX($H$5:H12)+1,\"\")","v":""},{"$f":"IF(U13<>\"\",MAX($I$5:I12)+1,\"\")","v":""},null,{"$f":"IFERROR(OFFSET(コントロールシート!AX$394,MATCH(B13,コントロールシート!$AZ$395:$AZ$455,0),0)&\"\",\"\")","v":"物"},{"$f":"IFERROR(OFFSET(コントロールシート!I$394,MATCH(B13,コントロールシート!$AZ$395:$AZ$455,0),0)&\"\",\"\")","v":"原材料"},{"$f":"IFERROR(OFFSET(コントロールシート!N$394,MATCH(B13,コントロールシート!$AZ$395:$AZ$455,0),0)&\"\",\"\")","v":"ガソリンが流出する"},{"$f":"IFERROR(OFFSET(コントロールシート!V$464,MATCH(B13,コントロールシート!$AZ$465:$AZ$518,0),0)&\"\",\"\")","v":"トラックとともに、本社から高台営業所に移動させる"},{"$f":"IFERROR(OFFSET(コントロールシート!AF$464,MATCH(B13,コントロールシート!$AZ$465:$AZ$518,0),0)&\"\",\"\")","v":"復旧対策班"},{"$f":"IFERROR(OFFSET(コントロールシート!AC$524,MATCH($B13,コントロールシート!$AZ$525:$AZ$578,0),0)&\"\",\"\")","v":"30"},{"$f":"IFERROR(OFFSET(コントロールシート!AF$524,MATCH($B13,コントロールシート!$AZ$525:$AZ$578,0),0)&\"\",\"\")","v":"2"},{"$f":"IFERROR(OFFSET(コントロールシート!AI$524,MATCH($B13,コントロールシート!$AZ$525:$AZ$578,0),0)&\"\",\"\")","v":"A"},{"$f":"IFERROR(IF(VLOOKUP(B13,コントロールシート!$C$395:$AP$455,COLUMN(コントロールシート!AO13)-2,FALSE)=TRUE,\"✅\",\"\"),\"\")","v":"✅"},{"$f":"IFERROR(IF(VLOOKUP(B13,コントロールシート!$C$395:$AP$455,COLUMN(コントロールシート!AP13)-2,FALSE)=TRUE,\"✅\",\"\"),\"\")","v":""},{"$f":"IFERROR(IF(OFFSET(コントロールシート!AO$464,MATCH($B13,コントロールシート!$AZ$465:$AZ$518,0),0)=TRUE,\"✅\",\"\"),\"\")","v":""},{"$f":"IFERROR(IF(OFFSET(コントロールシート!AP$464,MATCH($B13,コントロールシート!$AZ$465:$AZ$518,0),0)=TRUE,\"✅\",\"\"),\"\")","v":"✅"},{"$f":"IFERROR(IF(OFFSET(コントロールシート!AQ$464,MATCH($B13,コントロールシート!$AZ$465:$AZ$518,0),0)=TRUE,\"✅\",\"\"),\"\")","v":""},{"$f":"IFERROR(OFFSET(コントロールシート!AC$600,MATCH($B13,コントロールシート!$AZ$601:$AZ$654,0),0)&\"\",\"\")","v":"流域　五郎"},{"$f":"IFERROR(OFFSET(コントロールシート!AF$600,MATCH($B13,コントロールシート!$AZ$601:$AZ$654,0),0)&\"\",\"\")","v":""},{"$f":"IF(U13<>\"\",\"平常時\",IF(V13<>\"\",IFERROR(OFFSET(コントロールシート!V$682,MATCH($B13,コントロールシート!$AZ$683:$AZ$736,0),0)&\"\",\"\"),IF(W13<>\"\",\"避難後\",\"\")))","v":"Lv.3"},"トラックとともに、本社から高台営業所に移動させる(30分)",{"$f":"IFERROR(OFFSET(コントロールシート!X$745,MATCH($B13,コントロールシート!$AZ$746:$AZ$799,0),0)&\"\",\"\")","v":""},{"$f":"IFERROR(OFFSET(コントロールシート!$W$819,MATCH(業務!B13,コントロールシート!$AZ$820:$AZ$873,0),0)&\"\",\"\")","v":""},{"$f":"IFERROR(OFFSET(コントロールシート!$AI$819,MATCH(B13,コントロールシート!$AZ$820:$AZ$873,0),0)&\"\",\"\")","v":""},{"$f":"IFERROR(OFFSET(コントロールシート!$AX$1004,MATCH(B13,コントロールシート!$BB$1005:$BB$1217,0),0)&\"\",\"\")","v":""},{"$f":"IFERROR(OFFSET(コントロールシート!$AY$1004,MATCH(B13,コントロールシート!$BB$1005:$BB$1217,0),0)&\"\",\"\")","v":""},{"$f":"IFERROR(OFFSET(コントロールシート!$AZ$1004,MATCH(B13,コントロールシート!$BB$1005:$BB$1217,0),0)&\"\",\"\")","v":""},{"$f":"IFERROR(OFFSET(コントロールシート!$BA$1004,MATCH(B13,コントロールシート!$BB$1005:$BB$1217,0),0)&\"\",\"\")","v":""},null,{"$f":"IF($Z13=AJ$5,MAX(AJ$5:AJ12)+1,\"\")","v":""},{"$f":"IF($Z13=AK$5,MAX(AK$5:AK12)+1,\"\")","v":""},{"$f":"IF($Z13=AL$5,MAX(AL$5:AL12)+1,\"\")","v":3},{"$f":"IF($Z13=AM$5,MAX(AM$5:AM12)+1,\"\")","v":""},{"$f":"IF($Z13=AN$5,MAX(AN$5:AN12)+1,\"\")","v":""}]
[null,9,{"$f":"IF(S14<>\"\",MAX($C$5:C13)+1,\"\")","v":7},{"$f":"IF(V14<>\"\",MAX($D$5:D13)+1,\"\")","v":4},{"$f":"IF(V14<>\"\",MAX($E$5:E13)+1,\"\")","v":4},null,null,{"$f":"IF(T14<>\"\",MAX($H$5:H13)+1,\"\")","v":""},{"$f":"IF(U14<>\"\",MAX($I$5:I13)+1,\"\")","v":""},null,{"$f":"IFERROR(OFFSET(コントロールシート!AX$394,MATCH(B14,コントロールシート!$AZ$395:$AZ$455,0),0)&\"\",\"\")","v":"物"},{"$f":"IFERROR(OFFSET(コントロールシート!I$394,MATCH(B14,コントロールシート!$AZ$395:$AZ$455,0),0)&\"\",\"\")","v":"その他"},{"$f":"IFERROR(OFFSET(コントロールシート!N$394,MATCH(B14,コントロールシート!$AZ$395:$AZ$455,0),0)&\"\",\"\")","v":"小分けした部品が浸水により流出する"},{"$f":"IFERROR(OFFSET(コントロールシート!V$464,MATCH(B14,コントロールシート!$AZ$465:$AZ$518,0),0)&\"\",\"\")","v":"小分けした薬品を鍵のかかる棚（2階以上）に移動させる"},{"$f":"IFERROR(OFFSET(コントロールシート!AF$464,MATCH(B14,コントロールシート!$AZ$465:$AZ$518,0),0)&\"\",\"\")","v":"復旧対策班"},{"$f":"IFERROR(OFFSET(コントロールシート!AC$524,MATCH($B14,コントロールシート!$AZ$525:$AZ$578,0),0)&\"\",\"\")","v":"30"},{"$f":"IFERROR(OFFSET(コントロールシート!AF$524,MATCH($B14,コントロールシート!$AZ$525:$AZ$578,0),0)&\"\",\"\")","v":"2"},{"$f":"IFERROR(OFFSET(コントロールシート!AI$524,MATCH($B14,コントロールシート!$AZ$525:$AZ$578,0),0)&\"\",\"\")","v":""},{"$f":"IFERROR(IF(VLOOKUP(B14,コントロールシート!$C$395:$AP$455,COLUMN(コントロールシート!AO14)-2,FALSE)=TRUE,\"✅\",\"\"),\"\")","v":"✅"},{"$f":"IFERROR(IF(VLOOKUP(B14,コントロールシート!$C$395:$AP$455,COLUMN(コントロールシート!AP14)-2,FALSE)=TRUE,\"✅\",\"\"),\"\")","v":""},{"$f":"IFERROR(IF(OFFSET(コントロールシート!AO$464,MATCH($B14,コントロールシート!$AZ$465:$AZ$518,0),0)=TRUE,\"✅\",\"\"),\"\")","v":""},{"$f":"IFERROR(IF(OFFSET(コントロールシート!AP$464,MATCH($B14,コントロールシート!$AZ$465:$AZ$518,0),0)=TRUE,\"✅\",\"\"),\"\")","v":"✅"},{"$f":"IFERROR(IF(OFFSET(コントロールシート!AQ$464,MATCH($B14,コントロールシート!$AZ$465:$AZ$518,0),0)=TRUE,\"✅\",\"\"),\"\")","v":""},{"$f":"IFERROR(OFFSET(コントロールシート!AC$600,MATCH($B14,コントロールシート!$AZ$601:$AZ$654,0),0)&\"\",\"\")","v":"流域　五郎"},{"$f":"IFERROR(OFFSET(コントロールシート!AF$600,MATCH($B14,コントロールシート!$AZ$601:$AZ$654,0),0)&\"\",\"\")","v":""},{"$f":"IF(U14<>\"\",\"平常時\",IF(V14<>\"\",IFERROR(OFFSET(コントロールシート!V$682,MATCH($B14,コントロールシート!$AZ$683:$AZ$736,0),0)&\"\",\"\"),IF(W14<>\"\",\"避難後\",\"\")))","v":"Lv.3"},"小分けした薬品を鍵のかかる棚（2階以上）に移動させる(30分)",{"$f":"IFERROR(OFFSET(コントロールシート!X$745,MATCH($B14,コントロールシート!$AZ$746:$AZ$799,0),0)&\"\",\"\")","v":""},{"$f":"IFERROR(OFFSET(コントロールシート!$W$819,MATCH(業務!B14,コントロールシート!$AZ$820:$AZ$873,0),0)&\"\",\"\")","v":""},{"$f":"IFERROR(OFFSET(コントロールシート!$AI$819,MATCH(B14,コントロールシート!$AZ$820:$AZ$873,0),0)&\"\",\"\")","v":""},{"$f":"IFERROR(OFFSET(コントロールシート!$AX$1004,MATCH(B14,コントロールシート!$BB$1005:$BB$1217,0),0)&\"\",\"\")","v":""},{"$f":"IFERROR(OFFSET(コントロールシート!$AY$1004,MATCH(B14,コントロールシート!$BB$1005:$BB$1217,0),0)&\"\",\"\")","v":""},{"$f":"IFERROR(OFFSET(コントロールシート!$AZ$1004,MATCH(B14,コントロールシート!$BB$1005:$BB$1217,0),0)&\"\",\"\")","v":""},{"$f":"IFERROR(OFFSET(コントロールシート!$BA$1004,MATCH(B14,コントロールシート!$BB$1005:$BB$1217,0),0)&\"\",\"\")","v":""},null,{"$f":"IF($Z14=AJ$5,MAX(AJ$5:AJ13)+1,\"\")","v":""},{"$f":"IF($Z14=AK$5,MAX(AK$5:AK13)+1,\"\")","v":""},{"$f":"IF($Z14=AL$5,MAX(AL$5:AL13)+1,\"\")","v":4},{"$f":"IF($Z14=AM$5,MAX(AM$5:AM13)+1,\"\")","v":""},{"$f":"IF($Z14=AN$5,MAX(AN$5:AN13)+1,\"\")","v":""}]
[null,10,{"$f":"IF(S15<>\"\",MAX($C$5:C14)+1,\"\")","v":8},{"$f":"IF(V15<>\"\",MAX($D$5:D14)+1,\"\")","v":5},{"$f":"IF(V15<>\"\",MAX($E$5:E14)+1,\"\")","v":5},null,null,{"$f":"IF(T15<>\"\",MAX($H$5:H14)+1,\"\")","v":""},{"$f":"IF(U15<>\"\",MAX($I$5:I14)+1,\"\")","v":""},null,{"$f":"IFERROR(OFFSET(コントロールシート!AX$394,MATCH(B15,コントロールシート!$AZ$395:$AZ$455,0),0)&\"\",\"\")","v":"情報"},{"$f":"IFERROR(OFFSET(コントロールシート!I$394,MATCH(B15,コントロールシート!$AZ$395:$AZ$455,0),0)&\"\",\"\")","v":"事務処理用PC"},{"$f":"IFERROR(OFFSET(コントロールシート!N$394,MATCH(B15,コントロールシート!$AZ$395:$AZ$455,0),0)&\"\",\"\")","v":"事務処理用PCが使用できなくなる"},{"$f":"IFERROR(OFFSET(コントロールシート!V$464,MATCH(B15,コントロールシート!$AZ$465:$AZ$518,0),0)&\"\",\"\")","v":"避難時にノートPCを持参する"},{"$f":"IFERROR(OFFSET(コントロールシート!AF$464,MATCH(B15,コントロールシート!$AZ$465:$AZ$518,0),0)&\"\",\"\")","v":"システム班"},{"$f":"IFERROR(OFFSET(コントロールシート!AC$524,MATCH($B15,コントロールシート!$AZ$525:$AZ$578,0),0)&\"\",\"\")","v":"5"},{"$f":"IFERROR(OFFSET(コントロールシート!AF$524,MATCH($B15,コントロールシート!$AZ$525:$AZ$578,0),0)&\"\",\"\")","v":"1"},{"$f":"IFERROR(OFFSET(コントロールシート!AI$524,MATCH($B15,コントロールシート!$AZ$525:$AZ$578,0),0)&\"\",\"\")","v":"A"},{"$f":"IFERROR(IF(VLOOKUP(B15,コントロールシート!$C$395:$AP$455,COLUMN(コントロールシート!AO15)-2,FALSE)=TRUE,\"✅\",\"\"),\"\")","v":"✅"},{"$f":"IFERROR(IF(VLOOKUP(B15,コントロールシート!$C$395:$AP$455,COLUMN(コントロールシート!AP15)-2,FALSE)=TRUE,\"✅\",\"\"),\"\")","v":""},{"$f":"IFERROR(IF(OFFSET(コントロールシート!AO$464,MATCH($B15,コントロールシート!$AZ$465:$AZ$518,0),0)=TRUE,\"✅\",\"\"),\"\")","v":""},{"$f":"IFERROR(IF(OFFSET(コントロールシート!AP$464,MATCH($B15,コントロールシート!$AZ$465:$AZ$518,0),0)=TRUE,\"✅\",\"\"),\"\")","v":"✅"},{"$f":"IFERROR(IF(OFFSET(コントロールシート!AQ$464,MATCH($B15,コントロールシート!$AZ$465:$AZ$518,0),0)=TRUE,\"✅\",\"\"),\"\")","v":""},{"$f":"IFERROR(OFFSET(コントロールシート!AC$600,MATCH($B15,コントロールシート!$AZ$601:$AZ$654,0),0)&\"\",\"\")","v":"流域　七郎"},{"$f":"IFERROR(OFFSET(コントロールシート!AF$600,MATCH($B15,コントロールシート!$AZ$601:$AZ$654,0),0)&\"\",\"\")","v":""},{"$f":"IF(U15<>\"\",\"平常時\",IF(V15<>\"\",IFERROR(OFFSET(コントロールシート!V$682,MATCH($B15,コントロールシート!$AZ$683:$AZ$736,0),0)&\"\",\"\"),IF(W15<>\"\",\"避難後\",\"\")))","v":"Lv.3"},"避難時にノートPCを持参する(5分)",{"$f":"IFERROR(OFFSET(コントロールシート!X$745,MATCH($B15,コントロールシート!$AZ$746:$AZ$799,0),0)&\"\",\"\")","v":""},{"$f":"IFERROR(OFFSET(コントロールシート!$W$819,MATCH(業務!B15,コントロールシート!$AZ$820:$AZ$873,0),0)&\"\",\"\")","v":""},{"$f":"IFERROR(OFFSET(コントロールシート!$AI$819,MATCH(B15,コントロールシート!$AZ$820:$AZ$873,0),0)&\"\",\"\")","v":""},{"$f":"IFERROR(OFFSET(コントロールシート!$AX$1004,MATCH(B15,コントロールシート!$BB$1005:$BB$1217,0),0)&\"\",\"\")","v":""},{"$f":"IFERROR(OFFSET(コントロールシート!$AY$1004,MATCH(B15,コントロールシート!$BB$1005:$BB$1217,0),0)&\"\",\"\")","v":""},{"$f":"IFERROR(OFFSET(コントロールシート!$AZ$1004,MATCH(B15,コントロールシート!$BB$1005:$BB$1217,0),0)&\"\",\"\")","v":""},{"$f":"IFERROR(OFFSET(コントロールシート!$BA$1004,MATCH(B15,コントロールシート!$BB$1005:$BB$1217,0),0)&\"\",\"\")","v":""},null,{"$f":"IF($Z15=AJ$5,MAX(AJ$5:AJ14)+1,\"\")","v":""},{"$f":"IF($Z15=AK$5,MAX(AK$5:AK14)+1,\"\")","v":""},{"$f":"IF($Z15=AL$5,MAX(AL$5:AL14)+1,\"\")","v":5},{"$f":"IF($Z15=AM$5,MAX(AM$5:AM14)+1,\"\")","v":""},{"$f":"IF($Z15=AN$5,MAX(AN$5:AN14)+1,\"\")","v":""}]
[null,11,{"$f":"IF(S16<>\"\",MAX($C$5:C15)+1,\"\")","v":9},{"$f":"IF(V16<>\"\",MAX($D$5:D15)+1,\"\")","v":""},{"$f":"IF(V16<>\"\",MAX($E$5:E15)+1,\"\")","v":""},null,null,{"$f":"IF(T16<>\"\",MAX($H$5:H15)+1,\"\")","v":""},{"$f":"IF(U16<>\"\",MAX($I$5:I15)+1,\"\")","v":4},null,{"$f":"IFERROR(OFFSET(コントロールシート!AX$394,MATCH(B16,コントロールシート!$AZ$395:$AZ$455,0),0)&\"\",\"\")","v":"情報"},{"$f":"IFERROR(OFFSET(コントロールシート!I$394,MATCH(B16,コントロールシート!$AZ$395:$AZ$455,0),0)&\"\",\"\")","v":"顧客情報"},{"$f":"IFERROR(OFFSET(コントロールシート!N$394,MATCH(B16,コントロールシート!$AZ$395:$AZ$455,0),0)&\"\",\"\")","v":"PCから顧客情報が呼び出せなくなる"},{"$f":"IFERROR(OFFSET(コントロールシート!V$464,MATCH(B16,コントロールシート!$AZ$465:$AZ$518,0),0)&\"\",\"\")","v":"顧客情報をクラウド上に保存しておく"},{"$f":"IFERROR(OFFSET(コントロールシート!AF$464,MATCH(B16,コントロールシート!$AZ$465:$AZ$518,0),0)&\"\",\"\")","v":""},{"$f":"IFERROR(OFFSET(コントロールシート!AC$524,MATCH($B16,コントロールシート!$AZ$525:$AZ$578,0),0)&\"\",\"\")","v":""},{"$f":"IFERROR(OFFSET(コントロールシート!AF$524,MATCH($B16,コントロールシート!$AZ$525:$AZ$578,0),0)&\"\",\"\")","v":""},{"$f":"IFERROR(OFFSET(コントロールシート!AI$524,MATCH($B16,コントロールシート!$AZ$525:$AZ$578,0),0)&\"\",\"\")","v":""},{"$f":"IFERROR(IF(VLOOKUP(B16,コントロールシート!$C$395:$AP$455,COLUMN(コントロールシート!AO16)-2,FALSE)=TRUE,\"✅\",\"\"),\"\")","v":"✅"},{"$f":"IFERROR(IF(VLOOKUP(B16,コントロールシート!$C$395:$AP$455,COLUMN(コントロールシート!AP16)-2,FALSE)=TRUE,\"✅\",\"\"),\"\")","v":""},{"$f":"IFERROR(IF(OFFSET(コントロールシート!AO$464,MATCH($B16,コントロールシート!$AZ$465:$AZ$518,0),0)=TRUE,\"✅\",\"\"),\"\")","v":"✅"},{"$f":"IFERROR(IF(OFFSET(コントロールシート!AP$464,MATCH($B16,コントロールシート!$AZ$465:$AZ$518,0),0)=TRUE,\"✅\",\"\"),\"\")","v":""},{"$f":"IFERROR(IF(OFFSET(コントロールシート!AQ$464,MATCH($B16,コントロールシート!$AZ$465:$AZ$518,0),0)=TRUE,\"✅\",\"\"),\"\")","v":""},{"$f":"IFERROR(OFFSET(コントロールシート!AC$600,MATCH($B16,コントロールシート!$AZ$601:$AZ$654,0),0)&\"\",\"\")","v":""},{"$f":"IFERROR(OFFSET(コントロールシート!AF$600,MATCH($B16,コントロールシート!$AZ$601:$AZ$654,0),0)&\"\",\"\")","v":""},{"$f":"IF(U16<>\"\",\"平常時\",IF(V16<>\"\",IFERROR(OFFSET(コントロールシート!V$682,MATCH($B16,コントロールシート!$AZ$683:$AZ$736,0),0)&\"\",\"\"),IF(W16<>\"\",\"避難後\",\"\")))","v":"平常時"},"顧客情報をクラウド上に保存しておく(2023年3月までに)",{"$f":"IFERROR(OFFSET(コントロールシート!X$745,MATCH($B16,コントロールシート!$AZ$746:$AZ$799,0),0)&\"\",\"\")","v":""},{"$f":"IFERROR(OFFSET(コントロールシート!$W$819,MATCH(業務!B16,コントロールシート!$AZ$820:$AZ$873,0),0)&\"\",\"\")","v":""},{"$f":"IFERROR(OFFSET(コントロールシート!$AI$819,MATCH(B16,コントロールシート!$AZ$820:$AZ$873,0),0)&\"\",\"\")","v":""},{"$f":"IFERROR(OFFSET(コントロールシート!$AX$1004,MATCH(B16,コントロールシート!$BB$1005:$BB$1217,0),0)&\"\",\"\")","v":"2023年3月までに"},{"$f":"IFERROR(OFFSET(コントロールシート!$AY$1004,MATCH(B16,コントロールシート!$BB$1005:$BB$1217,0),0)&\"\",\"\")","v":"経営企画部長"},{"$f":"IFERROR(OFFSET(コントロールシート!$AZ$1004,MATCH(B16,コントロールシート!$BB$1005:$BB$1217,0),0)&\"\",\"\")","v":"年内に、クラウドストレージの検討を開始する"},{"$f":"IFERROR(OFFSET(コントロールシート!$BA$1004,MATCH(B16,コントロールシート!$BB$1005:$BB$1217,0),0)&\"\",\"\")","v":""},null,{"$f":"IF($Z16=AJ$5,MAX(AJ$5:AJ15)+1,\"\")","v":4},{"$f":"IF($Z16=AK$5,MAX(AK$5:AK15)+1,\"\")","v":""},{"$f":"IF($Z16=AL$5,MAX(AL$5:AL15)+1,\"\")","v":""},{"$f":"IF($Z16=AM$5,MAX(AM$5:AM15)+1,\"\")","v":""},{"$f":"IF($Z16=AN$5,MAX(AN$5:AN15)+1,\"\")","v":""}]
[null,12,{"$f":"IF(S17<>\"\",MAX($C$5:C16)+1,\"\")","v":""},{"$f":"IF(V17<>\"\",MAX($D$5:D16)+1,\"\")","v":""},{"$f":"IF(V17<>\"\",MAX($E$5:E16)+1,\"\")","v":""},null,null,{"$f":"IF(T17<>\"\",MAX($H$5:H16)+1,\"\")","v":""},{"$f":"IF(U17<>\"\",MAX($I$5:I16)+1,\"\")","v":""},null,{"$f":"IFERROR(OFFSET(コントロールシート!AX$394,MATCH(B17,コントロールシート!$AZ$395:$AZ$455,0),0)&\"\",\"\")","v":""},{"$f":"IFERROR(OFFSET(コントロールシート!I$394,MATCH(B17,コントロールシート!$AZ$395:$AZ$455,0),0)&\"\",\"\")","v":""},{"$f":"IFERROR(OFFSET(コントロールシート!N$394,MATCH(B17,コントロールシート!$AZ$395:$AZ$455,0),0)&\"\",\"\")","v":""},{"$f":"IFERROR(OFFSET(コントロールシート!V$464,MATCH(B17,コントロールシート!$AZ$465:$AZ$518,0),0)&\"\",\"\")","v":""},{"$f":"IFERROR(OFFSET(コントロールシート!AF$464,MATCH(B17,コントロールシート!$AZ$465:$AZ$518,0),0)&\"\",\"\")","v":""},{"$f":"IFERROR(OFFSET(コントロールシート!AC$524,MATCH($B17,コントロールシート!$AZ$525:$AZ$578,0),0)&\"\",\"\")","v":""},{"$f":"IFERROR(OFFSET(コントロールシート!AF$524,MATCH($B17,コントロールシート!$AZ$525:$AZ$578,0),0)&\"\",\"\")","v":""},{"$f":"IFERROR(OFFSET(コントロールシート!AI$524,MATCH($B17,コントロールシート!$AZ$525:$AZ$578,0),0)&\"\",\"\")","v":""},{"$f":"IFERROR(IF(VLOOKUP(B17,コントロールシート!$C$395:$AP$455,COLUMN(コントロールシート!AO17)-2,FALSE)=TRUE,\"✅\",\"\"),\"\")","v":""},{"$f":"IFERROR(IF(VLOOKUP(B17,コントロールシート!$C$395:$AP$455,COLUMN(コントロールシート!AP17)-2,FALSE)=TRUE,\"✅\",\"\"),\"\")","v":""},{"$f":"IFERROR(IF(OFFSET(コントロールシート!AO$464,MATCH($B17,コントロールシート!$AZ$465:$AZ$518,0),0)=TRUE,\"✅\",\"\"),\"\")","v":""},{"$f":"IFERROR(IF(OFFSET(コントロールシート!AP$464,MATCH($B17,コントロールシート!$AZ$465:$AZ$518,0),0)=TRUE,\"✅\",\"\"),\"\")","v":""},{"$f":"IFERROR(IF(OFFSET(コントロールシート!AQ$464,MATCH($B17,コントロールシート!$AZ$465:$AZ$518,0),0)=TRUE,\"✅\",\"\"),\"\")","v":""},{"$f":"IFERROR(OFFSET(コントロールシート!AC$600,MATCH($B17,コントロールシート!$AZ$601:$AZ$654,0),0)&\"\",\"\")","v":""},{"$f":"IFERROR(OFFSET(コントロールシート!AF$600,MATCH($B17,コントロールシート!$AZ$601:$AZ$654,0),0)&\"\",\"\")","v":""},{"$f":"IF(U17<>\"\",\"平常時\",IF(V17<>\"\",IFERROR(OFFSET(コントロールシート!V$682,MATCH($B17,コントロールシート!$AZ$683:$AZ$736,0),0)&\"\",\"\"),IF(W17<>\"\",\"避難後\",\"\")))","v":""},"",{"$f":"IFERROR(OFFSET(コントロールシート!X$745,MATCH($B17,コントロールシート!$AZ$746:$AZ$799,0),0)&\"\",\"\")","v":""},{"$f":"IFERROR(OFFSET(コントロールシート!$W$819,MATCH(業務!B17,コントロールシート!$AZ$820:$AZ$873,0),0)&\"\",\"\")","v":""},{"$f":"IFERROR(OFFSET(コントロールシート!$AI$819,MATCH(B17,コントロールシート!$AZ$820:$AZ$873,0),0)&\"\",\"\")","v":""},{"$f":"IFERROR(OFFSET(コントロールシート!$AX$1004,MATCH(B17,コントロールシート!$BB$1005:$BB$1217,0),0)&\"\",\"\")","v":""},{"$f":"IFERROR(OFFSET(コントロールシート!$AY$1004,MATCH(B17,コントロールシート!$BB$1005:$BB$1217,0),0)&\"\",\"\")","v":""},{"$f":"IFERROR(OFFSET(コントロールシート!$AZ$1004,MATCH(B17,コントロールシート!$BB$1005:$BB$1217,0),0)&\"\",\"\")","v":""},{"$f":"IFERROR(OFFSET(コントロールシート!$BA$1004,MATCH(B17,コントロールシート!$BB$1005:$BB$1217,0),0)&\"\",\"\")","v":""},null,{"$f":"IF($Z17=AJ$5,MAX(AJ$5:AJ16)+1,\"\")","v":""},{"$f":"IF($Z17=AK$5,MAX(AK$5:AK16)+1,\"\")","v":""},{"$f":"IF($Z17=AL$5,MAX(AL$5:AL16)+1,\"\")","v":""},{"$f":"IF($Z17=AM$5,MAX(AM$5:AM16)+1,\"\")","v":""},{"$f":"IF($Z17=AN$5,MAX(AN$5:AN16)+1,\"\")","v":""}]
[null,13,{"$f":"IF(S18<>\"\",MAX($C$5:C17)+1,\"\")","v":""},{"$f":"IF(V18<>\"\",MAX($D$5:D17)+1,\"\")","v":""},{"$f":"IF(V18<>\"\",MAX($E$5:E17)+1,\"\")","v":""},null,null,{"$f":"IF(T18<>\"\",MAX($H$5:H17)+1,\"\")","v":""},{"$f":"IF(U18<>\"\",MAX($I$5:I17)+1,\"\")","v":""},null,{"$f":"IFERROR(OFFSET(コントロールシート!AX$394,MATCH(B18,コントロールシート!$AZ$395:$AZ$455,0),0)&\"\",\"\")","v":""},{"$f":"IFERROR(OFFSET(コントロールシート!I$394,MATCH(B18,コントロールシート!$AZ$395:$AZ$455,0),0)&\"\",\"\")","v":""},{"$f":"IFERROR(OFFSET(コントロールシート!N$394,MATCH(B18,コントロールシート!$AZ$395:$AZ$455,0),0)&\"\",\"\")","v":""},{"$f":"IFERROR(OFFSET(コントロールシート!V$464,MATCH(B18,コントロールシート!$AZ$465:$AZ$518,0),0)&\"\",\"\")","v":""},{"$f":"IFERROR(OFFSET(コントロールシート!AF$464,MATCH(B18,コントロールシート!$AZ$465:$AZ$518,0),0)&\"\",\"\")","v":""},{"$f":"IFERROR(OFFSET(コントロールシート!AC$524,MATCH($B18,コントロールシート!$AZ$525:$AZ$578,0),0)&\"\",\"\")","v":""},{"$f":"IFERROR(OFFSET(コントロールシート!AF$524,MATCH($B18,コントロールシート!$AZ$525:$AZ$578,0),0)&\"\",\"\")","v":""},{"$f":"IFERROR(OFFSET(コントロールシート!AI$524,MATCH($B18,コントロールシート!$AZ$525:$AZ$578,0),0)&\"\",\"\")","v":""},{"$f":"IFERROR(IF(VLOOKUP(B18,コントロールシート!$C$395:$AP$455,COLUMN(コントロールシート!AO18)-2,FALSE)=TRUE,\"✅\",\"\"),\"\")","v":""},{"$f":"IFERROR(IF(VLOOKUP(B18,コントロールシート!$C$395:$AP$455,COLUMN(コントロールシート!AP18)-2,FALSE)=TRUE,\"✅\",\"\"),\"\")","v":""},{"$f":"IFERROR(IF(OFFSET(コントロールシート!AO$464,MATCH($B18,コントロールシート!$AZ$465:$AZ$518,0),0)=TRUE,\"✅\",\"\"),\"\")","v":""},{"$f":"IFERROR(IF(OFFSET(コントロールシート!AP$464,MATCH($B18,コントロールシート!$AZ$465:$AZ$518,0),0)=TRUE,\"✅\",\"\"),\"\")","v":""},{"$f":"IFERROR(IF(OFFSET(コントロールシート!AQ$464,MATCH($B18,コントロールシート!$AZ$465:$AZ$518,0),0)=TRUE,\"✅\",\"\"),\"\")","v":""},{"$f":"IFERROR(OFFSET(コントロールシート!AC$600,MATCH($B18,コントロールシート!$AZ$601:$AZ$654,0),0)&\"\",\"\")","v":""},{"$f":"IFERROR(OFFSET(コントロールシート!AF$600,MATCH($B18,コントロールシート!$AZ$601:$AZ$654,0),0)&\"\",\"\")","v":""},{"$f":"IF(U18<>\"\",\"平常時\",IF(V18<>\"\",IFERROR(OFFSET(コントロールシート!V$682,MATCH($B18,コントロールシート!$AZ$683:$AZ$736,0),0)&\"\",\"\"),IF(W18<>\"\",\"避難後\",\"\")))","v":""},"",{"$f":"IFERROR(OFFSET(コントロールシート!X$745,MATCH($B18,コントロールシート!$AZ$746:$AZ$799,0),0)&\"\",\"\")","v":""},{"$f":"IFERROR(OFFSET(コントロールシート!$W$819,MATCH(業務!B18,コントロールシート!$AZ$820:$AZ$873,0),0)&\"\",\"\")","v":""},{"$f":"IFERROR(OFFSET(コントロールシート!$AI$819,MATCH(B18,コントロールシート!$AZ$820:$AZ$873,0),0)&\"\",\"\")","v":""},{"$f":"IFERROR(OFFSET(コントロールシート!$AX$1004,MATCH(B18,コントロールシート!$BB$1005:$BB$1217,0),0)&\"\",\"\")","v":""},{"$f":"IFERROR(OFFSET(コントロールシート!$AY$1004,MATCH(B18,コントロールシート!$BB$1005:$BB$1217,0),0)&\"\",\"\")","v":""},{"$f":"IFERROR(OFFSET(コントロールシート!$AZ$1004,MATCH(B18,コントロールシート!$BB$1005:$BB$1217,0),0)&\"\",\"\")","v":""},{"$f":"IFERROR(OFFSET(コントロールシート!$BA$1004,MATCH(B18,コントロールシート!$BB$1005:$BB$1217,0),0)&\"\",\"\")","v":""},null,{"$f":"IF($Z18=AJ$5,MAX(AJ$5:AJ17)+1,\"\")","v":""},{"$f":"IF($Z18=AK$5,MAX(AK$5:AK17)+1,\"\")","v":""},{"$f":"IF($Z18=AL$5,MAX(AL$5:AL17)+1,\"\")","v":""},{"$f":"IF($Z18=AM$5,MAX(AM$5:AM17)+1,\"\")","v":""},{"$f":"IF($Z18=AN$5,MAX(AN$5:AN17)+1,\"\")","v":""}]
[null,14,{"$f":"IF(S19<>\"\",MAX($C$5:C18)+1,\"\")","v":""},{"$f":"IF(V19<>\"\",MAX($D$5:D18)+1,\"\")","v":""},{"$f":"IF(V19<>\"\",MAX($E$5:E18)+1,\"\")","v":""},null,null,{"$f":"IF(T19<>\"\",MAX($H$5:H18)+1,\"\")","v":""},{"$f":"IF(U19<>\"\",MAX($I$5:I18)+1,\"\")","v":""},null,{"$f":"IFERROR(OFFSET(コントロールシート!AX$394,MATCH(B19,コントロールシート!$AZ$395:$AZ$455,0),0)&\"\",\"\")","v":""},{"$f":"IFERROR(OFFSET(コントロールシート!I$394,MATCH(B19,コントロールシート!$AZ$395:$AZ$455,0),0)&\"\",\"\")","v":""},{"$f":"IFERROR(OFFSET(コントロールシート!N$394,MATCH(B19,コントロールシート!$AZ$395:$AZ$455,0),0)&\"\",\"\")","v":""},{"$f":"IFERROR(OFFSET(コントロールシート!V$464,MATCH(B19,コントロールシート!$AZ$465:$AZ$518,0),0)&\"\",\"\")","v":""},{"$f":"IFERROR(OFFSET(コントロールシート!AF$464,MATCH(B19,コントロールシート!$AZ$465:$AZ$518,0),0)&\"\",\"\")","v":""},{"$f":"IFERROR(OFFSET(コントロールシート!AC$524,MATCH($B19,コントロールシート!$AZ$525:$AZ$578,0),0)&\"\",\"\")","v":""},{"$f":"IFERROR(OFFSET(コントロールシート!AF$524,MATCH($B19,コントロールシート!$AZ$525:$AZ$578,0),0)&\"\",\"\")","v":""},{"$f":"IFERROR(OFFSET(コントロールシート!AI$524,MATCH($B19,コントロールシート!$AZ$525:$AZ$578,0),0)&\"\",\"\")","v":""},{"$f":"IFERROR(IF(VLOOKUP(B19,コントロールシート!$C$395:$AP$455,COLUMN(コントロールシート!AO19)-2,FALSE)=TRUE,\"✅\",\"\"),\"\")","v":""},{"$f":"IFERROR(IF(VLOOKUP(B19,コントロールシート!$C$395:$AP$455,COLUMN(コントロールシート!AP19)-2,FALSE)=TRUE,\"✅\",\"\"),\"\")","v":""},{"$f":"IFERROR(IF(OFFSET(コントロールシート!AO$464,MATCH($B19,コントロールシート!$AZ$465:$AZ$518,0),0)=TRUE,\"✅\",\"\"),\"\")","v":""},{"$f":"IFERROR(IF(OFFSET(コントロールシート!AP$464,MATCH($B19,コントロールシート!$AZ$465:$AZ$518,0),0)=TRUE,\"✅\",\"\"),\"\")","v":""},{"$f":"IFERROR(IF(OFFSET(コントロールシート!AQ$464,MATCH($B19,コントロールシート!$AZ$465:$AZ$518,0),0)=TRUE,\"✅\",\"\"),\"\")","v":""},{"$f":"IFERROR(OFFSET(コントロールシート!AC$600,MATCH($B19,コントロールシート!$AZ$601:$AZ$654,0),0)&\"\",\"\")","v":""},{"$f":"IFERROR(OFFSET(コントロールシート!AF$600,MATCH($B19,コントロールシート!$AZ$601:$AZ$654,0),0)&\"\",\"\")","v":""},{"$f":"IF(U19<>\"\",\"平常時\",IF(V19<>\"\",IFERROR(OFFSET(コントロールシート!V$682,MATCH($B19,コントロールシート!$AZ$683:$AZ$736,0),0)&\"\",\"\"),IF(W19<>\"\",\"避難後\",\"\")))","v":""},"",{"$f":"IFERROR(OFFSET(コントロールシート!X$745,MATCH($B19,コントロールシート!$AZ$746:$AZ$799,0),0)&\"\",\"\")","v":""},{"$f":"IFERROR(OFFSET(コントロールシート!$W$819,MATCH(業務!B19,コントロールシート!$AZ$820:$AZ$873,0),0)&\"\",\"\")","v":""},{"$f":"IFERROR(OFFSET(コントロールシート!$AI$819,MATCH(B19,コントロールシート!$AZ$820:$AZ$873,0),0)&\"\",\"\")","v":""},{"$f":"IFERROR(OFFSET(コントロールシート!$AX$1004,MATCH(B19,コントロールシート!$BB$1005:$BB$1217,0),0)&\"\",\"\")","v":""},{"$f":"IFERROR(OFFSET(コントロールシート!$AY$1004,MATCH(B19,コントロールシート!$BB$1005:$BB$1217,0),0)&\"\",\"\")","v":""},{"$f":"IFERROR(OFFSET(コントロールシート!$AZ$1004,MATCH(B19,コントロールシート!$BB$1005:$BB$1217,0),0)&\"\",\"\")","v":""},{"$f":"IFERROR(OFFSET(コントロールシート!$BA$1004,MATCH(B19,コントロールシート!$BB$1005:$BB$1217,0),0)&\"\",\"\")","v":""},null,{"$f":"IF($Z19=AJ$5,MAX(AJ$5:AJ18)+1,\"\")","v":""},{"$f":"IF($Z19=AK$5,MAX(AK$5:AK18)+1,\"\")","v":""},{"$f":"IF($Z19=AL$5,MAX(AL$5:AL18)+1,\"\")","v":""},{"$f":"IF($Z19=AM$5,MAX(AM$5:AM18)+1,\"\")","v":""},{"$f":"IF($Z19=AN$5,MAX(AN$5:AN18)+1,\"\")","v":""}]
[null,15,{"$f":"IF(S20<>\"\",MAX($C$5:C19)+1,\"\")","v":""},{"$f":"IF(V20<>\"\",MAX($D$5:D19)+1,\"\")","v":""},{"$f":"IF(V20<>\"\",MAX($E$5:E19)+1,\"\")","v":""},null,null,{"$f":"IF(T20<>\"\",MAX($H$5:H19)+1,\"\")","v":""},{"$f":"IF(U20<>\"\",MAX($I$5:I19)+1,\"\")","v":""},null,{"$f":"IFERROR(OFFSET(コントロールシート!AX$394,MATCH(B20,コントロールシート!$AZ$395:$AZ$455,0),0)&\"\",\"\")","v":""},{"$f":"IFERROR(OFFSET(コントロールシート!I$394,MATCH(B20,コントロールシート!$AZ$395:$AZ$455,0),0)&\"\",\"\")","v":""},{"$f":"IFERROR(OFFSET(コントロールシート!N$394,MATCH(B20,コントロールシート!$AZ$395:$AZ$455,0),0)&\"\",\"\")","v":""},{"$f":"IFERROR(OFFSET(コントロールシート!V$464,MATCH(B20,コントロールシート!$AZ$465:$AZ$518,0),0)&\"\",\"\")","v":""},{"$f":"IFERROR(OFFSET(コントロールシート!AF$464,MATCH(B20,コントロールシート!$AZ$465:$AZ$518,0),0)&\"\",\"\")","v":""},{"$f":"IFERROR(OFFSET(コントロールシート!AC$524,MATCH($B20,コントロールシート!$AZ$525:$AZ$578,0),0)&\"\",\"\")","v":""},{"$f":"IFERROR(OFFSET(コントロールシート!AF$524,MATCH($B20,コントロールシート!$AZ$525:$AZ$578,0),0)&\"\",\"\")","v":""},{"$f":"IFERROR(OFFSET(コントロールシート!AI$524,MATCH($B20,コントロールシート!$AZ$525:$AZ$578,0),0)&\"\",\"\")","v":""},{"$f":"IFERROR(IF(VLOOKUP(B20,コントロールシート!$C$395:$AP$455,COLUMN(コントロールシート!AO20)-2,FALSE)=TRUE,\"✅\",\"\"),\"\")","v":""},{"$f":"IFERROR(IF(VLOOKUP(B20,コントロールシート!$C$395:$AP$455,COLUMN(コントロールシート!AP20)-2,FALSE)=TRUE,\"✅\",\"\"),\"\")","v":""},{"$f":"IFERROR(IF(OFFSET(コントロールシート!AO$464,MATCH($B20,コントロールシート!$AZ$465:$AZ$518,0),0)=TRUE,\"✅\",\"\"),\"\")","v":""},{"$f":"IFERROR(IF(OFFSET(コントロールシート!AP$464,MATCH($B20,コントロールシート!$AZ$465:$AZ$518,0),0)=TRUE,\"✅\",\"\"),\"\")","v":""},{"$f":"IFERROR(IF(OFFSET(コントロールシート!AQ$464,MATCH($B20,コントロールシート!$AZ$465:$AZ$518,0),0)=TRUE,\"✅\",\"\"),\"\")","v":""},{"$f":"IFERROR(OFFSET(コントロールシート!AC$600,MATCH($B20,コントロールシート!$AZ$601:$AZ$654,0),0)&\"\",\"\")","v":""},{"$f":"IFERROR(OFFSET(コントロールシート!AF$600,MATCH($B20,コントロールシート!$AZ$601:$AZ$654,0),0)&\"\",\"\")","v":""},{"$f":"IF(U20<>\"\",\"平常時\",IF(V20<>\"\",IFERROR(OFFSET(コントロールシート!V$682,MATCH($B20,コントロールシート!$AZ$683:$AZ$736,0),0)&\"\",\"\"),IF(W20<>\"\",\"避難後\",\"\")))","v":""},"",{"$f":"IFERROR(OFFSET(コントロールシート!X$745,MATCH($B20,コントロールシート!$AZ$746:$AZ$799,0),0)&\"\",\"\")","v":""},{"$f":"IFERROR(OFFSET(コントロールシート!$W$819,MATCH(業務!B20,コントロールシート!$AZ$820:$AZ$873,0),0)&\"\",\"\")","v":""},{"$f":"IFERROR(OFFSET(コントロールシート!$AI$819,MATCH(B20,コントロールシート!$AZ$820:$AZ$873,0),0)&\"\",\"\")","v":""},{"$f":"IFERROR(OFFSET(コントロールシート!$AX$1004,MATCH(B20,コントロールシート!$BB$1005:$BB$1217,0),0)&\"\",\"\")","v":""},{"$f":"IFERROR(OFFSET(コントロールシート!$AY$1004,MATCH(B20,コントロールシート!$BB$1005:$BB$1217,0),0)&\"\",\"\")","v":""},{"$f":"IFERROR(OFFSET(コントロールシート!$AZ$1004,MATCH(B20,コントロールシート!$BB$1005:$BB$1217,0),0)&\"\",\"\")","v":""},{"$f":"IFERROR(OFFSET(コントロールシート!$BA$1004,MATCH(B20,コントロールシート!$BB$1005:$BB$1217,0),0)&\"\",\"\")","v":""},null,{"$f":"IF($Z20=AJ$5,MAX(AJ$5:AJ19)+1,\"\")","v":""},{"$f":"IF($Z20=AK$5,MAX(AK$5:AK19)+1,\"\")","v":""},{"$f":"IF($Z20=AL$5,MAX(AL$5:AL19)+1,\"\")","v":""},{"$f":"IF($Z20=AM$5,MAX(AM$5:AM19)+1,\"\")","v":""},{"$f":"IF($Z20=AN$5,MAX(AN$5:AN19)+1,\"\")","v":""}]
[null,16,{"$f":"IF(S21<>\"\",MAX($C$5:C20)+1,\"\")","v":""},{"$f":"IF(V21<>\"\",MAX($D$5:D20)+1,\"\")","v":""},{"$f":"IF(V21<>\"\",MAX($E$5:E20)+1,\"\")","v":""},null,null,{"$f":"IF(T21<>\"\",MAX($H$5:H20)+1,\"\")","v":""},{"$f":"IF(U21<>\"\",MAX($I$5:I20)+1,\"\")","v":""},null,{"$f":"IFERROR(OFFSET(コントロールシート!AX$394,MATCH(B21,コントロールシート!$AZ$395:$AZ$455,0),0)&\"\",\"\")","v":""},{"$f":"IFERROR(OFFSET(コントロールシート!I$394,MATCH(B21,コントロールシート!$AZ$395:$AZ$455,0),0)&\"\",\"\")","v":""},{"$f":"IFERROR(OFFSET(コントロールシート!N$394,MATCH(B21,コントロールシート!$AZ$395:$AZ$455,0),0)&\"\",\"\")","v":""},{"$f":"IFERROR(OFFSET(コントロールシート!V$464,MATCH(B21,コントロールシート!$AZ$465:$AZ$518,0),0)&\"\",\"\")","v":""},{"$f":"IFERROR(OFFSET(コントロールシート!AF$464,MATCH(B21,コントロールシート!$AZ$465:$AZ$518,0),0)&\"\",\"\")","v":""},{"$f":"IFERROR(OFFSET(コントロールシート!AC$524,MATCH($B21,コントロールシート!$AZ$525:$AZ$578,0),0)&\"\",\"\")","v":""},{"$f":"IFERROR(OFFSET(コントロールシート!AF$524,MATCH($B21,コントロールシート!$AZ$525:$AZ$578,0),0)&\"\",\"\")","v":""},{"$f":"IFERROR(OFFSET(コントロールシート!AI$524,MATCH($B21,コントロールシート!$AZ$525:$AZ$578,0),0)&\"\",\"\")","v":""},{"$f":"IFERROR(IF(VLOOKUP(B21,コントロールシート!$C$395:$AP$455,COLUMN(コントロールシート!AO21)-2,FALSE)=TRUE,\"✅\",\"\"),\"\")","v":""},{"$f":"IFERROR(IF(VLOOKUP(B21,コントロールシート!$C$395:$AP$455,COLUMN(コントロールシート!AP21)-2,FALSE)=TRUE,\"✅\",\"\"),\"\")","v":""},{"$f":"IFERROR(IF(OFFSET(コントロールシート!AO$464,MATCH($B21,コントロールシート!$AZ$465:$AZ$518,0),0)=TRUE,\"✅\",\"\"),\"\")","v":""},{"$f":"IFERROR(IF(OFFSET(コントロールシート!AP$464,MATCH($B21,コントロールシート!$AZ$465:$AZ$518,0),0)=TRUE,\"✅\",\"\"),\"\")","v":""},{"$f":"IFERROR(IF(OFFSET(コントロールシート!AQ$464,MATCH($B21,コントロールシート!$AZ$465:$AZ$518,0),0)=TRUE,\"✅\",\"\"),\"\")","v":""},{"$f":"IFERROR(OFFSET(コントロールシート!AC$600,MATCH($B21,コントロールシート!$AZ$601:$AZ$654,0),0)&\"\",\"\")","v":""},{"$f":"IFERROR(OFFSET(コントロールシート!AF$600,MATCH($B21,コントロールシート!$AZ$601:$AZ$654,0),0)&\"\",\"\")","v":""},{"$f":"IF(U21<>\"\",\"平常時\",IF(V21<>\"\",IFERROR(OFFSET(コントロールシート!V$682,MATCH($B21,コントロールシート!$AZ$683:$AZ$736,0),0)&\"\",\"\"),IF(W21<>\"\",\"避難後\",\"\")))","v":""},"",{"$f":"IFERROR(OFFSET(コントロールシート!X$745,MATCH($B21,コントロールシート!$AZ$746:$AZ$799,0),0)&\"\",\"\")","v":""},{"$f":"IFERROR(OFFSET(コントロールシート!$W$819,MATCH(業務!B21,コントロールシート!$AZ$820:$AZ$873,0),0)&\"\",\"\")","v":""},{"$f":"IFERROR(OFFSET(コントロールシート!$AI$819,MATCH(B21,コントロールシート!$AZ$820:$AZ$873,0),0)&\"\",\"\")","v":""},{"$f":"IFERROR(OFFSET(コントロールシート!$AX$1004,MATCH(B21,コントロールシート!$BB$1005:$BB$1217,0),0)&\"\",\"\")","v":""},{"$f":"IFERROR(OFFSET(コントロールシート!$AY$1004,MATCH(B21,コントロールシート!$BB$1005:$BB$1217,0),0)&\"\",\"\")","v":""},{"$f":"IFERROR(OFFSET(コントロールシート!$AZ$1004,MATCH(B21,コントロールシート!$BB$1005:$BB$1217,0),0)&\"\",\"\")","v":""},{"$f":"IFERROR(OFFSET(コントロールシート!$BA$1004,MATCH(B21,コントロールシート!$BB$1005:$BB$1217,0),0)&\"\",\"\")","v":""},null,{"$f":"IF($Z21=AJ$5,MAX(AJ$5:AJ20)+1,\"\")","v":""},{"$f":"IF($Z21=AK$5,MAX(AK$5:AK20)+1,\"\")","v":""},{"$f":"IF($Z21=AL$5,MAX(AL$5:AL20)+1,\"\")","v":""},{"$f":"IF($Z21=AM$5,MAX(AM$5:AM20)+1,\"\")","v":""},{"$f":"IF($Z21=AN$5,MAX(AN$5:AN20)+1,\"\")","v":""}]
[null,17,{"$f":"IF(S22<>\"\",MAX($C$5:C21)+1,\"\")","v":""},{"$f":"IF(V22<>\"\",MAX($D$5:D21)+1,\"\")","v":""},{"$f":"IF(V22<>\"\",MAX($E$5:E21)+1,\"\")","v":""},null,null,{"$f":"IF(T22<>\"\",MAX($H$5:H21)+1,\"\")","v":""},{"$f":"IF(U22<>\"\",MAX($I$5:I21)+1,\"\")","v":""},null,{"$f":"IFERROR(OFFSET(コントロールシート!AX$394,MATCH(B22,コントロールシート!$AZ$395:$AZ$455,0),0)&\"\",\"\")","v":""},{"$f":"IFERROR(OFFSET(コントロールシート!I$394,MATCH(B22,コントロールシート!$AZ$395:$AZ$455,0),0)&\"\",\"\")","v":""},{"$f":"IFERROR(OFFSET(コントロールシート!N$394,MATCH(B22,コントロールシート!$AZ$395:$AZ$455,0),0)&\"\",\"\")","v":""},{"$f":"IFERROR(OFFSET(コントロールシート!V$464,MATCH(B22,コントロールシート!$AZ$465:$AZ$518,0),0)&\"\",\"\")","v":""},{"$f":"IFERROR(OFFSET(コントロールシート!AF$464,MATCH(B22,コントロールシート!$AZ$465:$AZ$518,0),0)&\"\",\"\")","v":""},{"$f":"IFERROR(OFFSET(コントロールシート!AC$524,MATCH($B22,コントロールシート!$AZ$525:$AZ$578,0),0)&\"\",\"\")","v":""},{"$f":"IFERROR(OFFSET(コントロールシート!AF$524,MATCH($B22,コントロールシート!$AZ$525:$AZ$578,0),0)&\"\",\"\")","v":""},{"$f":"IFERROR(OFFSET(コントロールシート!AI$524,MATCH($B22,コントロールシート!$AZ$525:$AZ$578,0),0)&\"\",\"\")","v":""},{"$f":"IFERROR(IF(VLOOKUP(B22,コントロールシート!$C$395:$AP$455,COLUMN(コントロールシート!AO22)-2,FALSE)=TRUE,\"✅\",\"\"),\"\")","v":""},{"$f":"IFERROR(IF(VLOOKUP(B22,コントロールシート!$C$395:$AP$455,COLUMN(コントロールシート!AP22)-2,FALSE)=TRUE,\"✅\",\"\"),\"\")","v":""},{"$f":"IFERROR(IF(OFFSET(コントロールシート!AO$464,MATCH($B22,コントロールシート!$AZ$465:$AZ$518,0),0)=TRUE,\"✅\",\"\"),\"\")","v":""},{"$f":"IFERROR(IF(OFFSET(コントロールシート!AP$464,MATCH($B22,コントロールシート!$AZ$465:$AZ$518,0),0)=TRUE,\"✅\",\"\"),\"\")","v":""},{"$f":"IFERROR(IF(OFFSET(コントロールシート!AQ$464,MATCH($B22,コントロールシート!$AZ$465:$AZ$518,0),0)=TRUE,\"✅\",\"\"),\"\")","v":""},{"$f":"IFERROR(OFFSET(コントロールシート!AC$600,MATCH($B22,コントロールシート!$AZ$601:$AZ$654,0),0)&\"\",\"\")","v":""},{"$f":"IFERROR(OFFSET(コントロールシート!AF$600,MATCH($B22,コントロールシート!$AZ$601:$AZ$654,0),0)&\"\",\"\")","v":""},{"$f":"IF(U22<>\"\",\"平常時\",IF(V22<>\"\",IFERROR(OFFSET(コントロールシート!V$682,MATCH($B22,コントロールシート!$AZ$683:$AZ$736,0),0)&\"\",\"\"),IF(W22<>\"\",\"避難後\",\"\")))","v":""},"",{"$f":"IFERROR(OFFSET(コントロールシート!X$745,MATCH($B22,コントロールシート!$AZ$746:$AZ$799,0),0)&\"\",\"\")","v":""},{"$f":"IFERROR(OFFSET(コントロールシート!$W$819,MATCH(業務!B22,コントロールシート!$AZ$820:$AZ$873,0),0)&\"\",\"\")","v":""},{"$f":"IFERROR(OFFSET(コントロールシート!$AI$819,MATCH(B22,コントロールシート!$AZ$820:$AZ$873,0),0)&\"\",\"\")","v":""},{"$f":"IFERROR(OFFSET(コントロールシート!$AX$1004,MATCH(B22,コントロールシート!$BB$1005:$BB$1217,0),0)&\"\",\"\")","v":""},{"$f":"IFERROR(OFFSET(コントロールシート!$AY$1004,MATCH(B22,コントロールシート!$BB$1005:$BB$1217,0),0)&\"\",\"\")","v":""},{"$f":"IFERROR(OFFSET(コントロールシート!$AZ$1004,MATCH(B22,コントロールシート!$BB$1005:$BB$1217,0),0)&\"\",\"\")","v":""},{"$f":"IFERROR(OFFSET(コントロールシート!$BA$1004,MATCH(B22,コントロールシート!$BB$1005:$BB$1217,0),0)&\"\",\"\")","v":""},null,{"$f":"IF($Z22=AJ$5,MAX(AJ$5:AJ21)+1,\"\")","v":""},{"$f":"IF($Z22=AK$5,MAX(AK$5:AK21)+1,\"\")","v":""},{"$f":"IF($Z22=AL$5,MAX(AL$5:AL21)+1,\"\")","v":""},{"$f":"IF($Z22=AM$5,MAX(AM$5:AM21)+1,\"\")","v":""},{"$f":"IF($Z22=AN$5,MAX(AN$5:AN21)+1,\"\")","v":""}]
[null,18,{"$f":"IF(S23<>\"\",MAX($C$5:C22)+1,\"\")","v":""},{"$f":"IF(V23<>\"\",MAX($D$5:D22)+1,\"\")","v":""},{"$f":"IF(V23<>\"\",MAX($E$5:E22)+1,\"\")","v":""},null,null,{"$f":"IF(T23<>\"\",MAX($H$5:H22)+1,\"\")","v":""},{"$f":"IF(U23<>\"\",MAX($I$5:I22)+1,\"\")","v":""},null,{"$f":"IFERROR(OFFSET(コントロールシート!AX$394,MATCH(B23,コントロールシート!$AZ$395:$AZ$455,0),0)&\"\",\"\")","v":""},{"$f":"IFERROR(OFFSET(コントロールシート!I$394,MATCH(B23,コントロールシート!$AZ$395:$AZ$455,0),0)&\"\",\"\")","v":""},{"$f":"IFERROR(OFFSET(コントロールシート!N$394,MATCH(B23,コントロールシート!$AZ$395:$AZ$455,0),0)&\"\",\"\")","v":""},{"$f":"IFERROR(OFFSET(コントロールシート!V$464,MATCH(B23,コントロールシート!$AZ$465:$AZ$518,0),0)&\"\",\"\")","v":""},{"$f":"IFERROR(OFFSET(コントロールシート!AF$464,MATCH(B23,コントロールシート!$AZ$465:$AZ$518,0),0)&\"\",\"\")","v":""},{"$f":"IFERROR(OFFSET(コントロールシート!AC$524,MATCH($B23,コントロールシート!$AZ$525:$AZ$578,0),0)&\"\",\"\")","v":""},{"$f":"IFERROR(OFFSET(コントロールシート!AF$524,MATCH($B23,コントロールシート!$AZ$525:$AZ$578,0),0)&\"\",\"\")","v":""},{"$f":"IFERROR(OFFSET(コントロールシート!AI$524,MATCH($B23,コントロールシート!$AZ$525:$AZ$578,0),0)&\"\",\"\")","v":""},{"$f":"IFERROR(IF(VLOOKUP(B23,コントロールシート!$C$395:$AP$455,COLUMN(コントロールシート!AO23)-2,FALSE)=TRUE,\"✅\",\"\"),\"\")","v":""},{"$f":"IFERROR(IF(VLOOKUP(B23,コントロールシート!$C$395:$AP$455,COLUMN(コントロールシート!AP23)-2,FALSE)=TRUE,\"✅\",\"\"),\"\")","v":""},{"$f":"IFERROR(IF(OFFSET(コントロールシート!AO$464,MATCH($B23,コントロールシート!$AZ$465:$AZ$518,0),0)=TRUE,\"✅\",\"\"),\"\")","v":""},{"$f":"IFERROR(IF(OFFSET(コントロールシート!AP$464,MATCH($B23,コントロールシート!$AZ$465:$AZ$518,0),0)=TRUE,\"✅\",\"\"),\"\")","v":""},{"$f":"IFERROR(IF(OFFSET(コントロールシート!AQ$464,MATCH($B23,コントロールシート!$AZ$465:$AZ$518,0),0)=TRUE,\"✅\",\"\"),\"\")","v":""},{"$f":"IFERROR(OFFSET(コントロールシート!AC$600,MATCH($B23,コントロールシート!$AZ$601:$AZ$654,0),0)&\"\",\"\")","v":""},{"$f":"IFERROR(OFFSET(コントロールシート!AF$600,MATCH($B23,コントロールシート!$AZ$601:$AZ$654,0),0)&\"\",\"\")","v":""},{"$f":"IF(U23<>\"\",\"平常時\",IF(V23<>\"\",IFERROR(OFFSET(コントロールシート!V$682,MATCH($B23,コントロールシート!$AZ$683:$AZ$736,0),0)&\"\",\"\"),IF(W23<>\"\",\"避難後\",\"\")))","v":""},"",{"$f":"IFERROR(OFFSET(コントロールシート!X$745,MATCH($B23,コントロールシート!$AZ$746:$AZ$799,0),0)&\"\",\"\")","v":""},{"$f":"IFERROR(OFFSET(コントロールシート!$W$819,MATCH(業務!B23,コントロールシート!$AZ$820:$AZ$873,0),0)&\"\",\"\")","v":""},{"$f":"IFERROR(OFFSET(コントロールシート!$AI$819,MATCH(B23,コントロールシート!$AZ$820:$AZ$873,0),0)&\"\",\"\")","v":""},{"$f":"IFERROR(OFFSET(コントロールシート!$AX$1004,MATCH(B23,コントロールシート!$BB$1005:$BB$1217,0),0)&\"\",\"\")","v":""},{"$f":"IFERROR(OFFSET(コントロールシート!$AY$1004,MATCH(B23,コントロールシート!$BB$1005:$BB$1217,0),0)&\"\",\"\")","v":""},{"$f":"IFERROR(OFFSET(コントロールシート!$AZ$1004,MATCH(B23,コントロールシート!$BB$1005:$BB$1217,0),0)&\"\",\"\")","v":""},{"$f":"IFERROR(OFFSET(コントロールシート!$BA$1004,MATCH(B23,コントロールシート!$BB$1005:$BB$1217,0),0)&\"\",\"\")","v":""},null,{"$f":"IF($Z23=AJ$5,MAX(AJ$5:AJ22)+1,\"\")","v":""},{"$f":"IF($Z23=AK$5,MAX(AK$5:AK22)+1,\"\")","v":""},{"$f":"IF($Z23=AL$5,MAX(AL$5:AL22)+1,\"\")","v":""},{"$f":"IF($Z23=AM$5,MAX(AM$5:AM22)+1,\"\")","v":""},{"$f":"IF($Z23=AN$5,MAX(AN$5:AN22)+1,\"\")","v":""}]
[null,19,{"$f":"IF(S24<>\"\",MAX($C$5:C23)+1,\"\")","v":""},{"$f":"IF(V24<>\"\",MAX($D$5:D23)+1,\"\")","v":""},{"$f":"IF(V24<>\"\",MAX($E$5:E23)+1,\"\")","v":""},null,null,{"$f":"IF(T24<>\"\",MAX($H$5:H23)+1,\"\")","v":""},{"$f":"IF(U24<>\"\",MAX($I$5:I23)+1,\"\")","v":""},null,{"$f":"IFERROR(OFFSET(コントロールシート!AX$394,MATCH(B24,コントロールシート!$AZ$395:$AZ$455,0),0)&\"\",\"\")","v":""},{"$f":"IFERROR(OFFSET(コントロールシート!I$394,MATCH(B24,コントロールシート!$AZ$395:$AZ$455,0),0)&\"\",\"\")","v":""},{"$f":"IFERROR(OFFSET(コントロールシート!N$394,MATCH(B24,コントロールシート!$AZ$395:$AZ$455,0),0)&\"\",\"\")","v":""},{"$f":"IFERROR(OFFSET(コントロールシート!V$464,MATCH(B24,コントロールシート!$AZ$465:$AZ$518,0),0)&\"\",\"\")","v":""},{"$f":"IFERROR(OFFSET(コントロールシート!AF$464,MATCH(B24,コントロールシート!$AZ$465:$AZ$518,0),0)&\"\",\"\")","v":""},{"$f":"IFERROR(OFFSET(コントロールシート!AC$524,MATCH($B24,コントロールシート!$AZ$525:$AZ$578,0),0)&\"\",\"\")","v":""},{"$f":"IFERROR(OFFSET(コントロールシート!AF$524,MATCH($B24,コントロールシート!$AZ$525:$AZ$578,0),0)&\"\",\"\")","v":""},{"$f":"IFERROR(OFFSET(コントロールシート!AI$524,MATCH($B24,コントロールシート!$AZ$525:$AZ$578,0),0)&\"\",\"\")","v":""},{"$f":"IFERROR(IF(VLOOKUP(B24,コントロールシート!$C$395:$AP$455,COLUMN(コントロールシート!AO24)-2,FALSE)=TRUE,\"✅\",\"\"),\"\")","v":""},{"$f":"IFERROR(IF(VLOOKUP(B24,コントロールシート!$C$395:$AP$455,COLUMN(コントロールシート!AP24)-2,FALSE)=TRUE,\"✅\",\"\"),\"\")","v":""},{"$f":"IFERROR(IF(OFFSET(コントロールシート!AO$464,MATCH($B24,コントロールシート!$AZ$465:$AZ$518,0),0)=TRUE,\"✅\",\"\"),\"\")","v":""},{"$f":"IFERROR(IF(OFFSET(コントロールシート!AP$464,MATCH($B24,コントロールシート!$AZ$465:$AZ$518,0),0)=TRUE,\"✅\",\"\"),\"\")","v":""},{"$f":"IFERROR(IF(OFFSET(コントロールシート!AQ$464,MATCH($B24,コントロールシート!$AZ$465:$AZ$518,0),0)=TRUE,\"✅\",\"\"),\"\")","v":""},{"$f":"IFERROR(OFFSET(コントロールシート!AC$600,MATCH($B24,コントロールシート!$AZ$601:$AZ$654,0),0)&\"\",\"\")","v":""},{"$f":"IFERROR(OFFSET(コントロールシート!AF$600,MATCH($B24,コントロールシート!$AZ$601:$AZ$654,0),0)&\"\",\"\")","v":""},{"$f":"IF(U24<>\"\",\"平常時\",IF(V24<>\"\",IFERROR(OFFSET(コントロールシート!V$682,MATCH($B24,コントロールシート!$AZ$683:$AZ$736,0),0)&\"\",\"\"),IF(W24<>\"\",\"避難後\",\"\")))","v":""},"",{"$f":"IFERROR(OFFSET(コントロールシート!X$745,MATCH($B24,コントロールシート!$AZ$746:$AZ$799,0),0)&\"\",\"\")","v":""},{"$f":"IFERROR(OFFSET(コントロールシート!$W$819,MATCH(業務!B24,コントロールシート!$AZ$820:$AZ$873,0),0)&\"\",\"\")","v":""},{"$f":"IFERROR(OFFSET(コントロールシート!$AI$819,MATCH(B24,コントロールシート!$AZ$820:$AZ$873,0),0)&\"\",\"\")","v":""},{"$f":"IFERROR(OFFSET(コントロールシート!$AX$1004,MATCH(B24,コントロールシート!$BB$1005:$BB$1217,0),0)&\"\",\"\")","v":""},{"$f":"IFERROR(OFFSET(コントロールシート!$AY$1004,MATCH(B24,コントロールシート!$BB$1005:$BB$1217,0),0)&\"\",\"\")","v":""},{"$f":"IFERROR(OFFSET(コントロールシート!$AZ$1004,MATCH(B24,コントロールシート!$BB$1005:$BB$1217,0),0)&\"\",\"\")","v":""},{"$f":"IFERROR(OFFSET(コントロールシート!$BA$1004,MATCH(B24,コントロールシート!$BB$1005:$BB$1217,0),0)&\"\",\"\")","v":""},null,{"$f":"IF($Z24=AJ$5,MAX(AJ$5:AJ23)+1,\"\")","v":""},{"$f":"IF($Z24=AK$5,MAX(AK$5:AK23)+1,\"\")","v":""},{"$f":"IF($Z24=AL$5,MAX(AL$5:AL23)+1,\"\")","v":""},{"$f":"IF($Z24=AM$5,MAX(AM$5:AM23)+1,\"\")","v":""},{"$f":"IF($Z24=AN$5,MAX(AN$5:AN23)+1,\"\")","v":""}]
[null,20,{"$f":"IF(S25<>\"\",MAX($C$5:C24)+1,\"\")","v":""},{"$f":"IF(V25<>\"\",MAX($D$5:D24)+1,\"\")","v":""},{"$f":"IF(V25<>\"\",MAX($E$5:E24)+1,\"\")","v":""},null,null,{"$f":"IF(T25<>\"\",MAX($H$5:H24)+1,\"\")","v":""},{"$f":"IF(U25<>\"\",MAX($I$5:I24)+1,\"\")","v":""},null,{"$f":"IFERROR(OFFSET(コントロールシート!AX$394,MATCH(B25,コントロールシート!$AZ$395:$AZ$455,0),0)&\"\",\"\")","v":""},{"$f":"IFERROR(OFFSET(コントロールシート!I$394,MATCH(B25,コントロールシート!$AZ$395:$AZ$455,0),0)&\"\",\"\")","v":""},{"$f":"IFERROR(OFFSET(コントロールシート!N$394,MATCH(B25,コントロールシート!$AZ$395:$AZ$455,0),0)&\"\",\"\")","v":""},{"$f":"IFERROR(OFFSET(コントロールシート!V$464,MATCH(B25,コントロールシート!$AZ$465:$AZ$518,0),0)&\"\",\"\")","v":""},{"$f":"IFERROR(OFFSET(コントロールシート!AF$464,MATCH(B25,コントロールシート!$AZ$465:$AZ$518,0),0)&\"\",\"\")","v":""},{"$f":"IFERROR(OFFSET(コントロールシート!AC$524,MATCH($B25,コントロールシート!$AZ$525:$AZ$578,0),0)&\"\",\"\")","v":""},{"$f":"IFERROR(OFFSET(コントロールシート!AF$524,MATCH($B25,コントロールシート!$AZ$525:$AZ$578,0),0)&\"\",\"\")","v":""},{"$f":"IFERROR(OFFSET(コントロールシート!AI$524,MATCH($B25,コントロールシート!$AZ$525:$AZ$578,0),0)&\"\",\"\")","v":""},{"$f":"IFERROR(IF(VLOOKUP(B25,コントロールシート!$C$395:$AP$455,COLUMN(コントロールシート!AO25)-2,FALSE)=TRUE,\"✅\",\"\"),\"\")","v":""},{"$f":"IFERROR(IF(VLOOKUP(B25,コントロールシート!$C$395:$AP$455,COLUMN(コントロールシート!AP25)-2,FALSE)=TRUE,\"✅\",\"\"),\"\")","v":""},{"$f":"IFERROR(IF(OFFSET(コントロールシート!AO$464,MATCH($B25,コントロールシート!$AZ$465:$AZ$518,0),0)=TRUE,\"✅\",\"\"),\"\")","v":""},{"$f":"IFERROR(IF(OFFSET(コントロールシート!AP$464,MATCH($B25,コントロールシート!$AZ$465:$AZ$518,0),0)=TRUE,\"✅\",\"\"),\"\")","v":""},{"$f":"IFERROR(IF(OFFSET(コントロールシート!AQ$464,MATCH($B25,コントロールシート!$AZ$465:$AZ$518,0),0)=TRUE,\"✅\",\"\"),\"\")","v":""},{"$f":"IFERROR(OFFSET(コントロールシート!AC$600,MATCH($B25,コントロールシート!$AZ$601:$AZ$654,0),0)&\"\",\"\")","v":""},{"$f":"IFERROR(OFFSET(コントロールシート!AF$600,MATCH($B25,コントロールシート!$AZ$601:$AZ$654,0),0)&\"\",\"\")","v":""},{"$f":"IF(U25<>\"\",\"平常時\",IF(V25<>\"\",IFERROR(OFFSET(コントロールシート!V$682,MATCH($B25,コントロールシート!$AZ$683:$AZ$736,0),0)&\"\",\"\"),IF(W25<>\"\",\"避難後\",\"\")))","v":""},"",{"$f":"IFERROR(OFFSET(コントロールシート!X$745,MATCH($B25,コントロールシート!$AZ$746:$AZ$799,0),0)&\"\",\"\")","v":""},{"$f":"IFERROR(OFFSET(コントロールシート!$W$819,MATCH(業務!B25,コントロールシート!$AZ$820:$AZ$873,0),0)&\"\",\"\")","v":""},{"$f":"IFERROR(OFFSET(コントロールシート!$AI$819,MATCH(B25,コントロールシート!$AZ$820:$AZ$873,0),0)&\"\",\"\")","v":""},{"$f":"IFERROR(OFFSET(コントロールシート!$AX$1004,MATCH(B25,コントロールシート!$BB$1005:$BB$1217,0),0)&\"\",\"\")","v":""},{"$f":"IFERROR(OFFSET(コントロールシート!$AY$1004,MATCH(B25,コントロールシート!$BB$1005:$BB$1217,0),0)&\"\",\"\")","v":""},{"$f":"IFERROR(OFFSET(コントロールシート!$AZ$1004,MATCH(B25,コントロールシート!$BB$1005:$BB$1217,0),0)&\"\",\"\")","v":""},{"$f":"IFERROR(OFFSET(コントロールシート!$BA$1004,MATCH(B25,コントロールシート!$BB$1005:$BB$1217,0),0)&\"\",\"\")","v":""},null,{"$f":"IF($Z25=AJ$5,MAX(AJ$5:AJ24)+1,\"\")","v":""},{"$f":"IF($Z25=AK$5,MAX(AK$5:AK24)+1,\"\")","v":""},{"$f":"IF($Z25=AL$5,MAX(AL$5:AL24)+1,\"\")","v":""},{"$f":"IF($Z25=AM$5,MAX(AM$5:AM24)+1,\"\")","v":""},{"$f":"IF($Z25=AN$5,MAX(AN$5:AN24)+1,\"\")","v":""}]
[null,21,{"$f":"IF(S26<>\"\",MAX($C$5:C25)+1,\"\")","v":""},{"$f":"IF(V26<>\"\",MAX($D$5:D25)+1,\"\")","v":""},{"$f":"IF(V26<>\"\",MAX($E$5:E25)+1,\"\")","v":""},null,null,{"$f":"IF(T26<>\"\",MAX($H$5:H25)+1,\"\")","v":""},{"$f":"IF(U26<>\"\",MAX($I$5:I25)+1,\"\")","v":""},null,{"$f":"IFERROR(OFFSET(コントロールシート!AX$394,MATCH(B26,コントロールシート!$AZ$395:$AZ$455,0),0)&\"\",\"\")","v":""},{"$f":"IFERROR(OFFSET(コントロールシート!I$394,MATCH(B26,コントロールシート!$AZ$395:$AZ$455,0),0)&\"\",\"\")","v":""},{"$f":"IFERROR(OFFSET(コントロールシート!N$394,MATCH(B26,コントロールシート!$AZ$395:$AZ$455,0),0)&\"\",\"\")","v":""},{"$f":"IFERROR(OFFSET(コントロールシート!V$464,MATCH(B26,コントロールシート!$AZ$465:$AZ$518,0),0)&\"\",\"\")","v":""},{"$f":"IFERROR(OFFSET(コントロールシート!AF$464,MATCH(B26,コントロールシート!$AZ$465:$AZ$518,0),0)&\"\",\"\")","v":""},{"$f":"IFERROR(OFFSET(コントロールシート!AC$524,MATCH($B26,コントロールシート!$AZ$525:$AZ$578,0),0)&\"\",\"\")","v":""},{"$f":"IFERROR(OFFSET(コントロールシート!AF$524,MATCH($B26,コントロールシート!$AZ$525:$AZ$578,0),0)&\"\",\"\")","v":""},{"$f":"IFERROR(OFFSET(コントロールシート!AI$524,MATCH($B26,コントロールシート!$AZ$525:$AZ$578,0),0)&\"\",\"\")","v":""},{"$f":"IFERROR(IF(VLOOKUP(B26,コントロールシート!$C$395:$AP$455,COLUMN(コントロールシート!AO26)-2,FALSE)=TRUE,\"✅\",\"\"),\"\")","v":""},{"$f":"IFERROR(IF(VLOOKUP(B26,コントロールシート!$C$395:$AP$455,COLUMN(コントロールシート!AP26)-2,FALSE)=TRUE,\"✅\",\"\"),\"\")","v":""},{"$f":"IFERROR(IF(OFFSET(コントロールシート!AO$464,MATCH($B26,コントロールシート!$AZ$465:$AZ$518,0),0)=TRUE,\"✅\",\"\"),\"\")","v":""},{"$f":"IFERROR(IF(OFFSET(コントロールシート!AP$464,MATCH($B26,コントロールシート!$AZ$465:$AZ$518,0),0)=TRUE,\"✅\",\"\"),\"\")","v":""},{"$f":"IFERROR(IF(OFFSET(コントロールシート!AQ$464,MATCH($B26,コントロールシート!$AZ$465:$AZ$518,0),0)=TRUE,\"✅\",\"\"),\"\")","v":""},{"$f":"IFERROR(OFFSET(コントロールシート!AC$600,MATCH($B26,コントロールシート!$AZ$601:$AZ$654,0),0)&\"\",\"\")","v":""},{"$f":"IFERROR(OFFSET(コントロールシート!AF$600,MATCH($B26,コントロールシート!$AZ$601:$AZ$654,0),0)&\"\",\"\")","v":""},{"$f":"IF(U26<>\"\",\"平常時\",IF(V26<>\"\",IFERROR(OFFSET(コントロールシート!V$682,MATCH($B26,コントロールシート!$AZ$683:$AZ$736,0),0)&\"\",\"\"),IF(W26<>\"\",\"避難後\",\"\")))","v":""},"",{"$f":"IFERROR(OFFSET(コントロールシート!X$745,MATCH($B26,コントロールシート!$AZ$746:$AZ$799,0),0)&\"\",\"\")","v":""},{"$f":"IFERROR(OFFSET(コントロールシート!$W$819,MATCH(業務!B26,コントロールシート!$AZ$820:$AZ$873,0),0)&\"\",\"\")","v":""},{"$f":"IFERROR(OFFSET(コントロールシート!$AI$819,MATCH(B26,コントロールシート!$AZ$820:$AZ$873,0),0)&\"\",\"\")","v":""},{"$f":"IFERROR(OFFSET(コントロールシート!$AX$1004,MATCH(B26,コントロールシート!$BB$1005:$BB$1217,0),0)&\"\",\"\")","v":""},{"$f":"IFERROR(OFFSET(コントロールシート!$AY$1004,MATCH(B26,コントロールシート!$BB$1005:$BB$1217,0),0)&\"\",\"\")","v":""},{"$f":"IFERROR(OFFSET(コントロールシート!$AZ$1004,MATCH(B26,コントロールシート!$BB$1005:$BB$1217,0),0)&\"\",\"\")","v":""},{"$f":"IFERROR(OFFSET(コントロールシート!$BA$1004,MATCH(B26,コントロールシート!$BB$1005:$BB$1217,0),0)&\"\",\"\")","v":""},null,{"$f":"IF($Z26=AJ$5,MAX(AJ$5:AJ25)+1,\"\")","v":""},{"$f":"IF($Z26=AK$5,MAX(AK$5:AK25)+1,\"\")","v":""},{"$f":"IF($Z26=AL$5,MAX(AL$5:AL25)+1,\"\")","v":""},{"$f":"IF($Z26=AM$5,MAX(AM$5:AM25)+1,\"\")","v":""},{"$f":"IF($Z26=AN$5,MAX(AN$5:AN25)+1,\"\")","v":""}]
[null,22,{"$f":"IF(S27<>\"\",MAX($C$5:C26)+1,\"\")","v":""},{"$f":"IF(V27<>\"\",MAX($D$5:D26)+1,\"\")","v":""},{"$f":"IF(V27<>\"\",MAX($E$5:E26)+1,\"\")","v":""},null,null,{"$f":"IF(T27<>\"\",MAX($H$5:H26)+1,\"\")","v":""},{"$f":"IF(U27<>\"\",MAX($I$5:I26)+1,\"\")","v":""},null,{"$f":"IFERROR(OFFSET(コントロールシート!AX$394,MATCH(B27,コントロールシート!$AZ$395:$AZ$455,0),0)&\"\",\"\")","v":""},{"$f":"IFERROR(OFFSET(コントロールシート!I$394,MATCH(B27,コントロールシート!$AZ$395:$AZ$455,0),0)&\"\",\"\")","v":""},{"$f":"IFERROR(OFFSET(コントロールシート!N$394,MATCH(B27,コントロールシート!$AZ$395:$AZ$455,0),0)&\"\",\"\")","v":""},{"$f":"IFERROR(OFFSET(コントロールシート!V$464,MATCH(B27,コントロールシート!$AZ$465:$AZ$518,0),0)&\"\",\"\")","v":""},{"$f":"IFERROR(OFFSET(コントロールシート!AF$464,MATCH(B27,コントロールシート!$AZ$465:$AZ$518,0),0)&\"\",\"\")","v":""},{"$f":"IFERROR(OFFSET(コントロールシート!AC$524,MATCH($B27,コントロールシート!$AZ$525:$AZ$578,0),0)&\"\",\"\")","v":""},{"$f":"IFERROR(OFFSET(コントロールシート!AF$524,MATCH($B27,コントロールシート!$AZ$525:$AZ$578,0),0)&\"\",\"\")","v":""},{"$f":"IFERROR(OFFSET(コントロールシート!AI$524,MATCH($B27,コントロールシート!$AZ$525:$AZ$578,0),0)&\"\",\"\")","v":""},{"$f":"IFERROR(IF(VLOOKUP(B27,コントロールシート!$C$395:$AP$455,COLUMN(コントロールシート!AO27)-2,FALSE)=TRUE,\"✅\",\"\"),\"\")","v":""},{"$f":"IFERROR(IF(VLOOKUP(B27,コントロールシート!$C$395:$AP$455,COLUMN(コントロールシート!AP27)-2,FALSE)=TRUE,\"✅\",\"\"),\"\")","v":""},{"$f":"IFERROR(IF(OFFSET(コントロールシート!AO$464,MATCH($B27,コントロールシート!$AZ$465:$AZ$518,0),0)=TRUE,\"✅\",\"\"),\"\")","v":""},{"$f":"IFERROR(IF(OFFSET(コントロールシート!AP$464,MATCH($B27,コントロールシート!$AZ$465:$AZ$518,0),0)=TRUE,\"✅\",\"\"),\"\")","v":""},{"$f":"IFERROR(IF(OFFSET(コントロールシート!AQ$464,MATCH($B27,コントロールシート!$AZ$465:$AZ$518,0),0)=TRUE,\"✅\",\"\"),\"\")","v":""},{"$f":"IFERROR(OFFSET(コントロールシート!AC$600,MATCH($B27,コントロールシート!$AZ$601:$AZ$654,0),0)&\"\",\"\")","v":""},{"$f":"IFERROR(OFFSET(コントロールシート!AF$600,MATCH($B27,コントロールシート!$AZ$601:$AZ$654,0),0)&\"\",\"\")","v":""},{"$f":"IF(U27<>\"\",\"平常時\",IF(V27<>\"\",IFERROR(OFFSET(コントロールシート!V$682,MATCH($B27,コントロールシート!$AZ$683:$AZ$736,0),0)&\"\",\"\"),IF(W27<>\"\",\"避難後\",\"\")))","v":""},"",{"$f":"IFERROR(OFFSET(コントロールシート!X$745,MATCH($B27,コントロールシート!$AZ$746:$AZ$799,0),0)&\"\",\"\")","v":""},{"$f":"IFERROR(OFFSET(コントロールシート!$W$819,MATCH(業務!B27,コントロールシート!$AZ$820:$AZ$873,0),0)&\"\",\"\")","v":""},{"$f":"IFERROR(OFFSET(コントロールシート!$AI$819,MATCH(B27,コントロールシート!$AZ$820:$AZ$873,0),0)&\"\",\"\")","v":""},{"$f":"IFERROR(OFFSET(コントロールシート!$AX$1004,MATCH(B27,コントロールシート!$BB$1005:$BB$1217,0),0)&\"\",\"\")","v":""},{"$f":"IFERROR(OFFSET(コントロールシート!$AY$1004,MATCH(B27,コントロールシート!$BB$1005:$BB$1217,0),0)&\"\",\"\")","v":""},{"$f":"IFERROR(OFFSET(コントロールシート!$AZ$1004,MATCH(B27,コントロールシート!$BB$1005:$BB$1217,0),0)&\"\",\"\")","v":""},{"$f":"IFERROR(OFFSET(コントロールシート!$BA$1004,MATCH(B27,コントロールシート!$BB$1005:$BB$1217,0),0)&\"\",\"\")","v":""},null,{"$f":"IF($Z27=AJ$5,MAX(AJ$5:AJ26)+1,\"\")","v":""},{"$f":"IF($Z27=AK$5,MAX(AK$5:AK26)+1,\"\")","v":""},{"$f":"IF($Z27=AL$5,MAX(AL$5:AL26)+1,\"\")","v":""},{"$f":"IF($Z27=AM$5,MAX(AM$5:AM26)+1,\"\")","v":""},{"$f":"IF($Z27=AN$5,MAX(AN$5:AN26)+1,\"\")","v":""}]
[null,23,{"$f":"IF(S28<>\"\",MAX($C$5:C27)+1,\"\")","v":""},{"$f":"IF(V28<>\"\",MAX($D$5:D27)+1,\"\")","v":""},{"$f":"IF(V28<>\"\",MAX($E$5:E27)+1,\"\")","v":""},null,null,{"$f":"IF(T28<>\"\",MAX($H$5:H27)+1,\"\")","v":""},{"$f":"IF(U28<>\"\",MAX($I$5:I27)+1,\"\")","v":""},null,{"$f":"IFERROR(OFFSET(コントロールシート!AX$394,MATCH(B28,コントロールシート!$AZ$395:$AZ$455,0),0)&\"\",\"\")","v":""},{"$f":"IFERROR(OFFSET(コントロールシート!I$394,MATCH(B28,コントロールシート!$AZ$395:$AZ$455,0),0)&\"\",\"\")","v":""},{"$f":"IFERROR(OFFSET(コントロールシート!N$394,MATCH(B28,コントロールシート!$AZ$395:$AZ$455,0),0)&\"\",\"\")","v":""},{"$f":"IFERROR(OFFSET(コントロールシート!V$464,MATCH(B28,コントロールシート!$AZ$465:$AZ$518,0),0)&\"\",\"\")","v":""},{"$f":"IFERROR(OFFSET(コントロールシート!AF$464,MATCH(B28,コントロールシート!$AZ$465:$AZ$518,0),0)&\"\",\"\")","v":""},{"$f":"IFERROR(OFFSET(コントロールシート!AC$524,MATCH($B28,コントロールシート!$AZ$525:$AZ$578,0),0)&\"\",\"\")","v":""},{"$f":"IFERROR(OFFSET(コントロールシート!AF$524,MATCH($B28,コントロールシート!$AZ$525:$AZ$578,0),0)&\"\",\"\")","v":""},{"$f":"IFERROR(OFFSET(コントロールシート!AI$524,MATCH($B28,コントロールシート!$AZ$525:$AZ$578,0),0)&\"\",\"\")","v":""},{"$f":"IFERROR(IF(VLOOKUP(B28,コントロールシート!$C$395:$AP$455,COLUMN(コントロールシート!AO28)-2,FALSE)=TRUE,\"✅\",\"\"),\"\")","v":""},{"$f":"IFERROR(IF(VLOOKUP(B28,コントロールシート!$C$395:$AP$455,COLUMN(コントロールシート!AP28)-2,FALSE)=TRUE,\"✅\",\"\"),\"\")","v":""},{"$f":"IFERROR(IF(OFFSET(コントロールシート!AO$464,MATCH($B28,コントロールシート!$AZ$465:$AZ$518,0),0)=TRUE,\"✅\",\"\"),\"\")","v":""},{"$f":"IFERROR(IF(OFFSET(コントロールシート!AP$464,MATCH($B28,コントロールシート!$AZ$465:$AZ$518,0),0)=TRUE,\"✅\",\"\"),\"\")","v":""},{"$f":"IFERROR(IF(OFFSET(コントロールシート!AQ$464,MATCH($B28,コントロールシート!$AZ$465:$AZ$518,0),0)=TRUE,\"✅\",\"\"),\"\")","v":""},{"$f":"IFERROR(OFFSET(コントロールシート!AC$600,MATCH($B28,コントロールシート!$AZ$601:$AZ$654,0),0)&\"\",\"\")","v":""},{"$f":"IFERROR(OFFSET(コントロールシート!AF$600,MATCH($B28,コントロールシート!$AZ$601:$AZ$654,0),0)&\"\",\"\")","v":""},{"$f":"IF(U28<>\"\",\"平常時\",IF(V28<>\"\",IFERROR(OFFSET(コントロールシート!V$682,MATCH($B28,コントロールシート!$AZ$683:$AZ$736,0),0)&\"\",\"\"),IF(W28<>\"\",\"避難後\",\"\")))","v":""},"",{"$f":"IFERROR(OFFSET(コントロールシート!X$745,MATCH($B28,コントロールシート!$AZ$746:$AZ$799,0),0)&\"\",\"\")","v":""},{"$f":"IFERROR(OFFSET(コントロールシート!$W$819,MATCH(業務!B28,コントロールシート!$AZ$820:$AZ$873,0),0)&\"\",\"\")","v":""},{"$f":"IFERROR(OFFSET(コントロールシート!$AI$819,MATCH(B28,コントロールシート!$AZ$820:$AZ$873,0),0)&\"\",\"\")","v":""},{"$f":"IFERROR(OFFSET(コントロールシート!$AX$1004,MATCH(B28,コントロールシート!$BB$1005:$BB$1217,0),0)&\"\",\"\")","v":""},{"$f":"IFERROR(OFFSET(コントロールシート!$AY$1004,MATCH(B28,コントロールシート!$BB$1005:$BB$1217,0),0)&\"\",\"\")","v":""},{"$f":"IFERROR(OFFSET(コントロールシート!$AZ$1004,MATCH(B28,コントロールシート!$BB$1005:$BB$1217,0),0)&\"\",\"\")","v":""},{"$f":"IFERROR(OFFSET(コントロールシート!$BA$1004,MATCH(B28,コントロールシート!$BB$1005:$BB$1217,0),0)&\"\",\"\")","v":""},null,{"$f":"IF($Z28=AJ$5,MAX(AJ$5:AJ27)+1,\"\")","v":""},{"$f":"IF($Z28=AK$5,MAX(AK$5:AK27)+1,\"\")","v":""},{"$f":"IF($Z28=AL$5,MAX(AL$5:AL27)+1,\"\")","v":""},{"$f":"IF($Z28=AM$5,MAX(AM$5:AM27)+1,\"\")","v":""},{"$f":"IF($Z28=AN$5,MAX(AN$5:AN27)+1,\"\")","v":""}]
[null,24,{"$f":"IF(S29<>\"\",MAX($C$5:C28)+1,\"\")","v":""},{"$f":"IF(V29<>\"\",MAX($D$5:D28)+1,\"\")","v":""},{"$f":"IF(V29<>\"\",MAX($E$5:E28)+1,\"\")","v":""},null,null,{"$f":"IF(T29<>\"\",MAX($H$5:H28)+1,\"\")","v":""},{"$f":"IF(U29<>\"\",MAX($I$5:I28)+1,\"\")","v":""},null,{"$f":"IFERROR(OFFSET(コントロールシート!AX$394,MATCH(B29,コントロールシート!$AZ$395:$AZ$455,0),0)&\"\",\"\")","v":""},{"$f":"IFERROR(OFFSET(コントロールシート!I$394,MATCH(B29,コントロールシート!$AZ$395:$AZ$455,0),0)&\"\",\"\")","v":""},{"$f":"IFERROR(OFFSET(コントロールシート!N$394,MATCH(B29,コントロールシート!$AZ$395:$AZ$455,0),0)&\"\",\"\")","v":""},{"$f":"IFERROR(OFFSET(コントロールシート!V$464,MATCH(B29,コントロールシート!$AZ$465:$AZ$518,0),0)&\"\",\"\")","v":""},{"$f":"IFERROR(OFFSET(コントロールシート!AF$464,MATCH(B29,コントロールシート!$AZ$465:$AZ$518,0),0)&\"\",\"\")","v":""},{"$f":"IFERROR(OFFSET(コントロールシート!AC$524,MATCH($B29,コントロールシート!$AZ$525:$AZ$578,0),0)&\"\",\"\")","v":""},{"$f":"IFERROR(OFFSET(コントロールシート!AF$524,MATCH($B29,コントロールシート!$AZ$525:$AZ$578,0),0)&\"\",\"\")","v":""},{"$f":"IFERROR(OFFSET(コントロールシート!AI$524,MATCH($B29,コントロールシート!$AZ$525:$AZ$578,0),0)&\"\",\"\")","v":""},{"$f":"IFERROR(IF(VLOOKUP(B29,コントロールシート!$C$395:$AP$455,COLUMN(コントロールシート!AO29)-2,FALSE)=TRUE,\"✅\",\"\"),\"\")","v":""},{"$f":"IFERROR(IF(VLOOKUP(B29,コントロールシート!$C$395:$AP$455,COLUMN(コントロールシート!AP29)-2,FALSE)=TRUE,\"✅\",\"\"),\"\")","v":""},{"$f":"IFERROR(IF(OFFSET(コントロールシート!AO$464,MATCH($B29,コントロールシート!$AZ$465:$AZ$518,0),0)=TRUE,\"✅\",\"\"),\"\")","v":""},{"$f":"IFERROR(IF(OFFSET(コントロールシート!AP$464,MATCH($B29,コントロールシート!$AZ$465:$AZ$518,0),0)=TRUE,\"✅\",\"\"),\"\")","v":""},{"$f":"IFERROR(IF(OFFSET(コントロールシート!AQ$464,MATCH($B29,コントロールシート!$AZ$465:$AZ$518,0),0)=TRUE,\"✅\",\"\"),\"\")","v":""},{"$f":"IFERROR(OFFSET(コントロールシート!AC$600,MATCH($B29,コントロールシート!$AZ$601:$AZ$654,0),0)&\"\",\"\")","v":""},{"$f":"IFERROR(OFFSET(コントロールシート!AF$600,MATCH($B29,コントロールシート!$AZ$601:$AZ$654,0),0)&\"\",\"\")","v":""},{"$f":"IF(U29<>\"\",\"平常時\",IF(V29<>\"\",IFERROR(OFFSET(コントロールシート!V$682,MATCH($B29,コントロールシート!$AZ$683:$AZ$736,0),0)&\"\",\"\"),IF(W29<>\"\",\"避難後\",\"\")))","v":""},"",{"$f":"IFERROR(OFFSET(コントロールシート!X$745,MATCH($B29,コントロールシート!$AZ$746:$AZ$799,0),0)&\"\",\"\")","v":""},{"$f":"IFERROR(OFFSET(コントロールシート!$W$819,MATCH(業務!B29,コントロールシート!$AZ$820:$AZ$873,0),0)&\"\",\"\")","v":""},{"$f":"IFERROR(OFFSET(コントロールシート!$AI$819,MATCH(B29,コントロールシート!$AZ$820:$AZ$873,0),0)&\"\",\"\")","v":""},{"$f":"IFERROR(OFFSET(コントロールシート!$AX$1004,MATCH(B29,コントロールシート!$BB$1005:$BB$1217,0),0)&\"\",\"\")","v":""},{"$f":"IFERROR(OFFSET(コントロールシート!$AY$1004,MATCH(B29,コントロールシート!$BB$1005:$BB$1217,0),0)&\"\",\"\")","v":""},{"$f":"IFERROR(OFFSET(コントロールシート!$AZ$1004,MATCH(B29,コントロールシート!$BB$1005:$BB$1217,0),0)&\"\",\"\")","v":""},{"$f":"IFERROR(OFFSET(コントロールシート!$BA$1004,MATCH(B29,コントロールシート!$BB$1005:$BB$1217,0),0)&\"\",\"\")","v":""},null,{"$f":"IF($Z29=AJ$5,MAX(AJ$5:AJ28)+1,\"\")","v":""},{"$f":"IF($Z29=AK$5,MAX(AK$5:AK28)+1,\"\")","v":""},{"$f":"IF($Z29=AL$5,MAX(AL$5:AL28)+1,\"\")","v":""},{"$f":"IF($Z29=AM$5,MAX(AM$5:AM28)+1,\"\")","v":""},{"$f":"IF($Z29=AN$5,MAX(AN$5:AN28)+1,\"\")","v":""}]
[null,25,{"$f":"IF(S30<>\"\",MAX($C$5:C29)+1,\"\")","v":""},{"$f":"IF(V30<>\"\",MAX($D$5:D29)+1,\"\")","v":""},{"$f":"IF(V30<>\"\",MAX($E$5:E29)+1,\"\")","v":""},null,null,{"$f":"IF(T30<>\"\",MAX($H$5:H29)+1,\"\")","v":""},{"$f":"IF(U30<>\"\",MAX($I$5:I29)+1,\"\")","v":""},null,{"$f":"IFERROR(OFFSET(コントロールシート!AX$394,MATCH(B30,コントロールシート!$AZ$395:$AZ$455,0),0)&\"\",\"\")","v":""},{"$f":"IFERROR(OFFSET(コントロールシート!I$394,MATCH(B30,コントロールシート!$AZ$395:$AZ$455,0),0)&\"\",\"\")","v":""},{"$f":"IFERROR(OFFSET(コントロールシート!N$394,MATCH(B30,コントロールシート!$AZ$395:$AZ$455,0),0)&\"\",\"\")","v":""},{"$f":"IFERROR(OFFSET(コントロールシート!V$464,MATCH(B30,コントロールシート!$AZ$465:$AZ$518,0),0)&\"\",\"\")","v":""},{"$f":"IFERROR(OFFSET(コントロールシート!AF$464,MATCH(B30,コントロールシート!$AZ$465:$AZ$518,0),0)&\"\",\"\")","v":""},{"$f":"IFERROR(OFFSET(コントロールシート!AC$524,MATCH($B30,コントロールシート!$AZ$525:$AZ$578,0),0)&\"\",\"\")","v":""},{"$f":"IFERROR(OFFSET(コントロールシート!AF$524,MATCH($B30,コントロールシート!$AZ$525:$AZ$578,0),0)&\"\",\"\")","v":""},{"$f":"IFERROR(OFFSET(コントロールシート!AI$524,MATCH($B30,コントロールシート!$AZ$525:$AZ$578,0),0)&\"\",\"\")","v":""},{"$f":"IFERROR(IF(VLOOKUP(B30,コントロールシート!$C$395:$AP$455,COLUMN(コントロールシート!AO30)-2,FALSE)=TRUE,\"✅\",\"\"),\"\")","v":""},{"$f":"IFERROR(IF(VLOOKUP(B30,コントロールシート!$C$395:$AP$455,COLUMN(コントロールシート!AP30)-2,FALSE)=TRUE,\"✅\",\"\"),\"\")","v":""},{"$f":"IFERROR(IF(OFFSET(コントロールシート!AO$464,MATCH($B30,コントロールシート!$AZ$465:$AZ$518,0),0)=TRUE,\"✅\",\"\"),\"\")","v":""},{"$f":"IFERROR(IF(OFFSET(コントロールシート!AP$464,MATCH($B30,コントロールシート!$AZ$465:$AZ$518,0),0)=TRUE,\"✅\",\"\"),\"\")","v":""},{"$f":"IFERROR(IF(OFFSET(コントロールシート!AQ$464,MATCH($B30,コントロールシート!$AZ$465:$AZ$518,0),0)=TRUE,\"✅\",\"\"),\"\")","v":""},{"$f":"IFERROR(OFFSET(コントロールシート!AC$600,MATCH($B30,コントロールシート!$AZ$601:$AZ$654,0),0)&\"\",\"\")","v":""},{"$f":"IFERROR(OFFSET(コントロールシート!AF$600,MATCH($B30,コントロールシート!$AZ$601:$AZ$654,0),0)&\"\",\"\")","v":""},{"$f":"IF(U30<>\"\",\"平常時\",IF(V30<>\"\",IFERROR(OFFSET(コントロールシート!V$682,MATCH($B30,コントロールシート!$AZ$683:$AZ$736,0),0)&\"\",\"\"),IF(W30<>\"\",\"避難後\",\"\")))","v":""},"",{"$f":"IFERROR(OFFSET(コントロールシート!X$745,MATCH($B30,コントロールシート!$AZ$746:$AZ$799,0),0)&\"\",\"\")","v":""},{"$f":"IFERROR(OFFSET(コントロールシート!$W$819,MATCH(業務!B30,コントロールシート!$AZ$820:$AZ$873,0),0)&\"\",\"\")","v":""},{"$f":"IFERROR(OFFSET(コントロールシート!$AI$819,MATCH(B30,コントロールシート!$AZ$820:$AZ$873,0),0)&\"\",\"\")","v":""},{"$f":"IFERROR(OFFSET(コントロールシート!$AX$1004,MATCH(B30,コントロールシート!$BB$1005:$BB$1217,0),0)&\"\",\"\")","v":""},{"$f":"IFERROR(OFFSET(コントロールシート!$AY$1004,MATCH(B30,コントロールシート!$BB$1005:$BB$1217,0),0)&\"\",\"\")","v":""},{"$f":"IFERROR(OFFSET(コントロールシート!$AZ$1004,MATCH(B30,コントロールシート!$BB$1005:$BB$1217,0),0)&\"\",\"\")","v":""},{"$f":"IFERROR(OFFSET(コントロールシート!$BA$1004,MATCH(B30,コントロールシート!$BB$1005:$BB$1217,0),0)&\"\",\"\")","v":""},null,{"$f":"IF($Z30=AJ$5,MAX(AJ$5:AJ29)+1,\"\")","v":""},{"$f":"IF($Z30=AK$5,MAX(AK$5:AK29)+1,\"\")","v":""},{"$f":"IF($Z30=AL$5,MAX(AL$5:AL29)+1,\"\")","v":""},{"$f":"IF($Z30=AM$5,MAX(AM$5:AM29)+1,\"\")","v":""},{"$f":"IF($Z30=AN$5,MAX(AN$5:AN29)+1,\"\")","v":""}]
[null,26,{"$f":"IF(S31<>\"\",MAX($C$5:C30)+1,\"\")","v":""},{"$f":"IF(V31<>\"\",MAX($D$5:D30)+1,\"\")","v":""},{"$f":"IF(V31<>\"\",MAX($E$5:E30)+1,\"\")","v":""},null,null,{"$f":"IF(T31<>\"\",MAX($H$5:H30)+1,\"\")","v":""},{"$f":"IF(U31<>\"\",MAX($I$5:I30)+1,\"\")","v":""},null,{"$f":"IFERROR(OFFSET(コントロールシート!AX$394,MATCH(B31,コントロールシート!$AZ$395:$AZ$455,0),0)&\"\",\"\")","v":""},{"$f":"IFERROR(OFFSET(コントロールシート!I$394,MATCH(B31,コントロールシート!$AZ$395:$AZ$455,0),0)&\"\",\"\")","v":""},{"$f":"IFERROR(OFFSET(コントロールシート!N$394,MATCH(B31,コントロールシート!$AZ$395:$AZ$455,0),0)&\"\",\"\")","v":""},{"$f":"IFERROR(OFFSET(コントロールシート!V$464,MATCH(B31,コントロールシート!$AZ$465:$AZ$518,0),0)&\"\",\"\")","v":""},{"$f":"IFERROR(OFFSET(コントロールシート!AF$464,MATCH(B31,コントロールシート!$AZ$465:$AZ$518,0),0)&\"\",\"\")","v":""},{"$f":"IFERROR(OFFSET(コントロールシート!AC$524,MATCH($B31,コントロールシート!$AZ$525:$AZ$578,0),0)&\"\",\"\")","v":""},{"$f":"IFERROR(OFFSET(コントロールシート!AF$524,MATCH($B31,コントロールシート!$AZ$525:$AZ$578,0),0)&\"\",\"\")","v":""},{"$f":"IFERROR(OFFSET(コントロールシート!AI$524,MATCH($B31,コントロールシート!$AZ$525:$AZ$578,0),0)&\"\",\"\")","v":""},{"$f":"IFERROR(IF(VLOOKUP(B31,コントロールシート!$C$395:$AP$455,COLUMN(コントロールシート!AO31)-2,FALSE)=TRUE,\"✅\",\"\"),\"\")","v":""},{"$f":"IFERROR(IF(VLOOKUP(B31,コントロールシート!$C$395:$AP$455,COLUMN(コントロールシート!AP31)-2,FALSE)=TRUE,\"✅\",\"\"),\"\")","v":""},{"$f":"IFERROR(IF(OFFSET(コントロールシート!AO$464,MATCH($B31,コントロールシート!$AZ$465:$AZ$518,0),0)=TRUE,\"✅\",\"\"),\"\")","v":""},{"$f":"IFERROR(IF(OFFSET(コントロールシート!AP$464,MATCH($B31,コントロールシート!$AZ$465:$AZ$518,0),0)=TRUE,\"✅\",\"\"),\"\")","v":""},{"$f":"IFERROR(IF(OFFSET(コントロールシート!AQ$464,MATCH($B31,コントロールシート!$AZ$465:$AZ$518,0),0)=TRUE,\"✅\",\"\"),\"\")","v":""},{"$f":"IFERROR(OFFSET(コントロールシート!AC$600,MATCH($B31,コントロールシート!$AZ$601:$AZ$654,0),0)&\"\",\"\")","v":""},{"$f":"IFERROR(OFFSET(コントロールシート!AF$600,MATCH($B31,コントロールシート!$AZ$601:$AZ$654,0),0)&\"\",\"\")","v":""},{"$f":"IF(U31<>\"\",\"平常時\",IF(V31<>\"\",IFERROR(OFFSET(コントロールシート!V$682,MATCH($B31,コントロールシート!$AZ$683:$AZ$736,0),0)&\"\",\"\"),IF(W31<>\"\",\"避難後\",\"\")))","v":""},"",{"$f":"IFERROR(OFFSET(コントロールシート!X$745,MATCH($B31,コントロールシート!$AZ$746:$AZ$799,0),0)&\"\",\"\")","v":""},{"$f":"IFERROR(OFFSET(コントロールシート!$W$819,MATCH(業務!B31,コントロールシート!$AZ$820:$AZ$873,0),0)&\"\",\"\")","v":""},{"$f":"IFERROR(OFFSET(コントロールシート!$AI$819,MATCH(B31,コントロールシート!$AZ$820:$AZ$873,0),0)&\"\",\"\")","v":""},{"$f":"IFERROR(OFFSET(コントロールシート!$AX$1004,MATCH(B31,コントロールシート!$BB$1005:$BB$1217,0),0)&\"\",\"\")","v":""},{"$f":"IFERROR(OFFSET(コントロールシート!$AY$1004,MATCH(B31,コントロールシート!$BB$1005:$BB$1217,0),0)&\"\",\"\")","v":""},{"$f":"IFERROR(OFFSET(コントロールシート!$AZ$1004,MATCH(B31,コントロールシート!$BB$1005:$BB$1217,0),0)&\"\",\"\")","v":""},{"$f":"IFERROR(OFFSET(コントロールシート!$BA$1004,MATCH(B31,コントロールシート!$BB$1005:$BB$1217,0),0)&\"\",\"\")","v":""},null,{"$f":"IF($Z31=AJ$5,MAX(AJ$5:AJ30)+1,\"\")","v":""},{"$f":"IF($Z31=AK$5,MAX(AK$5:AK30)+1,\"\")","v":""},{"$f":"IF($Z31=AL$5,MAX(AL$5:AL30)+1,\"\")","v":""},{"$f":"IF($Z31=AM$5,MAX(AM$5:AM30)+1,\"\")","v":""},{"$f":"IF($Z31=AN$5,MAX(AN$5:AN30)+1,\"\")","v":""}]
[null,27,{"$f":"IF(S32<>\"\",MAX($C$5:C31)+1,\"\")","v":""},{"$f":"IF(V32<>\"\",MAX($D$5:D31)+1,\"\")","v":""},{"$f":"IF(V32<>\"\",MAX($E$5:E31)+1,\"\")","v":""},null,null,{"$f":"IF(T32<>\"\",MAX($H$5:H31)+1,\"\")","v":""},{"$f":"IF(U32<>\"\",MAX($I$5:I31)+1,\"\")","v":""},null,{"$f":"IFERROR(OFFSET(コントロールシート!AX$394,MATCH(B32,コントロールシート!$AZ$395:$AZ$455,0),0)&\"\",\"\")","v":""},{"$f":"IFERROR(OFFSET(コントロールシート!I$394,MATCH(B32,コントロールシート!$AZ$395:$AZ$455,0),0)&\"\",\"\")","v":""},{"$f":"IFERROR(OFFSET(コントロールシート!N$394,MATCH(B32,コントロールシート!$AZ$395:$AZ$455,0),0)&\"\",\"\")","v":""},{"$f":"IFERROR(OFFSET(コントロールシート!V$464,MATCH(B32,コントロールシート!$AZ$465:$AZ$518,0),0)&\"\",\"\")","v":""},{"$f":"IFERROR(OFFSET(コントロールシート!AF$464,MATCH(B32,コントロールシート!$AZ$465:$AZ$518,0),0)&\"\",\"\")","v":""},{"$f":"IFERROR(OFFSET(コントロールシート!AC$524,MATCH($B32,コントロールシート!$AZ$525:$AZ$578,0),0)&\"\",\"\")","v":""},{"$f":"IFERROR(OFFSET(コントロールシート!AF$524,MATCH($B32,コントロールシート!$AZ$525:$AZ$578,0),0)&\"\",\"\")","v":""},{"$f":"IFERROR(OFFSET(コントロールシート!AI$524,MATCH($B32,コントロールシート!$AZ$525:$AZ$578,0),0)&\"\",\"\")","v":""},{"$f":"IFERROR(IF(VLOOKUP(B32,コントロールシート!$C$395:$AP$455,COLUMN(コントロールシート!AO32)-2,FALSE)=TRUE,\"✅\",\"\"),\"\")","v":""},{"$f":"IFERROR(IF(VLOOKUP(B32,コントロールシート!$C$395:$AP$455,COLUMN(コントロールシート!AP32)-2,FALSE)=TRUE,\"✅\",\"\"),\"\")","v":""},{"$f":"IFERROR(IF(OFFSET(コントロールシート!AO$464,MATCH($B32,コントロールシート!$AZ$465:$AZ$518,0),0)=TRUE,\"✅\",\"\"),\"\")","v":""},{"$f":"IFERROR(IF(OFFSET(コントロールシート!AP$464,MATCH($B32,コントロールシート!$AZ$465:$AZ$518,0),0)=TRUE,\"✅\",\"\"),\"\")","v":""},{"$f":"IFERROR(IF(OFFSET(コントロールシート!AQ$464,MATCH($B32,コントロールシート!$AZ$465:$AZ$518,0),0)=TRUE,\"✅\",\"\"),\"\")","v":""},{"$f":"IFERROR(OFFSET(コントロールシート!AC$600,MATCH($B32,コントロールシート!$AZ$601:$AZ$654,0),0)&\"\",\"\")","v":""},{"$f":"IFERROR(OFFSET(コントロールシート!AF$600,MATCH($B32,コントロールシート!$AZ$601:$AZ$654,0),0)&\"\",\"\")","v":""},{"$f":"IF(U32<>\"\",\"平常時\",IF(V32<>\"\",IFERROR(OFFSET(コントロールシート!V$682,MATCH($B32,コントロールシート!$AZ$683:$AZ$736,0),0)&\"\",\"\"),IF(W32<>\"\",\"避難後\",\"\")))","v":""},"",{"$f":"IFERROR(OFFSET(コントロールシート!X$745,MATCH($B32,コントロールシート!$AZ$746:$AZ$799,0),0)&\"\",\"\")","v":""},{"$f":"IFERROR(OFFSET(コントロールシート!$W$819,MATCH(業務!B32,コントロールシート!$AZ$820:$AZ$873,0),0)&\"\",\"\")","v":""},{"$f":"IFERROR(OFFSET(コントロールシート!$AI$819,MATCH(B32,コントロールシート!$AZ$820:$AZ$873,0),0)&\"\",\"\")","v":""},{"$f":"IFERROR(OFFSET(コントロールシート!$AX$1004,MATCH(B32,コントロールシート!$BB$1005:$BB$1217,0),0)&\"\",\"\")","v":""},{"$f":"IFERROR(OFFSET(コントロールシート!$AY$1004,MATCH(B32,コントロールシート!$BB$1005:$BB$1217,0),0)&\"\",\"\")","v":""},{"$f":"IFERROR(OFFSET(コントロールシート!$AZ$1004,MATCH(B32,コントロールシート!$BB$1005:$BB$1217,0),0)&\"\",\"\")","v":""},{"$f":"IFERROR(OFFSET(コントロールシート!$BA$1004,MATCH(B32,コントロールシート!$BB$1005:$BB$1217,0),0)&\"\",\"\")","v":""},null,{"$f":"IF($Z32=AJ$5,MAX(AJ$5:AJ31)+1,\"\")","v":""},{"$f":"IF($Z32=AK$5,MAX(AK$5:AK31)+1,\"\")","v":""},{"$f":"IF($Z32=AL$5,MAX(AL$5:AL31)+1,\"\")","v":""},{"$f":"IF($Z32=AM$5,MAX(AM$5:AM31)+1,\"\")","v":""},{"$f":"IF($Z32=AN$5,MAX(AN$5:AN31)+1,\"\")","v":""}]
[null,28,{"$f":"IF(S33<>\"\",MAX($C$5:C32)+1,\"\")","v":""},{"$f":"IF(V33<>\"\",MAX($D$5:D32)+1,\"\")","v":""},{"$f":"IF(V33<>\"\",MAX($E$5:E32)+1,\"\")","v":""},null,null,{"$f":"IF(T33<>\"\",MAX($H$5:H32)+1,\"\")","v":""},{"$f":"IF(U33<>\"\",MAX($I$5:I32)+1,\"\")","v":""},null,{"$f":"IFERROR(OFFSET(コントロールシート!AX$394,MATCH(B33,コントロールシート!$AZ$395:$AZ$455,0),0)&\"\",\"\")","v":""},{"$f":"IFERROR(OFFSET(コントロールシート!I$394,MATCH(B33,コントロールシート!$AZ$395:$AZ$455,0),0)&\"\",\"\")","v":""},{"$f":"IFERROR(OFFSET(コントロールシート!N$394,MATCH(B33,コントロールシート!$AZ$395:$AZ$455,0),0)&\"\",\"\")","v":""},{"$f":"IFERROR(OFFSET(コントロールシート!V$464,MATCH(B33,コントロールシート!$AZ$465:$AZ$518,0),0)&\"\",\"\")","v":""},{"$f":"IFERROR(OFFSET(コントロールシート!AF$464,MATCH(B33,コントロールシート!$AZ$465:$AZ$518,0),0)&\"\",\"\")","v":""},{"$f":"IFERROR(OFFSET(コントロールシート!AC$524,MATCH($B33,コントロールシート!$AZ$525:$AZ$578,0),0)&\"\",\"\")","v":""},{"$f":"IFERROR(OFFSET(コントロールシート!AF$524,MATCH($B33,コントロールシート!$AZ$525:$AZ$578,0),0)&\"\",\"\")","v":""},{"$f":"IFERROR(OFFSET(コントロールシート!AI$524,MATCH($B33,コントロールシート!$AZ$525:$AZ$578,0),0)&\"\",\"\")","v":""},{"$f":"IFERROR(IF(VLOOKUP(B33,コントロールシート!$C$395:$AP$455,COLUMN(コントロールシート!AO33)-2,FALSE)=TRUE,\"✅\",\"\"),\"\")","v":""},{"$f":"IFERROR(IF(VLOOKUP(B33,コントロールシート!$C$395:$AP$455,COLUMN(コントロールシート!AP33)-2,FALSE)=TRUE,\"✅\",\"\"),\"\")","v":""},{"$f":"IFERROR(IF(OFFSET(コントロールシート!AO$464,MATCH($B33,コントロールシート!$AZ$465:$AZ$518,0),0)=TRUE,\"✅\",\"\"),\"\")","v":""},{"$f":"IFERROR(IF(OFFSET(コントロールシート!AP$464,MATCH($B33,コントロールシート!$AZ$465:$AZ$518,0),0)=TRUE,\"✅\",\"\"),\"\")","v":""},{"$f":"IFERROR(IF(OFFSET(コントロールシート!AQ$464,MATCH($B33,コントロールシート!$AZ$465:$AZ$518,0),0)=TRUE,\"✅\",\"\"),\"\")","v":""},{"$f":"IFERROR(OFFSET(コントロールシート!AC$600,MATCH($B33,コントロールシート!$AZ$601:$AZ$654,0),0)&\"\",\"\")","v":""},{"$f":"IFERROR(OFFSET(コントロールシート!AF$600,MATCH($B33,コントロールシート!$AZ$601:$AZ$654,0),0)&\"\",\"\")","v":""},{"$f":"IF(U33<>\"\",\"平常時\",IF(V33<>\"\",IFERROR(OFFSET(コントロールシート!V$682,MATCH($B33,コントロールシート!$AZ$683:$AZ$736,0),0)&\"\",\"\"),IF(W33<>\"\",\"避難後\",\"\")))","v":""},"",{"$f":"IFERROR(OFFSET(コントロールシート!X$745,MATCH($B33,コントロールシート!$AZ$746:$AZ$799,0),0)&\"\",\"\")","v":""},{"$f":"IFERROR(OFFSET(コントロールシート!$W$819,MATCH(業務!B33,コントロールシート!$AZ$820:$AZ$873,0),0)&\"\",\"\")","v":""},{"$f":"IFERROR(OFFSET(コントロールシート!$AI$819,MATCH(B33,コントロールシート!$AZ$820:$AZ$873,0),0)&\"\",\"\")","v":""},{"$f":"IFERROR(OFFSET(コントロールシート!$AX$1004,MATCH(B33,コントロールシート!$BB$1005:$BB$1217,0),0)&\"\",\"\")","v":""},{"$f":"IFERROR(OFFSET(コントロールシート!$AY$1004,MATCH(B33,コントロールシート!$BB$1005:$BB$1217,0),0)&\"\",\"\")","v":""},{"$f":"IFERROR(OFFSET(コントロールシート!$AZ$1004,MATCH(B33,コントロールシート!$BB$1005:$BB$1217,0),0)&\"\",\"\")","v":""},{"$f":"IFERROR(OFFSET(コントロールシート!$BA$1004,MATCH(B33,コントロールシート!$BB$1005:$BB$1217,0),0)&\"\",\"\")","v":""},null,{"$f":"IF($Z33=AJ$5,MAX(AJ$5:AJ32)+1,\"\")","v":""},{"$f":"IF($Z33=AK$5,MAX(AK$5:AK32)+1,\"\")","v":""},{"$f":"IF($Z33=AL$5,MAX(AL$5:AL32)+1,\"\")","v":""},{"$f":"IF($Z33=AM$5,MAX(AM$5:AM32)+1,\"\")","v":""},{"$f":"IF($Z33=AN$5,MAX(AN$5:AN32)+1,\"\")","v":""}]
[null,29,{"$f":"IF(S34<>\"\",MAX($C$5:C33)+1,\"\")","v":""},{"$f":"IF(V34<>\"\",MAX($D$5:D33)+1,\"\")","v":""},{"$f":"IF(V34<>\"\",MAX($E$5:E33)+1,\"\")","v":""},null,null,{"$f":"IF(T34<>\"\",MAX($H$5:H33)+1,\"\")","v":""},{"$f":"IF(U34<>\"\",MAX($I$5:I33)+1,\"\")","v":""},null,{"$f":"IFERROR(OFFSET(コントロールシート!AX$394,MATCH(B34,コントロールシート!$AZ$395:$AZ$455,0),0)&\"\",\"\")","v":""},{"$f":"IFERROR(OFFSET(コントロールシート!I$394,MATCH(B34,コントロールシート!$AZ$395:$AZ$455,0),0)&\"\",\"\")","v":""},{"$f":"IFERROR(OFFSET(コントロールシート!N$394,MATCH(B34,コントロールシート!$AZ$395:$AZ$455,0),0)&\"\",\"\")","v":""},{"$f":"IFERROR(OFFSET(コントロールシート!V$464,MATCH(B34,コントロールシート!$AZ$465:$AZ$518,0),0)&\"\",\"\")","v":""},{"$f":"IFERROR(OFFSET(コントロールシート!AF$464,MATCH(B34,コントロールシート!$AZ$465:$AZ$518,0),0)&\"\",\"\")","v":""},{"$f":"IFERROR(OFFSET(コントロールシート!AC$524,MATCH($B34,コントロールシート!$AZ$525:$AZ$578,0),0)&\"\",\"\")","v":""},{"$f":"IFERROR(OFFSET(コントロールシート!AF$524,MATCH($B34,コントロールシート!$AZ$525:$AZ$578,0),0)&\"\",\"\")","v":""},{"$f":"IFERROR(OFFSET(コントロールシート!AI$524,MATCH($B34,コントロールシート!$AZ$525:$AZ$578,0),0)&\"\",\"\")","v":""},{"$f":"IFERROR(IF(VLOOKUP(B34,コントロールシート!$C$395:$AP$455,COLUMN(コントロールシート!AO34)-2,FALSE)=TRUE,\"✅\",\"\"),\"\")","v":""},{"$f":"IFERROR(IF(VLOOKUP(B34,コントロールシート!$C$395:$AP$455,COLUMN(コントロールシート!AP34)-2,FALSE)=TRUE,\"✅\",\"\"),\"\")","v":""},{"$f":"IFERROR(IF(OFFSET(コントロールシート!AO$464,MATCH($B34,コントロールシート!$AZ$465:$AZ$518,0),0)=TRUE,\"✅\",\"\"),\"\")","v":""},{"$f":"IFERROR(IF(OFFSET(コントロールシート!AP$464,MATCH($B34,コントロールシート!$AZ$465:$AZ$518,0),0)=TRUE,\"✅\",\"\"),\"\")","v":""},{"$f":"IFERROR(IF(OFFSET(コントロールシート!AQ$464,MATCH($B34,コントロールシート!$AZ$465:$AZ$518,0),0)=TRUE,\"✅\",\"\"),\"\")","v":""},{"$f":"IFERROR(OFFSET(コントロールシート!AC$600,MATCH($B34,コントロールシート!$AZ$601:$AZ$654,0),0)&\"\",\"\")","v":""},{"$f":"IFERROR(OFFSET(コントロールシート!AF$600,MATCH($B34,コントロールシート!$AZ$601:$AZ$654,0),0)&\"\",\"\")","v":""},{"$f":"IF(U34<>\"\",\"平常時\",IF(V34<>\"\",IFERROR(OFFSET(コントロールシート!V$682,MATCH($B34,コントロールシート!$AZ$683:$AZ$736,0),0)&\"\",\"\"),IF(W34<>\"\",\"避難後\",\"\")))","v":""},"",{"$f":"IFERROR(OFFSET(コントロールシート!X$745,MATCH($B34,コントロールシート!$AZ$746:$AZ$799,0),0)&\"\",\"\")","v":""},{"$f":"IFERROR(OFFSET(コントロールシート!$W$819,MATCH(業務!B34,コントロールシート!$AZ$820:$AZ$873,0),0)&\"\",\"\")","v":""},{"$f":"IFERROR(OFFSET(コントロールシート!$AI$819,MATCH(B34,コントロールシート!$AZ$820:$AZ$873,0),0)&\"\",\"\")","v":""},{"$f":"IFERROR(OFFSET(コントロールシート!$AX$1004,MATCH(B34,コントロールシート!$BB$1005:$BB$1217,0),0)&\"\",\"\")","v":""},{"$f":"IFERROR(OFFSET(コントロールシート!$AY$1004,MATCH(B34,コントロールシート!$BB$1005:$BB$1217,0),0)&\"\",\"\")","v":""},{"$f":"IFERROR(OFFSET(コントロールシート!$AZ$1004,MATCH(B34,コントロールシート!$BB$1005:$BB$1217,0),0)&\"\",\"\")","v":""},{"$f":"IFERROR(OFFSET(コントロールシート!$BA$1004,MATCH(B34,コントロールシート!$BB$1005:$BB$1217,0),0)&\"\",\"\")","v":""},null,{"$f":"IF($Z34=AJ$5,MAX(AJ$5:AJ33)+1,\"\")","v":""},{"$f":"IF($Z34=AK$5,MAX(AK$5:AK33)+1,\"\")","v":""},{"$f":"IF($Z34=AL$5,MAX(AL$5:AL33)+1,\"\")","v":""},{"$f":"IF($Z34=AM$5,MAX(AM$5:AM33)+1,\"\")","v":""},{"$f":"IF($Z34=AN$5,MAX(AN$5:AN33)+1,\"\")","v":""}]
[null,30,{"$f":"IF(S35<>\"\",MAX($C$5:C34)+1,\"\")","v":""},{"$f":"IF(V35<>\"\",MAX($D$5:D34)+1,\"\")","v":""},{"$f":"IF(V35<>\"\",MAX($E$5:E34)+1,\"\")","v":""},null,null,{"$f":"IF(T35<>\"\",MAX($H$5:H34)+1,\"\")","v":""},{"$f":"IF(U35<>\"\",MAX($I$5:I34)+1,\"\")","v":""},null,{"$f":"IFERROR(OFFSET(コントロールシート!AX$394,MATCH(B35,コントロールシート!$AZ$395:$AZ$455,0),0)&\"\",\"\")","v":""},{"$f":"IFERROR(OFFSET(コントロールシート!I$394,MATCH(B35,コントロールシート!$AZ$395:$AZ$455,0),0)&\"\",\"\")","v":""},{"$f":"IFERROR(OFFSET(コントロールシート!N$394,MATCH(B35,コントロールシート!$AZ$395:$AZ$455,0),0)&\"\",\"\")","v":""},{"$f":"IFERROR(OFFSET(コントロールシート!V$464,MATCH(B35,コントロールシート!$AZ$465:$AZ$518,0),0)&\"\",\"\")","v":""},{"$f":"IFERROR(OFFSET(コントロールシート!AF$464,MATCH(B35,コントロールシート!$AZ$465:$AZ$518,0),0)&\"\",\"\")","v":""},{"$f":"IFERROR(OFFSET(コントロールシート!AC$524,MATCH($B35,コントロールシート!$AZ$525:$AZ$578,0),0)&\"\",\"\")","v":""},{"$f":"IFERROR(OFFSET(コントロールシート!AF$524,MATCH($B35,コントロールシート!$AZ$525:$AZ$578,0),0)&\"\",\"\")","v":""},{"$f":"IFERROR(OFFSET(コントロールシート!AI$524,MATCH($B35,コントロールシート!$AZ$525:$AZ$578,0),0)&\"\",\"\")","v":""},{"$f":"IFERROR(IF(VLOOKUP(B35,コントロールシート!$C$395:$AP$455,COLUMN(コントロールシート!AO35)-2,FALSE)=TRUE,\"✅\",\"\"),\"\")","v":""},{"$f":"IFERROR(IF(VLOOKUP(B35,コントロールシート!$C$395:$AP$455,COLUMN(コントロールシート!AP35)-2,FALSE)=TRUE,\"✅\",\"\"),\"\")","v":""},{"$f":"IFERROR(IF(OFFSET(コントロールシート!AO$464,MATCH($B35,コントロールシート!$AZ$465:$AZ$518,0),0)=TRUE,\"✅\",\"\"),\"\")","v":""},{"$f":"IFERROR(IF(OFFSET(コントロールシート!AP$464,MATCH($B35,コントロールシート!$AZ$465:$AZ$518,0),0)=TRUE,\"✅\",\"\"),\"\")","v":""},{"$f":"IFERROR(IF(OFFSET(コントロールシート!AQ$464,MATCH($B35,コントロールシート!$AZ$465:$AZ$518,0),0)=TRUE,\"✅\",\"\"),\"\")","v":""},{"$f":"IFERROR(OFFSET(コントロールシート!AC$600,MATCH($B35,コントロールシート!$AZ$601:$AZ$654,0),0)&\"\",\"\")","v":""},{"$f":"IFERROR(OFFSET(コントロールシート!AF$600,MATCH($B35,コントロールシート!$AZ$601:$AZ$654,0),0)&\"\",\"\")","v":""},{"$f":"IF(U35<>\"\",\"平常時\",IF(V35<>\"\",IFERROR(OFFSET(コントロールシート!V$682,MATCH($B35,コントロールシート!$AZ$683:$AZ$736,0),0)&\"\",\"\"),IF(W35<>\"\",\"避難後\",\"\")))","v":""},"",{"$f":"IFERROR(OFFSET(コントロールシート!X$745,MATCH($B35,コントロールシート!$AZ$746:$AZ$799,0),0)&\"\",\"\")","v":""},{"$f":"IFERROR(OFFSET(コントロールシート!$W$819,MATCH(業務!B35,コントロールシート!$AZ$820:$AZ$873,0),0)&\"\",\"\")","v":""},{"$f":"IFERROR(OFFSET(コントロールシート!$AI$819,MATCH(B35,コントロールシート!$AZ$820:$AZ$873,0),0)&\"\",\"\")","v":""},{"$f":"IFERROR(OFFSET(コントロールシート!$AX$1004,MATCH(B35,コントロールシート!$BB$1005:$BB$1217,0),0)&\"\",\"\")","v":""},{"$f":"IFERROR(OFFSET(コントロールシート!$AY$1004,MATCH(B35,コントロールシート!$BB$1005:$BB$1217,0),0)&\"\",\"\")","v":""},{"$f":"IFERROR(OFFSET(コントロールシート!$AZ$1004,MATCH(B35,コントロールシート!$BB$1005:$BB$1217,0),0)&\"\",\"\")","v":""},{"$f":"IFERROR(OFFSET(コントロールシート!$BA$1004,MATCH(B35,コントロールシート!$BB$1005:$BB$1217,0),0)&\"\",\"\")","v":""},null,{"$f":"IF($Z35=AJ$5,MAX(AJ$5:AJ34)+1,\"\")","v":""},{"$f":"IF($Z35=AK$5,MAX(AK$5:AK34)+1,\"\")","v":""},{"$f":"IF($Z35=AL$5,MAX(AL$5:AL34)+1,\"\")","v":""},{"$f":"IF($Z35=AM$5,MAX(AM$5:AM34)+1,\"\")","v":""},{"$f":"IF($Z35=AN$5,MAX(AN$5:AN34)+1,\"\")","v":""}]
[null,31,{"$f":"IF(S36<>\"\",MAX($C$5:C35)+1,\"\")","v":""},{"$f":"IF(V36<>\"\",MAX($D$5:D35)+1,\"\")","v":""},{"$f":"IF(V36<>\"\",MAX($E$5:E35)+1,\"\")","v":""},null,null,{"$f":"IF(T36<>\"\",MAX($H$5:H35)+1,\"\")","v":""},{"$f":"IF(U36<>\"\",MAX($I$5:I35)+1,\"\")","v":""},null,{"$f":"IFERROR(OFFSET(コントロールシート!AX$394,MATCH(B36,コントロールシート!$AZ$395:$AZ$455,0),0)&\"\",\"\")","v":""},{"$f":"IFERROR(OFFSET(コントロールシート!I$394,MATCH(B36,コントロールシート!$AZ$395:$AZ$455,0),0)&\"\",\"\")","v":""},{"$f":"IFERROR(OFFSET(コントロールシート!N$394,MATCH(B36,コントロールシート!$AZ$395:$AZ$455,0),0)&\"\",\"\")","v":""},{"$f":"IFERROR(OFFSET(コントロールシート!V$464,MATCH(B36,コントロールシート!$AZ$465:$AZ$518,0),0)&\"\",\"\")","v":""},{"$f":"IFERROR(OFFSET(コントロールシート!AF$464,MATCH(B36,コントロールシート!$AZ$465:$AZ$518,0),0)&\"\",\"\")","v":""},{"$f":"IFERROR(OFFSET(コントロールシート!AC$524,MATCH($B36,コントロールシート!$AZ$525:$AZ$578,0),0)&\"\",\"\")","v":""},{"$f":"IFERROR(OFFSET(コントロールシート!AF$524,MATCH($B36,コントロールシート!$AZ$525:$AZ$578,0),0)&\"\",\"\")","v":""},{"$f":"IFERROR(OFFSET(コントロールシート!AI$524,MATCH($B36,コントロールシート!$AZ$525:$AZ$578,0),0)&\"\",\"\")","v":""},{"$f":"IFERROR(IF(VLOOKUP(B36,コントロールシート!$C$395:$AP$455,COLUMN(コントロールシート!AO36)-2,FALSE)=TRUE,\"✅\",\"\"),\"\")","v":""},{"$f":"IFERROR(IF(VLOOKUP(B36,コントロールシート!$C$395:$AP$455,COLUMN(コントロールシート!AP36)-2,FALSE)=TRUE,\"✅\",\"\"),\"\")","v":""},{"$f":"IFERROR(IF(OFFSET(コントロールシート!AO$464,MATCH($B36,コントロールシート!$AZ$465:$AZ$518,0),0)=TRUE,\"✅\",\"\"),\"\")","v":""},{"$f":"IFERROR(IF(OFFSET(コントロールシート!AP$464,MATCH($B36,コントロールシート!$AZ$465:$AZ$518,0),0)=TRUE,\"✅\",\"\"),\"\")","v":""},{"$f":"IFERROR(IF(OFFSET(コントロールシート!AQ$464,MATCH($B36,コントロールシート!$AZ$465:$AZ$518,0),0)=TRUE,\"✅\",\"\"),\"\")","v":""},{"$f":"IFERROR(OFFSET(コントロールシート!AC$600,MATCH($B36,コントロールシート!$AZ$601:$AZ$654,0),0)&\"\",\"\")","v":""},{"$f":"IFERROR(OFFSET(コントロールシート!AF$600,MATCH($B36,コントロールシート!$AZ$601:$AZ$654,0),0)&\"\",\"\")","v":""},{"$f":"IF(U36<>\"\",\"平常時\",IF(V36<>\"\",IFERROR(OFFSET(コントロールシート!V$682,MATCH($B36,コントロールシート!$AZ$683:$AZ$736,0),0)&\"\",\"\"),IF(W36<>\"\",\"避難後\",\"\")))","v":""},"",{"$f":"IFERROR(OFFSET(コントロールシート!X$745,MATCH($B36,コントロールシート!$AZ$746:$AZ$799,0),0)&\"\",\"\")","v":""},{"$f":"IFERROR(OFFSET(コントロールシート!$W$819,MATCH(業務!B36,コントロールシート!$AZ$820:$AZ$873,0),0)&\"\",\"\")","v":""},{"$f":"IFERROR(OFFSET(コントロールシート!$AI$819,MATCH(B36,コントロールシート!$AZ$820:$AZ$873,0),0)&\"\",\"\")","v":""},{"$f":"IFERROR(OFFSET(コントロールシート!$AX$1004,MATCH(B36,コントロールシート!$BB$1005:$BB$1217,0),0)&\"\",\"\")","v":""},{"$f":"IFERROR(OFFSET(コントロールシート!$AY$1004,MATCH(B36,コントロールシート!$BB$1005:$BB$1217,0),0)&\"\",\"\")","v":""},{"$f":"IFERROR(OFFSET(コントロールシート!$AZ$1004,MATCH(B36,コントロールシート!$BB$1005:$BB$1217,0),0)&\"\",\"\")","v":""},{"$f":"IFERROR(OFFSET(コントロールシート!$BA$1004,MATCH(B36,コントロールシート!$BB$1005:$BB$1217,0),0)&\"\",\"\")","v":""},null,{"$f":"IF($Z36=AJ$5,MAX(AJ$5:AJ35)+1,\"\")","v":""},{"$f":"IF($Z36=AK$5,MAX(AK$5:AK35)+1,\"\")","v":""},{"$f":"IF($Z36=AL$5,MAX(AL$5:AL35)+1,\"\")","v":""},{"$f":"IF($Z36=AM$5,MAX(AM$5:AM35)+1,\"\")","v":""},{"$f":"IF($Z36=AN$5,MAX(AN$5:AN35)+1,\"\")","v":""}]
[null,32,{"$f":"IF(S37<>\"\",MAX($C$5:C36)+1,\"\")","v":""},{"$f":"IF(V37<>\"\",MAX($D$5:D36)+1,\"\")","v":""},{"$f":"IF(V37<>\"\",MAX($E$5:E36)+1,\"\")","v":""},null,null,{"$f":"IF(T37<>\"\",MAX($H$5:H36)+1,\"\")","v":""},{"$f":"IF(U37<>\"\",MAX($I$5:I36)+1,\"\")","v":""},null,{"$f":"IFERROR(OFFSET(コントロールシート!AX$394,MATCH(B37,コントロールシート!$AZ$395:$AZ$455,0),0)&\"\",\"\")","v":""},{"$f":"IFERROR(OFFSET(コントロールシート!I$394,MATCH(B37,コントロールシート!$AZ$395:$AZ$455,0),0)&\"\",\"\")","v":""},{"$f":"IFERROR(OFFSET(コントロールシート!N$394,MATCH(B37,コントロールシート!$AZ$395:$AZ$455,0),0)&\"\",\"\")","v":""},{"$f":"IFERROR(OFFSET(コントロールシート!V$464,MATCH(B37,コントロールシート!$AZ$465:$AZ$518,0),0)&\"\",\"\")","v":""},{"$f":"IFERROR(OFFSET(コントロールシート!AF$464,MATCH(B37,コントロールシート!$AZ$465:$AZ$518,0),0)&\"\",\"\")","v":""},{"$f":"IFERROR(OFFSET(コントロールシート!AC$524,MATCH($B37,コントロールシート!$AZ$525:$AZ$578,0),0)&\"\",\"\")","v":""},{"$f":"IFERROR(OFFSET(コントロールシート!AF$524,MATCH($B37,コントロールシート!$AZ$525:$AZ$578,0),0)&\"\",\"\")","v":""},{"$f":"IFERROR(OFFSET(コントロールシート!AI$524,MATCH($B37,コントロールシート!$AZ$525:$AZ$578,0),0)&\"\",\"\")","v":""},{"$f":"IFERROR(IF(VLOOKUP(B37,コントロールシート!$C$395:$AP$455,COLUMN(コントロールシート!AO37)-2,FALSE)=TRUE,\"✅\",\"\"),\"\")","v":""},{"$f":"IFERROR(IF(VLOOKUP(B37,コントロールシート!$C$395:$AP$455,COLUMN(コントロールシート!AP37)-2,FALSE)=TRUE,\"✅\",\"\"),\"\")","v":""},{"$f":"IFERROR(IF(OFFSET(コントロールシート!AO$464,MATCH($B37,コントロールシート!$AZ$465:$AZ$518,0),0)=TRUE,\"✅\",\"\"),\"\")","v":""},{"$f":"IFERROR(IF(OFFSET(コントロールシート!AP$464,MATCH($B37,コントロールシート!$AZ$465:$AZ$518,0),0)=TRUE,\"✅\",\"\"),\"\")","v":""},{"$f":"IFERROR(IF(OFFSET(コントロールシート!AQ$464,MATCH($B37,コントロールシート!$AZ$465:$AZ$518,0),0)=TRUE,\"✅\",\"\"),\"\")","v":""},{"$f":"IFERROR(OFFSET(コントロールシート!AC$600,MATCH($B37,コントロールシート!$AZ$601:$AZ$654,0),0)&\"\",\"\")","v":""},{"$f":"IFERROR(OFFSET(コントロールシート!AF$600,MATCH($B37,コントロールシート!$AZ$601:$AZ$654,0),0)&\"\",\"\")","v":""},{"$f":"IF(U37<>\"\",\"平常時\",IF(V37<>\"\",IFERROR(OFFSET(コントロールシート!V$682,MATCH($B37,コントロールシート!$AZ$683:$AZ$736,0),0)&\"\",\"\"),IF(W37<>\"\",\"避難後\",\"\")))","v":""},"",{"$f":"IFERROR(OFFSET(コントロールシート!X$745,MATCH($B37,コントロールシート!$AZ$746:$AZ$799,0),0)&\"\",\"\")","v":""},{"$f":"IFERROR(OFFSET(コントロールシート!$W$819,MATCH(業務!B37,コントロールシート!$AZ$820:$AZ$873,0),0)&\"\",\"\")","v":""},{"$f":"IFERROR(OFFSET(コントロールシート!$AI$819,MATCH(B37,コントロールシート!$AZ$820:$AZ$873,0),0)&\"\",\"\")","v":""},{"$f":"IFERROR(OFFSET(コントロールシート!$AX$1004,MATCH(B37,コントロールシート!$BB$1005:$BB$1217,0),0)&\"\",\"\")","v":""},{"$f":"IFERROR(OFFSET(コントロールシート!$AY$1004,MATCH(B37,コントロールシート!$BB$1005:$BB$1217,0),0)&\"\",\"\")","v":""},{"$f":"IFERROR(OFFSET(コントロールシート!$AZ$1004,MATCH(B37,コントロールシート!$BB$1005:$BB$1217,0),0)&\"\",\"\")","v":""},{"$f":"IFERROR(OFFSET(コントロールシート!$BA$1004,MATCH(B37,コントロールシート!$BB$1005:$BB$1217,0),0)&\"\",\"\")","v":""},null,{"$f":"IF($Z37=AJ$5,MAX(AJ$5:AJ36)+1,\"\")","v":""},{"$f":"IF($Z37=AK$5,MAX(AK$5:AK36)+1,\"\")","v":""},{"$f":"IF($Z37=AL$5,MAX(AL$5:AL36)+1,\"\")","v":""},{"$f":"IF($Z37=AM$5,MAX(AM$5:AM36)+1,\"\")","v":""},{"$f":"IF($Z37=AN$5,MAX(AN$5:AN36)+1,\"\")","v":""}]
[null,33,{"$f":"IF(S38<>\"\",MAX($C$5:C37)+1,\"\")","v":""},{"$f":"IF(V38<>\"\",MAX($D$5:D37)+1,\"\")","v":""},{"$f":"IF(V38<>\"\",MAX($E$5:E37)+1,\"\")","v":""},null,null,{"$f":"IF(T38<>\"\",MAX($H$5:H37)+1,\"\")","v":""},{"$f":"IF(U38<>\"\",MAX($I$5:I37)+1,\"\")","v":""},null,{"$f":"IFERROR(OFFSET(コントロールシート!AX$394,MATCH(B38,コントロールシート!$AZ$395:$AZ$455,0),0)&\"\",\"\")","v":""},{"$f":"IFERROR(OFFSET(コントロールシート!I$394,MATCH(B38,コントロールシート!$AZ$395:$AZ$455,0),0)&\"\",\"\")","v":""},{"$f":"IFERROR(OFFSET(コントロールシート!N$394,MATCH(B38,コントロールシート!$AZ$395:$AZ$455,0),0)&\"\",\"\")","v":""},{"$f":"IFERROR(OFFSET(コントロールシート!V$464,MATCH(B38,コントロールシート!$AZ$465:$AZ$518,0),0)&\"\",\"\")","v":""},{"$f":"IFERROR(OFFSET(コントロールシート!AF$464,MATCH(B38,コントロールシート!$AZ$465:$AZ$518,0),0)&\"\",\"\")","v":""},{"$f":"IFERROR(OFFSET(コントロールシート!AC$524,MATCH($B38,コントロールシート!$AZ$525:$AZ$578,0),0)&\"\",\"\")","v":""},{"$f":"IFERROR(OFFSET(コントロールシート!AF$524,MATCH($B38,コントロールシート!$AZ$525:$AZ$578,0),0)&\"\",\"\")","v":""},{"$f":"IFERROR(OFFSET(コントロールシート!AI$524,MATCH($B38,コントロールシート!$AZ$525:$AZ$578,0),0)&\"\",\"\")","v":""},{"$f":"IFERROR(IF(VLOOKUP(B38,コントロールシート!$C$395:$AP$455,COLUMN(コントロールシート!AO38)-2,FALSE)=TRUE,\"✅\",\"\"),\"\")","v":""},{"$f":"IFERROR(IF(VLOOKUP(B38,コントロールシート!$C$395:$AP$455,COLUMN(コントロールシート!AP38)-2,FALSE)=TRUE,\"✅\",\"\"),\"\")","v":""},{"$f":"IFERROR(IF(OFFSET(コントロールシート!AO$464,MATCH($B38,コントロールシート!$AZ$465:$AZ$518,0),0)=TRUE,\"✅\",\"\"),\"\")","v":""},{"$f":"IFERROR(IF(OFFSET(コントロールシート!AP$464,MATCH($B38,コントロールシート!$AZ$465:$AZ$518,0),0)=TRUE,\"✅\",\"\"),\"\")","v":""},{"$f":"IFERROR(IF(OFFSET(コントロールシート!AQ$464,MATCH($B38,コントロールシート!$AZ$465:$AZ$518,0),0)=TRUE,\"✅\",\"\"),\"\")","v":""},{"$f":"IFERROR(OFFSET(コントロールシート!AC$600,MATCH($B38,コントロールシート!$AZ$601:$AZ$654,0),0)&\"\",\"\")","v":""},{"$f":"IFERROR(OFFSET(コントロールシート!AF$600,MATCH($B38,コントロールシート!$AZ$601:$AZ$654,0),0)&\"\",\"\")","v":""},{"$f":"IF(U38<>\"\",\"平常時\",IF(V38<>\"\",IFERROR(OFFSET(コントロールシート!V$682,MATCH($B38,コントロールシート!$AZ$683:$AZ$736,0),0)&\"\",\"\"),IF(W38<>\"\",\"避難後\",\"\")))","v":""},"",{"$f":"IFERROR(OFFSET(コントロールシート!X$745,MATCH($B38,コントロールシート!$AZ$746:$AZ$799,0),0)&\"\",\"\")","v":""},{"$f":"IFERROR(OFFSET(コントロールシート!$W$819,MATCH(業務!B38,コントロールシート!$AZ$820:$AZ$873,0),0)&\"\",\"\")","v":""},{"$f":"IFERROR(OFFSET(コントロールシート!$AI$819,MATCH(B38,コントロールシート!$AZ$820:$AZ$873,0),0)&\"\",\"\")","v":""},{"$f":"IFERROR(OFFSET(コントロールシート!$AX$1004,MATCH(B38,コントロールシート!$BB$1005:$BB$1217,0),0)&\"\",\"\")","v":""},{"$f":"IFERROR(OFFSET(コントロールシート!$AY$1004,MATCH(B38,コントロールシート!$BB$1005:$BB$1217,0),0)&\"\",\"\")","v":""},{"$f":"IFERROR(OFFSET(コントロールシート!$AZ$1004,MATCH(B38,コントロールシート!$BB$1005:$BB$1217,0),0)&\"\",\"\")","v":""},{"$f":"IFERROR(OFFSET(コントロールシート!$BA$1004,MATCH(B38,コントロールシート!$BB$1005:$BB$1217,0),0)&\"\",\"\")","v":""},null,{"$f":"IF($Z38=AJ$5,MAX(AJ$5:AJ37)+1,\"\")","v":""},{"$f":"IF($Z38=AK$5,MAX(AK$5:AK37)+1,\"\")","v":""},{"$f":"IF($Z38=AL$5,MAX(AL$5:AL37)+1,\"\")","v":""},{"$f":"IF($Z38=AM$5,MAX(AM$5:AM37)+1,\"\")","v":""},{"$f":"IF($Z38=AN$5,MAX(AN$5:AN37)+1,\"\")","v":""}]
[null,34,{"$f":"IF(S39<>\"\",MAX($C$5:C38)+1,\"\")","v":""},{"$f":"IF(V39<>\"\",MAX($D$5:D38)+1,\"\")","v":""},{"$f":"IF(V39<>\"\",MAX($E$5:E38)+1,\"\")","v":""},null,null,{"$f":"IF(T39<>\"\",MAX($H$5:H38)+1,\"\")","v":""},{"$f":"IF(U39<>\"\",MAX($I$5:I38)+1,\"\")","v":""},null,{"$f":"IFERROR(OFFSET(コントロールシート!AX$394,MATCH(B39,コントロールシート!$AZ$395:$AZ$455,0),0)&\"\",\"\")","v":""},{"$f":"IFERROR(OFFSET(コントロールシート!I$394,MATCH(B39,コントロールシート!$AZ$395:$AZ$455,0),0)&\"\",\"\")","v":""},{"$f":"IFERROR(OFFSET(コントロールシート!N$394,MATCH(B39,コントロールシート!$AZ$395:$AZ$455,0),0)&\"\",\"\")","v":""},{"$f":"IFERROR(OFFSET(コントロールシート!V$464,MATCH(B39,コントロールシート!$AZ$465:$AZ$518,0),0)&\"\",\"\")","v":""},{"$f":"IFERROR(OFFSET(コントロールシート!AF$464,MATCH(B39,コントロールシート!$AZ$465:$AZ$518,0),0)&\"\",\"\")","v":""},{"$f":"IFERROR(OFFSET(コントロールシート!AC$524,MATCH($B39,コントロールシート!$AZ$525:$AZ$578,0),0)&\"\",\"\")","v":""},{"$f":"IFERROR(OFFSET(コントロールシート!AF$524,MATCH($B39,コントロールシート!$AZ$525:$AZ$578,0),0)&\"\",\"\")","v":""},{"$f":"IFERROR(OFFSET(コントロールシート!AI$524,MATCH($B39,コントロールシート!$AZ$525:$AZ$578,0),0)&\"\",\"\")","v":""},{"$f":"IFERROR(IF(VLOOKUP(B39,コントロールシート!$C$395:$AP$455,COLUMN(コントロールシート!AO39)-2,FALSE)=TRUE,\"✅\",\"\"),\"\")","v":""},{"$f":"IFERROR(IF(VLOOKUP(B39,コントロールシート!$C$395:$AP$455,COLUMN(コントロールシート!AP39)-2,FALSE)=TRUE,\"✅\",\"\"),\"\")","v":""},{"$f":"IFERROR(IF(OFFSET(コントロールシート!AO$464,MATCH($B39,コントロールシート!$AZ$465:$AZ$518,0),0)=TRUE,\"✅\",\"\"),\"\")","v":""},{"$f":"IFERROR(IF(OFFSET(コントロールシート!AP$464,MATCH($B39,コントロールシート!$AZ$465:$AZ$518,0),0)=TRUE,\"✅\",\"\"),\"\")","v":""},{"$f":"IFERROR(IF(OFFSET(コントロールシート!AQ$464,MATCH($B39,コントロールシート!$AZ$465:$AZ$518,0),0)=TRUE,\"✅\",\"\"),\"\")","v":""},{"$f":"IFERROR(OFFSET(コントロールシート!AC$600,MATCH($B39,コントロールシート!$AZ$601:$AZ$654,0),0)&\"\",\"\")","v":""},{"$f":"IFERROR(OFFSET(コントロールシート!AF$600,MATCH($B39,コントロールシート!$AZ$601:$AZ$654,0),0)&\"\",\"\")","v":""},{"$f":"IF(U39<>\"\",\"平常時\",IF(V39<>\"\",IFERROR(OFFSET(コントロールシート!V$682,MATCH($B39,コントロールシート!$AZ$683:$AZ$736,0),0)&\"\",\"\"),IF(W39<>\"\",\"避難後\",\"\")))","v":""},"",{"$f":"IFERROR(OFFSET(コントロールシート!X$745,MATCH($B39,コントロールシート!$AZ$746:$AZ$799,0),0)&\"\",\"\")","v":""},{"$f":"IFERROR(OFFSET(コントロールシート!$W$819,MATCH(業務!B39,コントロールシート!$AZ$820:$AZ$873,0),0)&\"\",\"\")","v":""},{"$f":"IFERROR(OFFSET(コントロールシート!$AI$819,MATCH(B39,コントロールシート!$AZ$820:$AZ$873,0),0)&\"\",\"\")","v":""},{"$f":"IFERROR(OFFSET(コントロールシート!$AX$1004,MATCH(B39,コントロールシート!$BB$1005:$BB$1217,0),0)&\"\",\"\")","v":""},{"$f":"IFERROR(OFFSET(コントロールシート!$AY$1004,MATCH(B39,コントロールシート!$BB$1005:$BB$1217,0),0)&\"\",\"\")","v":""},{"$f":"IFERROR(OFFSET(コントロールシート!$AZ$1004,MATCH(B39,コントロールシート!$BB$1005:$BB$1217,0),0)&\"\",\"\")","v":""},{"$f":"IFERROR(OFFSET(コントロールシート!$BA$1004,MATCH(B39,コントロールシート!$BB$1005:$BB$1217,0),0)&\"\",\"\")","v":""},null,{"$f":"IF($Z39=AJ$5,MAX(AJ$5:AJ38)+1,\"\")","v":""},{"$f":"IF($Z39=AK$5,MAX(AK$5:AK38)+1,\"\")","v":""},{"$f":"IF($Z39=AL$5,MAX(AL$5:AL38)+1,\"\")","v":""},{"$f":"IF($Z39=AM$5,MAX(AM$5:AM38)+1,\"\")","v":""},{"$f":"IF($Z39=AN$5,MAX(AN$5:AN38)+1,\"\")","v":""}]
[null,35,{"$f":"IF(S40<>\"\",MAX($C$5:C39)+1,\"\")","v":""},{"$f":"IF(V40<>\"\",MAX($D$5:D39)+1,\"\")","v":""},{"$f":"IF(V40<>\"\",MAX($E$5:E39)+1,\"\")","v":""},null,null,{"$f":"IF(T40<>\"\",MAX($H$5:H39)+1,\"\")","v":""},{"$f":"IF(U40<>\"\",MAX($I$5:I39)+1,\"\")","v":""},null,{"$f":"IFERROR(OFFSET(コントロールシート!AX$394,MATCH(B40,コントロールシート!$AZ$395:$AZ$455,0),0)&\"\",\"\")","v":""},{"$f":"IFERROR(OFFSET(コントロールシート!I$394,MATCH(B40,コントロールシート!$AZ$395:$AZ$455,0),0)&\"\",\"\")","v":""},{"$f":"IFERROR(OFFSET(コントロールシート!N$394,MATCH(B40,コントロールシート!$AZ$395:$AZ$455,0),0)&\"\",\"\")","v":""},{"$f":"IFERROR(OFFSET(コントロールシート!V$464,MATCH(B40,コントロールシート!$AZ$465:$AZ$518,0),0)&\"\",\"\")","v":""},{"$f":"IFERROR(OFFSET(コントロールシート!AF$464,MATCH(B40,コントロールシート!$AZ$465:$AZ$518,0),0)&\"\",\"\")","v":""},{"$f":"IFERROR(OFFSET(コントロールシート!AC$524,MATCH($B40,コントロールシート!$AZ$525:$AZ$578,0),0)&\"\",\"\")","v":""},{"$f":"IFERROR(OFFSET(コントロールシート!AF$524,MATCH($B40,コントロールシート!$AZ$525:$AZ$578,0),0)&\"\",\"\")","v":""},{"$f":"IFERROR(OFFSET(コントロールシート!AI$524,MATCH($B40,コントロールシート!$AZ$525:$AZ$578,0),0)&\"\",\"\")","v":""},{"$f":"IFERROR(IF(VLOOKUP(B40,コントロールシート!$C$395:$AP$455,COLUMN(コントロールシート!AO40)-2,FALSE)=TRUE,\"✅\",\"\"),\"\")","v":""},{"$f":"IFERROR(IF(VLOOKUP(B40,コントロールシート!$C$395:$AP$455,COLUMN(コントロールシート!AP40)-2,FALSE)=TRUE,\"✅\",\"\"),\"\")","v":""},{"$f":"IFERROR(IF(OFFSET(コントロールシート!AO$464,MATCH($B40,コントロールシート!$AZ$465:$AZ$518,0),0)=TRUE,\"✅\",\"\"),\"\")","v":""},{"$f":"IFERROR(IF(OFFSET(コントロールシート!AP$464,MATCH($B40,コントロールシート!$AZ$465:$AZ$518,0),0)=TRUE,\"✅\",\"\"),\"\")","v":""},{"$f":"IFERROR(IF(OFFSET(コントロールシート!AQ$464,MATCH($B40,コントロールシート!$AZ$465:$AZ$518,0),0)=TRUE,\"✅\",\"\"),\"\")","v":""},{"$f":"IFERROR(OFFSET(コントロールシート!AC$600,MATCH($B40,コントロールシート!$AZ$601:$AZ$654,0),0)&\"\",\"\")","v":""},{"$f":"IFERROR(OFFSET(コントロールシート!AF$600,MATCH($B40,コントロールシート!$AZ$601:$AZ$654,0),0)&\"\",\"\")","v":""},{"$f":"IF(U40<>\"\",\"平常時\",IF(V40<>\"\",IFERROR(OFFSET(コントロールシート!V$682,MATCH($B40,コントロールシート!$AZ$683:$AZ$736,0),0)&\"\",\"\"),IF(W40<>\"\",\"避難後\",\"\")))","v":""},"",{"$f":"IFERROR(OFFSET(コントロールシート!X$745,MATCH($B40,コントロールシート!$AZ$746:$AZ$799,0),0)&\"\",\"\")","v":""},{"$f":"IFERROR(OFFSET(コントロールシート!$W$819,MATCH(業務!B40,コントロールシート!$AZ$820:$AZ$873,0),0)&\"\",\"\")","v":""},{"$f":"IFERROR(OFFSET(コントロールシート!$AI$819,MATCH(B40,コントロールシート!$AZ$820:$AZ$873,0),0)&\"\",\"\")","v":""},{"$f":"IFERROR(OFFSET(コントロールシート!$AX$1004,MATCH(B40,コントロールシート!$BB$1005:$BB$1217,0),0)&\"\",\"\")","v":""},{"$f":"IFERROR(OFFSET(コントロールシート!$AY$1004,MATCH(B40,コントロールシート!$BB$1005:$BB$1217,0),0)&\"\",\"\")","v":""},{"$f":"IFERROR(OFFSET(コントロールシート!$AZ$1004,MATCH(B40,コントロールシート!$BB$1005:$BB$1217,0),0)&\"\",\"\")","v":""},{"$f":"IFERROR(OFFSET(コントロールシート!$BA$1004,MATCH(B40,コントロールシート!$BB$1005:$BB$1217,0),0)&\"\",\"\")","v":""},null,{"$f":"IF($Z40=AJ$5,MAX(AJ$5:AJ39)+1,\"\")","v":""},{"$f":"IF($Z40=AK$5,MAX(AK$5:AK39)+1,\"\")","v":""},{"$f":"IF($Z40=AL$5,MAX(AL$5:AL39)+1,\"\")","v":""},{"$f":"IF($Z40=AM$5,MAX(AM$5:AM39)+1,\"\")","v":""},{"$f":"IF($Z40=AN$5,MAX(AN$5:AN39)+1,\"\")","v":""}]
[null,36,{"$f":"IF(S41<>\"\",MAX($C$5:C40)+1,\"\")","v":""},{"$f":"IF(V41<>\"\",MAX($D$5:D40)+1,\"\")","v":""},{"$f":"IF(V41<>\"\",MAX($E$5:E40)+1,\"\")","v":""},null,null,{"$f":"IF(T41<>\"\",MAX($H$5:H40)+1,\"\")","v":""},{"$f":"IF(U41<>\"\",MAX($I$5:I40)+1,\"\")","v":""},null,{"$f":"IFERROR(OFFSET(コントロールシート!AX$394,MATCH(B41,コントロールシート!$AZ$395:$AZ$455,0),0)&\"\",\"\")","v":""},{"$f":"IFERROR(OFFSET(コントロールシート!I$394,MATCH(B41,コントロールシート!$AZ$395:$AZ$455,0),0)&\"\",\"\")","v":""},{"$f":"IFERROR(OFFSET(コントロールシート!N$394,MATCH(B41,コントロールシート!$AZ$395:$AZ$455,0),0)&\"\",\"\")","v":""},{"$f":"IFERROR(OFFSET(コントロールシート!V$464,MATCH(B41,コントロールシート!$AZ$465:$AZ$518,0),0)&\"\",\"\")","v":""},{"$f":"IFERROR(OFFSET(コントロールシート!AF$464,MATCH(B41,コントロールシート!$AZ$465:$AZ$518,0),0)&\"\",\"\")","v":""},{"$f":"IFERROR(OFFSET(コントロールシート!AC$524,MATCH($B41,コントロールシート!$AZ$525:$AZ$578,0),0)&\"\",\"\")","v":""},{"$f":"IFERROR(OFFSET(コントロールシート!AF$524,MATCH($B41,コントロールシート!$AZ$525:$AZ$578,0),0)&\"\",\"\")","v":""},{"$f":"IFERROR(OFFSET(コントロールシート!AI$524,MATCH($B41,コントロールシート!$AZ$525:$AZ$578,0),0)&\"\",\"\")","v":""},{"$f":"IFERROR(IF(VLOOKUP(B41,コントロールシート!$C$395:$AP$455,COLUMN(コントロールシート!AO41)-2,FALSE)=TRUE,\"✅\",\"\"),\"\")","v":""},{"$f":"IFERROR(IF(VLOOKUP(B41,コントロールシート!$C$395:$AP$455,COLUMN(コントロールシート!AP41)-2,FALSE)=TRUE,\"✅\",\"\"),\"\")","v":""},{"$f":"IFERROR(IF(OFFSET(コントロールシート!AO$464,MATCH($B41,コントロールシート!$AZ$465:$AZ$518,0),0)=TRUE,\"✅\",\"\"),\"\")","v":""},{"$f":"IFERROR(IF(OFFSET(コントロールシート!AP$464,MATCH($B41,コントロールシート!$AZ$465:$AZ$518,0),0)=TRUE,\"✅\",\"\"),\"\")","v":""},{"$f":"IFERROR(IF(OFFSET(コントロールシート!AQ$464,MATCH($B41,コントロールシート!$AZ$465:$AZ$518,0),0)=TRUE,\"✅\",\"\"),\"\")","v":""},{"$f":"IFERROR(OFFSET(コントロールシート!AC$600,MATCH($B41,コントロールシート!$AZ$601:$AZ$654,0),0)&\"\",\"\")","v":""},{"$f":"IFERROR(OFFSET(コントロールシート!AF$600,MATCH($B41,コントロールシート!$AZ$601:$AZ$654,0),0)&\"\",\"\")","v":""},{"$f":"IF(U41<>\"\",\"平常時\",IF(V41<>\"\",IFERROR(OFFSET(コントロールシート!V$682,MATCH($B41,コントロールシート!$AZ$683:$AZ$736,0),0)&\"\",\"\"),IF(W41<>\"\",\"避難後\",\"\")))","v":""},"",{"$f":"IFERROR(OFFSET(コントロールシート!X$745,MATCH($B41,コントロールシート!$AZ$746:$AZ$799,0),0)&\"\",\"\")","v":""},{"$f":"IFERROR(OFFSET(コントロールシート!$W$819,MATCH(業務!B41,コントロールシート!$AZ$820:$AZ$873,0),0)&\"\",\"\")","v":""},{"$f":"IFERROR(OFFSET(コントロールシート!$AI$819,MATCH(B41,コントロールシート!$AZ$820:$AZ$873,0),0)&\"\",\"\")","v":""},{"$f":"IFERROR(OFFSET(コントロールシート!$AX$1004,MATCH(B41,コントロールシート!$BB$1005:$BB$1217,0),0)&\"\",\"\")","v":""},{"$f":"IFERROR(OFFSET(コントロールシート!$AY$1004,MATCH(B41,コントロールシート!$BB$1005:$BB$1217,0),0)&\"\",\"\")","v":""},{"$f":"IFERROR(OFFSET(コントロールシート!$AZ$1004,MATCH(B41,コントロールシート!$BB$1005:$BB$1217,0),0)&\"\",\"\")","v":""},{"$f":"IFERROR(OFFSET(コントロールシート!$BA$1004,MATCH(B41,コントロールシート!$BB$1005:$BB$1217,0),0)&\"\",\"\")","v":""},null,{"$f":"IF($Z41=AJ$5,MAX(AJ$5:AJ40)+1,\"\")","v":""},{"$f":"IF($Z41=AK$5,MAX(AK$5:AK40)+1,\"\")","v":""},{"$f":"IF($Z41=AL$5,MAX(AL$5:AL40)+1,\"\")","v":""},{"$f":"IF($Z41=AM$5,MAX(AM$5:AM40)+1,\"\")","v":""},{"$f":"IF($Z41=AN$5,MAX(AN$5:AN40)+1,\"\")","v":""}]
[null,37,{"$f":"IF(S42<>\"\",MAX($C$5:C41)+1,\"\")","v":""},{"$f":"IF(V42<>\"\",MAX($D$5:D41)+1,\"\")","v":""},{"$f":"IF(V42<>\"\",MAX($E$5:E41)+1,\"\")","v":""},null,null,{"$f":"IF(T42<>\"\",MAX($H$5:H41)+1,\"\")","v":""},{"$f":"IF(U42<>\"\",MAX($I$5:I41)+1,\"\")","v":""},null,{"$f":"IFERROR(OFFSET(コントロールシート!AX$394,MATCH(B42,コントロールシート!$AZ$395:$AZ$455,0),0)&\"\",\"\")","v":""},{"$f":"IFERROR(OFFSET(コントロールシート!I$394,MATCH(B42,コントロールシート!$AZ$395:$AZ$455,0),0)&\"\",\"\")","v":""},{"$f":"IFERROR(OFFSET(コントロールシート!N$394,MATCH(B42,コントロールシート!$AZ$395:$AZ$455,0),0)&\"\",\"\")","v":""},{"$f":"IFERROR(OFFSET(コントロールシート!V$464,MATCH(B42,コントロールシート!$AZ$465:$AZ$518,0),0)&\"\",\"\")","v":""},{"$f":"IFERROR(OFFSET(コントロールシート!AF$464,MATCH(B42,コントロールシート!$AZ$465:$AZ$518,0),0)&\"\",\"\")","v":""},{"$f":"IFERROR(OFFSET(コントロールシート!AC$524,MATCH($B42,コントロールシート!$AZ$525:$AZ$578,0),0)&\"\",\"\")","v":""},{"$f":"IFERROR(OFFSET(コントロールシート!AF$524,MATCH($B42,コントロールシート!$AZ$525:$AZ$578,0),0)&\"\",\"\")","v":""},{"$f":"IFERROR(OFFSET(コントロールシート!AI$524,MATCH($B42,コントロールシート!$AZ$525:$AZ$578,0),0)&\"\",\"\")","v":""},{"$f":"IFERROR(IF(VLOOKUP(B42,コントロールシート!$C$395:$AP$455,COLUMN(コントロールシート!AO42)-2,FALSE)=TRUE,\"✅\",\"\"),\"\")","v":""},{"$f":"IFERROR(IF(VLOOKUP(B42,コントロールシート!$C$395:$AP$455,COLUMN(コントロールシート!AP42)-2,FALSE)=TRUE,\"✅\",\"\"),\"\")","v":""},{"$f":"IFERROR(IF(OFFSET(コントロールシート!AO$464,MATCH($B42,コントロールシート!$AZ$465:$AZ$518,0),0)=TRUE,\"✅\",\"\"),\"\")","v":""},{"$f":"IFERROR(IF(OFFSET(コントロールシート!AP$464,MATCH($B42,コントロールシート!$AZ$465:$AZ$518,0),0)=TRUE,\"✅\",\"\"),\"\")","v":""},{"$f":"IFERROR(IF(OFFSET(コントロールシート!AQ$464,MATCH($B42,コントロールシート!$AZ$465:$AZ$518,0),0)=TRUE,\"✅\",\"\"),\"\")","v":""},{"$f":"IFERROR(OFFSET(コントロールシート!AC$600,MATCH($B42,コントロールシート!$AZ$601:$AZ$654,0),0)&\"\",\"\")","v":""},{"$f":"IFERROR(OFFSET(コントロールシート!AF$600,MATCH($B42,コントロールシート!$AZ$601:$AZ$654,0),0)&\"\",\"\")","v":""},{"$f":"IF(U42<>\"\",\"平常時\",IF(V42<>\"\",IFERROR(OFFSET(コントロールシート!V$682,MATCH($B42,コントロールシート!$AZ$683:$AZ$736,0),0)&\"\",\"\"),IF(W42<>\"\",\"避難後\",\"\")))","v":""},"",{"$f":"IFERROR(OFFSET(コントロールシート!X$745,MATCH($B42,コントロールシート!$AZ$746:$AZ$799,0),0)&\"\",\"\")","v":""},{"$f":"IFERROR(OFFSET(コントロールシート!$W$819,MATCH(業務!B42,コントロールシート!$AZ$820:$AZ$873,0),0)&\"\",\"\")","v":""},{"$f":"IFERROR(OFFSET(コントロールシート!$AI$819,MATCH(B42,コントロールシート!$AZ$820:$AZ$873,0),0)&\"\",\"\")","v":""},{"$f":"IFERROR(OFFSET(コントロールシート!$AX$1004,MATCH(B42,コントロールシート!$BB$1005:$BB$1217,0),0)&\"\",\"\")","v":""},{"$f":"IFERROR(OFFSET(コントロールシート!$AY$1004,MATCH(B42,コントロールシート!$BB$1005:$BB$1217,0),0)&\"\",\"\")","v":""},{"$f":"IFERROR(OFFSET(コントロールシート!$AZ$1004,MATCH(B42,コントロールシート!$BB$1005:$BB$1217,0),0)&\"\",\"\")","v":""},{"$f":"IFERROR(OFFSET(コントロールシート!$BA$1004,MATCH(B42,コントロールシート!$BB$1005:$BB$1217,0),0)&\"\",\"\")","v":""},null,{"$f":"IF($Z42=AJ$5,MAX(AJ$5:AJ41)+1,\"\")","v":""},{"$f":"IF($Z42=AK$5,MAX(AK$5:AK41)+1,\"\")","v":""},{"$f":"IF($Z42=AL$5,MAX(AL$5:AL41)+1,\"\")","v":""},{"$f":"IF($Z42=AM$5,MAX(AM$5:AM41)+1,\"\")","v":""},{"$f":"IF($Z42=AN$5,MAX(AN$5:AN41)+1,\"\")","v":""}]
[null,38,{"$f":"IF(S43<>\"\",MAX($C$5:C42)+1,\"\")","v":""},{"$f":"IF(V43<>\"\",MAX($D$5:D42)+1,\"\")","v":""},{"$f":"IF(V43<>\"\",MAX($E$5:E42)+1,\"\")","v":""},null,null,{"$f":"IF(T43<>\"\",MAX($H$5:H42)+1,\"\")","v":""},{"$f":"IF(U43<>\"\",MAX($I$5:I42)+1,\"\")","v":""},null,{"$f":"IFERROR(OFFSET(コントロールシート!AX$394,MATCH(B43,コントロールシート!$AZ$395:$AZ$455,0),0)&\"\",\"\")","v":""},{"$f":"IFERROR(OFFSET(コントロールシート!I$394,MATCH(B43,コントロールシート!$AZ$395:$AZ$455,0),0)&\"\",\"\")","v":""},{"$f":"IFERROR(OFFSET(コントロールシート!N$394,MATCH(B43,コントロールシート!$AZ$395:$AZ$455,0),0)&\"\",\"\")","v":""},{"$f":"IFERROR(OFFSET(コントロールシート!V$464,MATCH(B43,コントロールシート!$AZ$465:$AZ$518,0),0)&\"\",\"\")","v":""},{"$f":"IFERROR(OFFSET(コントロールシート!AF$464,MATCH(B43,コントロールシート!$AZ$465:$AZ$518,0),0)&\"\",\"\")","v":""},{"$f":"IFERROR(OFFSET(コントロールシート!AC$524,MATCH($B43,コントロールシート!$AZ$525:$AZ$578,0),0)&\"\",\"\")","v":""},{"$f":"IFERROR(OFFSET(コントロールシート!AF$524,MATCH($B43,コントロールシート!$AZ$525:$AZ$578,0),0)&\"\",\"\")","v":""},{"$f":"IFERROR(OFFSET(コントロールシート!AI$524,MATCH($B43,コントロールシート!$AZ$525:$AZ$578,0),0)&\"\",\"\")","v":""},{"$f":"IFERROR(IF(VLOOKUP(B43,コントロールシート!$C$395:$AP$455,COLUMN(コントロールシート!AO43)-2,FALSE)=TRUE,\"✅\",\"\"),\"\")","v":""},{"$f":"IFERROR(IF(VLOOKUP(B43,コントロールシート!$C$395:$AP$455,COLUMN(コントロールシート!AP43)-2,FALSE)=TRUE,\"✅\",\"\"),\"\")","v":""},{"$f":"IFERROR(IF(OFFSET(コントロールシート!AO$464,MATCH($B43,コントロールシート!$AZ$465:$AZ$518,0),0)=TRUE,\"✅\",\"\"),\"\")","v":""},{"$f":"IFERROR(IF(OFFSET(コントロールシート!AP$464,MATCH($B43,コントロールシート!$AZ$465:$AZ$518,0),0)=TRUE,\"✅\",\"\"),\"\")","v":""},{"$f":"IFERROR(IF(OFFSET(コントロールシート!AQ$464,MATCH($B43,コントロールシート!$AZ$465:$AZ$518,0),0)=TRUE,\"✅\",\"\"),\"\")","v":""},{"$f":"IFERROR(OFFSET(コントロールシート!AC$600,MATCH($B43,コントロールシート!$AZ$601:$AZ$654,0),0)&\"\",\"\")","v":""},{"$f":"IFERROR(OFFSET(コントロールシート!AF$600,MATCH($B43,コントロールシート!$AZ$601:$AZ$654,0),0)&\"\",\"\")","v":""},{"$f":"IF(U43<>\"\",\"平常時\",IF(V43<>\"\",IFERROR(OFFSET(コントロールシート!V$682,MATCH($B43,コントロールシート!$AZ$683:$AZ$736,0),0)&\"\",\"\"),IF(W43<>\"\",\"避難後\",\"\")))","v":""},"",{"$f":"IFERROR(OFFSET(コントロールシート!X$745,MATCH($B43,コントロールシート!$AZ$746:$AZ$799,0),0)&\"\",\"\")","v":""},{"$f":"IFERROR(OFFSET(コントロールシート!$W$819,MATCH(業務!B43,コントロールシート!$AZ$820:$AZ$873,0),0)&\"\",\"\")","v":""},{"$f":"IFERROR(OFFSET(コントロールシート!$AI$819,MATCH(B43,コントロールシート!$AZ$820:$AZ$873,0),0)&\"\",\"\")","v":""},{"$f":"IFERROR(OFFSET(コントロールシート!$AX$1004,MATCH(B43,コントロールシート!$BB$1005:$BB$1217,0),0)&\"\",\"\")","v":""},{"$f":"IFERROR(OFFSET(コントロールシート!$AY$1004,MATCH(B43,コントロールシート!$BB$1005:$BB$1217,0),0)&\"\",\"\")","v":""},{"$f":"IFERROR(OFFSET(コントロールシート!$AZ$1004,MATCH(B43,コントロールシート!$BB$1005:$BB$1217,0),0)&\"\",\"\")","v":""},{"$f":"IFERROR(OFFSET(コントロールシート!$BA$1004,MATCH(B43,コントロールシート!$BB$1005:$BB$1217,0),0)&\"\",\"\")","v":""},null,{"$f":"IF($Z43=AJ$5,MAX(AJ$5:AJ42)+1,\"\")","v":""},{"$f":"IF($Z43=AK$5,MAX(AK$5:AK42)+1,\"\")","v":""},{"$f":"IF($Z43=AL$5,MAX(AL$5:AL42)+1,\"\")","v":""},{"$f":"IF($Z43=AM$5,MAX(AM$5:AM42)+1,\"\")","v":""},{"$f":"IF($Z43=AN$5,MAX(AN$5:AN42)+1,\"\")","v":""}]
[null,39,{"$f":"IF(S44<>\"\",MAX($C$5:C43)+1,\"\")","v":""},{"$f":"IF(V44<>\"\",MAX($D$5:D43)+1,\"\")","v":""},{"$f":"IF(V44<>\"\",MAX($E$5:E43)+1,\"\")","v":""},null,null,{"$f":"IF(T44<>\"\",MAX($H$5:H43)+1,\"\")","v":""},{"$f":"IF(U44<>\"\",MAX($I$5:I43)+1,\"\")","v":""},null,{"$f":"IFERROR(OFFSET(コントロールシート!AX$394,MATCH(B44,コントロールシート!$AZ$395:$AZ$455,0),0)&\"\",\"\")","v":""},{"$f":"IFERROR(OFFSET(コントロールシート!I$394,MATCH(B44,コントロールシート!$AZ$395:$AZ$455,0),0)&\"\",\"\")","v":""},{"$f":"IFERROR(OFFSET(コントロールシート!N$394,MATCH(B44,コントロールシート!$AZ$395:$AZ$455,0),0)&\"\",\"\")","v":""},{"$f":"IFERROR(OFFSET(コントロールシート!V$464,MATCH(B44,コントロールシート!$AZ$465:$AZ$518,0),0)&\"\",\"\")","v":""},{"$f":"IFERROR(OFFSET(コントロールシート!AF$464,MATCH(B44,コントロールシート!$AZ$465:$AZ$518,0),0)&\"\",\"\")","v":""},{"$f":"IFERROR(OFFSET(コントロールシート!AC$524,MATCH($B44,コントロールシート!$AZ$525:$AZ$578,0),0)&\"\",\"\")","v":""},{"$f":"IFERROR(OFFSET(コントロールシート!AF$524,MATCH($B44,コントロールシート!$AZ$525:$AZ$578,0),0)&\"\",\"\")","v":""},{"$f":"IFERROR(OFFSET(コントロールシート!AI$524,MATCH($B44,コントロールシート!$AZ$525:$AZ$578,0),0)&\"\",\"\")","v":""},{"$f":"IFERROR(IF(VLOOKUP(B44,コントロールシート!$C$395:$AP$455,COLUMN(コントロールシート!AO44)-2,FALSE)=TRUE,\"✅\",\"\"),\"\")","v":""},{"$f":"IFERROR(IF(VLOOKUP(B44,コントロールシート!$C$395:$AP$455,COLUMN(コントロールシート!AP44)-2,FALSE)=TRUE,\"✅\",\"\"),\"\")","v":""},{"$f":"IFERROR(IF(OFFSET(コントロールシート!AO$464,MATCH($B44,コントロールシート!$AZ$465:$AZ$518,0),0)=TRUE,\"✅\",\"\"),\"\")","v":""},{"$f":"IFERROR(IF(OFFSET(コントロールシート!AP$464,MATCH($B44,コントロールシート!$AZ$465:$AZ$518,0),0)=TRUE,\"✅\",\"\"),\"\")","v":""},{"$f":"IFERROR(IF(OFFSET(コントロールシート!AQ$464,MATCH($B44,コントロールシート!$AZ$465:$AZ$518,0),0)=TRUE,\"✅\",\"\"),\"\")","v":""},{"$f":"IFERROR(OFFSET(コントロールシート!AC$600,MATCH($B44,コントロールシート!$AZ$601:$AZ$654,0),0)&\"\",\"\")","v":""},{"$f":"IFERROR(OFFSET(コントロールシート!AF$600,MATCH($B44,コントロールシート!$AZ$601:$AZ$654,0),0)&\"\",\"\")","v":""},{"$f":"IF(U44<>\"\",\"平常時\",IF(V44<>\"\",IFERROR(OFFSET(コントロールシート!V$682,MATCH($B44,コントロールシート!$AZ$683:$AZ$736,0),0)&\"\",\"\"),IF(W44<>\"\",\"避難後\",\"\")))","v":""},"",{"$f":"IFERROR(OFFSET(コントロールシート!X$745,MATCH($B44,コントロールシート!$AZ$746:$AZ$799,0),0)&\"\",\"\")","v":""},{"$f":"IFERROR(OFFSET(コントロールシート!$W$819,MATCH(業務!B44,コントロールシート!$AZ$820:$AZ$873,0),0)&\"\",\"\")","v":""},{"$f":"IFERROR(OFFSET(コントロールシート!$AI$819,MATCH(B44,コントロールシート!$AZ$820:$AZ$873,0),0)&\"\",\"\")","v":""},{"$f":"IFERROR(OFFSET(コントロールシート!$AX$1004,MATCH(B44,コントロールシート!$BB$1005:$BB$1217,0),0)&\"\",\"\")","v":""},{"$f":"IFERROR(OFFSET(コントロールシート!$AY$1004,MATCH(B44,コントロールシート!$BB$1005:$BB$1217,0),0)&\"\",\"\")","v":""},{"$f":"IFERROR(OFFSET(コントロールシート!$AZ$1004,MATCH(B44,コントロールシート!$BB$1005:$BB$1217,0),0)&\"\",\"\")","v":""},{"$f":"IFERROR(OFFSET(コントロールシート!$BA$1004,MATCH(B44,コントロールシート!$BB$1005:$BB$1217,0),0)&\"\",\"\")","v":""},null,{"$f":"IF($Z44=AJ$5,MAX(AJ$5:AJ43)+1,\"\")","v":""},{"$f":"IF($Z44=AK$5,MAX(AK$5:AK43)+1,\"\")","v":""},{"$f":"IF($Z44=AL$5,MAX(AL$5:AL43)+1,\"\")","v":""},{"$f":"IF($Z44=AM$5,MAX(AM$5:AM43)+1,\"\")","v":""},{"$f":"IF($Z44=AN$5,MAX(AN$5:AN43)+1,\"\")","v":""}]
[null,40,{"$f":"IF(S45<>\"\",MAX($C$5:C44)+1,\"\")","v":""},{"$f":"IF(V45<>\"\",MAX($D$5:D44)+1,\"\")","v":""},{"$f":"IF(V45<>\"\",MAX($E$5:E44)+1,\"\")","v":""},null,null,{"$f":"IF(T45<>\"\",MAX($H$5:H44)+1,\"\")","v":""},{"$f":"IF(U45<>\"\",MAX($I$5:I44)+1,\"\")","v":""},null,{"$f":"IFERROR(OFFSET(コントロールシート!AX$394,MATCH(B45,コントロールシート!$AZ$395:$AZ$455,0),0)&\"\",\"\")","v":""},{"$f":"IFERROR(OFFSET(コントロールシート!I$394,MATCH(B45,コントロールシート!$AZ$395:$AZ$455,0),0)&\"\",\"\")","v":""},{"$f":"IFERROR(OFFSET(コントロールシート!N$394,MATCH(B45,コントロールシート!$AZ$395:$AZ$455,0),0)&\"\",\"\")","v":""},{"$f":"IFERROR(OFFSET(コントロールシート!V$464,MATCH(B45,コントロールシート!$AZ$465:$AZ$518,0),0)&\"\",\"\")","v":""},{"$f":"IFERROR(OFFSET(コントロールシート!AF$464,MATCH(B45,コントロールシート!$AZ$465:$AZ$518,0),0)&\"\",\"\")","v":""},{"$f":"IFERROR(OFFSET(コントロールシート!AC$524,MATCH($B45,コントロールシート!$AZ$525:$AZ$578,0),0)&\"\",\"\")","v":""},{"$f":"IFERROR(OFFSET(コントロールシート!AF$524,MATCH($B45,コントロールシート!$AZ$525:$AZ$578,0),0)&\"\",\"\")","v":""},{"$f":"IFERROR(OFFSET(コントロールシート!AI$524,MATCH($B45,コントロールシート!$AZ$525:$AZ$578,0),0)&\"\",\"\")","v":""},{"$f":"IFERROR(IF(VLOOKUP(B45,コントロールシート!$C$395:$AP$455,COLUMN(コントロールシート!AO45)-2,FALSE)=TRUE,\"✅\",\"\"),\"\")","v":""},{"$f":"IFERROR(IF(VLOOKUP(B45,コントロールシート!$C$395:$AP$455,COLUMN(コントロールシート!AP45)-2,FALSE)=TRUE,\"✅\",\"\"),\"\")","v":""},{"$f":"IFERROR(IF(OFFSET(コントロールシート!AO$464,MATCH($B45,コントロールシート!$AZ$465:$AZ$518,0),0)=TRUE,\"✅\",\"\"),\"\")","v":""},{"$f":"IFERROR(IF(OFFSET(コントロールシート!AP$464,MATCH($B45,コントロールシート!$AZ$465:$AZ$518,0),0)=TRUE,\"✅\",\"\"),\"\")","v":""},{"$f":"IFERROR(IF(OFFSET(コントロールシート!AQ$464,MATCH($B45,コントロールシート!$AZ$465:$AZ$518,0),0)=TRUE,\"✅\",\"\"),\"\")","v":""},{"$f":"IFERROR(OFFSET(コントロールシート!AC$600,MATCH($B45,コントロールシート!$AZ$601:$AZ$654,0),0)&\"\",\"\")","v":""},{"$f":"IFERROR(OFFSET(コントロールシート!AF$600,MATCH($B45,コントロールシート!$AZ$601:$AZ$654,0),0)&\"\",\"\")","v":""},{"$f":"IF(U45<>\"\",\"平常時\",IF(V45<>\"\",IFERROR(OFFSET(コントロールシート!V$682,MATCH($B45,コントロールシート!$AZ$683:$AZ$736,0),0)&\"\",\"\"),IF(W45<>\"\",\"避難後\",\"\")))","v":""},"",{"$f":"IFERROR(OFFSET(コントロールシート!X$745,MATCH($B45,コントロールシート!$AZ$746:$AZ$799,0),0)&\"\",\"\")","v":""},{"$f":"IFERROR(OFFSET(コントロールシート!$W$819,MATCH(業務!B45,コントロールシート!$AZ$820:$AZ$873,0),0)&\"\",\"\")","v":""},{"$f":"IFERROR(OFFSET(コントロールシート!$AI$819,MATCH(B45,コントロールシート!$AZ$820:$AZ$873,0),0)&\"\",\"\")","v":""},{"$f":"IFERROR(OFFSET(コントロールシート!$AX$1004,MATCH(B45,コントロールシート!$BB$1005:$BB$1217,0),0)&\"\",\"\")","v":""},{"$f":"IFERROR(OFFSET(コントロールシート!$AY$1004,MATCH(B45,コントロールシート!$BB$1005:$BB$1217,0),0)&\"\",\"\")","v":""},{"$f":"IFERROR(OFFSET(コントロールシート!$AZ$1004,MATCH(B45,コントロールシート!$BB$1005:$BB$1217,0),0)&\"\",\"\")","v":""},{"$f":"IFERROR(OFFSET(コントロールシート!$BA$1004,MATCH(B45,コントロールシート!$BB$1005:$BB$1217,0),0)&\"\",\"\")","v":""},null,{"$f":"IF($Z45=AJ$5,MAX(AJ$5:AJ44)+1,\"\")","v":""},{"$f":"IF($Z45=AK$5,MAX(AK$5:AK44)+1,\"\")","v":""},{"$f":"IF($Z45=AL$5,MAX(AL$5:AL44)+1,\"\")","v":""},{"$f":"IF($Z45=AM$5,MAX(AM$5:AM44)+1,\"\")","v":""},{"$f":"IF($Z45=AN$5,MAX(AN$5:AN44)+1,\"\")","v":""}]
[null,41,{"$f":"IF(S46<>\"\",MAX($C$5:C45)+1,\"\")","v":""},{"$f":"IF(V46<>\"\",MAX($D$5:D45)+1,\"\")","v":""},{"$f":"IF(V46<>\"\",MAX($E$5:E45)+1,\"\")","v":""},null,null,{"$f":"IF(T46<>\"\",MAX($H$5:H45)+1,\"\")","v":""},{"$f":"IF(U46<>\"\",MAX($I$5:I45)+1,\"\")","v":""},null,{"$f":"IFERROR(OFFSET(コントロールシート!AX$394,MATCH(B46,コントロールシート!$AZ$395:$AZ$455,0),0)&\"\",\"\")","v":""},{"$f":"IFERROR(OFFSET(コントロールシート!I$394,MATCH(B46,コントロールシート!$AZ$395:$AZ$455,0),0)&\"\",\"\")","v":""},{"$f":"IFERROR(OFFSET(コントロールシート!N$394,MATCH(B46,コントロールシート!$AZ$395:$AZ$455,0),0)&\"\",\"\")","v":""},{"$f":"IFERROR(OFFSET(コントロールシート!V$464,MATCH(B46,コントロールシート!$AZ$465:$AZ$518,0),0)&\"\",\"\")","v":""},{"$f":"IFERROR(OFFSET(コントロールシート!AF$464,MATCH(B46,コントロールシート!$AZ$465:$AZ$518,0),0)&\"\",\"\")","v":""},{"$f":"IFERROR(OFFSET(コントロールシート!AC$524,MATCH($B46,コントロールシート!$AZ$525:$AZ$578,0),0)&\"\",\"\")","v":""},{"$f":"IFERROR(OFFSET(コントロールシート!AF$524,MATCH($B46,コントロールシート!$AZ$525:$AZ$578,0),0)&\"\",\"\")","v":""},{"$f":"IFERROR(OFFSET(コントロールシート!AI$524,MATCH($B46,コントロールシート!$AZ$525:$AZ$578,0),0)&\"\",\"\")","v":""},{"$f":"IFERROR(IF(VLOOKUP(B46,コントロールシート!$C$395:$AP$455,COLUMN(コントロールシート!AO46)-2,FALSE)=TRUE,\"✅\",\"\"),\"\")","v":""},{"$f":"IFERROR(IF(VLOOKUP(B46,コントロールシート!$C$395:$AP$455,COLUMN(コントロールシート!AP46)-2,FALSE)=TRUE,\"✅\",\"\"),\"\")","v":""},{"$f":"IFERROR(IF(OFFSET(コントロールシート!AO$464,MATCH($B46,コントロールシート!$AZ$465:$AZ$518,0),0)=TRUE,\"✅\",\"\"),\"\")","v":""},{"$f":"IFERROR(IF(OFFSET(コントロールシート!AP$464,MATCH($B46,コントロールシート!$AZ$465:$AZ$518,0),0)=TRUE,\"✅\",\"\"),\"\")","v":""},{"$f":"IFERROR(IF(OFFSET(コントロールシート!AQ$464,MATCH($B46,コントロールシート!$AZ$465:$AZ$518,0),0)=TRUE,\"✅\",\"\"),\"\")","v":""},{"$f":"IFERROR(OFFSET(コントロールシート!AC$600,MATCH($B46,コントロールシート!$AZ$601:$AZ$654,0),0)&\"\",\"\")","v":""},{"$f":"IFERROR(OFFSET(コントロールシート!AF$600,MATCH($B46,コントロールシート!$AZ$601:$AZ$654,0),0)&\"\",\"\")","v":""},{"$f":"IF(U46<>\"\",\"平常時\",IF(V46<>\"\",IFERROR(OFFSET(コントロールシート!V$682,MATCH($B46,コントロールシート!$AZ$683:$AZ$736,0),0)&\"\",\"\"),IF(W46<>\"\",\"避難後\",\"\")))","v":""},"",{"$f":"IFERROR(OFFSET(コントロールシート!X$745,MATCH($B46,コントロールシート!$AZ$746:$AZ$799,0),0)&\"\",\"\")","v":""},{"$f":"IFERROR(OFFSET(コントロールシート!$W$819,MATCH(業務!B46,コントロールシート!$AZ$820:$AZ$873,0),0)&\"\",\"\")","v":""},{"$f":"IFERROR(OFFSET(コントロールシート!$AI$819,MATCH(B46,コントロールシート!$AZ$820:$AZ$873,0),0)&\"\",\"\")","v":""},{"$f":"IFERROR(OFFSET(コントロールシート!$AX$1004,MATCH(B46,コントロールシート!$BB$1005:$BB$1217,0),0)&\"\",\"\")","v":""},{"$f":"IFERROR(OFFSET(コントロールシート!$AY$1004,MATCH(B46,コントロールシート!$BB$1005:$BB$1217,0),0)&\"\",\"\")","v":""},{"$f":"IFERROR(OFFSET(コントロールシート!$AZ$1004,MATCH(B46,コントロールシート!$BB$1005:$BB$1217,0),0)&\"\",\"\")","v":""},{"$f":"IFERROR(OFFSET(コントロールシート!$BA$1004,MATCH(B46,コントロールシート!$BB$1005:$BB$1217,0),0)&\"\",\"\")","v":""},null,{"$f":"IF($Z46=AJ$5,MAX(AJ$5:AJ45)+1,\"\")","v":""},{"$f":"IF($Z46=AK$5,MAX(AK$5:AK45)+1,\"\")","v":""},{"$f":"IF($Z46=AL$5,MAX(AL$5:AL45)+1,\"\")","v":""},{"$f":"IF($Z46=AM$5,MAX(AM$5:AM45)+1,\"\")","v":""},{"$f":"IF($Z46=AN$5,MAX(AN$5:AN45)+1,\"\")","v":""}]
[null,42,{"$f":"IF(S47<>\"\",MAX($C$5:C46)+1,\"\")","v":""},{"$f":"IF(V47<>\"\",MAX($D$5:D46)+1,\"\")","v":""},{"$f":"IF(V47<>\"\",MAX($E$5:E46)+1,\"\")","v":""},null,null,{"$f":"IF(T47<>\"\",MAX($H$5:H46)+1,\"\")","v":""},{"$f":"IF(U47<>\"\",MAX($I$5:I46)+1,\"\")","v":""},null,{"$f":"IFERROR(OFFSET(コントロールシート!AX$394,MATCH(B47,コントロールシート!$AZ$395:$AZ$455,0),0)&\"\",\"\")","v":""},{"$f":"IFERROR(OFFSET(コントロールシート!I$394,MATCH(B47,コントロールシート!$AZ$395:$AZ$455,0),0)&\"\",\"\")","v":""},{"$f":"IFERROR(OFFSET(コントロールシート!N$394,MATCH(B47,コントロールシート!$AZ$395:$AZ$455,0),0)&\"\",\"\")","v":""},{"$f":"IFERROR(OFFSET(コントロールシート!V$464,MATCH(B47,コントロールシート!$AZ$465:$AZ$518,0),0)&\"\",\"\")","v":""},{"$f":"IFERROR(OFFSET(コントロールシート!AF$464,MATCH(B47,コントロールシート!$AZ$465:$AZ$518,0),0)&\"\",\"\")","v":""},{"$f":"IFERROR(OFFSET(コントロールシート!AC$524,MATCH($B47,コントロールシート!$AZ$525:$AZ$578,0),0)&\"\",\"\")","v":""},{"$f":"IFERROR(OFFSET(コントロールシート!AF$524,MATCH($B47,コントロールシート!$AZ$525:$AZ$578,0),0)&\"\",\"\")","v":""},{"$f":"IFERROR(OFFSET(コントロールシート!AI$524,MATCH($B47,コントロールシート!$AZ$525:$AZ$578,0),0)&\"\",\"\")","v":""},{"$f":"IFERROR(IF(VLOOKUP(B47,コントロールシート!$C$395:$AP$455,COLUMN(コントロールシート!AO47)-2,FALSE)=TRUE,\"✅\",\"\"),\"\")","v":""},{"$f":"IFERROR(IF(VLOOKUP(B47,コントロールシート!$C$395:$AP$455,COLUMN(コントロールシート!AP47)-2,FALSE)=TRUE,\"✅\",\"\"),\"\")","v":""},{"$f":"IFERROR(IF(OFFSET(コントロールシート!AO$464,MATCH($B47,コントロールシート!$AZ$465:$AZ$518,0),0)=TRUE,\"✅\",\"\"),\"\")","v":""},{"$f":"IFERROR(IF(OFFSET(コントロールシート!AP$464,MATCH($B47,コントロールシート!$AZ$465:$AZ$518,0),0)=TRUE,\"✅\",\"\"),\"\")","v":""},{"$f":"IFERROR(IF(OFFSET(コントロールシート!AQ$464,MATCH($B47,コントロールシート!$AZ$465:$AZ$518,0),0)=TRUE,\"✅\",\"\"),\"\")","v":""},{"$f":"IFERROR(OFFSET(コントロールシート!AC$600,MATCH($B47,コントロールシート!$AZ$601:$AZ$654,0),0)&\"\",\"\")","v":""},{"$f":"IFERROR(OFFSET(コントロールシート!AF$600,MATCH($B47,コントロールシート!$AZ$601:$AZ$654,0),0)&\"\",\"\")","v":""},{"$f":"IF(U47<>\"\",\"平常時\",IF(V47<>\"\",IFERROR(OFFSET(コントロールシート!V$682,MATCH($B47,コントロールシート!$AZ$683:$AZ$736,0),0)&\"\",\"\"),IF(W47<>\"\",\"避難後\",\"\")))","v":""},"",{"$f":"IFERROR(OFFSET(コントロールシート!X$745,MATCH($B47,コントロールシート!$AZ$746:$AZ$799,0),0)&\"\",\"\")","v":""},{"$f":"IFERROR(OFFSET(コントロールシート!$W$819,MATCH(業務!B47,コントロールシート!$AZ$820:$AZ$873,0),0)&\"\",\"\")","v":""},{"$f":"IFERROR(OFFSET(コントロールシート!$AI$819,MATCH(B47,コントロールシート!$AZ$820:$AZ$873,0),0)&\"\",\"\")","v":""},{"$f":"IFERROR(OFFSET(コントロールシート!$AX$1004,MATCH(B47,コントロールシート!$BB$1005:$BB$1217,0),0)&\"\",\"\")","v":""},{"$f":"IFERROR(OFFSET(コントロールシート!$AY$1004,MATCH(B47,コントロールシート!$BB$1005:$BB$1217,0),0)&\"\",\"\")","v":""},{"$f":"IFERROR(OFFSET(コントロールシート!$AZ$1004,MATCH(B47,コントロールシート!$BB$1005:$BB$1217,0),0)&\"\",\"\")","v":""},{"$f":"IFERROR(OFFSET(コントロールシート!$BA$1004,MATCH(B47,コントロールシート!$BB$1005:$BB$1217,0),0)&\"\",\"\")","v":""},null,{"$f":"IF($Z47=AJ$5,MAX(AJ$5:AJ46)+1,\"\")","v":""},{"$f":"IF($Z47=AK$5,MAX(AK$5:AK46)+1,\"\")","v":""},{"$f":"IF($Z47=AL$5,MAX(AL$5:AL46)+1,\"\")","v":""},{"$f":"IF($Z47=AM$5,MAX(AM$5:AM46)+1,\"\")","v":""},{"$f":"IF($Z47=AN$5,MAX(AN$5:AN46)+1,\"\")","v":""}]
[null,43,{"$f":"IF(S48<>\"\",MAX($C$5:C47)+1,\"\")","v":""},{"$f":"IF(V48<>\"\",MAX($D$5:D47)+1,\"\")","v":""},{"$f":"IF(V48<>\"\",MAX($E$5:E47)+1,\"\")","v":""},null,null,{"$f":"IF(T48<>\"\",MAX($H$5:H47)+1,\"\")","v":""},{"$f":"IF(U48<>\"\",MAX($I$5:I47)+1,\"\")","v":""},null,{"$f":"IFERROR(OFFSET(コントロールシート!AX$394,MATCH(B48,コントロールシート!$AZ$395:$AZ$455,0),0)&\"\",\"\")","v":""},{"$f":"IFERROR(OFFSET(コントロールシート!I$394,MATCH(B48,コントロールシート!$AZ$395:$AZ$455,0),0)&\"\",\"\")","v":""},{"$f":"IFERROR(OFFSET(コントロールシート!N$394,MATCH(B48,コントロールシート!$AZ$395:$AZ$455,0),0)&\"\",\"\")","v":""},{"$f":"IFERROR(OFFSET(コントロールシート!V$464,MATCH(B48,コントロールシート!$AZ$465:$AZ$518,0),0)&\"\",\"\")","v":""},{"$f":"IFERROR(OFFSET(コントロールシート!AF$464,MATCH(B48,コントロールシート!$AZ$465:$AZ$518,0),0)&\"\",\"\")","v":""},{"$f":"IFERROR(OFFSET(コントロールシート!AC$524,MATCH($B48,コントロールシート!$AZ$525:$AZ$578,0),0)&\"\",\"\")","v":""},{"$f":"IFERROR(OFFSET(コントロールシート!AF$524,MATCH($B48,コントロールシート!$AZ$525:$AZ$578,0),0)&\"\",\"\")","v":""},{"$f":"IFERROR(OFFSET(コントロールシート!AI$524,MATCH($B48,コントロールシート!$AZ$525:$AZ$578,0),0)&\"\",\"\")","v":""},{"$f":"IFERROR(IF(VLOOKUP(B48,コントロールシート!$C$395:$AP$455,COLUMN(コントロールシート!AO48)-2,FALSE)=TRUE,\"✅\",\"\"),\"\")","v":""},{"$f":"IFERROR(IF(VLOOKUP(B48,コントロールシート!$C$395:$AP$455,COLUMN(コントロールシート!AP48)-2,FALSE)=TRUE,\"✅\",\"\"),\"\")","v":""},{"$f":"IFERROR(IF(OFFSET(コントロールシート!AO$464,MATCH($B48,コントロールシート!$AZ$465:$AZ$518,0),0)=TRUE,\"✅\",\"\"),\"\")","v":""},{"$f":"IFERROR(IF(OFFSET(コントロールシート!AP$464,MATCH($B48,コントロールシート!$AZ$465:$AZ$518,0),0)=TRUE,\"✅\",\"\"),\"\")","v":""},{"$f":"IFERROR(IF(OFFSET(コントロールシート!AQ$464,MATCH($B48,コントロールシート!$AZ$465:$AZ$518,0),0)=TRUE,\"✅\",\"\"),\"\")","v":""},{"$f":"IFERROR(OFFSET(コントロールシート!AC$600,MATCH($B48,コントロールシート!$AZ$601:$AZ$654,0),0)&\"\",\"\")","v":""},{"$f":"IFERROR(OFFSET(コントロールシート!AF$600,MATCH($B48,コントロールシート!$AZ$601:$AZ$654,0),0)&\"\",\"\")","v":""},{"$f":"IF(U48<>\"\",\"平常時\",IF(V48<>\"\",IFERROR(OFFSET(コントロールシート!V$682,MATCH($B48,コントロールシート!$AZ$683:$AZ$736,0),0)&\"\",\"\"),IF(W48<>\"\",\"避難後\",\"\")))","v":""},"",{"$f":"IFERROR(OFFSET(コントロールシート!X$745,MATCH($B48,コントロールシート!$AZ$746:$AZ$799,0),0)&\"\",\"\")","v":""},{"$f":"IFERROR(OFFSET(コントロールシート!$W$819,MATCH(業務!B48,コントロールシート!$AZ$820:$AZ$873,0),0)&\"\",\"\")","v":""},{"$f":"IFERROR(OFFSET(コントロールシート!$AI$819,MATCH(B48,コントロールシート!$AZ$820:$AZ$873,0),0)&\"\",\"\")","v":""},{"$f":"IFERROR(OFFSET(コントロールシート!$AX$1004,MATCH(B48,コントロールシート!$BB$1005:$BB$1217,0),0)&\"\",\"\")","v":""},{"$f":"IFERROR(OFFSET(コントロールシート!$AY$1004,MATCH(B48,コントロールシート!$BB$1005:$BB$1217,0),0)&\"\",\"\")","v":""},{"$f":"IFERROR(OFFSET(コントロールシート!$AZ$1004,MATCH(B48,コントロールシート!$BB$1005:$BB$1217,0),0)&\"\",\"\")","v":""},{"$f":"IFERROR(OFFSET(コントロールシート!$BA$1004,MATCH(B48,コントロールシート!$BB$1005:$BB$1217,0),0)&\"\",\"\")","v":""},null,{"$f":"IF($Z48=AJ$5,MAX(AJ$5:AJ47)+1,\"\")","v":""},{"$f":"IF($Z48=AK$5,MAX(AK$5:AK47)+1,\"\")","v":""},{"$f":"IF($Z48=AL$5,MAX(AL$5:AL47)+1,\"\")","v":""},{"$f":"IF($Z48=AM$5,MAX(AM$5:AM47)+1,\"\")","v":""},{"$f":"IF($Z48=AN$5,MAX(AN$5:AN47)+1,\"\")","v":""}]
[null,44,{"$f":"IF(S49<>\"\",MAX($C$5:C48)+1,\"\")","v":""},{"$f":"IF(V49<>\"\",MAX($D$5:D48)+1,\"\")","v":""},{"$f":"IF(V49<>\"\",MAX($E$5:E48)+1,\"\")","v":""},null,null,{"$f":"IF(T49<>\"\",MAX($H$5:H48)+1,\"\")","v":""},{"$f":"IF(U49<>\"\",MAX($I$5:I48)+1,\"\")","v":""},null,{"$f":"IFERROR(OFFSET(コントロールシート!AX$394,MATCH(B49,コントロールシート!$AZ$395:$AZ$455,0),0)&\"\",\"\")","v":""},{"$f":"IFERROR(OFFSET(コントロールシート!I$394,MATCH(B49,コントロールシート!$AZ$395:$AZ$455,0),0)&\"\",\"\")","v":""},{"$f":"IFERROR(OFFSET(コントロールシート!N$394,MATCH(B49,コントロールシート!$AZ$395:$AZ$455,0),0)&\"\",\"\")","v":""},{"$f":"IFERROR(OFFSET(コントロールシート!V$464,MATCH(B49,コントロールシート!$AZ$465:$AZ$518,0),0)&\"\",\"\")","v":""},{"$f":"IFERROR(OFFSET(コントロールシート!AF$464,MATCH(B49,コントロールシート!$AZ$465:$AZ$518,0),0)&\"\",\"\")","v":""},{"$f":"IFERROR(OFFSET(コントロールシート!AC$524,MATCH($B49,コントロールシート!$AZ$525:$AZ$578,0),0)&\"\",\"\")","v":""},{"$f":"IFERROR(OFFSET(コントロールシート!AF$524,MATCH($B49,コントロールシート!$AZ$525:$AZ$578,0),0)&\"\",\"\")","v":""},{"$f":"IFERROR(OFFSET(コントロールシート!AI$524,MATCH($B49,コントロールシート!$AZ$525:$AZ$578,0),0)&\"\",\"\")","v":""},{"$f":"IFERROR(IF(VLOOKUP(B49,コントロールシート!$C$395:$AP$455,COLUMN(コントロールシート!AO49)-2,FALSE)=TRUE,\"✅\",\"\"),\"\")","v":""},{"$f":"IFERROR(IF(VLOOKUP(B49,コントロールシート!$C$395:$AP$455,COLUMN(コントロールシート!AP49)-2,FALSE)=TRUE,\"✅\",\"\"),\"\")","v":""},{"$f":"IFERROR(IF(OFFSET(コントロールシート!AO$464,MATCH($B49,コントロールシート!$AZ$465:$AZ$518,0),0)=TRUE,\"✅\",\"\"),\"\")","v":""},{"$f":"IFERROR(IF(OFFSET(コントロールシート!AP$464,MATCH($B49,コントロールシート!$AZ$465:$AZ$518,0),0)=TRUE,\"✅\",\"\"),\"\")","v":""},{"$f":"IFERROR(IF(OFFSET(コントロールシート!AQ$464,MATCH($B49,コントロールシート!$AZ$465:$AZ$518,0),0)=TRUE,\"✅\",\"\"),\"\")","v":""},{"$f":"IFERROR(OFFSET(コントロールシート!AC$600,MATCH($B49,コントロールシート!$AZ$601:$AZ$654,0),0)&\"\",\"\")","v":""},{"$f":"IFERROR(OFFSET(コントロールシート!AF$600,MATCH($B49,コントロールシート!$AZ$601:$AZ$654,0),0)&\"\",\"\")","v":""},{"$f":"IF(U49<>\"\",\"平常時\",IF(V49<>\"\",IFERROR(OFFSET(コントロールシート!V$682,MATCH($B49,コントロールシート!$AZ$683:$AZ$736,0),0)&\"\",\"\"),IF(W49<>\"\",\"避難後\",\"\")))","v":""},"",{"$f":"IFERROR(OFFSET(コントロールシート!X$745,MATCH($B49,コントロールシート!$AZ$746:$AZ$799,0),0)&\"\",\"\")","v":""},{"$f":"IFERROR(OFFSET(コントロールシート!$W$819,MATCH(業務!B49,コントロールシート!$AZ$820:$AZ$873,0),0)&\"\",\"\")","v":""},{"$f":"IFERROR(OFFSET(コントロールシート!$AI$819,MATCH(B49,コントロールシート!$AZ$820:$AZ$873,0),0)&\"\",\"\")","v":""},{"$f":"IFERROR(OFFSET(コントロールシート!$AX$1004,MATCH(B49,コントロールシート!$BB$1005:$BB$1217,0),0)&\"\",\"\")","v":""},{"$f":"IFERROR(OFFSET(コントロールシート!$AY$1004,MATCH(B49,コントロールシート!$BB$1005:$BB$1217,0),0)&\"\",\"\")","v":""},{"$f":"IFERROR(OFFSET(コントロールシート!$AZ$1004,MATCH(B49,コントロールシート!$BB$1005:$BB$1217,0),0)&\"\",\"\")","v":""},{"$f":"IFERROR(OFFSET(コントロールシート!$BA$1004,MATCH(B49,コントロールシート!$BB$1005:$BB$1217,0),0)&\"\",\"\")","v":""},null,{"$f":"IF($Z49=AJ$5,MAX(AJ$5:AJ48)+1,\"\")","v":""},{"$f":"IF($Z49=AK$5,MAX(AK$5:AK48)+1,\"\")","v":""},{"$f":"IF($Z49=AL$5,MAX(AL$5:AL48)+1,\"\")","v":""},{"$f":"IF($Z49=AM$5,MAX(AM$5:AM48)+1,\"\")","v":""},{"$f":"IF($Z49=AN$5,MAX(AN$5:AN48)+1,\"\")","v":""}]
[null,45,{"$f":"IF(S50<>\"\",MAX($C$5:C49)+1,\"\")","v":""},{"$f":"IF(V50<>\"\",MAX($D$5:D49)+1,\"\")","v":""},{"$f":"IF(V50<>\"\",MAX($E$5:E49)+1,\"\")","v":""},null,null,{"$f":"IF(T50<>\"\",MAX($H$5:H49)+1,\"\")","v":""},{"$f":"IF(U50<>\"\",MAX($I$5:I49)+1,\"\")","v":""},null,{"$f":"IFERROR(OFFSET(コントロールシート!AX$394,MATCH(B50,コントロールシート!$AZ$395:$AZ$455,0),0)&\"\",\"\")","v":""},{"$f":"IFERROR(OFFSET(コントロールシート!I$394,MATCH(B50,コントロールシート!$AZ$395:$AZ$455,0),0)&\"\",\"\")","v":""},{"$f":"IFERROR(OFFSET(コントロールシート!N$394,MATCH(B50,コントロールシート!$AZ$395:$AZ$455,0),0)&\"\",\"\")","v":""},{"$f":"IFERROR(OFFSET(コントロールシート!V$464,MATCH(B50,コントロールシート!$AZ$465:$AZ$518,0),0)&\"\",\"\")","v":""},{"$f":"IFERROR(OFFSET(コントロールシート!AF$464,MATCH(B50,コントロールシート!$AZ$465:$AZ$518,0),0)&\"\",\"\")","v":""},{"$f":"IFERROR(OFFSET(コントロールシート!AC$524,MATCH($B50,コントロールシート!$AZ$525:$AZ$578,0),0)&\"\",\"\")","v":""},{"$f":"IFERROR(OFFSET(コントロールシート!AF$524,MATCH($B50,コントロールシート!$AZ$525:$AZ$578,0),0)&\"\",\"\")","v":""},{"$f":"IFERROR(OFFSET(コントロールシート!AI$524,MATCH($B50,コントロールシート!$AZ$525:$AZ$578,0),0)&\"\",\"\")","v":""},{"$f":"IFERROR(IF(VLOOKUP(B50,コントロールシート!$C$395:$AP$455,COLUMN(コントロールシート!AO50)-2,FALSE)=TRUE,\"✅\",\"\"),\"\")","v":""},{"$f":"IFERROR(IF(VLOOKUP(B50,コントロールシート!$C$395:$AP$455,COLUMN(コントロールシート!AP50)-2,FALSE)=TRUE,\"✅\",\"\"),\"\")","v":""},{"$f":"IFERROR(IF(OFFSET(コントロールシート!AO$464,MATCH($B50,コントロールシート!$AZ$465:$AZ$518,0),0)=TRUE,\"✅\",\"\"),\"\")","v":""},{"$f":"IFERROR(IF(OFFSET(コントロールシート!AP$464,MATCH($B50,コントロールシート!$AZ$465:$AZ$518,0),0)=TRUE,\"✅\",\"\"),\"\")","v":""},{"$f":"IFERROR(IF(OFFSET(コントロールシート!AQ$464,MATCH($B50,コントロールシート!$AZ$465:$AZ$518,0),0)=TRUE,\"✅\",\"\"),\"\")","v":""},{"$f":"IFERROR(OFFSET(コントロールシート!AC$600,MATCH($B50,コントロールシート!$AZ$601:$AZ$654,0),0)&\"\",\"\")","v":""},{"$f":"IFERROR(OFFSET(コントロールシート!AF$600,MATCH($B50,コントロールシート!$AZ$601:$AZ$654,0),0)&\"\",\"\")","v":""},{"$f":"IF(U50<>\"\",\"平常時\",IF(V50<>\"\",IFERROR(OFFSET(コントロールシート!V$682,MATCH($B50,コントロールシート!$AZ$683:$AZ$736,0),0)&\"\",\"\"),IF(W50<>\"\",\"避難後\",\"\")))","v":""},"",{"$f":"IFERROR(OFFSET(コントロールシート!X$745,MATCH($B50,コントロールシート!$AZ$746:$AZ$799,0),0)&\"\",\"\")","v":""},{"$f":"IFERROR(OFFSET(コントロールシート!$W$819,MATCH(業務!B50,コントロールシート!$AZ$820:$AZ$873,0),0)&\"\",\"\")","v":""},{"$f":"IFERROR(OFFSET(コントロールシート!$AI$819,MATCH(B50,コントロールシート!$AZ$820:$AZ$873,0),0)&\"\",\"\")","v":""},{"$f":"IFERROR(OFFSET(コントロールシート!$AX$1004,MATCH(B50,コントロールシート!$BB$1005:$BB$1217,0),0)&\"\",\"\")","v":""},{"$f":"IFERROR(OFFSET(コントロールシート!$AY$1004,MATCH(B50,コントロールシート!$BB$1005:$BB$1217,0),0)&\"\",\"\")","v":""},{"$f":"IFERROR(OFFSET(コントロールシート!$AZ$1004,MATCH(B50,コントロールシート!$BB$1005:$BB$1217,0),0)&\"\",\"\")","v":""},{"$f":"IFERROR(OFFSET(コントロールシート!$BA$1004,MATCH(B50,コントロールシート!$BB$1005:$BB$1217,0),0)&\"\",\"\")","v":""},null,{"$f":"IF($Z50=AJ$5,MAX(AJ$5:AJ49)+1,\"\")","v":""},{"$f":"IF($Z50=AK$5,MAX(AK$5:AK49)+1,\"\")","v":""},{"$f":"IF($Z50=AL$5,MAX(AL$5:AL49)+1,\"\")","v":""},{"$f":"IF($Z50=AM$5,MAX(AM$5:AM49)+1,\"\")","v":""},{"$f":"IF($Z50=AN$5,MAX(AN$5:AN49)+1,\"\")","v":""}]
[null,46,{"$f":"IF(S51<>\"\",MAX($C$5:C50)+1,\"\")","v":""},{"$f":"IF(V51<>\"\",MAX($D$5:D50)+1,\"\")","v":""},{"$f":"IF(V51<>\"\",MAX($E$5:E50)+1,\"\")","v":""},null,null,{"$f":"IF(T51<>\"\",MAX($H$5:H50)+1,\"\")","v":""},{"$f":"IF(U51<>\"\",MAX($I$5:I50)+1,\"\")","v":""},null,{"$f":"IFERROR(OFFSET(コントロールシート!AX$394,MATCH(B51,コントロールシート!$AZ$395:$AZ$455,0),0)&\"\",\"\")","v":""},{"$f":"IFERROR(OFFSET(コントロールシート!I$394,MATCH(B51,コントロールシート!$AZ$395:$AZ$455,0),0)&\"\",\"\")","v":""},{"$f":"IFERROR(OFFSET(コントロールシート!N$394,MATCH(B51,コントロールシート!$AZ$395:$AZ$455,0),0)&\"\",\"\")","v":""},{"$f":"IFERROR(OFFSET(コントロールシート!V$464,MATCH(B51,コントロールシート!$AZ$465:$AZ$518,0),0)&\"\",\"\")","v":""},{"$f":"IFERROR(OFFSET(コントロールシート!AF$464,MATCH(B51,コントロールシート!$AZ$465:$AZ$518,0),0)&\"\",\"\")","v":""},{"$f":"IFERROR(OFFSET(コントロールシート!AC$524,MATCH($B51,コントロールシート!$AZ$525:$AZ$578,0),0)&\"\",\"\")","v":""},{"$f":"IFERROR(OFFSET(コントロールシート!AF$524,MATCH($B51,コントロールシート!$AZ$525:$AZ$578,0),0)&\"\",\"\")","v":""},{"$f":"IFERROR(OFFSET(コントロールシート!AI$524,MATCH($B51,コントロールシート!$AZ$525:$AZ$578,0),0)&\"\",\"\")","v":""},{"$f":"IFERROR(IF(VLOOKUP(B51,コントロールシート!$C$395:$AP$455,COLUMN(コントロールシート!AO51)-2,FALSE)=TRUE,\"✅\",\"\"),\"\")","v":""},{"$f":"IFERROR(IF(VLOOKUP(B51,コントロールシート!$C$395:$AP$455,COLUMN(コントロールシート!AP51)-2,FALSE)=TRUE,\"✅\",\"\"),\"\")","v":""},{"$f":"IFERROR(IF(OFFSET(コントロールシート!AO$464,MATCH($B51,コントロールシート!$AZ$465:$AZ$518,0),0)=TRUE,\"✅\",\"\"),\"\")","v":""},{"$f":"IFERROR(IF(OFFSET(コントロールシート!AP$464,MATCH($B51,コントロールシート!$AZ$465:$AZ$518,0),0)=TRUE,\"✅\",\"\"),\"\")","v":""},{"$f":"IFERROR(IF(OFFSET(コントロールシート!AQ$464,MATCH($B51,コントロールシート!$AZ$465:$AZ$518,0),0)=TRUE,\"✅\",\"\"),\"\")","v":""},{"$f":"IFERROR(OFFSET(コントロールシート!AC$600,MATCH($B51,コントロールシート!$AZ$601:$AZ$654,0),0)&\"\",\"\")","v":""},{"$f":"IFERROR(OFFSET(コントロールシート!AF$600,MATCH($B51,コントロールシート!$AZ$601:$AZ$654,0),0)&\"\",\"\")","v":""},{"$f":"IF(U51<>\"\",\"平常時\",IF(V51<>\"\",IFERROR(OFFSET(コントロールシート!V$682,MATCH($B51,コントロールシート!$AZ$683:$AZ$736,0),0)&\"\",\"\"),IF(W51<>\"\",\"避難後\",\"\")))","v":""},"",{"$f":"IFERROR(OFFSET(コントロールシート!X$745,MATCH($B51,コントロールシート!$AZ$746:$AZ$799,0),0)&\"\",\"\")","v":""},{"$f":"IFERROR(OFFSET(コントロールシート!$W$819,MATCH(業務!B51,コントロールシート!$AZ$820:$AZ$873,0),0)&\"\",\"\")","v":""},{"$f":"IFERROR(OFFSET(コントロールシート!$AI$819,MATCH(B51,コントロールシート!$AZ$820:$AZ$873,0),0)&\"\",\"\")","v":""},{"$f":"IFERROR(OFFSET(コントロールシート!$AX$1004,MATCH(B51,コントロールシート!$BB$1005:$BB$1217,0),0)&\"\",\"\")","v":""},{"$f":"IFERROR(OFFSET(コントロールシート!$AY$1004,MATCH(B51,コントロールシート!$BB$1005:$BB$1217,0),0)&\"\",\"\")","v":""},{"$f":"IFERROR(OFFSET(コントロールシート!$AZ$1004,MATCH(B51,コントロールシート!$BB$1005:$BB$1217,0),0)&\"\",\"\")","v":""},{"$f":"IFERROR(OFFSET(コントロールシート!$BA$1004,MATCH(B51,コントロールシート!$BB$1005:$BB$1217,0),0)&\"\",\"\")","v":""},null,{"$f":"IF($Z51=AJ$5,MAX(AJ$5:AJ50)+1,\"\")","v":""},{"$f":"IF($Z51=AK$5,MAX(AK$5:AK50)+1,\"\")","v":""},{"$f":"IF($Z51=AL$5,MAX(AL$5:AL50)+1,\"\")","v":""},{"$f":"IF($Z51=AM$5,MAX(AM$5:AM50)+1,\"\")","v":""},{"$f":"IF($Z51=AN$5,MAX(AN$5:AN50)+1,\"\")","v":""}]
[null,47,{"$f":"IF(S52<>\"\",MAX($C$5:C51)+1,\"\")","v":""},{"$f":"IF(V52<>\"\",MAX($D$5:D51)+1,\"\")","v":""},{"$f":"IF(V52<>\"\",MAX($E$5:E51)+1,\"\")","v":""},null,null,{"$f":"IF(T52<>\"\",MAX($H$5:H51)+1,\"\")","v":""},{"$f":"IF(U52<>\"\",MAX($I$5:I51)+1,\"\")","v":""},null,{"$f":"IFERROR(OFFSET(コントロールシート!AX$394,MATCH(B52,コントロールシート!$AZ$395:$AZ$455,0),0)&\"\",\"\")","v":""},{"$f":"IFERROR(OFFSET(コントロールシート!I$394,MATCH(B52,コントロールシート!$AZ$395:$AZ$455,0),0)&\"\",\"\")","v":""},{"$f":"IFERROR(OFFSET(コントロールシート!N$394,MATCH(B52,コントロールシート!$AZ$395:$AZ$455,0),0)&\"\",\"\")","v":""},{"$f":"IFERROR(OFFSET(コントロールシート!V$464,MATCH(B52,コントロールシート!$AZ$465:$AZ$518,0),0)&\"\",\"\")","v":""},{"$f":"IFERROR(OFFSET(コントロールシート!AF$464,MATCH(B52,コントロールシート!$AZ$465:$AZ$518,0),0)&\"\",\"\")","v":""},{"$f":"IFERROR(OFFSET(コントロールシート!AC$524,MATCH($B52,コントロールシート!$AZ$525:$AZ$578,0),0)&\"\",\"\")","v":""},{"$f":"IFERROR(OFFSET(コントロールシート!AF$524,MATCH($B52,コントロールシート!$AZ$525:$AZ$578,0),0)&\"\",\"\")","v":""},{"$f":"IFERROR(OFFSET(コントロールシート!AI$524,MATCH($B52,コントロールシート!$AZ$525:$AZ$578,0),0)&\"\",\"\")","v":""},{"$f":"IFERROR(IF(VLOOKUP(B52,コントロールシート!$C$395:$AP$455,COLUMN(コントロールシート!AO52)-2,FALSE)=TRUE,\"✅\",\"\"),\"\")","v":""},{"$f":"IFERROR(IF(VLOOKUP(B52,コントロールシート!$C$395:$AP$455,COLUMN(コントロールシート!AP52)-2,FALSE)=TRUE,\"✅\",\"\"),\"\")","v":""},{"$f":"IFERROR(IF(OFFSET(コントロールシート!AO$464,MATCH($B52,コントロールシート!$AZ$465:$AZ$518,0),0)=TRUE,\"✅\",\"\"),\"\")","v":""},{"$f":"IFERROR(IF(OFFSET(コントロールシート!AP$464,MATCH($B52,コントロールシート!$AZ$465:$AZ$518,0),0)=TRUE,\"✅\",\"\"),\"\")","v":""},{"$f":"IFERROR(IF(OFFSET(コントロールシート!AQ$464,MATCH($B52,コントロールシート!$AZ$465:$AZ$518,0),0)=TRUE,\"✅\",\"\"),\"\")","v":""},{"$f":"IFERROR(OFFSET(コントロールシート!AC$600,MATCH($B52,コントロールシート!$AZ$601:$AZ$654,0),0)&\"\",\"\")","v":""},{"$f":"IFERROR(OFFSET(コントロールシート!AF$600,MATCH($B52,コントロールシート!$AZ$601:$AZ$654,0),0)&\"\",\"\")","v":""},{"$f":"IF(U52<>\"\",\"平常時\",IF(V52<>\"\",IFERROR(OFFSET(コントロールシート!V$682,MATCH($B52,コントロールシート!$AZ$683:$AZ$736,0),0)&\"\",\"\"),IF(W52<>\"\",\"避難後\",\"\")))","v":""},"",{"$f":"IFERROR(OFFSET(コントロールシート!X$745,MATCH($B52,コントロールシート!$AZ$746:$AZ$799,0),0)&\"\",\"\")","v":""},{"$f":"IFERROR(OFFSET(コントロールシート!$W$819,MATCH(業務!B52,コントロールシート!$AZ$820:$AZ$873,0),0)&\"\",\"\")","v":""},{"$f":"IFERROR(OFFSET(コントロールシート!$AI$819,MATCH(B52,コントロールシート!$AZ$820:$AZ$873,0),0)&\"\",\"\")","v":""},{"$f":"IFERROR(OFFSET(コントロールシート!$AX$1004,MATCH(B52,コントロールシート!$BB$1005:$BB$1217,0),0)&\"\",\"\")","v":""},{"$f":"IFERROR(OFFSET(コントロールシート!$AY$1004,MATCH(B52,コントロールシート!$BB$1005:$BB$1217,0),0)&\"\",\"\")","v":""},{"$f":"IFERROR(OFFSET(コントロールシート!$AZ$1004,MATCH(B52,コントロールシート!$BB$1005:$BB$1217,0),0)&\"\",\"\")","v":""},{"$f":"IFERROR(OFFSET(コントロールシート!$BA$1004,MATCH(B52,コントロールシート!$BB$1005:$BB$1217,0),0)&\"\",\"\")","v":""},null,{"$f":"IF($Z52=AJ$5,MAX(AJ$5:AJ51)+1,\"\")","v":""},{"$f":"IF($Z52=AK$5,MAX(AK$5:AK51)+1,\"\")","v":""},{"$f":"IF($Z52=AL$5,MAX(AL$5:AL51)+1,\"\")","v":""},{"$f":"IF($Z52=AM$5,MAX(AM$5:AM51)+1,\"\")","v":""},{"$f":"IF($Z52=AN$5,MAX(AN$5:AN51)+1,\"\")","v":""}]
[null,48,{"$f":"IF(S53<>\"\",MAX($C$5:C52)+1,\"\")","v":""},{"$f":"IF(V53<>\"\",MAX($D$5:D52)+1,\"\")","v":""},{"$f":"IF(V53<>\"\",MAX($E$5:E52)+1,\"\")","v":""},null,null,{"$f":"IF(T53<>\"\",MAX($H$5:H52)+1,\"\")","v":""},{"$f":"IF(U53<>\"\",MAX($I$5:I52)+1,\"\")","v":""},null,{"$f":"IFERROR(OFFSET(コントロールシート!AX$394,MATCH(B53,コントロールシート!$AZ$395:$AZ$455,0),0)&\"\",\"\")","v":""},{"$f":"IFERROR(OFFSET(コントロールシート!I$394,MATCH(B53,コントロールシート!$AZ$395:$AZ$455,0),0)&\"\",\"\")","v":""},{"$f":"IFERROR(OFFSET(コントロールシート!N$394,MATCH(B53,コントロールシート!$AZ$395:$AZ$455,0),0)&\"\",\"\")","v":""},{"$f":"IFERROR(OFFSET(コントロールシート!V$464,MATCH(B53,コントロールシート!$AZ$465:$AZ$518,0),0)&\"\",\"\")","v":""},{"$f":"IFERROR(OFFSET(コントロールシート!AF$464,MATCH(B53,コントロールシート!$AZ$465:$AZ$518,0),0)&\"\",\"\")","v":""},{"$f":"IFERROR(OFFSET(コントロールシート!AC$524,MATCH($B53,コントロールシート!$AZ$525:$AZ$578,0),0)&\"\",\"\")","v":""},{"$f":"IFERROR(OFFSET(コントロールシート!AF$524,MATCH($B53,コントロールシート!$AZ$525:$AZ$578,0),0)&\"\",\"\")","v":""},{"$f":"IFERROR(OFFSET(コントロールシート!AI$524,MATCH($B53,コントロールシート!$AZ$525:$AZ$578,0),0)&\"\",\"\")","v":""},{"$f":"IFERROR(IF(VLOOKUP(B53,コントロールシート!$C$395:$AP$455,COLUMN(コントロールシート!AO53)-2,FALSE)=TRUE,\"✅\",\"\"),\"\")","v":""},{"$f":"IFERROR(IF(VLOOKUP(B53,コントロールシート!$C$395:$AP$455,COLUMN(コントロールシート!AP53)-2,FALSE)=TRUE,\"✅\",\"\"),\"\")","v":""},{"$f":"IFERROR(IF(OFFSET(コントロールシート!AO$464,MATCH($B53,コントロールシート!$AZ$465:$AZ$518,0),0)=TRUE,\"✅\",\"\"),\"\")","v":""},{"$f":"IFERROR(IF(OFFSET(コントロールシート!AP$464,MATCH($B53,コントロールシート!$AZ$465:$AZ$518,0),0)=TRUE,\"✅\",\"\"),\"\")","v":""},{"$f":"IFERROR(IF(OFFSET(コントロールシート!AQ$464,MATCH($B53,コントロールシート!$AZ$465:$AZ$518,0),0)=TRUE,\"✅\",\"\"),\"\")","v":""},{"$f":"IFERROR(OFFSET(コントロールシート!AC$600,MATCH($B53,コントロールシート!$AZ$601:$AZ$654,0),0)&\"\",\"\")","v":""},{"$f":"IFERROR(OFFSET(コントロールシート!AF$600,MATCH($B53,コントロールシート!$AZ$601:$AZ$654,0),0)&\"\",\"\")","v":""},{"$f":"IF(U53<>\"\",\"平常時\",IF(V53<>\"\",IFERROR(OFFSET(コントロールシート!V$682,MATCH($B53,コントロールシート!$AZ$683:$AZ$736,0),0)&\"\",\"\"),IF(W53<>\"\",\"避難後\",\"\")))","v":""},"",{"$f":"IFERROR(OFFSET(コントロールシート!X$745,MATCH($B53,コントロールシート!$AZ$746:$AZ$799,0),0)&\"\",\"\")","v":""},{"$f":"IFERROR(OFFSET(コントロールシート!$W$819,MATCH(業務!B53,コントロールシート!$AZ$820:$AZ$873,0),0)&\"\",\"\")","v":""},{"$f":"IFERROR(OFFSET(コントロールシート!$AI$819,MATCH(B53,コントロールシート!$AZ$820:$AZ$873,0),0)&\"\",\"\")","v":""},{"$f":"IFERROR(OFFSET(コントロールシート!$AX$1004,MATCH(B53,コントロールシート!$BB$1005:$BB$1217,0),0)&\"\",\"\")","v":""},{"$f":"IFERROR(OFFSET(コントロールシート!$AY$1004,MATCH(B53,コントロールシート!$BB$1005:$BB$1217,0),0)&\"\",\"\")","v":""},{"$f":"IFERROR(OFFSET(コントロールシート!$AZ$1004,MATCH(B53,コントロールシート!$BB$1005:$BB$1217,0),0)&\"\",\"\")","v":""},{"$f":"IFERROR(OFFSET(コントロールシート!$BA$1004,MATCH(B53,コントロールシート!$BB$1005:$BB$1217,0),0)&\"\",\"\")","v":""},null,{"$f":"IF($Z53=AJ$5,MAX(AJ$5:AJ52)+1,\"\")","v":""},{"$f":"IF($Z53=AK$5,MAX(AK$5:AK52)+1,\"\")","v":""},{"$f":"IF($Z53=AL$5,MAX(AL$5:AL52)+1,\"\")","v":""},{"$f":"IF($Z53=AM$5,MAX(AM$5:AM52)+1,\"\")","v":""},{"$f":"IF($Z53=AN$5,MAX(AN$5:AN52)+1,\"\")","v":""}]
[null,49,{"$f":"IF(S54<>\"\",MAX($C$5:C53)+1,\"\")","v":""},{"$f":"IF(V54<>\"\",MAX($D$5:D53)+1,\"\")","v":""},{"$f":"IF(V54<>\"\",MAX($E$5:E53)+1,\"\")","v":""},null,null,{"$f":"IF(T54<>\"\",MAX($H$5:H53)+1,\"\")","v":""},{"$f":"IF(U54<>\"\",MAX($I$5:I53)+1,\"\")","v":""},null,{"$f":"IFERROR(OFFSET(コントロールシート!AX$394,MATCH(B54,コントロールシート!$AZ$395:$AZ$455,0),0)&\"\",\"\")","v":""},{"$f":"IFERROR(OFFSET(コントロールシート!I$394,MATCH(B54,コントロールシート!$AZ$395:$AZ$455,0),0)&\"\",\"\")","v":""},{"$f":"IFERROR(OFFSET(コントロールシート!N$394,MATCH(B54,コントロールシート!$AZ$395:$AZ$455,0),0)&\"\",\"\")","v":""},{"$f":"IFERROR(OFFSET(コントロールシート!V$464,MATCH(B54,コントロールシート!$AZ$465:$AZ$518,0),0)&\"\",\"\")","v":""},{"$f":"IFERROR(OFFSET(コントロールシート!AF$464,MATCH(B54,コントロールシート!$AZ$465:$AZ$518,0),0)&\"\",\"\")","v":""},{"$f":"IFERROR(OFFSET(コントロールシート!AC$524,MATCH($B54,コントロールシート!$AZ$525:$AZ$578,0),0)&\"\",\"\")","v":""},{"$f":"IFERROR(OFFSET(コントロールシート!AF$524,MATCH($B54,コントロールシート!$AZ$525:$AZ$578,0),0)&\"\",\"\")","v":""},{"$f":"IFERROR(OFFSET(コントロールシート!AI$524,MATCH($B54,コントロールシート!$AZ$525:$AZ$578,0),0)&\"\",\"\")","v":""},{"$f":"IFERROR(IF(VLOOKUP(B54,コントロールシート!$C$395:$AP$455,COLUMN(コントロールシート!AO54)-2,FALSE)=TRUE,\"✅\",\"\"),\"\")","v":""},{"$f":"IFERROR(IF(VLOOKUP(B54,コントロールシート!$C$395:$AP$455,COLUMN(コントロールシート!AP54)-2,FALSE)=TRUE,\"✅\",\"\"),\"\")","v":""},{"$f":"IFERROR(IF(OFFSET(コントロールシート!AO$464,MATCH($B54,コントロールシート!$AZ$465:$AZ$518,0),0)=TRUE,\"✅\",\"\"),\"\")","v":""},{"$f":"IFERROR(IF(OFFSET(コントロールシート!AP$464,MATCH($B54,コントロールシート!$AZ$465:$AZ$518,0),0)=TRUE,\"✅\",\"\"),\"\")","v":""},{"$f":"IFERROR(IF(OFFSET(コントロールシート!AQ$464,MATCH($B54,コントロールシート!$AZ$465:$AZ$518,0),0)=TRUE,\"✅\",\"\"),\"\")","v":""},{"$f":"IFERROR(OFFSET(コントロールシート!AC$600,MATCH($B54,コントロールシート!$AZ$601:$AZ$654,0),0)&\"\",\"\")","v":""},{"$f":"IFERROR(OFFSET(コントロールシート!AF$600,MATCH($B54,コントロールシート!$AZ$601:$AZ$654,0),0)&\"\",\"\")","v":""},{"$f":"IF(U54<>\"\",\"平常時\",IF(V54<>\"\",IFERROR(OFFSET(コントロールシート!V$682,MATCH($B54,コントロールシート!$AZ$683:$AZ$736,0),0)&\"\",\"\"),IF(W54<>\"\",\"避難後\",\"\")))","v":""},"",{"$f":"IFERROR(OFFSET(コントロールシート!X$745,MATCH($B54,コントロールシート!$AZ$746:$AZ$799,0),0)&\"\",\"\")","v":""},{"$f":"IFERROR(OFFSET(コントロールシート!$W$819,MATCH(業務!B54,コントロールシート!$AZ$820:$AZ$873,0),0)&\"\",\"\")","v":""},{"$f":"IFERROR(OFFSET(コントロールシート!$AI$819,MATCH(B54,コントロールシート!$AZ$820:$AZ$873,0),0)&\"\",\"\")","v":""},{"$f":"IFERROR(OFFSET(コントロールシート!$AX$1004,MATCH(B54,コントロールシート!$BB$1005:$BB$1217,0),0)&\"\",\"\")","v":""},{"$f":"IFERROR(OFFSET(コントロールシート!$AY$1004,MATCH(B54,コントロールシート!$BB$1005:$BB$1217,0),0)&\"\",\"\")","v":""},{"$f":"IFERROR(OFFSET(コントロールシート!$AZ$1004,MATCH(B54,コントロールシート!$BB$1005:$BB$1217,0),0)&\"\",\"\")","v":""},{"$f":"IFERROR(OFFSET(コントロールシート!$BA$1004,MATCH(B54,コントロールシート!$BB$1005:$BB$1217,0),0)&\"\",\"\")","v":""},null,{"$f":"IF($Z54=AJ$5,MAX(AJ$5:AJ53)+1,\"\")","v":""},{"$f":"IF($Z54=AK$5,MAX(AK$5:AK53)+1,\"\")","v":""},{"$f":"IF($Z54=AL$5,MAX(AL$5:AL53)+1,\"\")","v":""},{"$f":"IF($Z54=AM$5,MAX(AM$5:AM53)+1,\"\")","v":""},{"$f":"IF($Z54=AN$5,MAX(AN$5:AN53)+1,\"\")","v":""}]
[null,50,{"$f":"IF(S55<>\"\",MAX($C$5:C54)+1,\"\")","v":""},{"$f":"IF(V55<>\"\",MAX($D$5:D54)+1,\"\")","v":""},{"$f":"IF(V55<>\"\",MAX($E$5:E54)+1,\"\")","v":""},null,null,{"$f":"IF(T55<>\"\",MAX($H$5:H54)+1,\"\")","v":""},{"$f":"IF(U55<>\"\",MAX($I$5:I54)+1,\"\")","v":""},null,{"$f":"IFERROR(OFFSET(コントロールシート!AX$394,MATCH(B55,コントロールシート!$AZ$395:$AZ$455,0),0)&\"\",\"\")","v":""},{"$f":"IFERROR(OFFSET(コントロールシート!I$394,MATCH(B55,コントロールシート!$AZ$395:$AZ$455,0),0)&\"\",\"\")","v":""},{"$f":"IFERROR(OFFSET(コントロールシート!N$394,MATCH(B55,コントロールシート!$AZ$395:$AZ$455,0),0)&\"\",\"\")","v":""},{"$f":"IFERROR(OFFSET(コントロールシート!V$464,MATCH(B55,コントロールシート!$AZ$465:$AZ$518,0),0)&\"\",\"\")","v":""},{"$f":"IFERROR(OFFSET(コントロールシート!AF$464,MATCH(B55,コントロールシート!$AZ$465:$AZ$518,0),0)&\"\",\"\")","v":""},{"$f":"IFERROR(OFFSET(コントロールシート!AC$524,MATCH($B55,コントロールシート!$AZ$525:$AZ$578,0),0)&\"\",\"\")","v":""},{"$f":"IFERROR(OFFSET(コントロールシート!AF$524,MATCH($B55,コントロールシート!$AZ$525:$AZ$578,0),0)&\"\",\"\")","v":""},{"$f":"IFERROR(OFFSET(コントロールシート!AI$524,MATCH($B55,コントロールシート!$AZ$525:$AZ$578,0),0)&\"\",\"\")","v":""},{"$f":"IFERROR(IF(VLOOKUP(B55,コントロールシート!$C$395:$AP$455,COLUMN(コントロールシート!AO55)-2,FALSE)=TRUE,\"✅\",\"\"),\"\")","v":""},{"$f":"IFERROR(IF(VLOOKUP(B55,コントロールシート!$C$395:$AP$455,COLUMN(コントロールシート!AP55)-2,FALSE)=TRUE,\"✅\",\"\"),\"\")","v":""},{"$f":"IFERROR(IF(OFFSET(コントロールシート!AO$464,MATCH($B55,コントロールシート!$AZ$465:$AZ$518,0),0)=TRUE,\"✅\",\"\"),\"\")","v":""},{"$f":"IFERROR(IF(OFFSET(コントロールシート!AP$464,MATCH($B55,コントロールシート!$AZ$465:$AZ$518,0),0)=TRUE,\"✅\",\"\"),\"\")","v":""},{"$f":"IFERROR(IF(OFFSET(コントロールシート!AQ$464,MATCH($B55,コントロールシート!$AZ$465:$AZ$518,0),0)=TRUE,\"✅\",\"\"),\"\")","v":""},{"$f":"IFERROR(OFFSET(コントロールシート!AC$600,MATCH($B55,コントロールシート!$AZ$601:$AZ$654,0),0)&\"\",\"\")","v":""},{"$f":"IFERROR(OFFSET(コントロールシート!AF$600,MATCH($B55,コントロールシート!$AZ$601:$AZ$654,0),0)&\"\",\"\")","v":""},{"$f":"IF(U55<>\"\",\"平常時\",IF(V55<>\"\",IFERROR(OFFSET(コントロールシート!V$682,MATCH($B55,コントロールシート!$AZ$683:$AZ$736,0),0)&\"\",\"\"),IF(W55<>\"\",\"避難後\",\"\")))","v":""},"",{"$f":"IFERROR(OFFSET(コントロールシート!X$745,MATCH($B55,コントロールシート!$AZ$746:$AZ$799,0),0)&\"\",\"\")","v":""},{"$f":"IFERROR(OFFSET(コントロールシート!$W$819,MATCH(業務!B55,コントロールシート!$AZ$820:$AZ$873,0),0)&\"\",\"\")","v":""},{"$f":"IFERROR(OFFSET(コントロールシート!$AI$819,MATCH(B55,コントロールシート!$AZ$820:$AZ$873,0),0)&\"\",\"\")","v":""},{"$f":"IFERROR(OFFSET(コントロールシート!$AX$1004,MATCH(B55,コントロールシート!$BB$1005:$BB$1217,0),0)&\"\",\"\")","v":""},{"$f":"IFERROR(OFFSET(コントロールシート!$AY$1004,MATCH(B55,コントロールシート!$BB$1005:$BB$1217,0),0)&\"\",\"\")","v":""},{"$f":"IFERROR(OFFSET(コントロールシート!$AZ$1004,MATCH(B55,コントロールシート!$BB$1005:$BB$1217,0),0)&\"\",\"\")","v":""},{"$f":"IFERROR(OFFSET(コントロールシート!$BA$1004,MATCH(B55,コントロールシート!$BB$1005:$BB$1217,0),0)&\"\",\"\")","v":""},null,{"$f":"IF($Z55=AJ$5,MAX(AJ$5:AJ54)+1,\"\")","v":""},{"$f":"IF($Z55=AK$5,MAX(AK$5:AK54)+1,\"\")","v":""},{"$f":"IF($Z55=AL$5,MAX(AL$5:AL54)+1,\"\")","v":""},{"$f":"IF($Z55=AM$5,MAX(AM$5:AM54)+1,\"\")","v":""},{"$f":"IF($Z55=AN$5,MAX(AN$5:AN54)+1,\"\")","v":""}]
[null,51,{"$f":"IF(S56<>\"\",MAX($C$5:C55)+1,\"\")","v":""},{"$f":"IF(V56<>\"\",MAX($D$5:D55)+1,\"\")","v":""},{"$f":"IF(V56<>\"\",MAX($E$5:E55)+1,\"\")","v":""},null,null,{"$f":"IF(T56<>\"\",MAX($H$5:H55)+1,\"\")","v":""},{"$f":"IF(U56<>\"\",MAX($I$5:I55)+1,\"\")","v":""},null,{"$f":"IFERROR(OFFSET(コントロールシート!AX$394,MATCH(B56,コントロールシート!$AZ$395:$AZ$455,0),0)&\"\",\"\")","v":""},{"$f":"IFERROR(OFFSET(コントロールシート!I$394,MATCH(B56,コントロールシート!$AZ$395:$AZ$455,0),0)&\"\",\"\")","v":""},{"$f":"IFERROR(OFFSET(コントロールシート!N$394,MATCH(B56,コントロールシート!$AZ$395:$AZ$455,0),0)&\"\",\"\")","v":""},{"$f":"IFERROR(OFFSET(コントロールシート!V$464,MATCH(B56,コントロールシート!$AZ$465:$AZ$518,0),0)&\"\",\"\")","v":""},{"$f":"IFERROR(OFFSET(コントロールシート!AF$464,MATCH(B56,コントロールシート!$AZ$465:$AZ$518,0),0)&\"\",\"\")","v":""},{"$f":"IFERROR(OFFSET(コントロールシート!AC$524,MATCH($B56,コントロールシート!$AZ$525:$AZ$578,0),0)&\"\",\"\")","v":""},{"$f":"IFERROR(OFFSET(コントロールシート!AF$524,MATCH($B56,コントロールシート!$AZ$525:$AZ$578,0),0)&\"\",\"\")","v":""},{"$f":"IFERROR(OFFSET(コントロールシート!AI$524,MATCH($B56,コントロールシート!$AZ$525:$AZ$578,0),0)&\"\",\"\")","v":""},{"$f":"IFERROR(IF(VLOOKUP(B56,コントロールシート!$C$395:$AP$455,COLUMN(コントロールシート!AO56)-2,FALSE)=TRUE,\"✅\",\"\"),\"\")","v":""},{"$f":"IFERROR(IF(VLOOKUP(B56,コントロールシート!$C$395:$AP$455,COLUMN(コントロールシート!AP56)-2,FALSE)=TRUE,\"✅\",\"\"),\"\")","v":""},{"$f":"IFERROR(IF(OFFSET(コントロールシート!AO$464,MATCH($B56,コントロールシート!$AZ$465:$AZ$518,0),0)=TRUE,\"✅\",\"\"),\"\")","v":""},{"$f":"IFERROR(IF(OFFSET(コントロールシート!AP$464,MATCH($B56,コントロールシート!$AZ$465:$AZ$518,0),0)=TRUE,\"✅\",\"\"),\"\")","v":""},{"$f":"IFERROR(IF(OFFSET(コントロールシート!AQ$464,MATCH($B56,コントロールシート!$AZ$465:$AZ$518,0),0)=TRUE,\"✅\",\"\"),\"\")","v":""},{"$f":"IFERROR(OFFSET(コントロールシート!AC$600,MATCH($B56,コントロールシート!$AZ$601:$AZ$654,0),0)&\"\",\"\")","v":""},{"$f":"IFERROR(OFFSET(コントロールシート!AF$600,MATCH($B56,コントロールシート!$AZ$601:$AZ$654,0),0)&\"\",\"\")","v":""},{"$f":"IF(U56<>\"\",\"平常時\",IF(V56<>\"\",IFERROR(OFFSET(コントロールシート!V$682,MATCH($B56,コントロールシート!$AZ$683:$AZ$736,0),0)&\"\",\"\"),IF(W56<>\"\",\"避難後\",\"\")))","v":""},"",{"$f":"IFERROR(OFFSET(コントロールシート!X$745,MATCH($B56,コントロールシート!$AZ$746:$AZ$799,0),0)&\"\",\"\")","v":""},{"$f":"IFERROR(OFFSET(コントロールシート!$W$819,MATCH(業務!B56,コントロールシート!$AZ$820:$AZ$873,0),0)&\"\",\"\")","v":""},{"$f":"IFERROR(OFFSET(コントロールシート!$AI$819,MATCH(B56,コントロールシート!$AZ$820:$AZ$873,0),0)&\"\",\"\")","v":""},{"$f":"IFERROR(OFFSET(コントロールシート!$AX$1004,MATCH(B56,コントロールシート!$BB$1005:$BB$1217,0),0)&\"\",\"\")","v":""},{"$f":"IFERROR(OFFSET(コントロールシート!$AY$1004,MATCH(B56,コントロールシート!$BB$1005:$BB$1217,0),0)&\"\",\"\")","v":""},{"$f":"IFERROR(OFFSET(コントロールシート!$AZ$1004,MATCH(B56,コントロールシート!$BB$1005:$BB$1217,0),0)&\"\",\"\")","v":""},{"$f":"IFERROR(OFFSET(コントロールシート!$BA$1004,MATCH(B56,コントロールシート!$BB$1005:$BB$1217,0),0)&\"\",\"\")","v":""},null,{"$f":"IF($Z56=AJ$5,MAX(AJ$5:AJ55)+1,\"\")","v":""},{"$f":"IF($Z56=AK$5,MAX(AK$5:AK55)+1,\"\")","v":""},{"$f":"IF($Z56=AL$5,MAX(AL$5:AL55)+1,\"\")","v":""},{"$f":"IF($Z56=AM$5,MAX(AM$5:AM55)+1,\"\")","v":""},{"$f":"IF($Z56=AN$5,MAX(AN$5:AN55)+1,\"\")","v":""}]
[null,52,{"$f":"IF(S57<>\"\",MAX($C$5:C56)+1,\"\")","v":""},{"$f":"IF(V57<>\"\",MAX($D$5:D56)+1,\"\")","v":""},{"$f":"IF(V57<>\"\",MAX($E$5:E56)+1,\"\")","v":""},null,null,{"$f":"IF(T57<>\"\",MAX($H$5:H56)+1,\"\")","v":""},{"$f":"IF(U57<>\"\",MAX($I$5:I56)+1,\"\")","v":""},null,{"$f":"IFERROR(OFFSET(コントロールシート!AX$394,MATCH(B57,コントロールシート!$AZ$395:$AZ$455,0),0)&\"\",\"\")","v":""},{"$f":"IFERROR(OFFSET(コントロールシート!I$394,MATCH(B57,コントロールシート!$AZ$395:$AZ$455,0),0)&\"\",\"\")","v":""},{"$f":"IFERROR(OFFSET(コントロールシート!N$394,MATCH(B57,コントロールシート!$AZ$395:$AZ$455,0),0)&\"\",\"\")","v":""},{"$f":"IFERROR(OFFSET(コントロールシート!V$464,MATCH(B57,コントロールシート!$AZ$465:$AZ$518,0),0)&\"\",\"\")","v":""},{"$f":"IFERROR(OFFSET(コントロールシート!AF$464,MATCH(B57,コントロールシート!$AZ$465:$AZ$518,0),0)&\"\",\"\")","v":""},{"$f":"IFERROR(OFFSET(コントロールシート!AC$524,MATCH($B57,コントロールシート!$AZ$525:$AZ$578,0),0)&\"\",\"\")","v":""},{"$f":"IFERROR(OFFSET(コントロールシート!AF$524,MATCH($B57,コントロールシート!$AZ$525:$AZ$578,0),0)&\"\",\"\")","v":""},{"$f":"IFERROR(OFFSET(コントロールシート!AI$524,MATCH($B57,コントロールシート!$AZ$525:$AZ$578,0),0)&\"\",\"\")","v":""},{"$f":"IFERROR(IF(VLOOKUP(B57,コントロールシート!$C$395:$AP$455,COLUMN(コントロールシート!AO57)-2,FALSE)=TRUE,\"✅\",\"\"),\"\")","v":""},{"$f":"IFERROR(IF(VLOOKUP(B57,コントロールシート!$C$395:$AP$455,COLUMN(コントロールシート!AP57)-2,FALSE)=TRUE,\"✅\",\"\"),\"\")","v":""},{"$f":"IFERROR(IF(OFFSET(コントロールシート!AO$464,MATCH($B57,コントロールシート!$AZ$465:$AZ$518,0),0)=TRUE,\"✅\",\"\"),\"\")","v":""},{"$f":"IFERROR(IF(OFFSET(コントロールシート!AP$464,MATCH($B57,コントロールシート!$AZ$465:$AZ$518,0),0)=TRUE,\"✅\",\"\"),\"\")","v":""},{"$f":"IFERROR(IF(OFFSET(コントロールシート!AQ$464,MATCH($B57,コントロールシート!$AZ$465:$AZ$518,0),0)=TRUE,\"✅\",\"\"),\"\")","v":""},{"$f":"IFERROR(OFFSET(コントロールシート!AC$600,MATCH($B57,コントロールシート!$AZ$601:$AZ$654,0),0)&\"\",\"\")","v":""},{"$f":"IFERROR(OFFSET(コントロールシート!AF$600,MATCH($B57,コントロールシート!$AZ$601:$AZ$654,0),0)&\"\",\"\")","v":""},{"$f":"IF(U57<>\"\",\"平常時\",IF(V57<>\"\",IFERROR(OFFSET(コントロールシート!V$682,MATCH($B57,コントロールシート!$AZ$683:$AZ$736,0),0)&\"\",\"\"),IF(W57<>\"\",\"避難後\",\"\")))","v":""},"",{"$f":"IFERROR(OFFSET(コントロールシート!X$745,MATCH($B57,コントロールシート!$AZ$746:$AZ$799,0),0)&\"\",\"\")","v":""},{"$f":"IFERROR(OFFSET(コントロールシート!$W$819,MATCH(業務!B57,コントロールシート!$AZ$820:$AZ$873,0),0)&\"\",\"\")","v":""},{"$f":"IFERROR(OFFSET(コントロールシート!$AI$819,MATCH(B57,コントロールシート!$AZ$820:$AZ$873,0),0)&\"\",\"\")","v":""},{"$f":"IFERROR(OFFSET(コントロールシート!$AX$1004,MATCH(B57,コントロールシート!$BB$1005:$BB$1217,0),0)&\"\",\"\")","v":""},{"$f":"IFERROR(OFFSET(コントロールシート!$AY$1004,MATCH(B57,コントロールシート!$BB$1005:$BB$1217,0),0)&\"\",\"\")","v":""},{"$f":"IFERROR(OFFSET(コントロールシート!$AZ$1004,MATCH(B57,コントロールシート!$BB$1005:$BB$1217,0),0)&\"\",\"\")","v":""},{"$f":"IFERROR(OFFSET(コントロールシート!$BA$1004,MATCH(B57,コントロールシート!$BB$1005:$BB$1217,0),0)&\"\",\"\")","v":""},null,{"$f":"IF($Z57=AJ$5,MAX(AJ$5:AJ56)+1,\"\")","v":""},{"$f":"IF($Z57=AK$5,MAX(AK$5:AK56)+1,\"\")","v":""},{"$f":"IF($Z57=AL$5,MAX(AL$5:AL56)+1,\"\")","v":""},{"$f":"IF($Z57=AM$5,MAX(AM$5:AM56)+1,\"\")","v":""},{"$f":"IF($Z57=AN$5,MAX(AN$5:AN56)+1,\"\")","v":""}]
[null,53,{"$f":"IF(S58<>\"\",MAX($C$5:C57)+1,\"\")","v":""},{"$f":"IF(V58<>\"\",MAX($D$5:D57)+1,\"\")","v":""},{"$f":"IF(V58<>\"\",MAX($E$5:E57)+1,\"\")","v":""},null,null,{"$f":"IF(T58<>\"\",MAX($H$5:H57)+1,\"\")","v":""},{"$f":"IF(U58<>\"\",MAX($I$5:I57)+1,\"\")","v":""},null,{"$f":"IFERROR(OFFSET(コントロールシート!AX$394,MATCH(B58,コントロールシート!$AZ$395:$AZ$455,0),0)&\"\",\"\")","v":""},{"$f":"IFERROR(OFFSET(コントロールシート!I$394,MATCH(B58,コントロールシート!$AZ$395:$AZ$455,0),0)&\"\",\"\")","v":""},{"$f":"IFERROR(OFFSET(コントロールシート!N$394,MATCH(B58,コントロールシート!$AZ$395:$AZ$455,0),0)&\"\",\"\")","v":""},{"$f":"IFERROR(OFFSET(コントロールシート!V$464,MATCH(B58,コントロールシート!$AZ$465:$AZ$518,0),0)&\"\",\"\")","v":""},{"$f":"IFERROR(OFFSET(コントロールシート!AF$464,MATCH(B58,コントロールシート!$AZ$465:$AZ$518,0),0)&\"\",\"\")","v":""},{"$f":"IFERROR(OFFSET(コントロールシート!AC$524,MATCH($B58,コントロールシート!$AZ$525:$AZ$578,0),0)&\"\",\"\")","v":""},{"$f":"IFERROR(OFFSET(コントロールシート!AF$524,MATCH($B58,コントロールシート!$AZ$525:$AZ$578,0),0)&\"\",\"\")","v":""},{"$f":"IFERROR(OFFSET(コントロールシート!AI$524,MATCH($B58,コントロールシート!$AZ$525:$AZ$578,0),0)&\"\",\"\")","v":""},{"$f":"IFERROR(IF(VLOOKUP(B58,コントロールシート!$C$395:$AP$455,COLUMN(コントロールシート!AO58)-2,FALSE)=TRUE,\"✅\",\"\"),\"\")","v":""},{"$f":"IFERROR(IF(VLOOKUP(B58,コントロールシート!$C$395:$AP$455,COLUMN(コントロールシート!AP58)-2,FALSE)=TRUE,\"✅\",\"\"),\"\")","v":""},{"$f":"IFERROR(IF(OFFSET(コントロールシート!AO$464,MATCH($B58,コントロールシート!$AZ$465:$AZ$518,0),0)=TRUE,\"✅\",\"\"),\"\")","v":""},{"$f":"IFERROR(IF(OFFSET(コントロールシート!AP$464,MATCH($B58,コントロールシート!$AZ$465:$AZ$518,0),0)=TRUE,\"✅\",\"\"),\"\")","v":""},{"$f":"IFERROR(IF(OFFSET(コントロールシート!AQ$464,MATCH($B58,コントロールシート!$AZ$465:$AZ$518,0),0)=TRUE,\"✅\",\"\"),\"\")","v":""},{"$f":"IFERROR(OFFSET(コントロールシート!AC$600,MATCH($B58,コントロールシート!$AZ$601:$AZ$654,0),0)&\"\",\"\")","v":""},{"$f":"IFERROR(OFFSET(コントロールシート!AF$600,MATCH($B58,コントロールシート!$AZ$601:$AZ$654,0),0)&\"\",\"\")","v":""},{"$f":"IF(U58<>\"\",\"平常時\",IF(V58<>\"\",IFERROR(OFFSET(コントロールシート!V$682,MATCH($B58,コントロールシート!$AZ$683:$AZ$736,0),0)&\"\",\"\"),IF(W58<>\"\",\"避難後\",\"\")))","v":""},"",{"$f":"IFERROR(OFFSET(コントロールシート!X$745,MATCH($B58,コントロールシート!$AZ$746:$AZ$799,0),0)&\"\",\"\")","v":""},{"$f":"IFERROR(OFFSET(コントロールシート!$W$819,MATCH(業務!B58,コントロールシート!$AZ$820:$AZ$873,0),0)&\"\",\"\")","v":""},{"$f":"IFERROR(OFFSET(コントロールシート!$AI$819,MATCH(B58,コントロールシート!$AZ$820:$AZ$873,0),0)&\"\",\"\")","v":""},{"$f":"IFERROR(OFFSET(コントロールシート!$AX$1004,MATCH(B58,コントロールシート!$BB$1005:$BB$1217,0),0)&\"\",\"\")","v":""},{"$f":"IFERROR(OFFSET(コントロールシート!$AY$1004,MATCH(B58,コントロールシート!$BB$1005:$BB$1217,0),0)&\"\",\"\")","v":""},{"$f":"IFERROR(OFFSET(コントロールシート!$AZ$1004,MATCH(B58,コントロールシート!$BB$1005:$BB$1217,0),0)&\"\",\"\")","v":""},{"$f":"IFERROR(OFFSET(コントロールシート!$BA$1004,MATCH(B58,コントロールシート!$BB$1005:$BB$1217,0),0)&\"\",\"\")","v":""},null,{"$f":"IF($Z58=AJ$5,MAX(AJ$5:AJ57)+1,\"\")","v":""},{"$f":"IF($Z58=AK$5,MAX(AK$5:AK57)+1,\"\")","v":""},{"$f":"IF($Z58=AL$5,MAX(AL$5:AL57)+1,\"\")","v":""},{"$f":"IF($Z58=AM$5,MAX(AM$5:AM57)+1,\"\")","v":""},{"$f":"IF($Z58=AN$5,MAX(AN$5:AN57)+1,\"\")","v":""}]
[null,54,{"$f":"IF(S59<>\"\",MAX($C$5:C58)+1,\"\")","v":""},{"$f":"IF(V59<>\"\",MAX($D$5:D58)+1,\"\")","v":""},{"$f":"IF(V59<>\"\",MAX($E$5:E58)+1,\"\")","v":""},null,null,{"$f":"IF(T59<>\"\",MAX($H$5:H58)+1,\"\")","v":""},{"$f":"IF(U59<>\"\",MAX($I$5:I58)+1,\"\")","v":""},null,{"$f":"IFERROR(OFFSET(コントロールシート!AX$394,MATCH(B59,コントロールシート!$AZ$395:$AZ$455,0),0)&\"\",\"\")","v":""},{"$f":"IFERROR(OFFSET(コントロールシート!I$394,MATCH(B59,コントロールシート!$AZ$395:$AZ$455,0),0)&\"\",\"\")","v":""},{"$f":"IFERROR(OFFSET(コントロールシート!N$394,MATCH(B59,コントロールシート!$AZ$395:$AZ$455,0),0)&\"\",\"\")","v":""},{"$f":"IFERROR(OFFSET(コントロールシート!V$464,MATCH(B59,コントロールシート!$AZ$465:$AZ$518,0),0)&\"\",\"\")","v":""},{"$f":"IFERROR(OFFSET(コントロールシート!AF$464,MATCH(B59,コントロールシート!$AZ$465:$AZ$518,0),0)&\"\",\"\")","v":""},{"$f":"IFERROR(OFFSET(コントロールシート!AC$524,MATCH($B59,コントロールシート!$AZ$525:$AZ$578,0),0)&\"\",\"\")","v":""},{"$f":"IFERROR(OFFSET(コントロールシート!AF$524,MATCH($B59,コントロールシート!$AZ$525:$AZ$578,0),0)&\"\",\"\")","v":""},{"$f":"IFERROR(OFFSET(コントロールシート!AI$524,MATCH($B59,コントロールシート!$AZ$525:$AZ$578,0),0)&\"\",\"\")","v":""},{"$f":"IFERROR(IF(VLOOKUP(B59,コントロールシート!$C$395:$AP$455,COLUMN(コントロールシート!AO59)-2,FALSE)=TRUE,\"✅\",\"\"),\"\")","v":""},{"$f":"IFERROR(IF(VLOOKUP(B59,コントロールシート!$C$395:$AP$455,COLUMN(コントロールシート!AP59)-2,FALSE)=TRUE,\"✅\",\"\"),\"\")","v":""},{"$f":"IFERROR(IF(OFFSET(コントロールシート!AO$464,MATCH($B59,コントロールシート!$AZ$465:$AZ$518,0),0)=TRUE,\"✅\",\"\"),\"\")","v":""},{"$f":"IFERROR(IF(OFFSET(コントロールシート!AP$464,MATCH($B59,コントロールシート!$AZ$465:$AZ$518,0),0)=TRUE,\"✅\",\"\"),\"\")","v":""},{"$f":"IFERROR(IF(OFFSET(コントロールシート!AQ$464,MATCH($B59,コントロールシート!$AZ$465:$AZ$518,0),0)=TRUE,\"✅\",\"\"),\"\")","v":""},{"$f":"IFERROR(OFFSET(コントロールシート!AC$600,MATCH($B59,コントロールシート!$AZ$601:$AZ$654,0),0)&\"\",\"\")","v":""},{"$f":"IFERROR(OFFSET(コントロールシート!AF$600,MATCH($B59,コントロールシート!$AZ$601:$AZ$654,0),0)&\"\",\"\")","v":""},{"$f":"IF(U59<>\"\",\"平常時\",IF(V59<>\"\",IFERROR(OFFSET(コントロールシート!V$682,MATCH($B59,コントロールシート!$AZ$683:$AZ$736,0),0)&\"\",\"\"),IF(W59<>\"\",\"避難後\",\"\")))","v":""},"",{"$f":"IFERROR(OFFSET(コントロールシート!X$745,MATCH($B59,コントロールシート!$AZ$746:$AZ$799,0),0)&\"\",\"\")","v":""},{"$f":"IFERROR(OFFSET(コントロールシート!$W$819,MATCH(業務!B59,コントロールシート!$AZ$820:$AZ$873,0),0)&\"\",\"\")","v":""},{"$f":"IFERROR(OFFSET(コントロールシート!$AI$819,MATCH(B59,コントロールシート!$AZ$820:$AZ$873,0),0)&\"\",\"\")","v":""},{"$f":"IFERROR(OFFSET(コントロールシート!$AX$1004,MATCH(B59,コントロールシート!$BB$1005:$BB$1217,0),0)&\"\",\"\")","v":""},{"$f":"IFERROR(OFFSET(コントロールシート!$AY$1004,MATCH(B59,コントロールシート!$BB$1005:$BB$1217,0),0)&\"\",\"\")","v":""},{"$f":"IFERROR(OFFSET(コントロールシート!$AZ$1004,MATCH(B59,コントロールシート!$BB$1005:$BB$1217,0),0)&\"\",\"\")","v":""},{"$f":"IFERROR(OFFSET(コントロールシート!$BA$1004,MATCH(B59,コントロールシート!$BB$1005:$BB$1217,0),0)&\"\",\"\")","v":""},null,{"$f":"IF($Z59=AJ$5,MAX(AJ$5:AJ58)+1,\"\")","v":""},{"$f":"IF($Z59=AK$5,MAX(AK$5:AK58)+1,\"\")","v":""},{"$f":"IF($Z59=AL$5,MAX(AL$5:AL58)+1,\"\")","v":""},{"$f":"IF($Z59=AM$5,MAX(AM$5:AM58)+1,\"\")","v":""},{"$f":"IF($Z59=AN$5,MAX(AN$5:AN58)+1,\"\")","v":""}]

{"sheet":"5. 重要業務と必要資源の選定・確認","index":11,"n_rows":89,"n_cols":38,"rows_kept":89,"cut":false,"hidden":true,"merged":[[86,24,86,25],[86,26,86,27],[87,24,87,25],[87,26,87,27],[83,24,83,25],[83,26,83,27],[84,24,84,25],[84,26,84,27],[85,24,85,25],[85,26,85,27],[80,24,80,25],[80,26,80,27],[81,24,81,25],[81,26,81,27],[82,24,82,25],[82,26,82,27],[77,24,77,25],[77,26,77,27],[78,24,78,25],[78,26,78,27],[79,24,79,25],[79,26,79,27],[74,24,74,25],[74,26,74,27],[75,24,75,25],[75,26,75,27],[76,24,76,25],[76,26,76,27],[71,24,71,25],[71,26,71,27],[72,24,72,25],[72,26,72,27],[73,24,73,25],[73,26,73,27],[68,24,68,25],[68,26,68,27],[69,24,69,25],[69,26,69,27],[70,24,70,25],[70,26,70,27],[65,24,65,25],[65,26,65,27],[66,24,66,25],[66,26,66,27],[67,24,67,25],[67,26,67,27],[62,24,62,25],[62,26,62,27],[63,24,63,25],[63,26,63,27],[64,24,64,25],[64,26,64,27],[59,24,59,25],[59,26,59,27],[60,24,60,25],[60,26,60,27],[61,24,61,25],[61,26,61,27],[53,26,53,27],[54,24,54,25],[54,26,54,27],[58,24,58,25],[58,26,58,27],[50,24,50,25],[50,26,50,27],[51,24,51,25],[51,26,51,27],[52,24,52,25],[52,26,52,27],[57,24,57,25],[57,26,57,27],[46,3,46,5],[46,6,46,10],[46,11,46,23],[47,3,47,5],[47,6,47,10],[47,11,47,23],[44,3,44,5],[44,6,44,10],[44,11,44,23],[45,3,45,5],[49,6,49,10],[49,11,49,23],[48,26,48,27],[49,24,49,25],[49,26,49,27],[44,24,44,25],[44,26,44,27],[45,24,45,25],[45,26,45,27],[46,24,46,25],[46,26,46,27],[47,26,47,27],[45,6,45,10],[45,11,45,23],[36,24,36,25],[36,26,36,27],[52,3,52,5],[52,6,52,10],[52,11,52,23],[53,3,53,5],[53,6,53,10],[53,11,53,23],[50,3,50,5],[50,6,50,10],[41,24,41,25],[42,24,42,25],[43,24,43,25],[47,24,47,25],[48,24,48,25],[53,24,53,25],[50,11,50,23],[51,3,51,5],[51,6,51,10],[51,11,51,23],[48,3,48,5],[48,6,48,10],[48,11,48,23],[49,3,49,5],[37,24,37,25],[37,26,37,27],[41,26,41,27],[42,26,42,27],[43,26,43,27],[38,24,38,25],[38,26,38,27],[39,24,39,25],[39,26,39,27],[40,24,40,25],[40,26,40,27],[87,3,87,5],[87,6,87,10],[87,11,87,23],[85,3,85,5],[85,6,85,10],[85,11,85,23],[86,3,86,5],[86,6,86,10],[86,11,86,23],[83,3,83,5],[83,6,83,10],[83,11,83,23],[84,3,84,5],[84,6,84,10],[84,11,84,23],[81,3,81,5],[81,6,81,10],[81,11,81,23],[82,3,82,5],[82,6,82,10],[82,11,82,23],[79,3,79,5],[79,6,79,10],[79,11,79,23],[80,3,80,5],[80,6,80,10],[80,11,80,23],[77,3,77,5],[77,6,77,10],[77,11,77,23],[78,3,78,5],[78,6,78,10],[78,11,78,23],[75,3,75,5],[75,6,75,10],[75,11,75,23],[76,3,76,5],[76,6,76,10],[76,11,76,23],[73,3,73,5],[73,6,73,10],[73,11,73,23],[74,3,74,5],[74,6,74,10],[74,11,74,23],[71,3,71,5],[71,6,71,10],[71,11,71,23],[72,3,72,5],[72,6,72,10],[72,11,72,23],[69,3,69,5],[69,6,69,10],[69,11,69,23],[70,3,70,5],[70,6,70,10],[70,11,70,23],[67,3,67,5],[67,6,67,10],[67,11,67,23],[68,3,68,5],[68,6,68,10],[68,11,68,23],[65,3,65,5],[65,6,65,10],[65,11,65,23],[66,3,66,5],[66,6,66,10],[66,11,66,23],[63,3,63,5],[63,6,63,10],[63,11,63,23],[64,3,64,5],[64,6,64,10],[64,11,64,23],[61,3,61,5],[61,6,61,10],[61,11,61,23],[62,3,62,5],[62,6,62,10],[62,11,62,23],[59,3,59,5],[59,6,59,10],[59,11,59,23],[60,3,60,5],[60,6,60,10],[60,11,60,23],[54,3,54,5],[54,6,54,10],[54,11,54,23],[58,3,58,5],[58,6,58,10],[58,11,58,23],[57,3,57,10],[57,11,57,23],[42,3,42,5],[42,6,42,10],[42,11,42,23],[43,3,43,5],[43,6,43,10],[43,11,43,23],[40,3,40,5],[40,6,40,10],[40,11,40,23],[41,3,41,5],[41,6,41,10],[41,11,41,23],[31,6,31,10],[38,3,38,5],[38,6,38,10],[38,11,38,23],[39,3,39,5],[39,6,39,10],[39,11,39,23],[36,3,36,5],[36,6,36,10],[36,11,36,23],[37,3,37,5],[37,6,37,10],[37,11,37,23],[31,11,31,23],[35,24,35,25],[35,26,35,27],[34,3,34,5],[34,6,34,10],[34,11,34,23],[32,24,32,25],[32,26,32,27],[33,24,33,25],[33,26,33,27],[34,24,34,25],[34,26,34,27],[35,3,35,5],[35,6,35,10],[35,11,35,23],[32,3,32,5],[32,6,32,10],[32,11,32,23],[33,3,33,5],[33,6,33,10],[33,11,33,23],[31,24,31,25],[31,26,31,27],[30,26,30,27],[30,24,30,25],[30,11,30,23],[30,3,30,10],[20,3,20,27],[5,3,5,27],[3,3,3,28],[12,3,12,27],[6,4,6,27],[7,4,7,27],[8,4,8,27],[9,4,9,27],[10,4,10,27],[11,4,11,27],[25,3,25,27],[27,4,27,7],[27,13,27,16],[15,3,15,27],[17,3,17,27],[19,3,19,27],[18,3,18,27],[31,3,31,5]]}
[]
[null,"5. 重要業務と必要資源の選定・確認",null,null,null,null,null,null,null,null,null,null,null,null,null,null,null,null,null,null,null,null,null,null,null,null,null,null,null,null,null,null,null,null,null,{"$f":"IF(AE28<=24,2,3)","v":2},{"$f":"'4. 避難の計画'!AJ2+'4. 避難の計画'!AK2","v":9},"flag"]
[null,null,"5.1 重要業務の選定",null,null,null,null,null,null,null,null,null,null,null,null,null,null,null,null,null,null,null,null,null,null,null,null,null,null,null,null,null,null,null,null,null,null,1]
[null,null,null,"以下の基本方針を踏まえ、緊急時における事業継続に向けた対応を行う。",null,null,null,null,null,null,null,null,null,null,null,null,null,null,null,null,null,null,null,null,null,null,null,null,null,null,null,null,null,null,null,null,null,1]
[null,null,null,null,null,null,null,null,null,null,null,null,null,null,null,null,null,null,null,null,null,null,null,null,null,null,null,null,null,null,null,null,null,null,null,null,null,1]
[null,null,null,"本計画の基本方針",null,null,null,null,null,null,null,null,null,null,null,null,null,null,null,null,null,null,null,null,null,null,null,null,null,null,null,null,null,null,null,null,null,1]
[null,null,null,"□",{"$f":"コントロールシート!G32","v":"人命（従業員・顧客）の安全を守る。"},null,null,null,null,null,null,null,null,null,null,null,null,null,null,null,null,null,null,null,null,null,null,null,null,null,{"$f":"コントロールシート!AO32&\"\"","v":"TRUE"},null,null,null,null,null,null,{"$f":"IF(AE7=\"TRUE\",1,0)","v":1}]
[null,null,null,"□",{"$f":"コントロールシート!G33","v":"自社の経営を維持する。"},null,null,null,null,null,null,null,null,null,null,null,null,null,null,null,null,null,null,null,null,null,null,null,null,null,{"$f":"コントロールシート!AO33&\"\"","v":""},null,null,null,null,null,null,{"$f":"IF(AE8=\"TRUE\",1,0)","v":0}]
[null,null,null,"□",{"$f":"コントロールシート!G34","v":"顧客からの信用を守る。"},null,null,null,null,null,null,null,null,null,null,null,null,null,null,null,null,null,null,null,null,null,null,null,null,null,{"$f":"コントロールシート!AO34&\"\"","v":"TRUE"},null,null,null,null,null,null,1]
[null,null,null,"□",{"$f":"コントロールシート!G35","v":"供給責任を果たし、従業員の雇用を守る。"},null,null,null,null,null,null,null,null,null,null,null,null,null,null,null,null,null,null,null,null,null,null,null,null,null,{"$f":"コントロールシート!AO35&\"\"","v":""},null,null,null,null,null,null,0]
[null,null,null,"□",{"$f":"コントロールシート!G36","v":"地域経済の基盤強靭化に寄与する。"},null,null,null,null,null,null,null,null,null,null,null,null,null,null,null,null,null,null,null,null,null,null,null,null,null,{"$f":"コントロールシート!AO36&\"\"","v":"TRUE"},null,null,null,null,null,null,1]
[null,null,null,"□",{"$f":"コントロールシート!F38&\"\"","v":""},null,null,null,null,null,null,null,null,null,null,null,null,null,null,null,null,null,null,null,null,null,null,null,null,null,{"$f":"コントロールシート!AO38&\"\"","v":""},{"$f":"LEN(E12)","v":0},null,null,null,null,null,0]
[null,null,null,null,null,null,null,null,null,null,null,null,null,null,null,null,null,null,null,null,null,null,null,null,null,null,null,null,null,null,null,null,null,null,null,null,null,1]
[null,null,null,null,null,null,null,null,null,null,null,null,null,null,null,null,null,null,null,null,null,null,null,null,null,null,null,null,null,null,null,null,null,null,null,null,null,1]
[null,null,null,null,null,null,null,null,null,null,null,null,null,null,null,null,null,null,null,null,null,null,null,null,null,null,null,null,null,null,null,null,null,null,null,null,null,1]
[null,null,null,"緊急時においても、自社で優先的に継続もしくは復旧させる事業・業務・商品・サービス（以下、重要業務という）を以下のように定める。",null,null,null,null,null,null,null,null,null,null,null,null,null,null,null,null,null,null,null,null,null,null,null,null,null,null,null,null,null,null,null,null,null,1]
[null,null,null,null,null,null,null,null,null,null,null,null,null,null,null,null,null,null,null,null,null,null,null,null,null,null,null,null,null,null,null,null,null,null,null,null,null,1]
[null,null,null,"重要業務",null,null,null,null,null,null,null,null,null,null,null,null,null,null,null,null,null,null,null,null,null,null,null,null,null,null,null,null,null,null,null,null,null,1]
[null,null,null,null,null,null,null,null,null,null,null,null,null,null,null,null,null,null,null,null,null,null,null,null,null,null,null,null,null,null,null,null,null,null,null,null,null,1]
[null,null,null,{"$f":"コントロールシート!F389&\"\"","v":"●●会社への△△部品運送業務"},null,null,null,null,null,null,null,null,null,null,null,null,null,null,null,null,null,null,null,null,null,null,null,null,null,null,null,{"$f":"LEN(D20)","v":14},null,null,null,null,null,1]
[null,null,null,null,null,null,null,null,null,null,null,null,null,null,null,null,null,null,null,null,null,null,null,null,null,null,null,null,null,null,null,null,null,null,null,null,null,1]
[null,null,null,null,null,null,null,null,null,null,null,null,null,null,null,null,null,null,null,null,null,null,null,null,null,null,null,null,null,null,null,null,null,null,null,null,null,1]
[null,null,null,null,null,null,null,null,null,null,null,null,null,null,null,null,null,null,null,null,null,null,null,null,null,null,null,null,null,null,null,null,null,null,null,null,null,1]
[null,null,null,null,null,null,null,null,null,null,null,null,null,null,null,null,null,null,null,null,null,null,null,null,null,null,null,null,null,null,null,null,null,null,null,null,null,1]
[null,null,"5.2 重要業務に必要な資源と想定被害の確認",null,null,null,null,null,null,null,null,null,null,null,null,null,null,null,null,null,null,null,null,null,null,null,null,null,null,null,null,null,null,null,null,null,null,1]
[null,null,null,"重要業務を実施するための資源について、浸水被害発生時の対策の可否を以下のとおり整理した。\n対策が可能なものについては、次項で詳細を示す。\n現時点で対策が不可能と判断したものについても、中・長期的に検討を継続する必要がある。",null,null,null,null,null,null,null,null,null,null,null,null,null,null,null,null,null,null,null,null,null,null,null,null,null,null,null,null,null,null,null,null,null,1]
[null,null,null,null,null,null,null,null,null,null,null,null,null,null,null,null,null,null,null,null,null,null,null,null,null,null,null,null,null,null,null,null,null,null,null,null,null,1]
[null,null,null,null,"【建物の階数】",null,null,null,null,{"$f":"コントロールシート!J307","v":"3階"},null,null,null,"【想定浸水深】",null,null,null,null,{"$f":"コントロールシート!J308","v":"3.0m～5.0m"},null,null,null,null,null,null,null,null,null,null,null,{"$f":"業務!B2","v":11},null,null,null,null,null,null,1]
[null,null,null,null,null,null,null,null,null,null,null,null,null,null,null,null,null,null,null,null,null,null,null,null,null,null,null,null,null,null,null,null,null,null,null,null,null,1]
[null,null,null,"【想定される浸水被害】",null,null,null,null,null,null,null,null,null,null,null,null,null,null,null,null,null,null,null,null,null,null,null,null,null,null,{"$f":"K_MAX","v":2},null,null,null,null,null,null,1]
[null,null,null,"重要業務の継続に必要な経営資源",null,null,null,null,null,null,null,"想定される浸水被害",null,null,null,null,null,null,null,null,null,null,null,null,"対策可",null,"対策不可",null,null,null,null,null,null,null,null,null,null,1]
[null,null,null,{"$f":"OFFSET(業務!$K$5,MATCH($AE32,業務!$B$6:$B$59,0),0)","v":"インフラ"},null,null,{"$f":"OFFSET(業務!$L$5,MATCH($AE32,業務!$B$6:$B$59,0),0)","v":"電気"},null,null,null,null,{"$f":"OFFSET(業務!$M$5,MATCH($AE32,業務!$B$6:$B$59,0),0)","v":"電気が供給されない"},null,null,null,null,null,null,null,null,null,null,null,null,{"$f":"OFFSET(業務!$S$5,MATCH($AE32,業務!$B$6:$B$59,0),0)","v":"✅"},null,{"$f":"OFFSET(業務!$T$5,MATCH($AE32,業務!$B$6:$B$59,0),0)","v":""},null,null,null,1,null,null,null,null,null,null,{"$f":"IF(AE32<=$AE$28,1,0)","v":1}]
[null,null,null,{"$f":"OFFSET(業務!$K$5,MATCH($AE33,業務!$B$6:$B$59,0),0)","v":"インフラ"},null,null,{"$f":"OFFSET(業務!$L$5,MATCH($AE33,業務!$B$6:$B$59,0),0)","v":"水道"},null,null,null,null,{"$f":"OFFSET(業務!$M$5,MATCH($AE33,業務!$B$6:$B$59,0),0)","v":"飲料水や生活用水が供給されない"},null,null,null,null,null,null,null,null,null,null,null,null,{"$f":"OFFSET(業務!$S$5,MATCH($AE33,業務!$B$6:$B$59,0),0)","v":"✅"},null,{"$f":"OFFSET(業務!$T$5,MATCH($AE33,業務!$B$6:$B$59,0),0)","v":""},null,null,null,2,null,null,null,null,null,null,{"$f":"IF(AE33<=$AE$28,1,0)","v":1}]
[null,null,null,{"$f":"OFFSET(業務!$K$5,MATCH($AE34,業務!$B$6:$B$59,0),0)","v":"インフラ"},null,null,{"$f":"OFFSET(業務!$L$5,MATCH($AE34,業務!$B$6:$B$59,0),0)","v":"道路"},null,null,null,null,{"$f":"OFFSET(業務!$M$5,MATCH($AE34,業務!$B$6:$B$59,0),0)","v":"道路が通行止めとなる"},null,null,null,null,null,null,null,null,null,null,null,null,{"$f":"OFFSET(業務!$S$5,MATCH($AE34,業務!$B$6:$B$59,0),0)","v":""},null,{"$f":"OFFSET(業務!$T$5,MATCH($AE34,業務!$B$6:$B$59,0),0)","v":"✅"},null,null,null,3,null,null,null,null,null,null,1]
[null,null,null,{"$f":"OFFSET(業務!$K$5,MATCH($AE35,業務!$B$6:$B$59,0),0)","v":"人"},null,null,{"$f":"OFFSET(業務!$L$5,MATCH($AE35,業務!$B$6:$B$59,0),0)","v":"従業員（管理者）"},null,null,null,null,{"$f":"OFFSET(業務!$M$5,MATCH($AE35,業務!$B$6:$B$59,0),0)","v":"通行規制等により、本社への参集が不可能となる"},null,null,null,null,null,null,null,null,null,null,null,null,{"$f":"OFFSET(業務!$S$5,MATCH($AE35,業務!$B$6:$B$59,0),0)","v":"✅"},null,{"$f":"OFFSET(業務!$T$5,MATCH($AE35,業務!$B$6:$B$59,0),0)","v":""},null,null,null,4,null,null,null,null,null,null,1]
[null,null,null,{"$f":"OFFSET(業務!$K$5,MATCH($AE36,業務!$B$6:$B$59,0),0)","v":"人"},null,null,{"$f":"OFFSET(業務!$L$5,MATCH($AE36,業務!$B$6:$B$59,0),0)","v":"従業員（作業員）"},null,null,null,null,{"$f":"OFFSET(業務!$M$5,MATCH($AE36,業務!$B$6:$B$59,0),0)","v":"従業員が出勤できない"},null,null,null,null,null,null,null,null,null,null,null,null,{"$f":"OFFSET(業務!$S$5,MATCH($AE36,業務!$B$6:$B$59,0),0)","v":"✅"},null,{"$f":"OFFSET(業務!$T$5,MATCH($AE36,業務!$B$6:$B$59,0),0)","v":""},null,null,null,5,null,null,null,null,null,null,1]
[null,null,null,{"$f":"OFFSET(業務!$K$5,MATCH($AE37,業務!$B$6:$B$59,0),0)","v":"物"},null,null,{"$f":"OFFSET(業務!$L$5,MATCH($AE37,業務!$B$6:$B$59,0),0)","v":"事務所"},null,null,null,null,{"$f":"OFFSET(業務!$M$5,MATCH($AE37,業務!$B$6:$B$59,0),0)","v":"浸水により、本社は2階まで使用不可"},null,null,null,null,null,null,null,null,null,null,null,null,{"$f":"OFFSET(業務!$S$5,MATCH($AE37,業務!$B$6:$B$59,0),0)","v":""},null,{"$f":"OFFSET(業務!$T$5,MATCH($AE37,業務!$B$6:$B$59,0),0)","v":"✅"},null,null,null,6,null,null,null,null,null,null,1]
[null,null,null,{"$f":"OFFSET(業務!$K$5,MATCH($AE38,業務!$B$6:$B$59,0),0)","v":"物"},null,null,{"$f":"OFFSET(業務!$L$5,MATCH($AE38,業務!$B$6:$B$59,0),0)","v":"社用車"},null,null,null,null,{"$f":"OFFSET(業務!$M$5,MATCH($AE38,業務!$B$6:$B$59,0),0)","v":"トラックが流出・水没による故障が発生する"},null,null,null,null,null,null,null,null,null,null,null,null,{"$f":"OFFSET(業務!$S$5,MATCH($AE38,業務!$B$6:$B$59,0),0)","v":"✅"},null,{"$f":"OFFSET(業務!$T$5,MATCH($AE38,業務!$B$6:$B$59,0),0)","v":""},null,null,null,7,null,null,null,null,null,null,1]
[null,null,null,{"$f":"OFFSET(業務!$K$5,MATCH($AE39,業務!$B$6:$B$59,0),0)","v":"物"},null,null,{"$f":"OFFSET(業務!$L$5,MATCH($AE39,業務!$B$6:$B$59,0),0)","v":"原材料"},null,null,null,null,{"$f":"OFFSET(業務!$M$5,MATCH($AE39,業務!$B$6:$B$59,0),0)","v":"ガソリンが流出する"},null,null,null,null,null,null,null,null,null,null,null,null,{"$f":"OFFSET(業務!$S$5,MATCH($AE39,業務!$B$6:$B$59,0),0)","v":"✅"},null,{"$f":"OFFSET(業務!$T$5,MATCH($AE39,業務!$B$6:$B$59,0),0)","v":""},null,null,null,8,null,null,null,null,null,null,1]
[null,null,null,{"$f":"OFFSET(業務!$K$5,MATCH($AE40,業務!$B$6:$B$59,0),0)","v":"物"},null,null,{"$f":"OFFSET(業務!$L$5,MATCH($AE40,業務!$B$6:$B$59,0),0)","v":"その他"},null,null,null,null,{"$f":"OFFSET(業務!$M$5,MATCH($AE40,業務!$B$6:$B$59,0),0)","v":"小分けした部品が浸水により流出する"},null,null,null,null,null,null,null,null,null,null,null,null,{"$f":"OFFSET(業務!$S$5,MATCH($AE40,業務!$B$6:$B$59,0),0)","v":"✅"},null,{"$f":"OFFSET(業務!$T$5,MATCH($AE40,業務!$B$6:$B$59,0),0)","v":""},null,null,null,9,null,null,null,null,null,null,1]
[null,null,null,{"$f":"OFFSET(業務!$K$5,MATCH($AE41,業務!$B$6:$B$59,0),0)","v":"情報"},null,null,{"$f":"OFFSET(業務!$L$5,MATCH($AE41,業務!$B$6:$B$59,0),0)","v":"事務処理用PC"},null,null,null,null,{"$f":"OFFSET(業務!$M$5,MATCH($AE41,業務!$B$6:$B$59,0),0)","v":"事務処理用PCが使用できなくなる"},null,null,null,null,null,null,null,null,null,null,null,null,{"$f":"OFFSET(業務!$S$5,MATCH($AE41,業務!$B$6:$B$59,0),0)","v":"✅"},null,{"$f":"OFFSET(業務!$T$5,MATCH($AE41,業務!$B$6:$B$59,0),0)","v":""},null,null,null,10,null,null,null,null,null,null,1]
[null,null,null,{"$f":"OFFSET(業務!$K$5,MATCH($AE42,業務!$B$6:$B$59,0),0)","v":"情報"},null,null,{"$f":"OFFSET(業務!$L$5,MATCH($AE42,業務!$B$6:$B$59,0),0)","v":"顧客情報"},null,null,null,null,{"$f":"OFFSET(業務!$M$5,MATCH($AE42,業務!$B$6:$B$59,0),0)","v":"PCから顧客情報が呼び出せなくなる"},null,null,null,null,null,null,null,null,null,null,null,null,{"$f":"OFFSET(業務!$S$5,MATCH($AE42,業務!$B$6:$B$59,0),0)","v":"✅"},null,{"$f":"OFFSET(業務!$T$5,MATCH($AE42,業務!$B$6:$B$59,0),0)","v":""},null,null,null,11,null,null,null,null,null,null,1]
[null,null,null,{"$f":"OFFSET(業務!$K$5,MATCH($AE43,業務!$B$6:$B$59,0),0)","v":""},null,null,{"$f":"OFFSET(業務!$L$5,MATCH($AE43,業務!$B$6:$B$59,0),0)","v":""},null,null,null,null,{"$f":"OFFSET(業務!$M$5,MATCH($AE43,業務!$B$6:$B$59,0),0)","v":""},null,null,null,null,null,null,null,null,null,null,null,null,{"$f":"OFFSET(業務!$S$5,MATCH($AE43,業務!$B$6:$B$59,0),0)","v":""},null,{"$f":"OFFSET(業務!$T$5,MATCH($AE43,業務!$B$6:$B$59,0),0)","v":""},null,null,null,12,null,null,null,null,null,null,0]
[null,null,null,{"$f":"OFFSET(業務!$K$5,MATCH($AE44,業務!$B$6:$B$59,0),0)","v":""},null,null,{"$f":"OFFSET(業務!$L$5,MATCH($AE44,業務!$B$6:$B$59,0),0)","v":""},null,null,null,null,{"$f":"OFFSET(業務!$M$5,MATCH($AE44,業務!$B$6:$B$59,0),0)","v":""},null,null,null,null,null,null,null,null,null,null,null,null,{"$f":"OFFSET(業務!$S$5,MATCH($AE44,業務!$B$6:$B$59,0),0)","v":""},null,{"$f":"OFFSET(業務!$T$5,MATCH($AE44,業務!$B$6:$B$59,0),0)","v":""},null,null,null,13,null,null,null,null,null,null,0]
[null,null,null,{"$f":"OFFSET(業務!$K$5,MATCH($AE45,業務!$B$6:$B$59,0),0)","v":""},null,null,{"$f":"OFFSET(業務!$L$5,MATCH($AE45,業務!$B$6:$B$59,0),0)","v":""},null,null,null,null,{"$f":"OFFSET(業務!$M$5,MATCH($AE45,業務!$B$6:$B$59,0),0)","v":""},null,null,null,null,null,null,null,null,null,null,null,null,{"$f":"OFFSET(業務!$S$5,MATCH($AE45,業務!$B$6:$B$59,0),0)","v":""},null,{"$f":"OFFSET(業務!$T$5,MATCH($AE45,業務!$B$6:$B$59,0),0)","v":""},null,null,null,14,null,null,null,null,null,null,0]
[null,null,null,{"$f":"OFFSET(業務!$K$5,MATCH($AE46,業務!$B$6:$B$59,0),0)","v":""},null,null,{"$f":"OFFSET(業務!$L$5,MATCH($AE46,業務!$B$6:$B$59,0),0)","v":""},null,null,null,null,{"$f":"OFFSET(業務!$M$5,MATCH($AE46,業務!$B$6:$B$59,0),0)","v":""},null,null,null,null,null,null,null,null,null,null,null,null,{"$f":"OFFSET(業務!$S$5,MATCH($AE46,業務!$B$6:$B$59,0),0)","v":""},null,{"$f":"OFFSET(業務!$T$5,MATCH($AE46,業務!$B$6:$B$59,0),0)","v":""},null,null,null,15,null,null,null,null,null,null,0]
[null,null,null,{"$f":"OFFSET(業務!$K$5,MATCH($AE47,業務!$B$6:$B$59,0),0)","v":""},null,null,{"$f":"OFFSET(業務!$L$5,MATCH($AE47,業務!$B$6:$B$59,0),0)","v":""},null,null,null,null,{"$f":"OFFSET(業務!$M$5,MATCH($AE47,業務!$B$6:$B$59,0),0)","v":""},null,null,null,null,null,null,null,null,null,null,null,null,{"$f":"OFFSET(業務!$S$5,MATCH($AE47,業務!$B$6:$B$59,0),0)","v":""},null,{"$f":"OFFSET(業務!$T$5,MATCH($AE47,業務!$B$6:$B$59,0),0)","v":""},null,null,null,16,null,null,null,null,null,null,0]
[null,null,null,{"$f":"OFFSET(業務!$K$5,MATCH($AE48,業務!$B$6:$B$59,0),0)","v":""},null,null,{"$f":"OFFSET(業務!$L$5,MATCH($AE48,業務!$B$6:$B$59,0),0)","v":""},null,null,null,null,{"$f":"OFFSET(業務!$M$5,MATCH($AE48,業務!$B$6:$B$59,0),0)","v":""},null,null,null,null,null,null,null,null,null,null,null,null,{"$f":"OFFSET(業務!$S$5,MATCH($AE48,業務!$B$6:$B$59,0),0)","v":""},null,{"$f":"OFFSET(業務!$T$5,MATCH($AE48,業務!$B$6:$B$59,0),0)","v":""},null,null,null,17,null,null,null,null,null,null,0]
[null,null,null,{"$f":"OFFSET(業務!$K$5,MATCH($AE49,業務!$B$6:$B$59,0),0)","v":""},null,null,{"$f":"OFFSET(業務!$L$5,MATCH($AE49,業務!$B$6:$B$59,0),0)","v":""},null,null,null,null,{"$f":"OFFSET(業務!$M$5,MATCH($AE49,業務!$B$6:$B$59,0),0)","v":""},null,null,null,null,null,null,null,null,null,null,null,null,{"$f":"OFFSET(業務!$S$5,MATCH($AE49,業務!$B$6:$B$59,0),0)","v":""},null,{"$f":"OFFSET(業務!$T$5,MATCH($AE49,業務!$B$6:$B$59,0),0)","v":""},null,null,null,18,null,null,null,null,null,null,0]
[null,null,null,{"$f":"OFFSET(業務!$K$5,MATCH($AE50,業務!$B$6:$B$59,0),0)","v":""},null,null,{"$f":"OFFSET(業務!$L$5,MATCH($AE50,業務!$B$6:$B$59,0),0)","v":""},null,null,null,null,{"$f":"OFFSET(業務!$M$5,MATCH($AE50,業務!$B$6:$B$59,0),0)","v":""},null,null,null,null,null,null,null,null,null,null,null,null,{"$f":"OFFSET(業務!$S$5,MATCH($AE50,業務!$B$6:$B$59,0),0)","v":""},null,{"$f":"OFFSET(業務!$T$5,MATCH($AE50,業務!$B$6:$B$59,0),0)","v":""},null,null,null,19,null,null,null,null,null,null,0]
[null,null,null,{"$f":"OFFSET(業務!$K$5,MATCH($AE51,業務!$B$6:$B$59,0),0)","v":""},null,null,{"$f":"OFFSET(業務!$L$5,MATCH($AE51,業務!$B$6:$B$59,0),0)","v":""},null,null,null,null,{"$f":"OFFSET(業務!$M$5,MATCH($AE51,業務!$B$6:$B$59,0),0)","v":""},null,null,null,null,null,null,null,null,null,null,null,null,{"$f":"OFFSET(業務!$S$5,MATCH($AE51,業務!$B$6:$B$59,0),0)","v":""},null,{"$f":"OFFSET(業務!$T$5,MATCH($AE51,業務!$B$6:$B$59,0),0)","v":""},null,null,null,20,null,null,null,null,null,null,0]
[null,null,null,{"$f":"OFFSET(業務!$K$5,MATCH($AE52,業務!$B$6:$B$59,0),0)","v":""},null,null,{"$f":"OFFSET(業務!$L$5,MATCH($AE52,業務!$B$6:$B$59,0),0)","v":""},null,null,null,null,{"$f":"OFFSET(業務!$M$5,MATCH($AE52,業務!$B$6:$B$59,0),0)","v":""},null,null,null,null,null,null,null,null,null,null,null,null,{"$f":"OFFSET(業務!$S$5,MATCH($AE52,業務!$B$6:$B$59,0),0)","v":""},null,{"$f":"OFFSET(業務!$T$5,MATCH($AE52,業務!$B$6:$B$59,0),0)","v":""},null,null,null,21,null,null,null,null,null,null,0]
[null,null,null,{"$f":"OFFSET(業務!$K$5,MATCH($AE53,業務!$B$6:$B$59,0),0)","v":""},null,null,{"$f":"OFFSET(業務!$L$5,MATCH($AE53,業務!$B$6:$B$59,0),0)","v":""},null,null,null,null,{"$f":"OFFSET(業務!$M$5,MATCH($AE53,業務!$B$6:$B$59,0),0)","v":""},null,null,null,null,null,null,null,null,null,null,null,null,{"$f":"OFFSET(業務!$S$5,MATCH($AE53,業務!$B$6:$B$59,0),0)","v":""},null,{"$f":"OFFSET(業務!$T$5,MATCH($AE53,業務!$B$6:$B$59,0),0)","v":""},null,null,null,22,null,null,null,null,null,null,0]
[null,null,null,{"$f":"OFFSET(業務!$K$5,MATCH($AE54,業務!$B$6:$B$59,0),0)","v":""},null,null,{"$f":"OFFSET(業務!$L$5,MATCH($AE54,業務!$B$6:$B$59,0),0)","v":""},null,null,null,null,{"$f":"OFFSET(業務!$M$5,MATCH($AE54,業務!$B$6:$B$59,0),0)","v":""},null,null,null,null,null,null,null,null,null,null,null,null,{"$f":"OFFSET(業務!$S$5,MATCH($AE54,業務!$B$6:$B$59,0),0)","v":""},null,{"$f":"OFFSET(業務!$T$5,MATCH($AE54,業務!$B$6:$B$59,0),0)","v":""},null,null,null,{"$f":"IF(AND($AE$28>=25,$AE$28<=27),\"\",AE53+1)","v":23},null,null,null,null,null,null,0]
[null,null,null,{"$f":"OFFSET(業務!$K$5,MATCH($AE55,業務!$B$6:$B$59,0),0)","v":""},null,null,{"$f":"OFFSET(業務!$L$5,MATCH($AE55,業務!$B$6:$B$59,0),0)","v":""},null,null,null,null,{"$f":"OFFSET(業務!$M$5,MATCH($AE55,業務!$B$6:$B$59,0),0)","v":""},null,null,null,null,null,null,null,null,null,null,null,null,{"$f":"OFFSET(業務!$S$5,MATCH($AE55,業務!$B$6:$B$59,0),0)","v":""},null,{"$f":"OFFSET(業務!$T$5,MATCH($AE55,業務!$B$6:$B$59,0),0)","v":""},null,null,null,{"$f":"IF(AND($AE$28>=25,$AE$28<=27),\"\",AE54+1)","v":24},null,null,null,null,null,null,0]
[null,null,null,null,null,null,null,null,null,null,null,null,null,null,null,null,null,null,null,null,null,null,null,null,null,null,null,null,null,null,null,null,null,null,null,null,null,1]
[null,null,null,null,null,null,null,null,null,null,null,null,null,null,null,null,null,null,null,null,null,null,null,null,null,null,null,null,null,null,null,null,null,null,null,null,null,{"$f":"IF($AE$28>=25,1,0)","v":0}]
[null,null,null,"重要業務の継続に必要な経営資源",null,null,null,null,null,null,null,"想定される浸水被害",null,null,null,null,null,null,null,null,null,null,null,null,"対策可",null,"対策不可",null,null,null,null,null,null,null,null,null,null,{"$f":"IF($AE$28>=25,1,0)","v":0}]
[null,null,null,{"$f":"OFFSET(業務!$K$5,MATCH($AE59,業務!$B$6:$B$59,0),0)","v":""},null,null,{"$f":"OFFSET(業務!$L$5,MATCH($AE59,業務!$B$6:$B$59,0),0)","v":""},null,null,null,null,{"$f":"OFFSET(業務!$M$5,MATCH($AE59,業務!$B$6:$B$59,0),0)","v":""},null,null,null,null,null,null,null,null,null,null,null,null,{"$f":"OFFSET(業務!$S$5,MATCH($AE59,業務!$B$6:$B$59,0),0)","v":""},null,{"$f":"OFFSET(業務!$T$5,MATCH($AE59,業務!$B$6:$B$59,0),0)","v":""},null,null,null,{"$f":"MAX(AE32:AE58)+1","v":25},null,null,null,null,null,null,0]
[null,null,null,{"$f":"OFFSET(業務!$K$5,MATCH($AE60,業務!$B$6:$B$59,0),0)","v":""},null,null,{"$f":"OFFSET(業務!$L$5,MATCH($AE60,業務!$B$6:$B$59,0),0)","v":""},null,null,null,null,{"$f":"OFFSET(業務!$M$5,MATCH($AE60,業務!$B$6:$B$59,0),0)","v":""},null,null,null,null,null,null,null,null,null,null,null,null,{"$f":"OFFSET(業務!$S$5,MATCH($AE60,業務!$B$6:$B$59,0),0)","v":""},null,{"$f":"OFFSET(業務!$T$5,MATCH($AE60,業務!$B$6:$B$59,0),0)","v":""},null,null,null,{"$f":"AE59+1","v":26},null,null,null,null,null,null,0]
[null,null,null,{"$f":"OFFSET(業務!$K$5,MATCH($AE61,業務!$B$6:$B$59,0),0)","v":""},null,null,{"$f":"OFFSET(業務!$L$5,MATCH($AE61,業務!$B$6:$B$59,0),0)","v":""},null,null,null,null,{"$f":"OFFSET(業務!$M$5,MATCH($AE61,業務!$B$6:$B$59,0),0)","v":""},null,null,null,null,null,null,null,null,null,null,null,null,{"$f":"OFFSET(業務!$S$5,MATCH($AE61,業務!$B$6:$B$59,0),0)","v":""},null,{"$f":"OFFSET(業務!$T$5,MATCH($AE61,業務!$B$6:$B$59,0),0)","v":""},null,null,null,{"$f":"AE60+1","v":27},null,null,null,null,null,null,0]
[null,null,null,{"$f":"OFFSET(業務!$K$5,MATCH($AE62,業務!$B$6:$B$59,0),0)","v":""},null,null,{"$f":"OFFSET(業務!$L$5,MATCH($AE62,業務!$B$6:$B$59,0),0)","v":""},null,null,null,null,{"$f":"OFFSET(業務!$M$5,MATCH($AE62,業務!$B$6:$B$59,0),0)","v":""},null,null,null,null,null,null,null,null,null,null,null,null,{"$f":"OFFSET(業務!$S$5,MATCH($AE62,業務!$B$6:$B$59,0),0)","v":""},null,{"$f":"OFFSET(業務!$T$5,MATCH($AE62,業務!$B$6:$B$59,0),0)","v":""},null,null,null,28,null,null,null,null,null,null,0]
[null,null,null,{"$f":"OFFSET(業務!$K$5,MATCH($AE63,業務!$B$6:$B$59,0),0)","v":""},null,null,{"$f":"OFFSET(業務!$L$5,MATCH($AE63,業務!$B$6:$B$59,0),0)","v":""},null,null,null,null,{"$f":"OFFSET(業務!$M$5,MATCH($AE63,業務!$B$6:$B$59,0),0)","v":""},null,null,null,null,null,null,null,null,null,null,null,null,{"$f":"OFFSET(業務!$S$5,MATCH($AE63,業務!$B$6:$B$59,0),0)","v":""},null,{"$f":"OFFSET(業務!$T$5,MATCH($AE63,業務!$B$6:$B$59,0),0)","v":""},null,null,null,29,null,null,null,null,null,null,0]
[null,null,null,{"$f":"OFFSET(業務!$K$5,MATCH($AE64,業務!$B$6:$B$59,0),0)","v":""},null,null,{"$f":"OFFSET(業務!$L$5,MATCH($AE64,業務!$B$6:$B$59,0),0)","v":""},null,null,null,null,{"$f":"OFFSET(業務!$M$5,MATCH($AE64,業務!$B$6:$B$59,0),0)","v":""},null,null,null,null,null,null,null,null,null,null,null,null,{"$f":"OFFSET(業務!$S$5,MATCH($AE64,業務!$B$6:$B$59,0),0)","v":""},null,{"$f":"OFFSET(業務!$T$5,MATCH($AE64,業務!$B$6:$B$59,0),0)","v":""},null,null,null,30,null,null,null,null,null,null,0]
[null,null,null,{"$f":"OFFSET(業務!$K$5,MATCH($AE65,業務!$B$6:$B$59,0),0)","v":""},null,null,{"$f":"OFFSET(業務!$L$5,MATCH($AE65,業務!$B$6:$B$59,0),0)","v":""},null,null,null,null,{"$f":"OFFSET(業務!$M$5,MATCH($AE65,業務!$B$6:$B$59,0),0)","v":""},null,null,null,null,null,null,null,null,null,null,null,null,{"$f":"OFFSET(業務!$S$5,MATCH($AE65,業務!$B$6:$B$59,0),0)","v":""},null,{"$f":"OFFSET(業務!$T$5,MATCH($AE65,業務!$B$6:$B$59,0),0)","v":""},null,null,null,31,null,null,null,null,null,null,0]
[null,null,null,{"$f":"OFFSET(業務!$K$5,MATCH($AE66,業務!$B$6:$B$59,0),0)","v":""},null,null,{"$f":"OFFSET(業務!$L$5,MATCH($AE66,業務!$B$6:$B$59,0),0)","v":""},null,null,null,null,{"$f":"OFFSET(業務!$M$5,MATCH($AE66,業務!$B$6:$B$59,0),0)","v":""},null,null,null,null,null,null,null,null,null,null,null,null,{"$f":"OFFSET(業務!$S$5,MATCH($AE66,業務!$B$6:$B$59,0),0)","v":""},null,{"$f":"OFFSET(業務!$T$5,MATCH($AE66,業務!$B$6:$B$59,0),0)","v":""},null,null,null,32,null,null,null,null,null,null,0]
[null,null,null,{"$f":"OFFSET(業務!$K$5,MATCH($AE67,業務!$B$6:$B$59,0),0)","v":""},null,null,{"$f":"OFFSET(業務!$L$5,MATCH($AE67,業務!$B$6:$B$59,0),0)","v":""},null,null,null,null,{"$f":"OFFSET(業務!$M$5,MATCH($AE67,業務!$B$6:$B$59,0),0)","v":""},null,null,null,null,null,null,null,null,null,null,null,null,{"$f":"OFFSET(業務!$S$5,MATCH($AE67,業務!$B$6:$B$59,0),0)","v":""},null,{"$f":"OFFSET(業務!$T$5,MATCH($AE67,業務!$B$6:$B$59,0),0)","v":""},null,null,null,33,null,null,null,null,null,null,0]
[null,null,null,{"$f":"OFFSET(業務!$K$5,MATCH($AE68,業務!$B$6:$B$59,0),0)","v":""},null,null,{"$f":"OFFSET(業務!$L$5,MATCH($AE68,業務!$B$6:$B$59,0),0)","v":""},null,null,null,null,{"$f":"OFFSET(業務!$M$5,MATCH($AE68,業務!$B$6:$B$59,0),0)","v":""},null,null,null,null,null,null,null,null,null,null,null,null,{"$f":"OFFSET(業務!$S$5,MATCH($AE68,業務!$B$6:$B$59,0),0)","v":""},null,{"$f":"OFFSET(業務!$T$5,MATCH($AE68,業務!$B$6:$B$59,0),0)","v":""},null,null,null,34,null,null,null,null,null,null,0]
[null,null,null,{"$f":"OFFSET(業務!$K$5,MATCH($AE69,業務!$B$6:$B$59,0),0)","v":""},null,null,{"$f":"OFFSET(業務!$L$5,MATCH($AE69,業務!$B$6:$B$59,0),0)","v":""},null,null,null,null,{"$f":"OFFSET(業務!$M$5,MATCH($AE69,業務!$B$6:$B$59,0),0)","v":""},null,null,null,null,null,null,null,null,null,null,null,null,{"$f":"OFFSET(業務!$S$5,MATCH($AE69,業務!$B$6:$B$59,0),0)","v":""},null,{"$f":"OFFSET(業務!$T$5,MATCH($AE69,業務!$B$6:$B$59,0),0)","v":""},null,null,null,35,null,null,null,null,null,null,0]
[null,null,null,{"$f":"OFFSET(業務!$K$5,MATCH($AE70,業務!$B$6:$B$59,0),0)","v":""},null,null,{"$f":"OFFSET(業務!$L$5,MATCH($AE70,業務!$B$6:$B$59,0),0)","v":""},null,null,null,null,{"$f":"OFFSET(業務!$M$5,MATCH($AE70,業務!$B$6:$B$59,0),0)","v":""},null,null,null,null,null,null,null,null,null,null,null,null,{"$f":"OFFSET(業務!$S$5,MATCH($AE70,業務!$B$6:$B$59,0),0)","v":""},null,{"$f":"OFFSET(業務!$T$5,MATCH($AE70,業務!$B$6:$B$59,0),0)","v":""},null,null,null,36,null,null,null,null,null,null,0]
[null,null,null,{"$f":"OFFSET(業務!$K$5,MATCH($AE71,業務!$B$6:$B$59,0),0)","v":""},null,null,{"$f":"OFFSET(業務!$L$5,MATCH($AE71,業務!$B$6:$B$59,0),0)","v":""},null,null,null,null,{"$f":"OFFSET(業務!$M$5,MATCH($AE71,業務!$B$6:$B$59,0),0)","v":""},null,null,null,null,null,null,null,null,null,null,null,null,{"$f":"OFFSET(業務!$S$5,MATCH($AE71,業務!$B$6:$B$59,0),0)","v":""},null,{"$f":"OFFSET(業務!$T$5,MATCH($AE71,業務!$B$6:$B$59,0),0)","v":""},null,null,null,37,null,null,null,null,null,null,0]
[null,null,null,{"$f":"OFFSET(業務!$K$5,MATCH($AE72,業務!$B$6:$B$59,0),0)","v":""},null,null,{"$f":"OFFSET(業務!$L$5,MATCH($AE72,業務!$B$6:$B$59,0),0)","v":""},null,null,null,null,{"$f":"OFFSET(業務!$M$5,MATCH($AE72,業務!$B$6:$B$59,0),0)","v":""},null,null,null,null,null,null,null,null,null,null,null,null,{"$f":"OFFSET(業務!$S$5,MATCH($AE72,業務!$B$6:$B$59,0),0)","v":""},null,{"$f":"OFFSET(業務!$T$5,MATCH($AE72,業務!$B$6:$B$59,0),0)","v":""},null,null,null,38,null,null,null,null,null,null,0]
[null,null,null,{"$f":"OFFSET(業務!$K$5,MATCH($AE73,業務!$B$6:$B$59,0),0)","v":""},null,null,{"$f":"OFFSET(業務!$L$5,MATCH($AE73,業務!$B$6:$B$59,0),0)","v":""},null,null,null,null,{"$f":"OFFSET(業務!$M$5,MATCH($AE73,業務!$B$6:$B$59,0),0)","v":""},null,null,null,null,null,null,null,null,null,null,null,null,{"$f":"OFFSET(業務!$S$5,MATCH($AE73,業務!$B$6:$B$59,0),0)","v":""},null,{"$f":"OFFSET(業務!$T$5,MATCH($AE73,業務!$B$6:$B$59,0),0)","v":""},null,null,null,39,null,null,null,null,null,null,0]
[null,null,null,{"$f":"OFFSET(業務!$K$5,MATCH($AE74,業務!$B$6:$B$59,0),0)","v":""},null,null,{"$f":"OFFSET(業務!$L$5,MATCH($AE74,業務!$B$6:$B$59,0),0)","v":""},null,null,null,null,{"$f":"OFFSET(業務!$M$5,MATCH($AE74,業務!$B$6:$B$59,0),0)","v":""},null,null,null,null,null,null,null,null,null,null,null,null,{"$f":"OFFSET(業務!$S$5,MATCH($AE74,業務!$B$6:$B$59,0),0)","v":""},null,{"$f":"OFFSET(業務!$T$5,MATCH($AE74,業務!$B$6:$B$59,0),0)","v":""},null,null,null,40,null,null,null,null,null,null,0]
[null,null,null,{"$f":"OFFSET(業務!$K$5,MATCH($AE75,業務!$B$6:$B$59,0),0)","v":""},null,null,{"$f":"OFFSET(業務!$L$5,MATCH($AE75,業務!$B$6:$B$59,0),0)","v":""},null,null,null,null,{"$f":"OFFSET(業務!$M$5,MATCH($AE75,業務!$B$6:$B$59,0),0)","v":""},null,null,null,null,null,null,null,null,null,null,null,null,{"$f":"OFFSET(業務!$S$5,MATCH($AE75,業務!$B$6:$B$59,0),0)","v":""},null,{"$f":"OFFSET(業務!$T$5,MATCH($AE75,業務!$B$6:$B$59,0),0)","v":""},null,null,null,41,null,null,null,null,null,null,0]
[null,null,null,{"$f":"OFFSET(業務!$K$5,MATCH($AE76,業務!$B$6:$B$59,0),0)","v":""},null,null,{"$f":"OFFSET(業務!$L$5,MATCH($AE76,業務!$B$6:$B$59,0),0)","v":""},null,null,null,null,{"$f":"OFFSET(業務!$M$5,MATCH($AE76,業務!$B$6:$B$59,0),0)","v":""},null,null,null,null,null,null,null,null,null,null,null,null,{"$f":"OFFSET(業務!$S$5,MATCH($AE76,業務!$B$6:$B$59,0),0)","v":""},null,{"$f":"OFFSET(業務!$T$5,MATCH($AE76,業務!$B$6:$B$59,0),0)","v":""},null,null,null,42,null,null,null,null,null,null,0]
[null,null,null,{"$f":"OFFSET(業務!$K$5,MATCH($AE77,業務!$B$6:$B$59,0),0)","v":""},null,null,{"$f":"OFFSET(業務!$L$5,MATCH($AE77,業務!$B$6:$B$59,0),0)","v":""},null,null,null,null,{"$f":"OFFSET(業務!$M$5,MATCH($AE77,業務!$B$6:$B$59,0),0)","v":""},null,null,null,null,null,null,null,null,null,null,null,null,{"$f":"OFFSET(業務!$S$5,MATCH($AE77,業務!$B$6:$B$59,0),0)","v":""},null,{"$f":"OFFSET(業務!$T$5,MATCH($AE77,業務!$B$6:$B$59,0),0)","v":""},null,null,null,43,null,null,null,null,null,null,0]
[null,null,null,{"$f":"OFFSET(業務!$K$5,MATCH($AE78,業務!$B$6:$B$59,0),0)","v":""},null,null,{"$f":"OFFSET(業務!$L$5,MATCH($AE78,業務!$B$6:$B$59,0),0)","v":""},null,null,null,null,{"$f":"OFFSET(業務!$M$5,MATCH($AE78,業務!$B$6:$B$59,0),0)","v":""},null,null,null,null,null,null,null,null,null,null,null,null,{"$f":"OFFSET(業務!$S$5,MATCH($AE78,業務!$B$6:$B$59,0),0)","v":""},null,{"$f":"OFFSET(業務!$T$5,MATCH($AE78,業務!$B$6:$B$59,0),0)","v":""},null,null,null,44,null,null,null,null,null,null,0]
[null,null,null,{"$f":"OFFSET(業務!$K$5,MATCH($AE79,業務!$B$6:$B$59,0),0)","v":""},null,null,{"$f":"OFFSET(業務!$L$5,MATCH($AE79,業務!$B$6:$B$59,0),0)","v":""},null,null,null,null,{"$f":"OFFSET(業務!$M$5,MATCH($AE79,業務!$B$6:$B$59,0),0)","v":""},null,null,null,null,null,null,null,null,null,null,null,null,{"$f":"OFFSET(業務!$S$5,MATCH($AE79,業務!$B$6:$B$59,0),0)","v":""},null,{"$f":"OFFSET(業務!$T$5,MATCH($AE79,業務!$B$6:$B$59,0),0)","v":""},null,null,null,45,null,null,null,null,null,null,0]
[null,null,null,{"$f":"OFFSET(業務!$K$5,MATCH($AE80,業務!$B$6:$B$59,0),0)","v":""},null,null,{"$f":"OFFSET(業務!$L$5,MATCH($AE80,業務!$B$6:$B$59,0),0)","v":""},null,null,null,null,{"$f":"OFFSET(業務!$M$5,MATCH($AE80,業務!$B$6:$B$59,0),0)","v":""},null,null,null,null,null,null,null,null,null,null,null,null,{"$f":"OFFSET(業務!$S$5,MATCH($AE80,業務!$B$6:$B$59,0),0)","v":""},null,{"$f":"OFFSET(業務!$T$5,MATCH($AE80,業務!$B$6:$B$59,0),0)","v":""},null,null,null,46,null,null,null,null,null,null,0]
[null,null,null,{"$f":"OFFSET(業務!$K$5,MATCH($AE81,業務!$B$6:$B$59,0),0)","v":""},null,null,{"$f":"OFFSET(業務!$L$5,MATCH($AE81,業務!$B$6:$B$59,0),0)","v":""},null,null,null,null,{"$f":"OFFSET(業務!$M$5,MATCH($AE81,業務!$B$6:$B$59,0),0)","v":""},null,null,null,null,null,null,null,null,null,null,null,null,{"$f":"OFFSET(業務!$S$5,MATCH($AE81,業務!$B$6:$B$59,0),0)","v":""},null,{"$f":"OFFSET(業務!$T$5,MATCH($AE81,業務!$B$6:$B$59,0),0)","v":""},null,null,null,47,null,null,null,null,null,null,0]
[null,null,null,{"$f":"OFFSET(業務!$K$5,MATCH($AE82,業務!$B$6:$B$59,0),0)","v":""},null,null,{"$f":"OFFSET(業務!$L$5,MATCH($AE82,業務!$B$6:$B$59,0),0)","v":""},null,null,null,null,{"$f":"OFFSET(業務!$M$5,MATCH($AE82,業務!$B$6:$B$59,0),0)","v":""},null,null,null,null,null,null,null,null,null,null,null,null,{"$f":"OFFSET(業務!$S$5,MATCH($AE82,業務!$B$6:$B$59,0),0)","v":""},null,{"$f":"OFFSET(業務!$T$5,MATCH($AE82,業務!$B$6:$B$59,0),0)","v":""},null,null,null,48,null,null,null,null,null,null,0]
[null,null,null,{"$f":"OFFSET(業務!$K$5,MATCH($AE83,業務!$B$6:$B$59,0),0)","v":""},null,null,{"$f":"OFFSET(業務!$L$5,MATCH($AE83,業務!$B$6:$B$59,0),0)","v":""},null,null,null,null,{"$f":"OFFSET(業務!$M$5,MATCH($AE83,業務!$B$6:$B$59,0),0)","v":""},null,null,null,null,null,null,null,null,null,null,null,null,{"$f":"OFFSET(業務!$S$5,MATCH($AE83,業務!$B$6:$B$59,0),0)","v":""},null,{"$f":"OFFSET(業務!$T$5,MATCH($AE83,業務!$B$6:$B$59,0),0)","v":""},null,null,null,49,null,null,null,null,null,null,0]
[null,null,null,{"$f":"OFFSET(業務!$K$5,MATCH($AE84,業務!$B$6:$B$59,0),0)","v":""},null,null,{"$f":"OFFSET(業務!$L$5,MATCH($AE84,業務!$B$6:$B$59,0),0)","v":""},null,null,null,null,{"$f":"OFFSET(業務!$M$5,MATCH($AE84,業務!$B$6:$B$59,0),0)","v":""},null,null,null,null,null,null,null,null,null,null,null,null,{"$f":"OFFSET(業務!$S$5,MATCH($AE84,業務!$B$6:$B$59,0),0)","v":""},null,{"$f":"OFFSET(業務!$T$5,MATCH($AE84,業務!$B$6:$B$59,0),0)","v":""},null,null,null,50,null,null,null,null,null,null,0]
[null,null,null,{"$f":"OFFSET(業務!$K$5,MATCH($AE85,業務!$B$6:$B$59,0),0)","v":""},null,null,{"$f":"OFFSET(業務!$L$5,MATCH($AE85,業務!$B$6:$B$59,0),0)","v":""},null,null,null,null,{"$f":"OFFSET(業務!$M$5,MATCH($AE85,業務!$B$6:$B$59,0),0)","v":""},null,null,null,null,null,null,null,null,null,null,null,null,{"$f":"OFFSET(業務!$S$5,MATCH($AE85,業務!$B$6:$B$59,0),0)","v":""},null,{"$f":"OFFSET(業務!$T$5,MATCH($AE85,業務!$B$6:$B$59,0),0)","v":""},null,null,null,51,null,null,null,null,null,null,0]
[null,null,null,{"$f":"OFFSET(業務!$K$5,MATCH($AE86,業務!$B$6:$B$59,0),0)","v":""},null,null,{"$f":"OFFSET(業務!$L$5,MATCH($AE86,業務!$B$6:$B$59,0),0)","v":""},null,null,null,null,{"$f":"OFFSET(業務!$M$5,MATCH($AE86,業務!$B$6:$B$59,0),0)","v":""},null,null,null,null,null,null,null,null,null,null,null,null,{"$f":"OFFSET(業務!$S$5,MATCH($AE86,業務!$B$6:$B$59,0),0)","v":""},null,{"$f":"OFFSET(業務!$T$5,MATCH($AE86,業務!$B$6:$B$59,0),0)","v":""},null,null,null,52,null,null,null,null,null,null,0]
[null,null,null,{"$f":"OFFSET(業務!$K$5,MATCH($AE87,業務!$B$6:$B$59,0),0)","v":""},null,null,{"$f":"OFFSET(業務!$L$5,MATCH($AE87,業務!$B$6:$B$59,0),0)","v":""},null,null,null,null,{"$f":"OFFSET(業務!$M$5,MATCH($AE87,業務!$B$6:$B$59,0),0)","v":""},null,null,null,null,null,null,null,null,null,null,null,null,{"$f":"OFFSET(業務!$S$5,MATCH($AE87,業務!$B$6:$B$59,0),0)","v":""},null,{"$f":"OFFSET(業務!$T$5,MATCH($AE87,業務!$B$6:$B$59,0),0)","v":""},null,null,null,53,null,null,null,null,null,null,0]
[null,null,null,{"$f":"OFFSET(業務!$K$5,MATCH($AE88,業務!$B$6:$B$59,0),0)","v":""},null,null,{"$f":"OFFSET(業務!$L$5,MATCH($AE88,業務!$B$6:$B$59,0),0)","v":""},null,null,null,null,{"$f":"OFFSET(業務!$M$5,MATCH($AE88,業務!$B$6:$B$59,0),0)","v":""},null,null,null,null,null,null,null,null,null,null,null,null,{"$f":"OFFSET(業務!$S$5,MATCH($AE88,業務!$B$6:$B$59,0),0)","v":""},null,{"$f":"OFFSET(業務!$T$5,MATCH($AE88,業務!$B$6:$B$59,0),0)","v":""},null,null,null,54,null,null,null,null,null,null,0]
[null,null,null,null,null,null,null,null,null,null,null,null,null,null,null,null,null,null,null,null,null,null,null,null,null,null,null,null,null,null,null,null,null,null,null,null,null,{"$f":"IF($AE$28>=25,1,0)","v":0}]

{"sheet":"6. 重要業務継続のための対策","index":12,"n_rows":129,"n_cols":38,"rows_kept":129,"cut":false,"hidden":true,"merged":[[124,2,124,3],[124,4,124,6],[124,7,124,12],[124,13,124,19],[124,20,124,22],[124,23,124,24],[124,25,124,26],[124,27,124,28],[122,2,122,3],[122,4,122,6],[122,7,122,12],[122,13,122,19],[122,20,122,22],[122,23,122,24],[122,25,122,26],[122,27,122,28],[123,2,123,3],[123,4,123,6],[123,7,123,12],[123,13,123,19],[123,20,123,22],[123,23,123,24],[123,25,123,26],[123,27,123,28],[120,2,120,3],[120,4,120,6],[120,7,120,12],[120,13,120,19],[120,20,120,22],[120,23,120,24],[120,25,120,26],[120,27,120,28],[121,2,121,3],[121,4,121,6],[121,7,121,12],[121,13,121,19],[121,20,121,22],[121,23,121,24],[121,25,121,26],[121,27,121,28],[118,2,118,3],[118,4,118,6],[118,7,118,12],[118,13,118,19],[118,20,118,22],[118,23,118,24],[118,25,118,26],[118,27,118,28],[119,2,119,3],[119,4,119,6],[119,7,119,12],[119,13,119,19],[119,20,119,22],[119,23,119,24],[119,25,119,26],[119,27,119,28],[116,2,116,3],[116,4,116,6],[116,7,116,12],[116,13,116,19],[116,20,116,22],[116,23,116,24],[116,25,116,26],[116,27,116,28],[117,2,117,3],[117,4,117,6],[117,7,117,12],[117,13,117,19],[117,20,117,22],[117,23,117,24],[117,25,117,26],[117,27,117,28],[114,2,114,3],[114,4,114,6],[114,7,114,12],[114,13,114,19],[114,20,114,22],[114,23,114,24],[114,25,114,26],[114,27,114,28],[115,2,115,3],[115,4,115,6],[115,7,115,12],[115,13,115,19],[115,20,115,22],[115,23,115,24],[115,25,115,26],[115,27,115,28],[112,2,112,3],[112,4,112,6],[112,7,112,12],[112,13,112,19],[112,20,112,22],[112,23,112,24],[112,25,112,26],[112,27,112,28],[113,2,113,3],[113,4,113,6],[113,7,113,12],[113,13,113,19],[113,20,113,22],[113,23,113,24],[113,25,113,26],[113,27,113,28],[110,2,110,3],[110,4,110,6],[110,7,110,12],[110,13,110,19],[110,20,110,22],[110,23,110,24],[110,25,110,26],[110,27,110,28],[111,2,111,3],[111,4,111,6],[111,7,111,12],[111,13,111,19],[111,20,111,22],[111,23,111,24],[111,25,111,26],[111,27,111,28],[108,2,108,3],[108,4,108,6],[108,7,108,12],[108,13,108,19],[108,20,108,22],[108,23,108,24],[108,25,108,26],[108,27,108,28],[109,2,109,3],[109,4,109,6],[109,7,109,12],[109,13,109,19],[109,20,109,22],[109,23,109,24],[109,25,109,26],[109,27,109,28],[106,2,106,3],[106,4,106,6],[106,7,106,12],[106,13,106,19],[106,20,106,22],[106,23,106,24],[106,25,106,26],[106,27,106,28],[107,2,107,3],[107,4,107,6],[107,7,107,12],[107,13,107,19],[107,20,107,22],[107,23,107,24],[107,25,107,26],[107,27,107,28],[104,2,104,3],[104,4,104,6],[104,7,104,12],[104,13,104,19],[104,20,104,22],[104,23,104,24],[104,25,104,26],[104,27,104,28],[105,2,105,3],[105,4,105,6],[105,7,105,12],[105,13,105,19],[105,20,105,22],[105,23,105,24],[105,25,105,26],[105,27,105,28],[102,27,102,28],[103,2,103,3],[103,4,103,6],[103,7,103,12],[103,13,103,19],[103,20,103,22],[103,23,103,24],[103,25,103,26],[103,27,103,28],[100,27,100,28],[101,2,101,3],[101,4,101,6],[101,7,101,12],[101,13,101,19],[101,20,101,22],[101,23,101,24],[101,25,101,26],[101,27,101,28],[98,27,98,28],[99,2,99,3],[99,4,99,6],[99,7,99,12],[99,13,99,19],[99,20,99,22],[99,23,99,24],[99,25,99,26],[99,27,99,28],[65,2,65,3],[65,4,65,6],[65,7,65,14],[65,15,65,22],[65,23,65,25],[61,2,61,3],[61,4,61,6],[61,7,61,14],[61,15,61,22],[61,23,61,25],[62,2,62,3],[62,4,62,6],[62,7,62,14],[62,15,62,22],[62,23,62,25],[63,2,63,3],[63,4,63,6],[63,7,63,14],[63,15,63,22],[63,23,63,25],[64,2,64,3],[64,4,64,6],[64,7,64,14],[64,15,64,22],[64,23,64,25],[59,2,59,3],[59,4,59,6],[59,7,59,14],[59,15,59,22],[59,23,59,25],[60,2,60,3],[60,4,60,6],[60,7,60,14],[60,15,60,22],[60,23,60,25],[57,2,57,3],[57,4,57,6],[57,7,57,14],[57,15,57,22],[57,23,57,25],[58,2,58,3],[58,4,58,6],[58,7,58,14],[58,15,58,22],[58,23,58,25],[55,2,55,3],[55,4,55,6],[55,7,55,14],[55,15,55,22],[55,23,55,25],[56,2,56,3],[56,4,56,6],[56,7,56,14],[56,15,56,22],[56,23,56,25],[53,2,53,3],[53,4,53,6],[53,7,53,14],[53,15,53,22],[53,23,53,25],[54,2,54,3],[54,4,54,6],[54,7,54,14],[54,15,54,22],[54,23,54,25],[51,2,51,3],[51,4,51,6],[51,7,51,14],[51,15,51,22],[51,23,51,25],[52,2,52,3],[52,4,52,6],[52,7,52,14],[52,15,52,22],[52,23,52,25],[49,2,49,3],[49,4,49,6],[49,7,49,14],[49,15,49,22],[49,23,49,25],[50,2,50,3],[50,4,50,6],[50,7,50,14],[50,15,50,22],[50,23,50,25],[47,2,47,3],[47,4,47,6],[47,7,47,14],[47,15,47,22],[47,23,47,25],[48,2,48,3],[48,4,48,6],[48,7,48,14],[48,15,48,22],[48,23,48,25],[45,2,45,3],[45,4,45,6],[45,7,45,14],[45,15,45,22],[45,23,45,25],[46,2,46,3],[46,4,46,6],[46,7,46,14],[46,15,46,22],[46,23,46,25],[43,2,43,3],[43,4,43,6],[43,7,43,14],[43,15,43,22],[43,23,43,25],[44,2,44,3],[44,4,44,6],[44,7,44,14],[44,15,44,22],[44,23,44,25],[41,2,41,3],[41,4,41,6],[41,7,41,14],[41,15,41,22],[41,23,41,25],[42,2,42,3],[42,4,42,6],[42,7,42,14],[42,15,42,22],[42,23,42,25],[39,2,39,3],[39,4,39,6],[39,7,39,14],[39,15,39,22],[39,23,39,25],[40,2,40,3],[40,4,40,6],[40,7,40,14],[40,15,40,22],[40,23,40,25],[37,2,37,6],[37,7,37,14],[37,15,37,22],[37,23,37,25],[38,2,38,3],[38,4,38,6],[38,7,38,14],[38,15,38,22],[38,23,38,25],[8,2,8,3],[8,4,8,6],[8,7,8,14],[8,15,8,22],[8,23,8,25],[9,2,9,3],[9,4,9,6],[9,7,9,14],[9,15,9,22],[9,23,9,25],[6,7,6,14],[6,15,6,22],[6,23,6,25],[7,2,7,3],[3,3,3,28],[7,4,7,6],[7,7,7,14],[7,15,7,22],[7,23,7,25],[6,2,6,6],[10,2,10,3],[10,4,10,6],[10,7,10,14],[10,15,10,22],[10,23,10,25],[11,2,11,3],[11,4,11,6],[11,7,11,14],[11,15,11,22],[11,23,11,25],[12,2,12,3],[12,4,12,6],[12,7,12,14],[12,15,12,22],[12,23,12,25],[13,2,13,3],[13,4,13,6],[13,7,13,14],[13,15,13,22],[13,23,13,25],[14,2,14,3],[14,4,14,6],[14,7,14,14],[14,15,14,22],[14,23,14,25],[15,2,15,3],[15,4,15,6],[15,7,15,14],[15,15,15,22],[15,23,15,25],[16,2,16,3],[16,4,16,6],[16,7,16,14],[16,15,16,22],[16,23,16,25],[17,2,17,3],[17,4,17,6],[17,7,17,14],[17,15,17,22],[17,23,17,25],[18,2,18,3],[18,4,18,6],[18,7,18,14],[18,15,18,22],[18,23,18,25],[19,2,19,3],[19,4,19,6],[19,7,19,14],[19,15,19,22],[19,23,19,25],[20,2,20,3],[20,4,20,6],[20,7,20,14],[20,15,20,22],[20,23,20,25],[21,2,21,3],[21,4,21,6],[21,7,21,14],[21,15,21,22],[21,23,21,25],[22,2,22,3],[22,4,22,6],[22,7,22,14],[22,15,22,22],[22,23,22,25],[23,2,23,3],[23,4,23,6],[23,7,23,14],[23,15,23,22],[23,23,23,25],[24,2,24,3],[24,4,24,6],[24,7,24,14],[24,15,24,22],[24,23,24,25],[25,2,25,3],[25,4,25,6],[25,7,25,14],[25,15,25,22],[25,23,25,25],[30,2,30,3],[30,4,30,6],[30,7,30,14],[30,15,30,22],[30,23,30,25],[31,2,31,3],[31,4,31,6],[31,7,31,14],[26,2,26,3],[26,4,26,6],[26,7,26,14],[26,15,26,22],[26,23,26,25],[27,2,27,3],[27,4,27,6],[27,7,27,14],[27,15,27,22],[27,23,27,25],[28,2,28,3],[28,4,28,6],[28,7,28,14],[28,15,28,22],[28,23,28,25],[29,2,29,3],[29,4,29,6],[29,7,29,14],[29,15,29,22],[29,23,29,25],[31,15,31,22],[31,23,31,25],[72,2,72,3],[72,4,72,6],[72,7,72,12],[72,13,72,19],[72,20,72,22],[72,23,72,24],[72,25,72,26],[32,2,32,3],[32,4,32,6],[32,7,32,14],[32,15,32,22],[32,23,32,25],[69,3,69,27],[72,27,72,28],[71,2,71,6],[71,7,71,12],[71,27,71,28],[71,25,71,26],[71,23,71,24],[71,20,71,22],[71,13,71,19],[73,2,73,3],[73,4,73,6],[73,7,73,12],[73,13,73,19],[73,20,73,22],[73,23,73,24],[73,25,73,26],[73,27,73,28],[74,2,74,3],[74,4,74,6],[74,7,74,12],[74,13,74,19],[74,20,74,22],[74,23,74,24],[74,25,74,26],[74,27,74,28],[75,2,75,3],[75,4,75,6],[75,7,75,12],[75,13,75,19],[75,20,75,22],[75,23,75,24],[75,25,75,26],[75,27,75,28],[76,2,76,3],[76,4,76,6],[76,7,76,12],[76,13,76,19],[76,20,76,22],[76,23,76,24],[76,25,76,26],[76,27,76,28],[77,2,77,3],[77,4,77,6],[77,7,77,12],[77,13,77,19],[77,20,77,22],[77,23,77,24],[77,25,77,26],[77,27,77,28],[78,2,78,3],[78,4,78,6],[78,7,78,12],[78,13,78,19],[78,20,78,22],[78,23,78,24],[78,25,78,26],[78,27,78,28],[79,2,79,3],[79,4,79,6],[79,7,79,12],[79,13,79,19],[79,20,79,22],[79,23,79,24],[79,25,79,26],[79,27,79,28],[80,2,80,3],[80,4,80,6],[80,7,80,12],[80,13,80,19],[80,20,80,22],[80,23,80,24],[80,25,80,26],[80,27,80,28],[82,27,82,28],[81,2,81,3],[81,4,81,6],[81,7,81,12],[81,13,81,19],[81,20,81,22],[81,23,81,24],[81,25,81,26],[81,27,81,28],[82,2,82,3],[82,4,82,6],[82,7,82,12],[82,13,82,19],[82,20,82,22],[82,23,82,24],[82,25,82,26],[83,2,83,3],[83,4,83,6],[83,7,83,12],[83,13,83,19],[83,20,83,22],[83,23,83,24],[83,25,83,26],[83,27,83,28],[84,2,84,3],[84,4,84,6],[84,7,84,12],[84,13,84,19],[84,20,84,22],[84,23,84,24],[84,25,84,26],[84,27,84,28],[85,2,85,3],[85,4,85,6],[85,7,85,12],[85,13,85,19],[85,20,85,22],[85,23,85,24],[85,25,85,26],[85,27,85,28],[86,2,86,3],[86,4,86,6],[86,7,86,12],[86,13,86,19],[86,20,86,22],[86,23,86,24],[86,25,86,26],[86,27,86,28],[87,2,87,3],[87,4,87,6],[87,7,87,12],[87,13,87,19],[87,20,87,22],[87,23,87,24],[87,25,87,26],[87,27,87,28],[88,2,88,3],[88,4,88,6],[88,7,88,12],[88,13,88,19],[88,20,88,22],[88,23,88,24],[88,25,88,26],[88,27,88,28],[89,2,89,3],[89,4,89,6],[89,7,89,12],[89,13,89,19],[89,20,89,22],[89,23,89,24],[89,25,89,26],[89,27,89,28],[90,2,90,3],[90,4,90,6],[90,7,90,12],[90,13,90,19],[90,20,90,22],[90,23,90,24],[90,25,90,26],[90,27,90,28],[91,2,91,3],[91,4,91,6],[91,7,91,12],[91,13,91,19],[91,20,91,22],[91,23,91,24],[91,25,91,26],[91,27,91,28],[92,2,92,3],[92,4,92,6],[92,7,92,12],[92,13,92,19],[92,20,92,22],[92,23,92,24],[92,25,92,26],[92,27,92,28],[93,2,93,3],[93,4,93,6],[93,7,93,12],[93,13,93,19],[93,20,93,22],[93,23,93,24],[93,25,93,26],[93,27,93,28],[96,2,96,3],[96,4,96,6],[96,7,96,12],[96,13,96,19],[96,20,96,22],[96,23,96,24],[96,25,96,26],[96,27,96,28],[94,2,94,3],[94,4,94,6],[94,7,94,12],[94,13,94,19],[94,20,94,22],[94,23,94,24],[94,25,94,26],[94,27,94,28],[95,27,95,28],[125,2,125,3],[125,4,125,6],[125,7,125,12],[125,13,125,19],[125,20,125,22],[125,23,125,24],[125,25,125,26],[125,27,125,28],[97,2,97,3],[97,4,97,6],[97,7,97,12],[97,13,97,19],[97,20,97,22],[97,23,97,24],[97,25,97,26],[97,27,97,28],[98,2,98,3],[98,4,98,6],[98,7,98,12],[98,13,98,19],[98,20,98,22],[98,23,98,24],[98,25,98,26],[127,20,127,22],[127,23,127,24],[127,25,127,26],[95,2,95,3],[95,4,95,6],[95,7,95,12],[95,13,95,19],[95,20,95,22],[95,23,95,24],[95,25,95,26],[100,2,100,3],[100,4,100,6],[100,7,100,12],[100,13,100,19],[100,20,100,22],[100,23,100,24],[100,25,100,26],[102,2,102,3],[102,4,102,6],[102,7,102,12],[102,13,102,19],[102,20,102,22],[102,23,102,24],[102,25,102,26]]}
[]
[null,"6.重要業務継続のための対策",null,null,null,null,null,null,null,null,null,null,null,null,null,null,null,null,null,null,null,null,null,null,null,null,null,null,null,null,null,null,null,null,null,{"$f":"IF(AE6<=26,1,2)+1","v":2},{"$f":"'5. 重要業務と必要資源の選定・確認'!AJ2+'5. 重要業務と必要資源の選定・確認'!AK2","v":11},"flag"]
[null,null,"6.1 対策の検討",null,null,null,null,null,null,null,null,null,null,null,null,null,null,null,null,null,null,null,null,null,null,null,null,null,null,null,null,null,null,null,null,null,null,1]
[null,null,null,"想定される浸水被害に対する具体的な対策内容を以下のとおり整理した。",null,null,null,null,null,null,null,null,null,null,null,null,null,null,null,null,null,null,null,null,null,null,null,null,null,null,null,null,null,null,null,null,null,1]
[null,null,null,null,null,null,null,null,null,null,null,null,null,null,null,null,null,null,null,null,null,null,null,null,null,null,null,null,null,null,null,null,null,null,null,null,null,1]
[null,null,"【浸水対策一覧】",null,null,null,null,null,null,null,null,null,null,null,null,null,null,null,null,null,null,null,null,null,null,"※事前：平常時、直前：災害が発生しそうなとき、事後：災害発生後",null,null,null,null,{"$f":"業務!C2","v":9},null,null,null,null,null,null,1]
[null,null,"重要業務に必要な資源",null,null,null,null,"想定される浸水被害",null,null,null,null,null,null,null,"具体的な対策内容",null,null,null,null,null,null,null,"対応班",null,null,null,null,null,null,null,null,null,null,null,null,null,1]
[null,null,{"$f":"OFFSET(業務!$K$5,MATCH($AE8,業務!$C$6:$C$59,0),0)","v":"インフラ"},null,{"$f":"OFFSET(業務!$L$5,MATCH($AE8,業務!$C$6:$C$59,0),0)","v":"電気"},null,null,{"$f":"OFFSET(業務!$M$5,MATCH($AE8,業務!$C$6:$C$59,0),0)","v":"電気が供給されない"},null,null,null,null,null,null,null,{"$f":"OFFSET(業務!$N$5,MATCH($AE8,業務!$C$6:$C$59,0),0)","v":"発電機を購入する"},null,null,null,null,null,null,null,{"$f":"OFFSET(業務!$O$5,MATCH($AE8,業務!$C$6:$C$59,0),0)","v":""},null,null,{"$f":"OFFSET(業務!$U$5,MATCH($AE8,業務!$C$6:$C$59,0),0)","v":"✅"},{"$f":"OFFSET(業務!$V$5,MATCH($AE8,業務!$C$6:$C$59,0),0)","v":""},{"$f":"OFFSET(業務!$W$5,MATCH($AE8,業務!$C$6:$C$59,0),0)","v":""},null,1,null,null,null,null,null,null,{"$f":"IF(AE8<=$AE$6,1,0)","v":1}]
[null,null,{"$f":"OFFSET(業務!$K$5,MATCH($AE9,業務!$C$6:$C$59,0),0)","v":"インフラ"},null,{"$f":"OFFSET(業務!$L$5,MATCH($AE9,業務!$C$6:$C$59,0),0)","v":"水道"},null,null,{"$f":"OFFSET(業務!$M$5,MATCH($AE9,業務!$C$6:$C$59,0),0)","v":"飲料水や生活用水が供給されない"},null,null,null,null,null,null,null,{"$f":"OFFSET(業務!$N$5,MATCH($AE9,業務!$C$6:$C$59,0),0)","v":"必要な水を高台にある営業所に備蓄する"},null,null,null,null,null,null,null,{"$f":"OFFSET(業務!$O$5,MATCH($AE9,業務!$C$6:$C$59,0),0)","v":""},null,null,{"$f":"OFFSET(業務!$U$5,MATCH($AE9,業務!$C$6:$C$59,0),0)","v":"✅"},{"$f":"OFFSET(業務!$V$5,MATCH($AE9,業務!$C$6:$C$59,0),0)","v":""},{"$f":"OFFSET(業務!$W$5,MATCH($AE9,業務!$C$6:$C$59,0),0)","v":""},null,2,null,null,null,null,null,null,{"$f":"IF(AE9<=$AE$6,1,0)","v":1}]
[null,null,{"$f":"OFFSET(業務!$K$5,MATCH($AE10,業務!$C$6:$C$59,0),0)","v":"人"},null,{"$f":"OFFSET(業務!$L$5,MATCH($AE10,業務!$C$6:$C$59,0),0)","v":"従業員（管理者）"},null,null,{"$f":"OFFSET(業務!$M$5,MATCH($AE10,業務!$C$6:$C$59,0),0)","v":"通行規制等により、本社への参集が不可能となる"},null,null,null,null,null,null,null,{"$f":"OFFSET(業務!$N$5,MATCH($AE10,業務!$C$6:$C$59,0),0)","v":"通行規制が予期される場合、本社ではなく、高台営業所に参集するよう連絡する"},null,null,null,null,null,null,null,{"$f":"OFFSET(業務!$O$5,MATCH($AE10,業務!$C$6:$C$59,0),0)","v":"避難誘導班"},null,null,{"$f":"OFFSET(業務!$U$5,MATCH($AE10,業務!$C$6:$C$59,0),0)","v":""},{"$f":"OFFSET(業務!$V$5,MATCH($AE10,業務!$C$6:$C$59,0),0)","v":"✅"},{"$f":"OFFSET(業務!$W$5,MATCH($AE10,業務!$C$6:$C$59,0),0)","v":""},null,3,null,null,null,null,null,null,1]
[null,null,{"$f":"OFFSET(業務!$K$5,MATCH($AE11,業務!$C$6:$C$59,0),0)","v":"人"},null,{"$f":"OFFSET(業務!$L$5,MATCH($AE11,業務!$C$6:$C$59,0),0)","v":"従業員（作業員）"},null,null,{"$f":"OFFSET(業務!$M$5,MATCH($AE11,業務!$C$6:$C$59,0),0)","v":"従業員が出勤できない"},null,null,null,null,null,null,null,{"$f":"OFFSET(業務!$N$5,MATCH($AE11,業務!$C$6:$C$59,0),0)","v":"従業員のクロストレーニングを実施する"},null,null,null,null,null,null,null,{"$f":"OFFSET(業務!$O$5,MATCH($AE11,業務!$C$6:$C$59,0),0)","v":""},null,null,{"$f":"OFFSET(業務!$U$5,MATCH($AE11,業務!$C$6:$C$59,0),0)","v":"✅"},{"$f":"OFFSET(業務!$V$5,MATCH($AE11,業務!$C$6:$C$59,0),0)","v":""},{"$f":"OFFSET(業務!$W$5,MATCH($AE11,業務!$C$6:$C$59,0),0)","v":""},null,4,null,null,null,null,null,null,1]
[null,null,{"$f":"OFFSET(業務!$K$5,MATCH($AE12,業務!$C$6:$C$59,0),0)","v":"物"},null,{"$f":"OFFSET(業務!$L$5,MATCH($AE12,業務!$C$6:$C$59,0),0)","v":"社用車"},null,null,{"$f":"OFFSET(業務!$M$5,MATCH($AE12,業務!$C$6:$C$59,0),0)","v":"トラックが流出・水没による故障が発生する"},null,null,null,null,null,null,null,{"$f":"OFFSET(業務!$N$5,MATCH($AE12,業務!$C$6:$C$59,0),0)","v":"トラックを本社から高台営業所に移動させる"},null,null,null,null,null,null,null,{"$f":"OFFSET(業務!$O$5,MATCH($AE12,業務!$C$6:$C$59,0),0)","v":"復旧対策班"},null,null,{"$f":"OFFSET(業務!$U$5,MATCH($AE12,業務!$C$6:$C$59,0),0)","v":""},{"$f":"OFFSET(業務!$V$5,MATCH($AE12,業務!$C$6:$C$59,0),0)","v":"✅"},{"$f":"OFFSET(業務!$W$5,MATCH($AE12,業務!$C$6:$C$59,0),0)","v":""},null,5,null,null,null,null,null,null,1]
[null,null,{"$f":"OFFSET(業務!$K$5,MATCH($AE13,業務!$C$6:$C$59,0),0)","v":"物"},null,{"$f":"OFFSET(業務!$L$5,MATCH($AE13,業務!$C$6:$C$59,0),0)","v":"原材料"},null,null,{"$f":"OFFSET(業務!$M$5,MATCH($AE13,業務!$C$6:$C$59,0),0)","v":"ガソリンが流出する"},null,null,null,null,null,null,null,{"$f":"OFFSET(業務!$N$5,MATCH($AE13,業務!$C$6:$C$59,0),0)","v":"トラックとともに、本社から高台営業所に移動させる"},null,null,null,null,null,null,null,{"$f":"OFFSET(業務!$O$5,MATCH($AE13,業務!$C$6:$C$59,0),0)","v":"復旧対策班"},null,null,{"$f":"OFFSET(業務!$U$5,MATCH($AE13,業務!$C$6:$C$59,0),0)","v":""},{"$f":"OFFSET(業務!$V$5,MATCH($AE13,業務!$C$6:$C$59,0),0)","v":"✅"},{"$f":"OFFSET(業務!$W$5,MATCH($AE13,業務!$C$6:$C$59,0),0)","v":""},null,6,null,null,null,null,null,null,1]
[null,null,{"$f":"OFFSET(業務!$K$5,MATCH($AE14,業務!$C$6:$C$59,0),0)","v":"物"},null,{"$f":"OFFSET(業務!$L$5,MATCH($AE14,業務!$C$6:$C$59,0),0)","v":"その他"},null,null,{"$f":"OFFSET(業務!$M$5,MATCH($AE14,業務!$C$6:$C$59,0),0)","v":"小分けした部品が浸水により流出する"},null,null,null,null,null,null,null,{"$f":"OFFSET(業務!$N$5,MATCH($AE14,業務!$C$6:$C$59,0),0)","v":"小分けした薬品を鍵のかかる棚（2階以上）に移動させる"},null,null,null,null,null,null,null,{"$f":"OFFSET(業務!$O$5,MATCH($AE14,業務!$C$6:$C$59,0),0)","v":"復旧対策班"},null,null,{"$f":"OFFSET(業務!$U$5,MATCH($AE14,業務!$C$6:$C$59,0),0)","v":""},{"$f":"OFFSET(業務!$V$5,MATCH($AE14,業務!$C$6:$C$59,0),0)","v":"✅"},{"$f":"OFFSET(業務!$W$5,MATCH($AE14,業務!$C$6:$C$59,0),0)","v":""},null,7,null,null,null,null,null,null,1]
[null,null,{"$f":"OFFSET(業務!$K$5,MATCH($AE15,業務!$C$6:$C$59,0),0)","v":"情報"},null,{"$f":"OFFSET(業務!$L$5,MATCH($AE15,業務!$C$6:$C$59,0),0)","v":"事務処理用PC"},null,null,{"$f":"OFFSET(業務!$M$5,MATCH($AE15,業務!$C$6:$C$59,0),0)","v":"事務処理用PCが使用できなくなる"},null,null,null,null,null,null,null,{"$f":"OFFSET(業務!$N$5,MATCH($AE15,業務!$C$6:$C$59,0),0)","v":"避難時にノートPCを持参する"},null,null,null,null,null,null,null,{"$f":"OFFSET(業務!$O$5,MATCH($AE15,業務!$C$6:$C$59,0),0)","v":"システム班"},null,null,{"$f":"OFFSET(業務!$U$5,MATCH($AE15,業務!$C$6:$C$59,0),0)","v":""},{"$f":"OFFSET(業務!$V$5,MATCH($AE15,業務!$C$6:$C$59,0),0)","v":"✅"},{"$f":"OFFSET(業務!$W$5,MATCH($AE15,業務!$C$6:$C$59,0),0)","v":""},null,8,null,null,null,null,null,null,1]
[null,null,{"$f":"OFFSET(業務!$K$5,MATCH($AE16,業務!$C$6:$C$59,0),0)","v":"情報"},null,{"$f":"OFFSET(業務!$L$5,MATCH($AE16,業務!$C$6:$C$59,0),0)","v":"顧客情報"},null,null,{"$f":"OFFSET(業務!$M$5,MATCH($AE16,業務!$C$6:$C$59,0),0)","v":"PCから顧客情報が呼び出せなくなる"},null,null,null,null,null,null,null,{"$f":"OFFSET(業務!$N$5,MATCH($AE16,業務!$C$6:$C$59,0),0)","v":"顧客情報をクラウド上に保存しておく"},null,null,null,null,null,null,null,{"$f":"OFFSET(業務!$O$5,MATCH($AE16,業務!$C$6:$C$59,0),0)","v":""},null,null,{"$f":"OFFSET(業務!$U$5,MATCH($AE16,業務!$C$6:$C$59,0),0)","v":"✅"},{"$f":"OFFSET(業務!$V$5,MATCH($AE16,業務!$C$6:$C$59,0),0)","v":""},{"$f":"OFFSET(業務!$W$5,MATCH($AE16,業務!$C$6:$C$59,0),0)","v":""},null,9,null,null,null,null,null,null,1]
[null,null,{"$f":"OFFSET(業務!$K$5,MATCH($AE17,業務!$C$6:$C$59,0),0)","v":{"$error":"#N/A"}},null,{"$f":"OFFSET(業務!$L$5,MATCH($AE17,業務!$C$6:$C$59,0),0)","v":{"$error":"#N/A"}},null,null,{"$f":"OFFSET(業務!$M$5,MATCH($AE17,業務!$C$6:$C$59,0),0)","v":{"$error":"#N/A"}},null,null,null,null,null,null,null,{"$f":"OFFSET(業務!$N$5,MATCH($AE17,業務!$C$6:$C$59,0),0)","v":{"$error":"#N/A"}},null,null,null,null,null,null,null,{"$f":"OFFSET(業務!$O$5,MATCH($AE17,業務!$C$6:$C$59,0),0)","v":{"$error":"#N/A"}},null,null,{"$f":"OFFSET(業務!$U$5,MATCH($AE17,業務!$C$6:$C$59,0),0)","v":{"$error":"#N/A"}},{"$f":"OFFSET(業務!$V$5,MATCH($AE17,業務!$C$6:$C$59,0),0)","v":{"$error":"#N/A"}},{"$f":"OFFSET(業務!$W$5,MATCH($AE17,業務!$C$6:$C$59,0),0)","v":{"$error":"#N/A"}},null,10,null,null,null,null,null,null,0]
[null,null,{"$f":"OFFSET(業務!$K$5,MATCH($AE18,業務!$C$6:$C$59,0),0)","v":{"$error":"#N/A"}},null,{"$f":"OFFSET(業務!$L$5,MATCH($AE18,業務!$C$6:$C$59,0),0)","v":{"$error":"#N/A"}},null,null,{"$f":"OFFSET(業務!$M$5,MATCH($AE18,業務!$C$6:$C$59,0),0)","v":{"$error":"#N/A"}},null,null,null,null,null,null,null,{"$f":"OFFSET(業務!$N$5,MATCH($AE18,業務!$C$6:$C$59,0),0)","v":{"$error":"#N/A"}},null,null,null,null,null,null,null,{"$f":"OFFSET(業務!$O$5,MATCH($AE18,業務!$C$6:$C$59,0),0)","v":{"$error":"#N/A"}},null,null,{"$f":"OFFSET(業務!$U$5,MATCH($AE18,業務!$C$6:$C$59,0),0)","v":{"$error":"#N/A"}},{"$f":"OFFSET(業務!$V$5,MATCH($AE18,業務!$C$6:$C$59,0),0)","v":{"$error":"#N/A"}},{"$f":"OFFSET(業務!$W$5,MATCH($AE18,業務!$C$6:$C$59,0),0)","v":{"$error":"#N/A"}},null,11,null,null,null,null,null,null,0]
[null,null,{"$f":"OFFSET(業務!$K$5,MATCH($AE19,業務!$C$6:$C$59,0),0)","v":{"$error":"#N/A"}},null,{"$f":"OFFSET(業務!$L$5,MATCH($AE19,業務!$C$6:$C$59,0),0)","v":{"$error":"#N/A"}},null,null,{"$f":"OFFSET(業務!$M$5,MATCH($AE19,業務!$C$6:$C$59,0),0)","v":{"$error":"#N/A"}},null,null,null,null,null,null,null,{"$f":"OFFSET(業務!$N$5,MATCH($AE19,業務!$C$6:$C$59,0),0)","v":{"$error":"#N/A"}},null,null,null,null,null,null,null,{"$f":"OFFSET(業務!$O$5,MATCH($AE19,業務!$C$6:$C$59,0),0)","v":{"$error":"#N/A"}},null,null,{"$f":"OFFSET(業務!$U$5,MATCH($AE19,業務!$C$6:$C$59,0),0)","v":{"$error":"#N/A"}},{"$f":"OFFSET(業務!$V$5,MATCH($AE19,業務!$C$6:$C$59,0),0)","v":{"$error":"#N/A"}},{"$f":"OFFSET(業務!$W$5,MATCH($AE19,業務!$C$6:$C$59,0),0)","v":{"$error":"#N/A"}},null,12,null,null,null,null,null,null,0]
[null,null,{"$f":"OFFSET(業務!$K$5,MATCH($AE20,業務!$C$6:$C$59,0),0)","v":{"$error":"#N/A"}},null,{"$f":"OFFSET(業務!$L$5,MATCH($AE20,業務!$C$6:$C$59,0),0)","v":{"$error":"#N/A"}},null,null,{"$f":"OFFSET(業務!$M$5,MATCH($AE20,業務!$C$6:$C$59,0),0)","v":{"$error":"#N/A"}},null,null,null,null,null,null,null,{"$f":"OFFSET(業務!$N$5,MATCH($AE20,業務!$C$6:$C$59,0),0)","v":{"$error":"#N/A"}},null,null,null,null,null,null,null,{"$f":"OFFSET(業務!$O$5,MATCH($AE20,業務!$C$6:$C$59,0),0)","v":{"$error":"#N/A"}},null,null,{"$f":"OFFSET(業務!$U$5,MATCH($AE20,業務!$C$6:$C$59,0),0)","v":{"$error":"#N/A"}},{"$f":"OFFSET(業務!$V$5,MATCH($AE20,業務!$C$6:$C$59,0),0)","v":{"$error":"#N/A"}},{"$f":"OFFSET(業務!$W$5,MATCH($AE20,業務!$C$6:$C$59,0),0)","v":{"$error":"#N/A"}},null,13,null,null,null,null,null,null,0]
[null,null,{"$f":"OFFSET(業務!$K$5,MATCH($AE21,業務!$C$6:$C$59,0),0)","v":{"$error":"#N/A"}},null,{"$f":"OFFSET(業務!$L$5,MATCH($AE21,業務!$C$6:$C$59,0),0)","v":{"$error":"#N/A"}},null,null,{"$f":"OFFSET(業務!$M$5,MATCH($AE21,業務!$C$6:$C$59,0),0)","v":{"$error":"#N/A"}},null,null,null,null,null,null,null,{"$f":"OFFSET(業務!$N$5,MATCH($AE21,業務!$C$6:$C$59,0),0)","v":{"$error":"#N/A"}},null,null,null,null,null,null,null,{"$f":"OFFSET(業務!$O$5,MATCH($AE21,業務!$C$6:$C$59,0),0)","v":{"$error":"#N/A"}},null,null,{"$f":"OFFSET(業務!$U$5,MATCH($AE21,業務!$C$6:$C$59,0),0)","v":{"$error":"#N/A"}},{"$f":"OFFSET(業務!$V$5,MATCH($AE21,業務!$C$6:$C$59,0),0)","v":{"$error":"#N/A"}},{"$f":"OFFSET(業務!$W$5,MATCH($AE21,業務!$C$6:$C$59,0),0)","v":{"$error":"#N/A"}},null,14,null,null,null,null,null,null,0]
[null,null,{"$f":"OFFSET(業務!$K$5,MATCH($AE22,業務!$C$6:$C$59,0),0)","v":{"$error":"#N/A"}},null,{"$f":"OFFSET(業務!$L$5,MATCH($AE22,業務!$C$6:$C$59,0),0)","v":{"$error":"#N/A"}},null,null,{"$f":"OFFSET(業務!$M$5,MATCH($AE22,業務!$C$6:$C$59,0),0)","v":{"$error":"#N/A"}},null,null,null,null,null,null,null,{"$f":"OFFSET(業務!$N$5,MATCH($AE22,業務!$C$6:$C$59,0),0)","v":{"$error":"#N/A"}},null,null,null,null,null,null,null,{"$f":"OFFSET(業務!$O$5,MATCH($AE22,業務!$C$6:$C$59,0),0)","v":{"$error":"#N/A"}},null,null,{"$f":"OFFSET(業務!$U$5,MATCH($AE22,業務!$C$6:$C$59,0),0)","v":{"$error":"#N/A"}},{"$f":"OFFSET(業務!$V$5,MATCH($AE22,業務!$C$6:$C$59,0),0)","v":{"$error":"#N/A"}},{"$f":"OFFSET(業務!$W$5,MATCH($AE22,業務!$C$6:$C$59,0),0)","v":{"$error":"#N/A"}},null,15,null,null,null,null,null,null,0]
[null,null,{"$f":"OFFSET(業務!$K$5,MATCH($AE23,業務!$C$6:$C$59,0),0)","v":{"$error":"#N/A"}},null,{"$f":"OFFSET(業務!$L$5,MATCH($AE23,業務!$C$6:$C$59,0),0)","v":{"$error":"#N/A"}},null,null,{"$f":"OFFSET(業務!$M$5,MATCH($AE23,業務!$C$6:$C$59,0),0)","v":{"$error":"#N/A"}},null,null,null,null,null,null,null,{"$f":"OFFSET(業務!$N$5,MATCH($AE23,業務!$C$6:$C$59,0),0)","v":{"$error":"#N/A"}},null,null,null,null,null,null,null,{"$f":"OFFSET(業務!$O$5,MATCH($AE23,業務!$C$6:$C$59,0),0)","v":{"$error":"#N/A"}},null,null,{"$f":"OFFSET(業務!$U$5,MATCH($AE23,業務!$C$6:$C$59,0),0)","v":{"$error":"#N/A"}},{"$f":"OFFSET(業務!$V$5,MATCH($AE23,業務!$C$6:$C$59,0),0)","v":{"$error":"#N/A"}},{"$f":"OFFSET(業務!$W$5,MATCH($AE23,業務!$C$6:$C$59,0),0)","v":{"$error":"#N/A"}},null,16,null,null,null,null,null,null,0]
[null,null,{"$f":"OFFSET(業務!$K$5,MATCH($AE24,業務!$C$6:$C$59,0),0)","v":{"$error":"#N/A"}},null,{"$f":"OFFSET(業務!$L$5,MATCH($AE24,業務!$C$6:$C$59,0),0)","v":{"$error":"#N/A"}},null,null,{"$f":"OFFSET(業務!$M$5,MATCH($AE24,業務!$C$6:$C$59,0),0)","v":{"$error":"#N/A"}},null,null,null,null,null,null,null,{"$f":"OFFSET(業務!$N$5,MATCH($AE24,業務!$C$6:$C$59,0),0)","v":{"$error":"#N/A"}},null,null,null,null,null,null,null,{"$f":"OFFSET(業務!$O$5,MATCH($AE24,業務!$C$6:$C$59,0),0)","v":{"$error":"#N/A"}},null,null,{"$f":"OFFSET(業務!$U$5,MATCH($AE24,業務!$C$6:$C$59,0),0)","v":{"$error":"#N/A"}},{"$f":"OFFSET(業務!$V$5,MATCH($AE24,業務!$C$6:$C$59,0),0)","v":{"$error":"#N/A"}},{"$f":"OFFSET(業務!$W$5,MATCH($AE24,業務!$C$6:$C$59,0),0)","v":{"$error":"#N/A"}},null,17,null,null,null,null,null,null,0]
[null,null,{"$f":"OFFSET(業務!$K$5,MATCH($AE25,業務!$C$6:$C$59,0),0)","v":{"$error":"#N/A"}},null,{"$f":"OFFSET(業務!$L$5,MATCH($AE25,業務!$C$6:$C$59,0),0)","v":{"$error":"#N/A"}},null,null,{"$f":"OFFSET(業務!$M$5,MATCH($AE25,業務!$C$6:$C$59,0),0)","v":{"$error":"#N/A"}},null,null,null,null,null,null,null,{"$f":"OFFSET(業務!$N$5,MATCH($AE25,業務!$C$6:$C$59,0),0)","v":{"$error":"#N/A"}},null,null,null,null,null,null,null,{"$f":"OFFSET(業務!$O$5,MATCH($AE25,業務!$C$6:$C$59,0),0)","v":{"$error":"#N/A"}},null,null,{"$f":"OFFSET(業務!$U$5,MATCH($AE25,業務!$C$6:$C$59,0),0)","v":{"$error":"#N/A"}},{"$f":"OFFSET(業務!$V$5,MATCH($AE25,業務!$C$6:$C$59,0),0)","v":{"$error":"#N/A"}},{"$f":"OFFSET(業務!$W$5,MATCH($AE25,業務!$C$6:$C$59,0),0)","v":{"$error":"#N/A"}},null,18,null,null,null,null,null,null,0]
[null,null,{"$f":"OFFSET(業務!$K$5,MATCH($AE26,業務!$C$6:$C$59,0),0)","v":{"$error":"#N/A"}},null,{"$f":"OFFSET(業務!$L$5,MATCH($AE26,業務!$C$6:$C$59,0),0)","v":{"$error":"#N/A"}},null,null,{"$f":"OFFSET(業務!$M$5,MATCH($AE26,業務!$C$6:$C$59,0),0)","v":{"$error":"#N/A"}},null,null,null,null,null,null,null,{"$f":"OFFSET(業務!$N$5,MATCH($AE26,業務!$C$6:$C$59,0),0)","v":{"$error":"#N/A"}},null,null,null,null,null,null,null,{"$f":"OFFSET(業務!$O$5,MATCH($AE26,業務!$C$6:$C$59,0),0)","v":{"$error":"#N/A"}},null,null,{"$f":"OFFSET(業務!$U$5,MATCH($AE26,業務!$C$6:$C$59,0),0)","v":{"$error":"#N/A"}},{"$f":"OFFSET(業務!$V$5,MATCH($AE26,業務!$C$6:$C$59,0),0)","v":{"$error":"#N/A"}},{"$f":"OFFSET(業務!$W$5,MATCH($AE26,業務!$C$6:$C$59,0),0)","v":{"$error":"#N/A"}},null,19,null,null,null,null,null,null,0]
[null,null,{"$f":"OFFSET(業務!$K$5,MATCH($AE27,業務!$C$6:$C$59,0),0)","v":{"$error":"#N/A"}},null,{"$f":"OFFSET(業務!$L$5,MATCH($AE27,業務!$C$6:$C$59,0),0)","v":{"$error":"#N/A"}},null,null,{"$f":"OFFSET(業務!$M$5,MATCH($AE27,業務!$C$6:$C$59,0),0)","v":{"$error":"#N/A"}},null,null,null,null,null,null,null,{"$f":"OFFSET(業務!$N$5,MATCH($AE27,業務!$C$6:$C$59,0),0)","v":{"$error":"#N/A"}},null,null,null,null,null,null,null,{"$f":"OFFSET(業務!$O$5,MATCH($AE27,業務!$C$6:$C$59,0),0)","v":{"$error":"#N/A"}},null,null,{"$f":"OFFSET(業務!$U$5,MATCH($AE27,業務!$C$6:$C$59,0),0)","v":{"$error":"#N/A"}},{"$f":"OFFSET(業務!$V$5,MATCH($AE27,業務!$C$6:$C$59,0),0)","v":{"$error":"#N/A"}},{"$f":"OFFSET(業務!$W$5,MATCH($AE27,業務!$C$6:$C$59,0),0)","v":{"$error":"#N/A"}},null,20,null,null,null,null,null,null,0]
[null,null,{"$f":"OFFSET(業務!$K$5,MATCH($AE28,業務!$C$6:$C$59,0),0)","v":{"$error":"#N/A"}},null,{"$f":"OFFSET(業務!$L$5,MATCH($AE28,業務!$C$6:$C$59,0),0)","v":{"$error":"#N/A"}},null,null,{"$f":"OFFSET(業務!$M$5,MATCH($AE28,業務!$C$6:$C$59,0),0)","v":{"$error":"#N/A"}},null,null,null,null,null,null,null,{"$f":"OFFSET(業務!$N$5,MATCH($AE28,業務!$C$6:$C$59,0),0)","v":{"$error":"#N/A"}},null,null,null,null,null,null,null,{"$f":"OFFSET(業務!$O$5,MATCH($AE28,業務!$C$6:$C$59,0),0)","v":{"$error":"#N/A"}},null,null,{"$f":"OFFSET(業務!$U$5,MATCH($AE28,業務!$C$6:$C$59,0),0)","v":{"$error":"#N/A"}},{"$f":"OFFSET(業務!$V$5,MATCH($AE28,業務!$C$6:$C$59,0),0)","v":{"$error":"#N/A"}},{"$f":"OFFSET(業務!$W$5,MATCH($AE28,業務!$C$6:$C$59,0),0)","v":{"$error":"#N/A"}},null,21,null,null,null,null,null,null,0]
[null,null,{"$f":"OFFSET(業務!$K$5,MATCH($AE29,業務!$C$6:$C$59,0),0)","v":{"$error":"#N/A"}},null,{"$f":"OFFSET(業務!$L$5,MATCH($AE29,業務!$C$6:$C$59,0),0)","v":{"$error":"#N/A"}},null,null,{"$f":"OFFSET(業務!$M$5,MATCH($AE29,業務!$C$6:$C$59,0),0)","v":{"$error":"#N/A"}},null,null,null,null,null,null,null,{"$f":"OFFSET(業務!$N$5,MATCH($AE29,業務!$C$6:$C$59,0),0)","v":{"$error":"#N/A"}},null,null,null,null,null,null,null,{"$f":"OFFSET(業務!$O$5,MATCH($AE29,業務!$C$6:$C$59,0),0)","v":{"$error":"#N/A"}},null,null,{"$f":"OFFSET(業務!$U$5,MATCH($AE29,業務!$C$6:$C$59,0),0)","v":{"$error":"#N/A"}},{"$f":"OFFSET(業務!$V$5,MATCH($AE29,業務!$C$6:$C$59,0),0)","v":{"$error":"#N/A"}},{"$f":"OFFSET(業務!$W$5,MATCH($AE29,業務!$C$6:$C$59,0),0)","v":{"$error":"#N/A"}},null,22,null,null,null,null,null,null,0]
[null,null,{"$f":"OFFSET(業務!$K$5,MATCH($AE30,業務!$C$6:$C$59,0),0)","v":{"$error":"#N/A"}},null,{"$f":"OFFSET(業務!$L$5,MATCH($AE30,業務!$C$6:$C$59,0),0)","v":{"$error":"#N/A"}},null,null,{"$f":"OFFSET(業務!$M$5,MATCH($AE30,業務!$C$6:$C$59,0),0)","v":{"$error":"#N/A"}},null,null,null,null,null,null,null,{"$f":"OFFSET(業務!$N$5,MATCH($AE30,業務!$C$6:$C$59,0),0)","v":{"$error":"#N/A"}},null,null,null,null,null,null,null,{"$f":"OFFSET(業務!$O$5,MATCH($AE30,業務!$C$6:$C$59,0),0)","v":{"$error":"#N/A"}},null,null,{"$f":"OFFSET(業務!$U$5,MATCH($AE30,業務!$C$6:$C$59,0),0)","v":{"$error":"#N/A"}},{"$f":"OFFSET(業務!$V$5,MATCH($AE30,業務!$C$6:$C$59,0),0)","v":{"$error":"#N/A"}},{"$f":"OFFSET(業務!$W$5,MATCH($AE30,業務!$C$6:$C$59,0),0)","v":{"$error":"#N/A"}},null,23,null,null,null,null,null,null,0]
[null,null,{"$f":"OFFSET(業務!$K$5,MATCH($AE31,業務!$C$6:$C$59,0),0)","v":{"$error":"#N/A"}},null,{"$f":"OFFSET(業務!$L$5,MATCH($AE31,業務!$C$6:$C$59,0),0)","v":{"$error":"#N/A"}},null,null,{"$f":"OFFSET(業務!$M$5,MATCH($AE31,業務!$C$6:$C$59,0),0)","v":{"$error":"#N/A"}},null,null,null,null,null,null,null,{"$f":"OFFSET(業務!$N$5,MATCH($AE31,業務!$C$6:$C$59,0),0)","v":{"$error":"#N/A"}},null,null,null,null,null,null,null,{"$f":"OFFSET(業務!$O$5,MATCH($AE31,業務!$C$6:$C$59,0),0)","v":{"$error":"#N/A"}},null,null,{"$f":"OFFSET(業務!$U$5,MATCH($AE31,業務!$C$6:$C$59,0),0)","v":{"$error":"#N/A"}},{"$f":"OFFSET(業務!$V$5,MATCH($AE31,業務!$C$6:$C$59,0),0)","v":{"$error":"#N/A"}},{"$f":"OFFSET(業務!$W$5,MATCH($AE31,業務!$C$6:$C$59,0),0)","v":{"$error":"#N/A"}},null,24,null,null,null,null,null,null,0]
[null,null,{"$f":"OFFSET(業務!$K$5,MATCH($AE32,業務!$C$6:$C$59,0),0)","v":{"$error":"#N/A"}},null,{"$f":"OFFSET(業務!$L$5,MATCH($AE32,業務!$C$6:$C$59,0),0)","v":{"$error":"#N/A"}},null,null,{"$f":"OFFSET(業務!$M$5,MATCH($AE32,業務!$C$6:$C$59,0),0)","v":{"$error":"#N/A"}},null,null,null,null,null,null,null,{"$f":"OFFSET(業務!$N$5,MATCH($AE32,業務!$C$6:$C$59,0),0)","v":{"$error":"#N/A"}},null,null,null,null,null,null,null,{"$f":"OFFSET(業務!$O$5,MATCH($AE32,業務!$C$6:$C$59,0),0)","v":{"$error":"#N/A"}},null,null,{"$f":"OFFSET(業務!$U$5,MATCH($AE32,業務!$C$6:$C$59,0),0)","v":{"$error":"#N/A"}},{"$f":"OFFSET(業務!$V$5,MATCH($AE32,業務!$C$6:$C$59,0),0)","v":{"$error":"#N/A"}},{"$f":"OFFSET(業務!$W$5,MATCH($AE32,業務!$C$6:$C$59,0),0)","v":{"$error":"#N/A"}},null,{"$f":"IF($AE$6=27,\"\",AE31+1)","v":25},null,null,null,null,null,null,0]
[null,null,{"$f":"OFFSET(業務!$K$5,MATCH($AE33,業務!$C$6:$C$59,0),0)","v":{"$error":"#N/A"}},null,{"$f":"OFFSET(業務!$L$5,MATCH($AE33,業務!$C$6:$C$59,0),0)","v":{"$error":"#N/A"}},null,null,{"$f":"OFFSET(業務!$M$5,MATCH($AE33,業務!$C$6:$C$59,0),0)","v":{"$error":"#N/A"}},null,null,null,null,null,null,null,{"$f":"OFFSET(業務!$N$5,MATCH($AE33,業務!$C$6:$C$59,0),0)","v":{"$error":"#N/A"}},null,null,null,null,null,null,null,{"$f":"OFFSET(業務!$O$5,MATCH($AE33,業務!$C$6:$C$59,0),0)","v":{"$error":"#N/A"}},null,null,{"$f":"OFFSET(業務!$U$5,MATCH($AE33,業務!$C$6:$C$59,0),0)","v":{"$error":"#N/A"}},{"$f":"OFFSET(業務!$V$5,MATCH($AE33,業務!$C$6:$C$59,0),0)","v":{"$error":"#N/A"}},{"$f":"OFFSET(業務!$W$5,MATCH($AE33,業務!$C$6:$C$59,0),0)","v":{"$error":"#N/A"}},null,{"$f":"IF(AND($AE$6>=27,$AE$6<=28),\"\",AE32+1)","v":26},null,null,null,null,null,null,0]
[null,null,null,null,null,null,null,null,null,null,null,null,null,null,null,null,null,null,null,null,null,null,null,null,null,null,null,null,null,null,null,null,null,null,null,null,null,1]
[null,null,null,null,null,null,null,null,null,null,null,null,null,null,null,null,null,null,null,null,null,null,null,null,null,null,null,null,null,null,null,null,null,null,null,null,null,{"$f":"IF($AE$6<=26,0,1)","v":0}]
[null,null,null,null,null,null,null,null,null,null,null,null,null,null,null,null,null,null,null,null,null,null,null,null,null,null,null,null,null,null,null,null,null,null,null,null,null,{"$f":"IF(AND($AE$6>=27,$AE$6<=28),1,0)","v":0}]
[null,null,null,null,null,null,null,null,null,null,null,null,null,null,null,null,null,null,null,null,null,null,null,null,null,null,null,null,null,null,null,null,null,null,null,null,null,{"$f":"IF($AE$6=27,1,0)","v":0}]
[null,null,"重要業務に必要な資源",null,null,null,null,"想定される浸水被害",null,null,null,null,null,null,null,"具体的な対策内容",null,null,null,null,null,null,null,"対応班",null,null,null,null,null,null,null,null,null,null,null,null,null,{"$f":"IF($AE$6<=26,0,1)","v":0}]
[null,null,{"$f":"OFFSET(業務!$K$5,MATCH($AE39,業務!$C$6:$C$59,0),0)","v":{"$error":"#N/A"}},null,{"$f":"OFFSET(業務!$L$5,MATCH($AE39,業務!$C$6:$C$59,0),0)","v":{"$error":"#N/A"}},null,null,{"$f":"OFFSET(業務!$M$5,MATCH($AE39,業務!$C$6:$C$59,0),0)","v":{"$error":"#N/A"}},null,null,null,null,null,null,null,{"$f":"OFFSET(業務!$N$5,MATCH($AE39,業務!$C$6:$C$59,0),0)","v":{"$error":"#N/A"}},null,null,null,null,null,null,null,{"$f":"OFFSET(業務!$O$5,MATCH($AE39,業務!$C$6:$C$59,0),0)","v":{"$error":"#N/A"}},null,null,{"$f":"OFFSET(業務!$U$5,MATCH($AE39,業務!$C$6:$C$59,0),0)","v":{"$error":"#N/A"}},{"$f":"OFFSET(業務!$V$5,MATCH($AE39,業務!$C$6:$C$59,0),0)","v":{"$error":"#N/A"}},{"$f":"OFFSET(業務!$W$5,MATCH($AE39,業務!$C$6:$C$59,0),0)","v":{"$error":"#N/A"}},null,{"$f":"MAX(AE8:AE33)+1","v":27},null,null,null,null,null,null,{"$f":"IF(AE39<=$AE$6,1,0)","v":0}]
[null,null,{"$f":"OFFSET(業務!$K$5,MATCH($AE40,業務!$C$6:$C$59,0),0)","v":{"$error":"#N/A"}},null,{"$f":"OFFSET(業務!$L$5,MATCH($AE40,業務!$C$6:$C$59,0),0)","v":{"$error":"#N/A"}},null,null,{"$f":"OFFSET(業務!$M$5,MATCH($AE40,業務!$C$6:$C$59,0),0)","v":{"$error":"#N/A"}},null,null,null,null,null,null,null,{"$f":"OFFSET(業務!$N$5,MATCH($AE40,業務!$C$6:$C$59,0),0)","v":{"$error":"#N/A"}},null,null,null,null,null,null,null,{"$f":"OFFSET(業務!$O$5,MATCH($AE40,業務!$C$6:$C$59,0),0)","v":{"$error":"#N/A"}},null,null,{"$f":"OFFSET(業務!$U$5,MATCH($AE40,業務!$C$6:$C$59,0),0)","v":{"$error":"#N/A"}},{"$f":"OFFSET(業務!$V$5,MATCH($AE40,業務!$C$6:$C$59,0),0)","v":{"$error":"#N/A"}},{"$f":"OFFSET(業務!$W$5,MATCH($AE40,業務!$C$6:$C$59,0),0)","v":{"$error":"#N/A"}},null,{"$f":"AE39+1","v":28},null,null,null,null,null,null,0]
[null,null,{"$f":"OFFSET(業務!$K$5,MATCH($AE41,業務!$C$6:$C$59,0),0)","v":{"$error":"#N/A"}},null,{"$f":"OFFSET(業務!$L$5,MATCH($AE41,業務!$C$6:$C$59,0),0)","v":{"$error":"#N/A"}},null,null,{"$f":"OFFSET(業務!$M$5,MATCH($AE41,業務!$C$6:$C$59,0),0)","v":{"$error":"#N/A"}},null,null,null,null,null,null,null,{"$f":"OFFSET(業務!$N$5,MATCH($AE41,業務!$C$6:$C$59,0),0)","v":{"$error":"#N/A"}},null,null,null,null,null,null,null,{"$f":"OFFSET(業務!$O$5,MATCH($AE41,業務!$C$6:$C$59,0),0)","v":{"$error":"#N/A"}},null,null,{"$f":"OFFSET(業務!$U$5,MATCH($AE41,業務!$C$6:$C$59,0),0)","v":{"$error":"#N/A"}},{"$f":"OFFSET(業務!$V$5,MATCH($AE41,業務!$C$6:$C$59,0),0)","v":{"$error":"#N/A"}},{"$f":"OFFSET(業務!$W$5,MATCH($AE41,業務!$C$6:$C$59,0),0)","v":{"$error":"#N/A"}},null,{"$f":"AE40+1","v":29},null,null,null,null,null,null,0]
[null,null,{"$f":"OFFSET(業務!$K$5,MATCH($AE42,業務!$C$6:$C$59,0),0)","v":{"$error":"#N/A"}},null,{"$f":"OFFSET(業務!$L$5,MATCH($AE42,業務!$C$6:$C$59,0),0)","v":{"$error":"#N/A"}},null,null,{"$f":"OFFSET(業務!$M$5,MATCH($AE42,業務!$C$6:$C$59,0),0)","v":{"$error":"#N/A"}},null,null,null,null,null,null,null,{"$f":"OFFSET(業務!$N$5,MATCH($AE42,業務!$C$6:$C$59,0),0)","v":{"$error":"#N/A"}},null,null,null,null,null,null,null,{"$f":"OFFSET(業務!$O$5,MATCH($AE42,業務!$C$6:$C$59,0),0)","v":{"$error":"#N/A"}},null,null,{"$f":"OFFSET(業務!$U$5,MATCH($AE42,業務!$C$6:$C$59,0),0)","v":{"$error":"#N/A"}},{"$f":"OFFSET(業務!$V$5,MATCH($AE42,業務!$C$6:$C$59,0),0)","v":{"$error":"#N/A"}},{"$f":"OFFSET(業務!$W$5,MATCH($AE42,業務!$C$6:$C$59,0),0)","v":{"$error":"#N/A"}},null,30,null,null,null,null,null,null,0]
[null,null,{"$f":"OFFSET(業務!$K$5,MATCH($AE43,業務!$C$6:$C$59,0),0)","v":{"$error":"#N/A"}},null,{"$f":"OFFSET(業務!$L$5,MATCH($AE43,業務!$C$6:$C$59,0),0)","v":{"$error":"#N/A"}},null,null,{"$f":"OFFSET(業務!$M$5,MATCH($AE43,業務!$C$6:$C$59,0),0)","v":{"$error":"#N/A"}},null,null,null,null,null,null,null,{"$f":"OFFSET(業務!$N$5,MATCH($AE43,業務!$C$6:$C$59,0),0)","v":{"$error":"#N/A"}},null,null,null,null,null,null,null,{"$f":"OFFSET(業務!$O$5,MATCH($AE43,業務!$C$6:$C$59,0),0)","v":{"$error":"#N/A"}},null,null,{"$f":"OFFSET(業務!$U$5,MATCH($AE43,業務!$C$6:$C$59,0),0)","v":{"$error":"#N/A"}},{"$f":"OFFSET(業務!$V$5,MATCH($AE43,業務!$C$6:$C$59,0),0)","v":{"$error":"#N/A"}},{"$f":"OFFSET(業務!$W$5,MATCH($AE43,業務!$C$6:$C$59,0),0)","v":{"$error":"#N/A"}},null,31,null,null,null,null,null,null,0]
[null,null,{"$f":"OFFSET(業務!$K$5,MATCH($AE44,業務!$C$6:$C$59,0),0)","v":{"$error":"#N/A"}},null,{"$f":"OFFSET(業務!$L$5,MATCH($AE44,業務!$C$6:$C$59,0),0)","v":{"$error":"#N/A"}},null,null,{"$f":"OFFSET(業務!$M$5,MATCH($AE44,業務!$C$6:$C$59,0),0)","v":{"$error":"#N/A"}},null,null,null,null,null,null,null,{"$f":"OFFSET(業務!$N$5,MATCH($AE44,業務!$C$6:$C$59,0),0)","v":{"$error":"#N/A"}},null,null,null,null,null,null,null,{"$f":"OFFSET(業務!$O$5,MATCH($AE44,業務!$C$6:$C$59,0),0)","v":{"$error":"#N/A"}},null,null,{"$f":"OFFSET(業務!$U$5,MATCH($AE44,業務!$C$6:$C$59,0),0)","v":{"$error":"#N/A"}},{"$f":"OFFSET(業務!$V$5,MATCH($AE44,業務!$C$6:$C$59,0),0)","v":{"$error":"#N/A"}},{"$f":"OFFSET(業務!$W$5,MATCH($AE44,業務!$C$6:$C$59,0),0)","v":{"$error":"#N/A"}},null,32,null,null,null,null,null,null,0]
[null,null,{"$f":"OFFSET(業務!$K$5,MATCH($AE45,業務!$C$6:$C$59,0),0)","v":{"$error":"#N/A"}},null,{"$f":"OFFSET(業務!$L$5,MATCH($AE45,業務!$C$6:$C$59,0),0)","v":{"$error":"#N/A"}},null,null,{"$f":"OFFSET(業務!$M$5,MATCH($AE45,業務!$C$6:$C$59,0),0)","v":{"$error":"#N/A"}},null,null,null,null,null,null,null,{"$f":"OFFSET(業務!$N$5,MATCH($AE45,業務!$C$6:$C$59,0),0)","v":{"$error":"#N/A"}},null,null,null,null,null,null,null,{"$f":"OFFSET(業務!$O$5,MATCH($AE45,業務!$C$6:$C$59,0),0)","v":{"$error":"#N/A"}},null,null,{"$f":"OFFSET(業務!$U$5,MATCH($AE45,業務!$C$6:$C$59,0),0)","v":{"$error":"#N/A"}},{"$f":"OFFSET(業務!$V$5,MATCH($AE45,業務!$C$6:$C$59,0),0)","v":{"$error":"#N/A"}},{"$f":"OFFSET(業務!$W$5,MATCH($AE45,業務!$C$6:$C$59,0),0)","v":{"$error":"#N/A"}},null,33,null,null,null,null,null,null,0]
[null,null,{"$f":"OFFSET(業務!$K$5,MATCH($AE46,業務!$C$6:$C$59,0),0)","v":{"$error":"#N/A"}},null,{"$f":"OFFSET(業務!$L$5,MATCH($AE46,業務!$C$6:$C$59,0),0)","v":{"$error":"#N/A"}},null,null,{"$f":"OFFSET(業務!$M$5,MATCH($AE46,業務!$C$6:$C$59,0),0)","v":{"$error":"#N/A"}},null,null,null,null,null,null,null,{"$f":"OFFSET(業務!$N$5,MATCH($AE46,業務!$C$6:$C$59,0),0)","v":{"$error":"#N/A"}},null,null,null,null,null,null,null,{"$f":"OFFSET(業務!$O$5,MATCH($AE46,業務!$C$6:$C$59,0),0)","v":{"$error":"#N/A"}},null,null,{"$f":"OFFSET(業務!$U$5,MATCH($AE46,業務!$C$6:$C$59,0),0)","v":{"$error":"#N/A"}},{"$f":"OFFSET(業務!$V$5,MATCH($AE46,業務!$C$6:$C$59,0),0)","v":{"$error":"#N/A"}},{"$f":"OFFSET(業務!$W$5,MATCH($AE46,業務!$C$6:$C$59,0),0)","v":{"$error":"#N/A"}},null,34,null,null,null,null,null,null,0]
[null,null,{"$f":"OFFSET(業務!$K$5,MATCH($AE47,業務!$C$6:$C$59,0),0)","v":{"$error":"#N/A"}},null,{"$f":"OFFSET(業務!$L$5,MATCH($AE47,業務!$C$6:$C$59,0),0)","v":{"$error":"#N/A"}},null,null,{"$f":"OFFSET(業務!$M$5,MATCH($AE47,業務!$C$6:$C$59,0),0)","v":{"$error":"#N/A"}},null,null,null,null,null,null,null,{"$f":"OFFSET(業務!$N$5,MATCH($AE47,業務!$C$6:$C$59,0),0)","v":{"$error":"#N/A"}},null,null,null,null,null,null,null,{"$f":"OFFSET(業務!$O$5,MATCH($AE47,業務!$C$6:$C$59,0),0)","v":{"$error":"#N/A"}},null,null,{"$f":"OFFSET(業務!$U$5,MATCH($AE47,業務!$C$6:$C$59,0),0)","v":{"$error":"#N/A"}},{"$f":"OFFSET(業務!$V$5,MATCH($AE47,業務!$C$6:$C$59,0),0)","v":{"$error":"#N/A"}},{"$f":"OFFSET(業務!$W$5,MATCH($AE47,業務!$C$6:$C$59,0),0)","v":{"$error":"#N/A"}},null,35,null,null,null,null,null,null,0]
[null,null,{"$f":"OFFSET(業務!$K$5,MATCH($AE48,業務!$C$6:$C$59,0),0)","v":{"$error":"#N/A"}},null,{"$f":"OFFSET(業務!$L$5,MATCH($AE48,業務!$C$6:$C$59,0),0)","v":{"$error":"#N/A"}},null,null,{"$f":"OFFSET(業務!$M$5,MATCH($AE48,業務!$C$6:$C$59,0),0)","v":{"$error":"#N/A"}},null,null,null,null,null,null,null,{"$f":"OFFSET(業務!$N$5,MATCH($AE48,業務!$C$6:$C$59,0),0)","v":{"$error":"#N/A"}},null,null,null,null,null,null,null,{"$f":"OFFSET(業務!$O$5,MATCH($AE48,業務!$C$6:$C$59,0),0)","v":{"$error":"#N/A"}},null,null,{"$f":"OFFSET(業務!$U$5,MATCH($AE48,業務!$C$6:$C$59,0),0)","v":{"$error":"#N/A"}},{"$f":"OFFSET(業務!$V$5,MATCH($AE48,業務!$C$6:$C$59,0),0)","v":{"$error":"#N/A"}},{"$f":"OFFSET(業務!$W$5,MATCH($AE48,業務!$C$6:$C$59,0),0)","v":{"$error":"#N/A"}},null,36,null,null,null,null,null,null,0]
[null,null,{"$f":"OFFSET(業務!$K$5,MATCH($AE49,業務!$C$6:$C$59,0),0)","v":{"$error":"#N/A"}},null,{"$f":"OFFSET(業務!$L$5,MATCH($AE49,業務!$C$6:$C$59,0),0)","v":{"$error":"#N/A"}},null,null,{"$f":"OFFSET(業務!$M$5,MATCH($AE49,業務!$C$6:$C$59,0),0)","v":{"$error":"#N/A"}},null,null,null,null,null,null,null,{"$f":"OFFSET(業務!$N$5,MATCH($AE49,業務!$C$6:$C$59,0),0)","v":{"$error":"#N/A"}},null,null,null,null,null,null,null,{"$f":"OFFSET(業務!$O$5,MATCH($AE49,業務!$C$6:$C$59,0),0)","v":{"$error":"#N/A"}},null,null,{"$f":"OFFSET(業務!$U$5,MATCH($AE49,業務!$C$6:$C$59,0),0)","v":{"$error":"#N/A"}},{"$f":"OFFSET(業務!$V$5,MATCH($AE49,業務!$C$6:$C$59,0),0)","v":{"$error":"#N/A"}},{"$f":"OFFSET(業務!$W$5,MATCH($AE49,業務!$C$6:$C$59,0),0)","v":{"$error":"#N/A"}},null,37,null,null,null,null,null,null,0]
[null,null,{"$f":"OFFSET(業務!$K$5,MATCH($AE50,業務!$C$6:$C$59,0),0)","v":{"$error":"#N/A"}},null,{"$f":"OFFSET(業務!$L$5,MATCH($AE50,業務!$C$6:$C$59,0),0)","v":{"$error":"#N/A"}},null,null,{"$f":"OFFSET(業務!$M$5,MATCH($AE50,業務!$C$6:$C$59,0),0)","v":{"$error":"#N/A"}},null,null,null,null,null,null,null,{"$f":"OFFSET(業務!$N$5,MATCH($AE50,業務!$C$6:$C$59,0),0)","v":{"$error":"#N/A"}},null,null,null,null,null,null,null,{"$f":"OFFSET(業務!$O$5,MATCH($AE50,業務!$C$6:$C$59,0),0)","v":{"$error":"#N/A"}},null,null,{"$f":"OFFSET(業務!$U$5,MATCH($AE50,業務!$C$6:$C$59,0),0)","v":{"$error":"#N/A"}},{"$f":"OFFSET(業務!$V$5,MATCH($AE50,業務!$C$6:$C$59,0),0)","v":{"$error":"#N/A"}},{"$f":"OFFSET(業務!$W$5,MATCH($AE50,業務!$C$6:$C$59,0),0)","v":{"$error":"#N/A"}},null,38,null,null,null,null,null,null,0]
[null,null,{"$f":"OFFSET(業務!$K$5,MATCH($AE51,業務!$C$6:$C$59,0),0)","v":{"$error":"#N/A"}},null,{"$f":"OFFSET(業務!$L$5,MATCH($AE51,業務!$C$6:$C$59,0),0)","v":{"$error":"#N/A"}},null,null,{"$f":"OFFSET(業務!$M$5,MATCH($AE51,業務!$C$6:$C$59,0),0)","v":{"$error":"#N/A"}},null,null,null,null,null,null,null,{"$f":"OFFSET(業務!$N$5,MATCH($AE51,業務!$C$6:$C$59,0),0)","v":{"$error":"#N/A"}},null,null,null,null,null,null,null,{"$f":"OFFSET(業務!$O$5,MATCH($AE51,業務!$C$6:$C$59,0),0)","v":{"$error":"#N/A"}},null,null,{"$f":"OFFSET(業務!$U$5,MATCH($AE51,業務!$C$6:$C$59,0),0)","v":{"$error":"#N/A"}},{"$f":"OFFSET(業務!$V$5,MATCH($AE51,業務!$C$6:$C$59,0),0)","v":{"$error":"#N/A"}},{"$f":"OFFSET(業務!$W$5,MATCH($AE51,業務!$C$6:$C$59,0),0)","v":{"$error":"#N/A"}},null,39,null,null,null,null,null,null,0]
[null,null,{"$f":"OFFSET(業務!$K$5,MATCH($AE52,業務!$C$6:$C$59,0),0)","v":{"$error":"#N/A"}},null,{"$f":"OFFSET(業務!$L$5,MATCH($AE52,業務!$C$6:$C$59,0),0)","v":{"$error":"#N/A"}},null,null,{"$f":"OFFSET(業務!$M$5,MATCH($AE52,業務!$C$6:$C$59,0),0)","v":{"$error":"#N/A"}},null,null,null,null,null,null,null,{"$f":"OFFSET(業務!$N$5,MATCH($AE52,業務!$C$6:$C$59,0),0)","v":{"$error":"#N/A"}},null,null,null,null,null,null,null,{"$f":"OFFSET(業務!$O$5,MATCH($AE52,業務!$C$6:$C$59,0),0)","v":{"$error":"#N/A"}},null,null,{"$f":"OFFSET(業務!$U$5,MATCH($AE52,業務!$C$6:$C$59,0),0)","v":{"$error":"#N/A"}},{"$f":"OFFSET(業務!$V$5,MATCH($AE52,業務!$C$6:$C$59,0),0)","v":{"$error":"#N/A"}},{"$f":"OFFSET(業務!$W$5,MATCH($AE52,業務!$C$6:$C$59,0),0)","v":{"$error":"#N/A"}},null,40,null,null,null,null,null,null,0]
[null,null,{"$f":"OFFSET(業務!$K$5,MATCH($AE53,業務!$C$6:$C$59,0),0)","v":{"$error":"#N/A"}},null,{"$f":"OFFSET(業務!$L$5,MATCH($AE53,業務!$C$6:$C$59,0),0)","v":{"$error":"#N/A"}},null,null,{"$f":"OFFSET(業務!$M$5,MATCH($AE53,業務!$C$6:$C$59,0),0)","v":{"$error":"#N/A"}},null,null,null,null,null,null,null,{"$f":"OFFSET(業務!$N$5,MATCH($AE53,業務!$C$6:$C$59,0),0)","v":{"$error":"#N/A"}},null,null,null,null,null,null,null,{"$f":"OFFSET(業務!$O$5,MATCH($AE53,業務!$C$6:$C$59,0),0)","v":{"$error":"#N/A"}},null,null,{"$f":"OFFSET(業務!$U$5,MATCH($AE53,業務!$C$6:$C$59,0),0)","v":{"$error":"#N/A"}},{"$f":"OFFSET(業務!$V$5,MATCH($AE53,業務!$C$6:$C$59,0),0)","v":{"$error":"#N/A"}},{"$f":"OFFSET(業務!$W$5,MATCH($AE53,業務!$C$6:$C$59,0),0)","v":{"$error":"#N/A"}},null,41,null,null,null,null,null,null,0]
[null,null,{"$f":"OFFSET(業務!$K$5,MATCH($AE54,業務!$C$6:$C$59,0),0)","v":{"$error":"#N/A"}},null,{"$f":"OFFSET(業務!$L$5,MATCH($AE54,業務!$C$6:$C$59,0),0)","v":{"$error":"#N/A"}},null,null,{"$f":"OFFSET(業務!$M$5,MATCH($AE54,業務!$C$6:$C$59,0),0)","v":{"$error":"#N/A"}},null,null,null,null,null,null,null,{"$f":"OFFSET(業務!$N$5,MATCH($AE54,業務!$C$6:$C$59,0),0)","v":{"$error":"#N/A"}},null,null,null,null,null,null,null,{"$f":"OFFSET(業務!$O$5,MATCH($AE54,業務!$C$6:$C$59,0),0)","v":{"$error":"#N/A"}},null,null,{"$f":"OFFSET(業務!$U$5,MATCH($AE54,業務!$C$6:$C$59,0),0)","v":{"$error":"#N/A"}},{"$f":"OFFSET(業務!$V$5,MATCH($AE54,業務!$C$6:$C$59,0),0)","v":{"$error":"#N/A"}},{"$f":"OFFSET(業務!$W$5,MATCH($AE54,業務!$C$6:$C$59,0),0)","v":{"$error":"#N/A"}},null,42,null,null,null,null,null,null,0]
[null,null,{"$f":"OFFSET(業務!$K$5,MATCH($AE55,業務!$C$6:$C$59,0),0)","v":{"$error":"#N/A"}},null,{"$f":"OFFSET(業務!$L$5,MATCH($AE55,業務!$C$6:$C$59,0),0)","v":{"$error":"#N/A"}},null,null,{"$f":"OFFSET(業務!$M$5,MATCH($AE55,業務!$C$6:$C$59,0),0)","v":{"$error":"#N/A"}},null,null,null,null,null,null,null,{"$f":"OFFSET(業務!$N$5,MATCH($AE55,業務!$C$6:$C$59,0),0)","v":{"$error":"#N/A"}},null,null,null,null,null,null,null,{"$f":"OFFSET(業務!$O$5,MATCH($AE55,業務!$C$6:$C$59,0),0)","v":{"$error":"#N/A"}},null,null,{"$f":"OFFSET(業務!$U$5,MATCH($AE55,業務!$C$6:$C$59,0),0)","v":{"$error":"#N/A"}},{"$f":"OFFSET(業務!$V$5,MATCH($AE55,業務!$C$6:$C$59,0),0)","v":{"$error":"#N/A"}},{"$f":"OFFSET(業務!$W$5,MATCH($AE55,業務!$C$6:$C$59,0),0)","v":{"$error":"#N/A"}},null,43,null,null,null,null,null,null,0]
[null,null,{"$f":"OFFSET(業務!$K$5,MATCH($AE56,業務!$C$6:$C$59,0),0)","v":{"$error":"#N/A"}},null,{"$f":"OFFSET(業務!$L$5,MATCH($AE56,業務!$C$6:$C$59,0),0)","v":{"$error":"#N/A"}},null,null,{"$f":"OFFSET(業務!$M$5,MATCH($AE56,業務!$C$6:$C$59,0),0)","v":{"$error":"#N/A"}},null,null,null,null,null,null,null,{"$f":"OFFSET(業務!$N$5,MATCH($AE56,業務!$C$6:$C$59,0),0)","v":{"$error":"#N/A"}},null,null,null,null,null,null,null,{"$f":"OFFSET(業務!$O$5,MATCH($AE56,業務!$C$6:$C$59,0),0)","v":{"$error":"#N/A"}},null,null,{"$f":"OFFSET(業務!$U$5,MATCH($AE56,業務!$C$6:$C$59,0),0)","v":{"$error":"#N/A"}},{"$f":"OFFSET(業務!$V$5,MATCH($AE56,業務!$C$6:$C$59,0),0)","v":{"$error":"#N/A"}},{"$f":"OFFSET(業務!$W$5,MATCH($AE56,業務!$C$6:$C$59,0),0)","v":{"$error":"#N/A"}},null,44,null,null,null,null,null,null,0]
[null,null,{"$f":"OFFSET(業務!$K$5,MATCH($AE57,業務!$C$6:$C$59,0),0)","v":{"$error":"#N/A"}},null,{"$f":"OFFSET(業務!$L$5,MATCH($AE57,業務!$C$6:$C$59,0),0)","v":{"$error":"#N/A"}},null,null,{"$f":"OFFSET(業務!$M$5,MATCH($AE57,業務!$C$6:$C$59,0),0)","v":{"$error":"#N/A"}},null,null,null,null,null,null,null,{"$f":"OFFSET(業務!$N$5,MATCH($AE57,業務!$C$6:$C$59,0),0)","v":{"$error":"#N/A"}},null,null,null,null,null,null,null,{"$f":"OFFSET(業務!$O$5,MATCH($AE57,業務!$C$6:$C$59,0),0)","v":{"$error":"#N/A"}},null,null,{"$f":"OFFSET(業務!$U$5,MATCH($AE57,業務!$C$6:$C$59,0),0)","v":{"$error":"#N/A"}},{"$f":"OFFSET(業務!$V$5,MATCH($AE57,業務!$C$6:$C$59,0),0)","v":{"$error":"#N/A"}},{"$f":"OFFSET(業務!$W$5,MATCH($AE57,業務!$C$6:$C$59,0),0)","v":{"$error":"#N/A"}},null,45,null,null,null,null,null,null,0]
[null,null,{"$f":"OFFSET(業務!$K$5,MATCH($AE58,業務!$C$6:$C$59,0),0)","v":{"$error":"#N/A"}},null,{"$f":"OFFSET(業務!$L$5,MATCH($AE58,業務!$C$6:$C$59,0),0)","v":{"$error":"#N/A"}},null,null,{"$f":"OFFSET(業務!$M$5,MATCH($AE58,業務!$C$6:$C$59,0),0)","v":{"$error":"#N/A"}},null,null,null,null,null,null,null,{"$f":"OFFSET(業務!$N$5,MATCH($AE58,業務!$C$6:$C$59,0),0)","v":{"$error":"#N/A"}},null,null,null,null,null,null,null,{"$f":"OFFSET(業務!$O$5,MATCH($AE58,業務!$C$6:$C$59,0),0)","v":{"$error":"#N/A"}},null,null,{"$f":"OFFSET(業務!$U$5,MATCH($AE58,業務!$C$6:$C$59,0),0)","v":{"$error":"#N/A"}},{"$f":"OFFSET(業務!$V$5,MATCH($AE58,業務!$C$6:$C$59,0),0)","v":{"$error":"#N/A"}},{"$f":"OFFSET(業務!$W$5,MATCH($AE58,業務!$C$6:$C$59,0),0)","v":{"$error":"#N/A"}},null,46,null,null,null,null,null,null,0]
[null,null,{"$f":"OFFSET(業務!$K$5,MATCH($AE59,業務!$C$6:$C$59,0),0)","v":{"$error":"#N/A"}},null,{"$f":"OFFSET(業務!$L$5,MATCH($AE59,業務!$C$6:$C$59,0),0)","v":{"$error":"#N/A"}},null,null,{"$f":"OFFSET(業務!$M$5,MATCH($AE59,業務!$C$6:$C$59,0),0)","v":{"$error":"#N/A"}},null,null,null,null,null,null,null,{"$f":"OFFSET(業務!$N$5,MATCH($AE59,業務!$C$6:$C$59,0),0)","v":{"$error":"#N/A"}},null,null,null,null,null,null,null,{"$f":"OFFSET(業務!$O$5,MATCH($AE59,業務!$C$6:$C$59,0),0)","v":{"$error":"#N/A"}},null,null,{"$f":"OFFSET(業務!$U$5,MATCH($AE59,業務!$C$6:$C$59,0),0)","v":{"$error":"#N/A"}},{"$f":"OFFSET(業務!$V$5,MATCH($AE59,業務!$C$6:$C$59,0),0)","v":{"$error":"#N/A"}},{"$f":"OFFSET(業務!$W$5,MATCH($AE59,業務!$C$6:$C$59,0),0)","v":{"$error":"#N/A"}},null,47,null,null,null,null,null,null,0]
[null,null,{"$f":"OFFSET(業務!$K$5,MATCH($AE60,業務!$C$6:$C$59,0),0)","v":{"$error":"#N/A"}},null,{"$f":"OFFSET(業務!$L$5,MATCH($AE60,業務!$C$6:$C$59,0),0)","v":{"$error":"#N/A"}},null,null,{"$f":"OFFSET(業務!$M$5,MATCH($AE60,業務!$C$6:$C$59,0),0)","v":{"$error":"#N/A"}},null,null,null,null,null,null,null,{"$f":"OFFSET(業務!$N$5,MATCH($AE60,業務!$C$6:$C$59,0),0)","v":{"$error":"#N/A"}},null,null,null,null,null,null,null,{"$f":"OFFSET(業務!$O$5,MATCH($AE60,業務!$C$6:$C$59,0),0)","v":{"$error":"#N/A"}},null,null,{"$f":"OFFSET(業務!$U$5,MATCH($AE60,業務!$C$6:$C$59,0),0)","v":{"$error":"#N/A"}},{"$f":"OFFSET(業務!$V$5,MATCH($AE60,業務!$C$6:$C$59,0),0)","v":{"$error":"#N/A"}},{"$f":"OFFSET(業務!$W$5,MATCH($AE60,業務!$C$6:$C$59,0),0)","v":{"$error":"#N/A"}},null,48,null,null,null,null,null,null,0]
[null,null,{"$f":"OFFSET(業務!$K$5,MATCH($AE61,業務!$C$6:$C$59,0),0)","v":{"$error":"#N/A"}},null,{"$f":"OFFSET(業務!$L$5,MATCH($AE61,業務!$C$6:$C$59,0),0)","v":{"$error":"#N/A"}},null,null,{"$f":"OFFSET(業務!$M$5,MATCH($AE61,業務!$C$6:$C$59,0),0)","v":{"$error":"#N/A"}},null,null,null,null,null,null,null,{"$f":"OFFSET(業務!$N$5,MATCH($AE61,業務!$C$6:$C$59,0),0)","v":{"$error":"#N/A"}},null,null,null,null,null,null,null,{"$f":"OFFSET(業務!$O$5,MATCH($AE61,業務!$C$6:$C$59,0),0)","v":{"$error":"#N/A"}},null,null,{"$f":"OFFSET(業務!$U$5,MATCH($AE61,業務!$C$6:$C$59,0),0)","v":{"$error":"#N/A"}},{"$f":"OFFSET(業務!$V$5,MATCH($AE61,業務!$C$6:$C$59,0),0)","v":{"$error":"#N/A"}},{"$f":"OFFSET(業務!$W$5,MATCH($AE61,業務!$C$6:$C$59,0),0)","v":{"$error":"#N/A"}},null,49,null,null,null,null,null,null,0]
[null,null,{"$f":"OFFSET(業務!$K$5,MATCH($AE62,業務!$C$6:$C$59,0),0)","v":{"$error":"#N/A"}},null,{"$f":"OFFSET(業務!$L$5,MATCH($AE62,業務!$C$6:$C$59,0),0)","v":{"$error":"#N/A"}},null,null,{"$f":"OFFSET(業務!$M$5,MATCH($AE62,業務!$C$6:$C$59,0),0)","v":{"$error":"#N/A"}},null,null,null,null,null,null,null,{"$f":"OFFSET(業務!$N$5,MATCH($AE62,業務!$C$6:$C$59,0),0)","v":{"$error":"#N/A"}},null,null,null,null,null,null,null,{"$f":"OFFSET(業務!$O$5,MATCH($AE62,業務!$C$6:$C$59,0),0)","v":{"$error":"#N/A"}},null,null,{"$f":"OFFSET(業務!$U$5,MATCH($AE62,業務!$C$6:$C$59,0),0)","v":{"$error":"#N/A"}},{"$f":"OFFSET(業務!$V$5,MATCH($AE62,業務!$C$6:$C$59,0),0)","v":{"$error":"#N/A"}},{"$f":"OFFSET(業務!$W$5,MATCH($AE62,業務!$C$6:$C$59,0),0)","v":{"$error":"#N/A"}},null,50,null,null,null,null,null,null,0]
[null,null,{"$f":"OFFSET(業務!$K$5,MATCH($AE63,業務!$C$6:$C$59,0),0)","v":{"$error":"#N/A"}},null,{"$f":"OFFSET(業務!$L$5,MATCH($AE63,業務!$C$6:$C$59,0),0)","v":{"$error":"#N/A"}},null,null,{"$f":"OFFSET(業務!$M$5,MATCH($AE63,業務!$C$6:$C$59,0),0)","v":{"$error":"#N/A"}},null,null,null,null,null,null,null,{"$f":"OFFSET(業務!$N$5,MATCH($AE63,業務!$C$6:$C$59,0),0)","v":{"$error":"#N/A"}},null,null,null,null,null,null,null,{"$f":"OFFSET(業務!$O$5,MATCH($AE63,業務!$C$6:$C$59,0),0)","v":{"$error":"#N/A"}},null,null,{"$f":"OFFSET(業務!$U$5,MATCH($AE63,業務!$C$6:$C$59,0),0)","v":{"$error":"#N/A"}},{"$f":"OFFSET(業務!$V$5,MATCH($AE63,業務!$C$6:$C$59,0),0)","v":{"$error":"#N/A"}},{"$f":"OFFSET(業務!$W$5,MATCH($AE63,業務!$C$6:$C$59,0),0)","v":{"$error":"#N/A"}},null,51,null,null,null,null,null,null,0]
[null,null,{"$f":"OFFSET(業務!$K$5,MATCH($AE64,業務!$C$6:$C$59,0),0)","v":{"$error":"#N/A"}},null,{"$f":"OFFSET(業務!$L$5,MATCH($AE64,業務!$C$6:$C$59,0),0)","v":{"$error":"#N/A"}},null,null,{"$f":"OFFSET(業務!$M$5,MATCH($AE64,業務!$C$6:$C$59,0),0)","v":{"$error":"#N/A"}},null,null,null,null,null,null,null,{"$f":"OFFSET(業務!$N$5,MATCH($AE64,業務!$C$6:$C$59,0),0)","v":{"$error":"#N/A"}},null,null,null,null,null,null,null,{"$f":"OFFSET(業務!$O$5,MATCH($AE64,業務!$C$6:$C$59,0),0)","v":{"$error":"#N/A"}},null,null,{"$f":"OFFSET(業務!$U$5,MATCH($AE64,業務!$C$6:$C$59,0),0)","v":{"$error":"#N/A"}},{"$f":"OFFSET(業務!$V$5,MATCH($AE64,業務!$C$6:$C$59,0),0)","v":{"$error":"#N/A"}},{"$f":"OFFSET(業務!$W$5,MATCH($AE64,業務!$C$6:$C$59,0),0)","v":{"$error":"#N/A"}},null,52,null,null,null,null,null,null,0]
[null,null,{"$f":"OFFSET(業務!$K$5,MATCH($AE65,業務!$C$6:$C$59,0),0)","v":{"$error":"#N/A"}},null,{"$f":"OFFSET(業務!$L$5,MATCH($AE65,業務!$C$6:$C$59,0),0)","v":{"$error":"#N/A"}},null,null,{"$f":"OFFSET(業務!$M$5,MATCH($AE65,業務!$C$6:$C$59,0),0)","v":{"$error":"#N/A"}},null,null,null,null,null,null,null,{"$f":"OFFSET(業務!$N$5,MATCH($AE65,業務!$C$6:$C$59,0),0)","v":{"$error":"#N/A"}},null,null,null,null,null,null,null,{"$f":"OFFSET(業務!$O$5,MATCH($AE65,業務!$C$6:$C$59,0),0)","v":{"$error":"#N/A"}},null,null,{"$f":"OFFSET(業務!$U$5,MATCH($AE65,業務!$C$6:$C$59,0),0)","v":{"$error":"#N/A"}},{"$f":"OFFSET(業務!$V$5,MATCH($AE65,業務!$C$6:$C$59,0),0)","v":{"$error":"#N/A"}},{"$f":"OFFSET(業務!$W$5,MATCH($AE65,業務!$C$6:$C$59,0),0)","v":{"$error":"#N/A"}},null,53,null,null,null,null,null,null,0]
[null,null,{"$f":"OFFSET(業務!$K$5,MATCH($AE66,業務!$C$6:$C$59,0),0)","v":{"$error":"#N/A"}},null,{"$f":"OFFSET(業務!$L$5,MATCH($AE66,業務!$C$6:$C$59,0),0)","v":{"$error":"#N/A"}},null,null,{"$f":"OFFSET(業務!$M$5,MATCH($AE66,業務!$C$6:$C$59,0),0)","v":{"$error":"#N/A"}},null,null,null,null,null,null,null,{"$f":"OFFSET(業務!$N$5,MATCH($AE66,業務!$C$6:$C$59,0),0)","v":{"$error":"#N/A"}},null,null,null,null,null,null,null,{"$f":"OFFSET(業務!$O$5,MATCH($AE66,業務!$C$6:$C$59,0),0)","v":{"$error":"#N/A"}},null,null,{"$f":"OFFSET(業務!$U$5,MATCH($AE66,業務!$C$6:$C$59,0),0)","v":{"$error":"#N/A"}},{"$f":"OFFSET(業務!$V$5,MATCH($AE66,業務!$C$6:$C$59,0),0)","v":{"$error":"#N/A"}},{"$f":"OFFSET(業務!$W$5,MATCH($AE66,業務!$C$6:$C$59,0),0)","v":{"$error":"#N/A"}},null,54,null,null,null,null,null,null,0]
[null,null,null,null,null,null,null,null,null,null,null,null,null,null,null,null,null,null,null,null,null,null,null,null,null,null,null,null,null,null,null,null,null,null,null,null,null,{"$f":"IF($AE$6<=26,0,1)","v":0}]
[null,null,null,null,null,null,null,null,null,null,null,null,null,null,null,null,null,null,null,null,null,null,null,null,null,null,null,null,null,null,null,null,null,null,null,null,null,1]
[null,null,"6.2 水災害発生直前の対策",null,null,null,null,null,null,null,null,null,null,null,null,null,null,null,null,null,null,null,null,null,null,null,null,null,null,null,null,null,null,null,null,null,null,1]
[null,null,null,"水災害発生直前に実施すべき具体的な対策内容のうち、必要な 「時間」 と 「人数」 を以下のとおり整理した。",null,null,null,null,null,null,null,null,null,null,null,null,null,null,null,null,null,null,null,null,null,null,null,null,null,null,null,null,null,null,null,null,null,1]
[null,null,null,null,null,null,null,null,null,null,null,null,null,null,null,null,null,null,null,null,null,null,null,null,null,null,null,null,null,null,{"$f":"業務!D2","v":5},null,null,null,null,null,null,1]
[null,null,"重要事業に必要な資源",null,null,null,null,"想定される浸水被害",null,null,null,null,null,"具体的な対策内容",null,null,null,null,null,null,"対応班",null,null,null,null,null,null,null,null,null,null,null,null,null,null,null,null,1]
[null,null,{"$f":"OFFSET(業務!$K$5,MATCH($AE73,業務!$D$6:$D$59,0),0)","v":"人"},null,{"$f":"OFFSET(業務!$L$5,MATCH($AE73,業務!$D$6:$D$59,0),0)","v":"従業員（管理者）"},null,null,{"$f":"OFFSET(業務!$M$5,MATCH($AE73,業務!$D$6:$D$59,0),0)","v":"通行規制等により、本社への参集が不可能となる"},null,null,null,null,null,{"$f":"OFFSET(業務!$N$5,MATCH($AE73,業務!$D$6:$D$59,0),0)","v":"通行規制が予期される場合、本社ではなく、高台営業所に参集するよう連絡する"},null,null,null,null,null,null,{"$f":"OFFSET(業務!$O$5,MATCH($AE73,業務!$D$6:$D$59,0),0)","v":"避難誘導班"},null,null,{"$f":"OFFSET(業務!$P$5,MATCH($AE73,業務!$D$6:$D$59,0),0)","v":"5"},null,{"$f":"OFFSET(業務!$Q$5,MATCH($AE73,業務!$D$6:$D$59,0),0)","v":"1"},null,{"$f":"OFFSET(業務!$R$5,MATCH($AE73,業務!$D$6:$D$59,0),0)","v":""},null,null,1,null,null,null,null,null,null,{"$f":"IF(AE73<=$AE$71,1,0)","v":1}]
[null,null,{"$f":"OFFSET(業務!$K$5,MATCH($AE74,業務!$D$6:$D$59,0),0)","v":"物"},null,{"$f":"OFFSET(業務!$L$5,MATCH($AE74,業務!$D$6:$D$59,0),0)","v":"社用車"},null,null,{"$f":"OFFSET(業務!$M$5,MATCH($AE74,業務!$D$6:$D$59,0),0)","v":"トラックが流出・水没による故障が発生する"},null,null,null,null,null,{"$f":"OFFSET(業務!$N$5,MATCH($AE74,業務!$D$6:$D$59,0),0)","v":"トラックを本社から高台営業所に移動させる"},null,null,null,null,null,null,{"$f":"OFFSET(業務!$O$5,MATCH($AE74,業務!$D$6:$D$59,0),0)","v":"復旧対策班"},null,null,{"$f":"OFFSET(業務!$P$5,MATCH($AE74,業務!$D$6:$D$59,0),0)","v":"30"},null,{"$f":"OFFSET(業務!$Q$5,MATCH($AE74,業務!$D$6:$D$59,0),0)","v":"2"},null,{"$f":"OFFSET(業務!$R$5,MATCH($AE74,業務!$D$6:$D$59,0),0)","v":"A"},null,null,2,null,null,null,null,null,null,{"$f":"IF(AE74<=$AE$71,1,0)","v":1}]
[null,null,{"$f":"OFFSET(業務!$K$5,MATCH($AE75,業務!$D$6:$D$59,0),0)","v":"物"},null,{"$f":"OFFSET(業務!$L$5,MATCH($AE75,業務!$D$6:$D$59,0),0)","v":"原材料"},null,null,{"$f":"OFFSET(業務!$M$5,MATCH($AE75,業務!$D$6:$D$59,0),0)","v":"ガソリンが流出する"},null,null,null,null,null,{"$f":"OFFSET(業務!$N$5,MATCH($AE75,業務!$D$6:$D$59,0),0)","v":"トラックとともに、本社から高台営業所に移動させる"},null,null,null,null,null,null,{"$f":"OFFSET(業務!$O$5,MATCH($AE75,業務!$D$6:$D$59,0),0)","v":"復旧対策班"},null,null,{"$f":"OFFSET(業務!$P$5,MATCH($AE75,業務!$D$6:$D$59,0),0)","v":"30"},null,{"$f":"OFFSET(業務!$Q$5,MATCH($AE75,業務!$D$6:$D$59,0),0)","v":"2"},null,{"$f":"OFFSET(業務!$R$5,MATCH($AE75,業務!$D$6:$D$59,0),0)","v":"A"},null,null,3,null,null,null,null,null,null,1]
[null,null,{"$f":"OFFSET(業務!$K$5,MATCH($AE76,業務!$D$6:$D$59,0),0)","v":"物"},null,{"$f":"OFFSET(業務!$L$5,MATCH($AE76,業務!$D$6:$D$59,0),0)","v":"その他"},null,null,{"$f":"OFFSET(業務!$M$5,MATCH($AE76,業務!$D$6:$D$59,0),0)","v":"小分けした部品が浸水により流出する"},null,null,null,null,null,{"$f":"OFFSET(業務!$N$5,MATCH($AE76,業務!$D$6:$D$59,0),0)","v":"小分けした薬品を鍵のかかる棚（2階以上）に移動させる"},null,null,null,null,null,null,{"$f":"OFFSET(業務!$O$5,MATCH($AE76,業務!$D$6:$D$59,0),0)","v":"復旧対策班"},null,null,{"$f":"OFFSET(業務!$P$5,MATCH($AE76,業務!$D$6:$D$59,0),0)","v":"30"},null,{"$f":"OFFSET(業務!$Q$5,MATCH($AE76,業務!$D$6:$D$59,0),0)","v":"2"},null,{"$f":"OFFSET(業務!$R$5,MATCH($AE76,業務!$D$6:$D$59,0),0)","v":""},null,null,4,null,null,null,null,null,null,1]
[null,null,{"$f":"OFFSET(業務!$K$5,MATCH($AE77,業務!$D$6:$D$59,0),0)","v":"情報"},null,{"$f":"OFFSET(業務!$L$5,MATCH($AE77,業務!$D$6:$D$59,0),0)","v":"事務処理用PC"},null,null,{"$f":"OFFSET(業務!$M$5,MATCH($AE77,業務!$D$6:$D$59,0),0)","v":"事務処理用PCが使用できなくなる"},null,null,null,null,null,{"$f":"OFFSET(業務!$N$5,MATCH($AE77,業務!$D$6:$D$59,0),0)","v":"避難時にノートPCを持参する"},null,null,null,null,null,null,{"$f":"OFFSET(業務!$O$5,MATCH($AE77,業務!$D$6:$D$59,0),0)","v":"システム班"},null,null,{"$f":"OFFSET(業務!$P$5,MATCH($AE77,業務!$D$6:$D$59,0),0)","v":"5"},null,{"$f":"OFFSET(業務!$Q$5,MATCH($AE77,業務!$D$6:$D$59,0),0)","v":"1"},null,{"$f":"OFFSET(業務!$R$5,MATCH($AE77,業務!$D$6:$D$59,0),0)","v":"A"},null,null,5,null,null,null,null,null,null,1]
[null,null,{"$f":"OFFSET(業務!$K$5,MATCH($AE78,業務!$D$6:$D$59,0),0)","v":{"$error":"#N/A"}},null,{"$f":"OFFSET(業務!$L$5,MATCH($AE78,業務!$D$6:$D$59,0),0)","v":{"$error":"#N/A"}},null,null,{"$f":"OFFSET(業務!$M$5,MATCH($AE78,業務!$D$6:$D$59,0),0)","v":{"$error":"#N/A"}},null,null,null,null,null,{"$f":"OFFSET(業務!$N$5,MATCH($AE78,業務!$D$6:$D$59,0),0)","v":{"$error":"#N/A"}},null,null,null,null,null,null,{"$f":"OFFSET(業務!$O$5,MATCH($AE78,業務!$D$6:$D$59,0),0)","v":{"$error":"#N/A"}},null,null,{"$f":"OFFSET(業務!$P$5,MATCH($AE78,業務!$D$6:$D$59,0),0)","v":{"$error":"#N/A"}},null,{"$f":"OFFSET(業務!$Q$5,MATCH($AE78,業務!$D$6:$D$59,0),0)","v":{"$error":"#N/A"}},null,{"$f":"OFFSET(業務!$R$5,MATCH($AE78,業務!$D$6:$D$59,0),0)","v":{"$error":"#N/A"}},null,null,6,null,null,null,null,null,null,0]
[null,null,{"$f":"OFFSET(業務!$K$5,MATCH($AE79,業務!$D$6:$D$59,0),0)","v":{"$error":"#N/A"}},null,{"$f":"OFFSET(業務!$L$5,MATCH($AE79,業務!$D$6:$D$59,0),0)","v":{"$error":"#N/A"}},null,null,{"$f":"OFFSET(業務!$M$5,MATCH($AE79,業務!$D$6:$D$59,0),0)","v":{"$error":"#N/A"}},null,null,null,null,null,{"$f":"OFFSET(業務!$N$5,MATCH($AE79,業務!$D$6:$D$59,0),0)","v":{"$error":"#N/A"}},null,null,null,null,null,null,{"$f":"OFFSET(業務!$O$5,MATCH($AE79,業務!$D$6:$D$59,0),0)","v":{"$error":"#N/A"}},null,null,{"$f":"OFFSET(業務!$P$5,MATCH($AE79,業務!$D$6:$D$59,0),0)","v":{"$error":"#N/A"}},null,{"$f":"OFFSET(業務!$Q$5,MATCH($AE79,業務!$D$6:$D$59,0),0)","v":{"$error":"#N/A"}},null,{"$f":"OFFSET(業務!$R$5,MATCH($AE79,業務!$D$6:$D$59,0),0)","v":{"$error":"#N/A"}},null,null,7,null,null,null,null,null,null,0]
[null,null,{"$f":"OFFSET(業務!$K$5,MATCH($AE80,業務!$D$6:$D$59,0),0)","v":{"$error":"#N/A"}},null,{"$f":"OFFSET(業務!$L$5,MATCH($AE80,業務!$D$6:$D$59,0),0)","v":{"$error":"#N/A"}},null,null,{"$f":"OFFSET(業務!$M$5,MATCH($AE80,業務!$D$6:$D$59,0),0)","v":{"$error":"#N/A"}},null,null,null,null,null,{"$f":"OFFSET(業務!$N$5,MATCH($AE80,業務!$D$6:$D$59,0),0)","v":{"$error":"#N/A"}},null,null,null,null,null,null,{"$f":"OFFSET(業務!$O$5,MATCH($AE80,業務!$D$6:$D$59,0),0)","v":{"$error":"#N/A"}},null,null,{"$f":"OFFSET(業務!$P$5,MATCH($AE80,業務!$D$6:$D$59,0),0)","v":{"$error":"#N/A"}},null,{"$f":"OFFSET(業務!$Q$5,MATCH($AE80,業務!$D$6:$D$59,0),0)","v":{"$error":"#N/A"}},null,{"$f":"OFFSET(業務!$R$5,MATCH($AE80,業務!$D$6:$D$59,0),0)","v":{"$error":"#N/A"}},null,null,8,null,null,null,null,null,null,0]
[null,null,{"$f":"OFFSET(業務!$K$5,MATCH($AE81,業務!$D$6:$D$59,0),0)","v":{"$error":"#N/A"}},null,{"$f":"OFFSET(業務!$L$5,MATCH($AE81,業務!$D$6:$D$59,0),0)","v":{"$error":"#N/A"}},null,null,{"$f":"OFFSET(業務!$M$5,MATCH($AE81,業務!$D$6:$D$59,0),0)","v":{"$error":"#N/A"}},null,null,null,null,null,{"$f":"OFFSET(業務!$N$5,MATCH($AE81,業務!$D$6:$D$59,0),0)","v":{"$error":"#N/A"}},null,null,null,null,null,null,{"$f":"OFFSET(業務!$O$5,MATCH($AE81,業務!$D$6:$D$59,0),0)","v":{"$error":"#N/A"}},null,null,{"$f":"OFFSET(業務!$P$5,MATCH($AE81,業務!$D$6:$D$59,0),0)","v":{"$error":"#N/A"}},null,{"$f":"OFFSET(業務!$Q$5,MATCH($AE81,業務!$D$6:$D$59,0),0)","v":{"$error":"#N/A"}},null,{"$f":"OFFSET(業務!$R$5,MATCH($AE81,業務!$D$6:$D$59,0),0)","v":{"$error":"#N/A"}},null,null,9,null,null,null,null,null,null,0]
[null,null,{"$f":"OFFSET(業務!$K$5,MATCH($AE82,業務!$D$6:$D$59,0),0)","v":{"$error":"#N/A"}},null,{"$f":"OFFSET(業務!$L$5,MATCH($AE82,業務!$D$6:$D$59,0),0)","v":{"$error":"#N/A"}},null,null,{"$f":"OFFSET(業務!$M$5,MATCH($AE82,業務!$D$6:$D$59,0),0)","v":{"$error":"#N/A"}},null,null,null,null,null,{"$f":"OFFSET(業務!$N$5,MATCH($AE82,業務!$D$6:$D$59,0),0)","v":{"$error":"#N/A"}},null,null,null,null,null,null,{"$f":"OFFSET(業務!$O$5,MATCH($AE82,業務!$D$6:$D$59,0),0)","v":{"$error":"#N/A"}},null,null,{"$f":"OFFSET(業務!$P$5,MATCH($AE82,業務!$D$6:$D$59,0),0)","v":{"$error":"#N/A"}},null,{"$f":"OFFSET(業務!$Q$5,MATCH($AE82,業務!$D$6:$D$59,0),0)","v":{"$error":"#N/A"}},null,{"$f":"OFFSET(業務!$R$5,MATCH($AE82,業務!$D$6:$D$59,0),0)","v":{"$error":"#N/A"}},null,null,10,null,null,null,null,null,null,0]
[null,null,{"$f":"OFFSET(業務!$K$5,MATCH($AE83,業務!$D$6:$D$59,0),0)","v":{"$error":"#N/A"}},null,{"$f":"OFFSET(業務!$L$5,MATCH($AE83,業務!$D$6:$D$59,0),0)","v":{"$error":"#N/A"}},null,null,{"$f":"OFFSET(業務!$M$5,MATCH($AE83,業務!$D$6:$D$59,0),0)","v":{"$error":"#N/A"}},null,null,null,null,null,{"$f":"OFFSET(業務!$N$5,MATCH($AE83,業務!$D$6:$D$59,0),0)","v":{"$error":"#N/A"}},null,null,null,null,null,null,{"$f":"OFFSET(業務!$O$5,MATCH($AE83,業務!$D$6:$D$59,0),0)","v":{"$error":"#N/A"}},null,null,{"$f":"OFFSET(業務!$P$5,MATCH($AE83,業務!$D$6:$D$59,0),0)","v":{"$error":"#N/A"}},null,{"$f":"OFFSET(業務!$Q$5,MATCH($AE83,業務!$D$6:$D$59,0),0)","v":{"$error":"#N/A"}},null,{"$f":"OFFSET(業務!$R$5,MATCH($AE83,業務!$D$6:$D$59,0),0)","v":{"$error":"#N/A"}},null,null,11,null,null,null,null,null,null,0]
[null,null,{"$f":"OFFSET(業務!$K$5,MATCH($AE84,業務!$D$6:$D$59,0),0)","v":{"$error":"#N/A"}},null,{"$f":"OFFSET(業務!$L$5,MATCH($AE84,業務!$D$6:$D$59,0),0)","v":{"$error":"#N/A"}},null,null,{"$f":"OFFSET(業務!$M$5,MATCH($AE84,業務!$D$6:$D$59,0),0)","v":{"$error":"#N/A"}},null,null,null,null,null,{"$f":"OFFSET(業務!$N$5,MATCH($AE84,業務!$D$6:$D$59,0),0)","v":{"$error":"#N/A"}},null,null,null,null,null,null,{"$f":"OFFSET(業務!$O$5,MATCH($AE84,業務!$D$6:$D$59,0),0)","v":{"$error":"#N/A"}},null,null,{"$f":"OFFSET(業務!$P$5,MATCH($AE84,業務!$D$6:$D$59,0),0)","v":{"$error":"#N/A"}},null,{"$f":"OFFSET(業務!$Q$5,MATCH($AE84,業務!$D$6:$D$59,0),0)","v":{"$error":"#N/A"}},null,{"$f":"OFFSET(業務!$R$5,MATCH($AE84,業務!$D$6:$D$59,0),0)","v":{"$error":"#N/A"}},null,null,12,null,null,null,null,null,null,0]
[null,null,{"$f":"OFFSET(業務!$K$5,MATCH($AE85,業務!$D$6:$D$59,0),0)","v":{"$error":"#N/A"}},null,{"$f":"OFFSET(業務!$L$5,MATCH($AE85,業務!$D$6:$D$59,0),0)","v":{"$error":"#N/A"}},null,null,{"$f":"OFFSET(業務!$M$5,MATCH($AE85,業務!$D$6:$D$59,0),0)","v":{"$error":"#N/A"}},null,null,null,null,null,{"$f":"OFFSET(業務!$N$5,MATCH($AE85,業務!$D$6:$D$59,0),0)","v":{"$error":"#N/A"}},null,null,null,null,null,null,{"$f":"OFFSET(業務!$O$5,MATCH($AE85,業務!$D$6:$D$59,0),0)","v":{"$error":"#N/A"}},null,null,{"$f":"OFFSET(業務!$P$5,MATCH($AE85,業務!$D$6:$D$59,0),0)","v":{"$error":"#N/A"}},null,{"$f":"OFFSET(業務!$Q$5,MATCH($AE85,業務!$D$6:$D$59,0),0)","v":{"$error":"#N/A"}},null,{"$f":"OFFSET(業務!$R$5,MATCH($AE85,業務!$D$6:$D$59,0),0)","v":{"$error":"#N/A"}},null,null,13,null,null,null,null,null,null,0]
[null,null,{"$f":"OFFSET(業務!$K$5,MATCH($AE86,業務!$D$6:$D$59,0),0)","v":{"$error":"#N/A"}},null,{"$f":"OFFSET(業務!$L$5,MATCH($AE86,業務!$D$6:$D$59,0),0)","v":{"$error":"#N/A"}},null,null,{"$f":"OFFSET(業務!$M$5,MATCH($AE86,業務!$D$6:$D$59,0),0)","v":{"$error":"#N/A"}},null,null,null,null,null,{"$f":"OFFSET(業務!$N$5,MATCH($AE86,業務!$D$6:$D$59,0),0)","v":{"$error":"#N/A"}},null,null,null,null,null,null,{"$f":"OFFSET(業務!$O$5,MATCH($AE86,業務!$D$6:$D$59,0),0)","v":{"$error":"#N/A"}},null,null,{"$f":"OFFSET(業務!$P$5,MATCH($AE86,業務!$D$6:$D$59,0),0)","v":{"$error":"#N/A"}},null,{"$f":"OFFSET(業務!$Q$5,MATCH($AE86,業務!$D$6:$D$59,0),0)","v":{"$error":"#N/A"}},null,{"$f":"OFFSET(業務!$R$5,MATCH($AE86,業務!$D$6:$D$59,0),0)","v":{"$error":"#N/A"}},null,null,14,null,null,null,null,null,null,0]
[null,null,{"$f":"OFFSET(業務!$K$5,MATCH($AE87,業務!$D$6:$D$59,0),0)","v":{"$error":"#N/A"}},null,{"$f":"OFFSET(業務!$L$5,MATCH($AE87,業務!$D$6:$D$59,0),0)","v":{"$error":"#N/A"}},null,null,{"$f":"OFFSET(業務!$M$5,MATCH($AE87,業務!$D$6:$D$59,0),0)","v":{"$error":"#N/A"}},null,null,null,null,null,{"$f":"OFFSET(業務!$N$5,MATCH($AE87,業務!$D$6:$D$59,0),0)","v":{"$error":"#N/A"}},null,null,null,null,null,null,{"$f":"OFFSET(業務!$O$5,MATCH($AE87,業務!$D$6:$D$59,0),0)","v":{"$error":"#N/A"}},null,null,{"$f":"OFFSET(業務!$P$5,MATCH($AE87,業務!$D$6:$D$59,0),0)","v":{"$error":"#N/A"}},null,{"$f":"OFFSET(業務!$Q$5,MATCH($AE87,業務!$D$6:$D$59,0),0)","v":{"$error":"#N/A"}},null,{"$f":"OFFSET(業務!$R$5,MATCH($AE87,業務!$D$6:$D$59,0),0)","v":{"$error":"#N/A"}},null,null,15,null,null,null,null,null,null,0]
[null,null,{"$f":"OFFSET(業務!$K$5,MATCH($AE88,業務!$D$6:$D$59,0),0)","v":{"$error":"#N/A"}},null,{"$f":"OFFSET(業務!$L$5,MATCH($AE88,業務!$D$6:$D$59,0),0)","v":{"$error":"#N/A"}},null,null,{"$f":"OFFSET(業務!$M$5,MATCH($AE88,業務!$D$6:$D$59,0),0)","v":{"$error":"#N/A"}},null,null,null,null,null,{"$f":"OFFSET(業務!$N$5,MATCH($AE88,業務!$D$6:$D$59,0),0)","v":{"$error":"#N/A"}},null,null,null,null,null,null,{"$f":"OFFSET(業務!$O$5,MATCH($AE88,業務!$D$6:$D$59,0),0)","v":{"$error":"#N/A"}},null,null,{"$f":"OFFSET(業務!$P$5,MATCH($AE88,業務!$D$6:$D$59,0),0)","v":{"$error":"#N/A"}},null,{"$f":"OFFSET(業務!$Q$5,MATCH($AE88,業務!$D$6:$D$59,0),0)","v":{"$error":"#N/A"}},null,{"$f":"OFFSET(業務!$R$5,MATCH($AE88,業務!$D$6:$D$59,0),0)","v":{"$error":"#N/A"}},null,null,16,null,null,null,null,null,null,0]
[null,null,{"$f":"OFFSET(業務!$K$5,MATCH($AE89,業務!$D$6:$D$59,0),0)","v":{"$error":"#N/A"}},null,{"$f":"OFFSET(業務!$L$5,MATCH($AE89,業務!$D$6:$D$59,0),0)","v":{"$error":"#N/A"}},null,null,{"$f":"OFFSET(業務!$M$5,MATCH($AE89,業務!$D$6:$D$59,0),0)","v":{"$error":"#N/A"}},null,null,null,null,null,{"$f":"OFFSET(業務!$N$5,MATCH($AE89,業務!$D$6:$D$59,0),0)","v":{"$error":"#N/A"}},null,null,null,null,null,null,{"$f":"OFFSET(業務!$O$5,MATCH($AE89,業務!$D$6:$D$59,0),0)","v":{"$error":"#N/A"}},null,null,{"$f":"OFFSET(業務!$P$5,MATCH($AE89,業務!$D$6:$D$59,0),0)","v":{"$error":"#N/A"}},null,{"$f":"OFFSET(業務!$Q$5,MATCH($AE89,業務!$D$6:$D$59,0),0)","v":{"$error":"#N/A"}},null,{"$f":"OFFSET(業務!$R$5,MATCH($AE89,業務!$D$6:$D$59,0),0)","v":{"$error":"#N/A"}},null,null,17,null,null,null,null,null,null,0]
[null,null,{"$f":"OFFSET(業務!$K$5,MATCH($AE90,業務!$D$6:$D$59,0),0)","v":{"$error":"#N/A"}},null,{"$f":"OFFSET(業務!$L$5,MATCH($AE90,業務!$D$6:$D$59,0),0)","v":{"$error":"#N/A"}},null,null,{"$f":"OFFSET(業務!$M$5,MATCH($AE90,業務!$D$6:$D$59,0),0)","v":{"$error":"#N/A"}},null,null,null,null,null,{"$f":"OFFSET(業務!$N$5,MATCH($AE90,業務!$D$6:$D$59,0),0)","v":{"$error":"#N/A"}},null,null,null,null,null,null,{"$f":"OFFSET(業務!$O$5,MATCH($AE90,業務!$D$6:$D$59,0),0)","v":{"$error":"#N/A"}},null,null,{"$f":"OFFSET(業務!$P$5,MATCH($AE90,業務!$D$6:$D$59,0),0)","v":{"$error":"#N/A"}},null,{"$f":"OFFSET(業務!$Q$5,MATCH($AE90,業務!$D$6:$D$59,0),0)","v":{"$error":"#N/A"}},null,{"$f":"OFFSET(業務!$R$5,MATCH($AE90,業務!$D$6:$D$59,0),0)","v":{"$error":"#N/A"}},null,null,18,null,null,null,null,null,null,0]
[null,null,{"$f":"OFFSET(業務!$K$5,MATCH($AE91,業務!$D$6:$D$59,0),0)","v":{"$error":"#N/A"}},null,{"$f":"OFFSET(業務!$L$5,MATCH($AE91,業務!$D$6:$D$59,0),0)","v":{"$error":"#N/A"}},null,null,{"$f":"OFFSET(業務!$M$5,MATCH($AE91,業務!$D$6:$D$59,0),0)","v":{"$error":"#N/A"}},null,null,null,null,null,{"$f":"OFFSET(業務!$N$5,MATCH($AE91,業務!$D$6:$D$59,0),0)","v":{"$error":"#N/A"}},null,null,null,null,null,null,{"$f":"OFFSET(業務!$O$5,MATCH($AE91,業務!$D$6:$D$59,0),0)","v":{"$error":"#N/A"}},null,null,{"$f":"OFFSET(業務!$P$5,MATCH($AE91,業務!$D$6:$D$59,0),0)","v":{"$error":"#N/A"}},null,{"$f":"OFFSET(業務!$Q$5,MATCH($AE91,業務!$D$6:$D$59,0),0)","v":{"$error":"#N/A"}},null,{"$f":"OFFSET(業務!$R$5,MATCH($AE91,業務!$D$6:$D$59,0),0)","v":{"$error":"#N/A"}},null,null,19,null,null,null,null,null,null,0]
[null,null,{"$f":"OFFSET(業務!$K$5,MATCH($AE92,業務!$D$6:$D$59,0),0)","v":{"$error":"#N/A"}},null,{"$f":"OFFSET(業務!$L$5,MATCH($AE92,業務!$D$6:$D$59,0),0)","v":{"$error":"#N/A"}},null,null,{"$f":"OFFSET(業務!$M$5,MATCH($AE92,業務!$D$6:$D$59,0),0)","v":{"$error":"#N/A"}},null,null,null,null,null,{"$f":"OFFSET(業務!$N$5,MATCH($AE92,業務!$D$6:$D$59,0),0)","v":{"$error":"#N/A"}},null,null,null,null,null,null,{"$f":"OFFSET(業務!$O$5,MATCH($AE92,業務!$D$6:$D$59,0),0)","v":{"$error":"#N/A"}},null,null,{"$f":"OFFSET(業務!$P$5,MATCH($AE92,業務!$D$6:$D$59,0),0)","v":{"$error":"#N/A"}},null,{"$f":"OFFSET(業務!$Q$5,MATCH($AE92,業務!$D$6:$D$59,0),0)","v":{"$error":"#N/A"}},null,{"$f":"OFFSET(業務!$R$5,MATCH($AE92,業務!$D$6:$D$59,0),0)","v":{"$error":"#N/A"}},null,null,20,null,null,null,null,null,null,0]
[null,null,{"$f":"OFFSET(業務!$K$5,MATCH($AE93,業務!$D$6:$D$59,0),0)","v":{"$error":"#N/A"}},null,{"$f":"OFFSET(業務!$L$5,MATCH($AE93,業務!$D$6:$D$59,0),0)","v":{"$error":"#N/A"}},null,null,{"$f":"OFFSET(業務!$M$5,MATCH($AE93,業務!$D$6:$D$59,0),0)","v":{"$error":"#N/A"}},null,null,null,null,null,{"$f":"OFFSET(業務!$N$5,MATCH($AE93,業務!$D$6:$D$59,0),0)","v":{"$error":"#N/A"}},null,null,null,null,null,null,{"$f":"OFFSET(業務!$O$5,MATCH($AE93,業務!$D$6:$D$59,0),0)","v":{"$error":"#N/A"}},null,null,{"$f":"OFFSET(業務!$P$5,MATCH($AE93,業務!$D$6:$D$59,0),0)","v":{"$error":"#N/A"}},null,{"$f":"OFFSET(業務!$Q$5,MATCH($AE93,業務!$D$6:$D$59,0),0)","v":{"$error":"#N/A"}},null,{"$f":"OFFSET(業務!$R$5,MATCH($AE93,業務!$D$6:$D$59,0),0)","v":{"$error":"#N/A"}},null,null,21,null,null,null,null,null,null,0]
[null,null,{"$f":"OFFSET(業務!$K$5,MATCH($AE94,業務!$D$6:$D$59,0),0)","v":{"$error":"#N/A"}},null,{"$f":"OFFSET(業務!$L$5,MATCH($AE94,業務!$D$6:$D$59,0),0)","v":{"$error":"#N/A"}},null,null,{"$f":"OFFSET(業務!$M$5,MATCH($AE94,業務!$D$6:$D$59,0),0)","v":{"$error":"#N/A"}},null,null,null,null,null,{"$f":"OFFSET(業務!$N$5,MATCH($AE94,業務!$D$6:$D$59,0),0)","v":{"$error":"#N/A"}},null,null,null,null,null,null,{"$f":"OFFSET(業務!$O$5,MATCH($AE94,業務!$D$6:$D$59,0),0)","v":{"$error":"#N/A"}},null,null,{"$f":"OFFSET(業務!$P$5,MATCH($AE94,業務!$D$6:$D$59,0),0)","v":{"$error":"#N/A"}},null,{"$f":"OFFSET(業務!$Q$5,MATCH($AE94,業務!$D$6:$D$59,0),0)","v":{"$error":"#N/A"}},null,{"$f":"OFFSET(業務!$R$5,MATCH($AE94,業務!$D$6:$D$59,0),0)","v":{"$error":"#N/A"}},null,null,22,null,null,null,null,null,null,0]
[null,null,{"$f":"OFFSET(業務!$K$5,MATCH($AE95,業務!$D$6:$D$59,0),0)","v":{"$error":"#N/A"}},null,{"$f":"OFFSET(業務!$L$5,MATCH($AE95,業務!$D$6:$D$59,0),0)","v":{"$error":"#N/A"}},null,null,{"$f":"OFFSET(業務!$M$5,MATCH($AE95,業務!$D$6:$D$59,0),0)","v":{"$error":"#N/A"}},null,null,null,null,null,{"$f":"OFFSET(業務!$N$5,MATCH($AE95,業務!$D$6:$D$59,0),0)","v":{"$error":"#N/A"}},null,null,null,null,null,null,{"$f":"OFFSET(業務!$O$5,MATCH($AE95,業務!$D$6:$D$59,0),0)","v":{"$error":"#N/A"}},null,null,{"$f":"OFFSET(業務!$P$5,MATCH($AE95,業務!$D$6:$D$59,0),0)","v":{"$error":"#N/A"}},null,{"$f":"OFFSET(業務!$Q$5,MATCH($AE95,業務!$D$6:$D$59,0),0)","v":{"$error":"#N/A"}},null,{"$f":"OFFSET(業務!$R$5,MATCH($AE95,業務!$D$6:$D$59,0),0)","v":{"$error":"#N/A"}},null,null,23,null,null,null,null,null,null,0]
[null,null,{"$f":"OFFSET(業務!$K$5,MATCH($AE96,業務!$D$6:$D$59,0),0)","v":{"$error":"#N/A"}},null,{"$f":"OFFSET(業務!$L$5,MATCH($AE96,業務!$D$6:$D$59,0),0)","v":{"$error":"#N/A"}},null,null,{"$f":"OFFSET(業務!$M$5,MATCH($AE96,業務!$D$6:$D$59,0),0)","v":{"$error":"#N/A"}},null,null,null,null,null,{"$f":"OFFSET(業務!$N$5,MATCH($AE96,業務!$D$6:$D$59,0),0)","v":{"$error":"#N/A"}},null,null,null,null,null,null,{"$f":"OFFSET(業務!$O$5,MATCH($AE96,業務!$D$6:$D$59,0),0)","v":{"$error":"#N/A"}},null,null,{"$f":"OFFSET(業務!$P$5,MATCH($AE96,業務!$D$6:$D$59,0),0)","v":{"$error":"#N/A"}},null,{"$f":"OFFSET(業務!$Q$5,MATCH($AE96,業務!$D$6:$D$59,0),0)","v":{"$error":"#N/A"}},null,{"$f":"OFFSET(業務!$R$5,MATCH($AE96,業務!$D$6:$D$59,0),0)","v":{"$error":"#N/A"}},null,null,24,null,null,null,null,null,null,0]
[null,null,{"$f":"OFFSET(業務!$K$5,MATCH($AE97,業務!$D$6:$D$59,0),0)","v":{"$error":"#N/A"}},null,{"$f":"OFFSET(業務!$L$5,MATCH($AE97,業務!$D$6:$D$59,0),0)","v":{"$error":"#N/A"}},null,null,{"$f":"OFFSET(業務!$M$5,MATCH($AE97,業務!$D$6:$D$59,0),0)","v":{"$error":"#N/A"}},null,null,null,null,null,{"$f":"OFFSET(業務!$N$5,MATCH($AE97,業務!$D$6:$D$59,0),0)","v":{"$error":"#N/A"}},null,null,null,null,null,null,{"$f":"OFFSET(業務!$O$5,MATCH($AE97,業務!$D$6:$D$59,0),0)","v":{"$error":"#N/A"}},null,null,{"$f":"OFFSET(業務!$P$5,MATCH($AE97,業務!$D$6:$D$59,0),0)","v":{"$error":"#N/A"}},null,{"$f":"OFFSET(業務!$Q$5,MATCH($AE97,業務!$D$6:$D$59,0),0)","v":{"$error":"#N/A"}},null,{"$f":"OFFSET(業務!$R$5,MATCH($AE97,業務!$D$6:$D$59,0),0)","v":{"$error":"#N/A"}},null,null,25,null,null,null,null,null,null,0]
[null,null,{"$f":"OFFSET(業務!$K$5,MATCH($AE98,業務!$D$6:$D$59,0),0)","v":{"$error":"#N/A"}},null,{"$f":"OFFSET(業務!$L$5,MATCH($AE98,業務!$D$6:$D$59,0),0)","v":{"$error":"#N/A"}},null,null,{"$f":"OFFSET(業務!$M$5,MATCH($AE98,業務!$D$6:$D$59,0),0)","v":{"$error":"#N/A"}},null,null,null,null,null,{"$f":"OFFSET(業務!$N$5,MATCH($AE98,業務!$D$6:$D$59,0),0)","v":{"$error":"#N/A"}},null,null,null,null,null,null,{"$f":"OFFSET(業務!$O$5,MATCH($AE98,業務!$D$6:$D$59,0),0)","v":{"$error":"#N/A"}},null,null,{"$f":"OFFSET(業務!$P$5,MATCH($AE98,業務!$D$6:$D$59,0),0)","v":{"$error":"#N/A"}},null,{"$f":"OFFSET(業務!$Q$5,MATCH($AE98,業務!$D$6:$D$59,0),0)","v":{"$error":"#N/A"}},null,{"$f":"OFFSET(業務!$R$5,MATCH($AE98,業務!$D$6:$D$59,0),0)","v":{"$error":"#N/A"}},null,null,26,null,null,null,null,null,null,0]
[null,null,{"$f":"OFFSET(業務!$K$5,MATCH($AE99,業務!$D$6:$D$59,0),0)","v":{"$error":"#N/A"}},null,{"$f":"OFFSET(業務!$L$5,MATCH($AE99,業務!$D$6:$D$59,0),0)","v":{"$error":"#N/A"}},null,null,{"$f":"OFFSET(業務!$M$5,MATCH($AE99,業務!$D$6:$D$59,0),0)","v":{"$error":"#N/A"}},null,null,null,null,null,{"$f":"OFFSET(業務!$N$5,MATCH($AE99,業務!$D$6:$D$59,0),0)","v":{"$error":"#N/A"}},null,null,null,null,null,null,{"$f":"OFFSET(業務!$O$5,MATCH($AE99,業務!$D$6:$D$59,0),0)","v":{"$error":"#N/A"}},null,null,{"$f":"OFFSET(業務!$P$5,MATCH($AE99,業務!$D$6:$D$59,0),0)","v":{"$error":"#N/A"}},null,{"$f":"OFFSET(業務!$Q$5,MATCH($AE99,業務!$D$6:$D$59,0),0)","v":{"$error":"#N/A"}},null,{"$f":"OFFSET(業務!$R$5,MATCH($AE99,業務!$D$6:$D$59,0),0)","v":{"$error":"#N/A"}},null,null,27,null,null,null,null,null,null,0]
[null,null,{"$f":"OFFSET(業務!$K$5,MATCH($AE100,業務!$D$6:$D$59,0),0)","v":{"$error":"#N/A"}},null,{"$f":"OFFSET(業務!$L$5,MATCH($AE100,業務!$D$6:$D$59,0),0)","v":{"$error":"#N/A"}},null,null,{"$f":"OFFSET(業務!$M$5,MATCH($AE100,業務!$D$6:$D$59,0),0)","v":{"$error":"#N/A"}},null,null,null,null,null,{"$f":"OFFSET(業務!$N$5,MATCH($AE100,業務!$D$6:$D$59,0),0)","v":{"$error":"#N/A"}},null,null,null,null,null,null,{"$f":"OFFSET(業務!$O$5,MATCH($AE100,業務!$D$6:$D$59,0),0)","v":{"$error":"#N/A"}},null,null,{"$f":"OFFSET(業務!$P$5,MATCH($AE100,業務!$D$6:$D$59,0),0)","v":{"$error":"#N/A"}},null,{"$f":"OFFSET(業務!$Q$5,MATCH($AE100,業務!$D$6:$D$59,0),0)","v":{"$error":"#N/A"}},null,{"$f":"OFFSET(業務!$R$5,MATCH($AE100,業務!$D$6:$D$59,0),0)","v":{"$error":"#N/A"}},null,null,28,null,null,null,null,null,null,0]
[null,null,{"$f":"OFFSET(業務!$K$5,MATCH($AE101,業務!$D$6:$D$59,0),0)","v":{"$error":"#N/A"}},null,{"$f":"OFFSET(業務!$L$5,MATCH($AE101,業務!$D$6:$D$59,0),0)","v":{"$error":"#N/A"}},null,null,{"$f":"OFFSET(業務!$M$5,MATCH($AE101,業務!$D$6:$D$59,0),0)","v":{"$error":"#N/A"}},null,null,null,null,null,{"$f":"OFFSET(業務!$N$5,MATCH($AE101,業務!$D$6:$D$59,0),0)","v":{"$error":"#N/A"}},null,null,null,null,null,null,{"$f":"OFFSET(業務!$O$5,MATCH($AE101,業務!$D$6:$D$59,0),0)","v":{"$error":"#N/A"}},null,null,{"$f":"OFFSET(業務!$P$5,MATCH($AE101,業務!$D$6:$D$59,0),0)","v":{"$error":"#N/A"}},null,{"$f":"OFFSET(業務!$Q$5,MATCH($AE101,業務!$D$6:$D$59,0),0)","v":{"$error":"#N/A"}},null,{"$f":"OFFSET(業務!$R$5,MATCH($AE101,業務!$D$6:$D$59,0),0)","v":{"$error":"#N/A"}},null,null,29,null,null,null,null,null,null,0]
[null,null,{"$f":"OFFSET(業務!$K$5,MATCH($AE102,業務!$D$6:$D$59,0),0)","v":{"$error":"#N/A"}},null,{"$f":"OFFSET(業務!$L$5,MATCH($AE102,業務!$D$6:$D$59,0),0)","v":{"$error":"#N/A"}},null,null,{"$f":"OFFSET(業務!$M$5,MATCH($AE102,業務!$D$6:$D$59,0),0)","v":{"$error":"#N/A"}},null,null,null,null,null,{"$f":"OFFSET(業務!$N$5,MATCH($AE102,業務!$D$6:$D$59,0),0)","v":{"$error":"#N/A"}},null,null,null,null,null,null,{"$f":"OFFSET(業務!$O$5,MATCH($AE102,業務!$D$6:$D$59,0),0)","v":{"$error":"#N/A"}},null,null,{"$f":"OFFSET(業務!$P$5,MATCH($AE102,業務!$D$6:$D$59,0),0)","v":{"$error":"#N/A"}},null,{"$f":"OFFSET(業務!$Q$5,MATCH($AE102,業務!$D$6:$D$59,0),0)","v":{"$error":"#N/A"}},null,{"$f":"OFFSET(業務!$R$5,MATCH($AE102,業務!$D$6:$D$59,0),0)","v":{"$error":"#N/A"}},null,null,30,null,null,null,null,null,null,0]
[null,null,{"$f":"OFFSET(業務!$K$5,MATCH($AE103,業務!$D$6:$D$59,0),0)","v":{"$error":"#N/A"}},null,{"$f":"OFFSET(業務!$L$5,MATCH($AE103,業務!$D$6:$D$59,0),0)","v":{"$error":"#N/A"}},null,null,{"$f":"OFFSET(業務!$M$5,MATCH($AE103,業務!$D$6:$D$59,0),0)","v":{"$error":"#N/A"}},null,null,null,null,null,{"$f":"OFFSET(業務!$N$5,MATCH($AE103,業務!$D$6:$D$59,0),0)","v":{"$error":"#N/A"}},null,null,null,null,null,null,{"$f":"OFFSET(業務!$O$5,MATCH($AE103,業務!$D$6:$D$59,0),0)","v":{"$error":"#N/A"}},null,null,{"$f":"OFFSET(業務!$P$5,MATCH($AE103,業務!$D$6:$D$59,0),0)","v":{"$error":"#N/A"}},null,{"$f":"OFFSET(業務!$Q$5,MATCH($AE103,業務!$D$6:$D$59,0),0)","v":{"$error":"#N/A"}},null,{"$f":"OFFSET(業務!$R$5,MATCH($AE103,業務!$D$6:$D$59,0),0)","v":{"$error":"#N/A"}},null,null,31,null,null,null,null,null,null,0]
[null,null,{"$f":"OFFSET(業務!$K$5,MATCH($AE104,業務!$D$6:$D$59,0),0)","v":{"$error":"#N/A"}},null,{"$f":"OFFSET(業務!$L$5,MATCH($AE104,業務!$D$6:$D$59,0),0)","v":{"$error":"#N/A"}},null,null,{"$f":"OFFSET(業務!$M$5,MATCH($AE104,業務!$D$6:$D$59,0),0)","v":{"$error":"#N/A"}},null,null,null,null,null,{"$f":"OFFSET(業務!$N$5,MATCH($AE104,業務!$D$6:$D$59,0),0)","v":{"$error":"#N/A"}},null,null,null,null,null,null,{"$f":"OFFSET(業務!$O$5,MATCH($AE104,業務!$D$6:$D$59,0),0)","v":{"$error":"#N/A"}},null,null,{"$f":"OFFSET(業務!$P$5,MATCH($AE104,業務!$D$6:$D$59,0),0)","v":{"$error":"#N/A"}},null,{"$f":"OFFSET(業務!$Q$5,MATCH($AE104,業務!$D$6:$D$59,0),0)","v":{"$error":"#N/A"}},null,{"$f":"OFFSET(業務!$R$5,MATCH($AE104,業務!$D$6:$D$59,0),0)","v":{"$error":"#N/A"}},null,null,32,null,null,null,null,null,null,0]
[null,null,{"$f":"OFFSET(業務!$K$5,MATCH($AE105,業務!$D$6:$D$59,0),0)","v":{"$error":"#N/A"}},null,{"$f":"OFFSET(業務!$L$5,MATCH($AE105,業務!$D$6:$D$59,0),0)","v":{"$error":"#N/A"}},null,null,{"$f":"OFFSET(業務!$M$5,MATCH($AE105,業務!$D$6:$D$59,0),0)","v":{"$error":"#N/A"}},null,null,null,null,null,{"$f":"OFFSET(業務!$N$5,MATCH($AE105,業務!$D$6:$D$59,0),0)","v":{"$error":"#N/A"}},null,null,null,null,null,null,{"$f":"OFFSET(業務!$O$5,MATCH($AE105,業務!$D$6:$D$59,0),0)","v":{"$error":"#N/A"}},null,null,{"$f":"OFFSET(業務!$P$5,MATCH($AE105,業務!$D$6:$D$59,0),0)","v":{"$error":"#N/A"}},null,{"$f":"OFFSET(業務!$Q$5,MATCH($AE105,業務!$D$6:$D$59,0),0)","v":{"$error":"#N/A"}},null,{"$f":"OFFSET(業務!$R$5,MATCH($AE105,業務!$D$6:$D$59,0),0)","v":{"$error":"#N/A"}},null,null,33,null,null,null,null,null,null,0]
[null,null,{"$f":"OFFSET(業務!$K$5,MATCH($AE106,業務!$D$6:$D$59,0),0)","v":{"$error":"#N/A"}},null,{"$f":"OFFSET(業務!$L$5,MATCH($AE106,業務!$D$6:$D$59,0),0)","v":{"$error":"#N/A"}},null,null,{"$f":"OFFSET(業務!$M$5,MATCH($AE106,業務!$D$6:$D$59,0),0)","v":{"$error":"#N/A"}},null,null,null,null,null,{"$f":"OFFSET(業務!$N$5,MATCH($AE106,業務!$D$6:$D$59,0),0)","v":{"$error":"#N/A"}},null,null,null,null,null,null,{"$f":"OFFSET(業務!$O$5,MATCH($AE106,業務!$D$6:$D$59,0),0)","v":{"$error":"#N/A"}},null,null,{"$f":"OFFSET(業務!$P$5,MATCH($AE106,業務!$D$6:$D$59,0),0)","v":{"$error":"#N/A"}},null,{"$f":"OFFSET(業務!$Q$5,MATCH($AE106,業務!$D$6:$D$59,0),0)","v":{"$error":"#N/A"}},null,{"$f":"OFFSET(業務!$R$5,MATCH($AE106,業務!$D$6:$D$59,0),0)","v":{"$error":"#N/A"}},null,null,34,null,null,null,null,null,null,0]
[null,null,{"$f":"OFFSET(業務!$K$5,MATCH($AE107,業務!$D$6:$D$59,0),0)","v":{"$error":"#N/A"}},null,{"$f":"OFFSET(業務!$L$5,MATCH($AE107,業務!$D$6:$D$59,0),0)","v":{"$error":"#N/A"}},null,null,{"$f":"OFFSET(業務!$M$5,MATCH($AE107,業務!$D$6:$D$59,0),0)","v":{"$error":"#N/A"}},null,null,null,null,null,{"$f":"OFFSET(業務!$N$5,MATCH($AE107,業務!$D$6:$D$59,0),0)","v":{"$error":"#N/A"}},null,null,null,null,null,null,{"$f":"OFFSET(業務!$O$5,MATCH($AE107,業務!$D$6:$D$59,0),0)","v":{"$error":"#N/A"}},null,null,{"$f":"OFFSET(業務!$P$5,MATCH($AE107,業務!$D$6:$D$59,0),0)","v":{"$error":"#N/A"}},null,{"$f":"OFFSET(業務!$Q$5,MATCH($AE107,業務!$D$6:$D$59,0),0)","v":{"$error":"#N/A"}},null,{"$f":"OFFSET(業務!$R$5,MATCH($AE107,業務!$D$6:$D$59,0),0)","v":{"$error":"#N/A"}},null,null,35,null,null,null,null,null,null,0]
[null,null,{"$f":"OFFSET(業務!$K$5,MATCH($AE108,業務!$D$6:$D$59,0),0)","v":{"$error":"#N/A"}},null,{"$f":"OFFSET(業務!$L$5,MATCH($AE108,業務!$D$6:$D$59,0),0)","v":{"$error":"#N/A"}},null,null,{"$f":"OFFSET(業務!$M$5,MATCH($AE108,業務!$D$6:$D$59,0),0)","v":{"$error":"#N/A"}},null,null,null,null,null,{"$f":"OFFSET(業務!$N$5,MATCH($AE108,業務!$D$6:$D$59,0),0)","v":{"$error":"#N/A"}},null,null,null,null,null,null,{"$f":"OFFSET(業務!$O$5,MATCH($AE108,業務!$D$6:$D$59,0),0)","v":{"$error":"#N/A"}},null,null,{"$f":"OFFSET(業務!$P$5,MATCH($AE108,業務!$D$6:$D$59,0),0)","v":{"$error":"#N/A"}},null,{"$f":"OFFSET(業務!$Q$5,MATCH($AE108,業務!$D$6:$D$59,0),0)","v":{"$error":"#N/A"}},null,{"$f":"OFFSET(業務!$R$5,MATCH($AE108,業務!$D$6:$D$59,0),0)","v":{"$error":"#N/A"}},null,null,36,null,null,null,null,null,null,0]
[null,null,{"$f":"OFFSET(業務!$K$5,MATCH($AE109,業務!$D$6:$D$59,0),0)","v":{"$error":"#N/A"}},null,{"$f":"OFFSET(業務!$L$5,MATCH($AE109,業務!$D$6:$D$59,0),0)","v":{"$error":"#N/A"}},null,null,{"$f":"OFFSET(業務!$M$5,MATCH($AE109,業務!$D$6:$D$59,0),0)","v":{"$error":"#N/A"}},null,null,null,null,null,{"$f":"OFFSET(業務!$N$5,MATCH($AE109,業務!$D$6:$D$59,0),0)","v":{"$error":"#N/A"}},null,null,null,null,null,null,{"$f":"OFFSET(業務!$O$5,MATCH($AE109,業務!$D$6:$D$59,0),0)","v":{"$error":"#N/A"}},null,null,{"$f":"OFFSET(業務!$P$5,MATCH($AE109,業務!$D$6:$D$59,0),0)","v":{"$error":"#N/A"}},null,{"$f":"OFFSET(業務!$Q$5,MATCH($AE109,業務!$D$6:$D$59,0),0)","v":{"$error":"#N/A"}},null,{"$f":"OFFSET(業務!$R$5,MATCH($AE109,業務!$D$6:$D$59,0),0)","v":{"$error":"#N/A"}},null,null,37,null,null,null,null,null,null,0]
[null,null,{"$f":"OFFSET(業務!$K$5,MATCH($AE110,業務!$D$6:$D$59,0),0)","v":{"$error":"#N/A"}},null,{"$f":"OFFSET(業務!$L$5,MATCH($AE110,業務!$D$6:$D$59,0),0)","v":{"$error":"#N/A"}},null,null,{"$f":"OFFSET(業務!$M$5,MATCH($AE110,業務!$D$6:$D$59,0),0)","v":{"$error":"#N/A"}},null,null,null,null,null,{"$f":"OFFSET(業務!$N$5,MATCH($AE110,業務!$D$6:$D$59,0),0)","v":{"$error":"#N/A"}},null,null,null,null,null,null,{"$f":"OFFSET(業務!$O$5,MATCH($AE110,業務!$D$6:$D$59,0),0)","v":{"$error":"#N/A"}},null,null,{"$f":"OFFSET(業務!$P$5,MATCH($AE110,業務!$D$6:$D$59,0),0)","v":{"$error":"#N/A"}},null,{"$f":"OFFSET(業務!$Q$5,MATCH($AE110,業務!$D$6:$D$59,0),0)","v":{"$error":"#N/A"}},null,{"$f":"OFFSET(業務!$R$5,MATCH($AE110,業務!$D$6:$D$59,0),0)","v":{"$error":"#N/A"}},null,null,38,null,null,null,null,null,null,0]
[null,null,{"$f":"OFFSET(業務!$K$5,MATCH($AE111,業務!$D$6:$D$59,0),0)","v":{"$error":"#N/A"}},null,{"$f":"OFFSET(業務!$L$5,MATCH($AE111,業務!$D$6:$D$59,0),0)","v":{"$error":"#N/A"}},null,null,{"$f":"OFFSET(業務!$M$5,MATCH($AE111,業務!$D$6:$D$59,0),0)","v":{"$error":"#N/A"}},null,null,null,null,null,{"$f":"OFFSET(業務!$N$5,MATCH($AE111,業務!$D$6:$D$59,0),0)","v":{"$error":"#N/A"}},null,null,null,null,null,null,{"$f":"OFFSET(業務!$O$5,MATCH($AE111,業務!$D$6:$D$59,0),0)","v":{"$error":"#N/A"}},null,null,{"$f":"OFFSET(業務!$P$5,MATCH($AE111,業務!$D$6:$D$59,0),0)","v":{"$error":"#N/A"}},null,{"$f":"OFFSET(業務!$Q$5,MATCH($AE111,業務!$D$6:$D$59,0),0)","v":{"$error":"#N/A"}},null,{"$f":"OFFSET(業務!$R$5,MATCH($AE111,業務!$D$6:$D$59,0),0)","v":{"$error":"#N/A"}},null,null,39,null,null,null,null,null,null,0]
[null,null,{"$f":"OFFSET(業務!$K$5,MATCH($AE112,業務!$D$6:$D$59,0),0)","v":{"$error":"#N/A"}},null,{"$f":"OFFSET(業務!$L$5,MATCH($AE112,業務!$D$6:$D$59,0),0)","v":{"$error":"#N/A"}},null,null,{"$f":"OFFSET(業務!$M$5,MATCH($AE112,業務!$D$6:$D$59,0),0)","v":{"$error":"#N/A"}},null,null,null,null,null,{"$f":"OFFSET(業務!$N$5,MATCH($AE112,業務!$D$6:$D$59,0),0)","v":{"$error":"#N/A"}},null,null,null,null,null,null,{"$f":"OFFSET(業務!$O$5,MATCH($AE112,業務!$D$6:$D$59,0),0)","v":{"$error":"#N/A"}},null,null,{"$f":"OFFSET(業務!$P$5,MATCH($AE112,業務!$D$6:$D$59,0),0)","v":{"$error":"#N/A"}},null,{"$f":"OFFSET(業務!$Q$5,MATCH($AE112,業務!$D$6:$D$59,0),0)","v":{"$error":"#N/A"}},null,{"$f":"OFFSET(業務!$R$5,MATCH($AE112,業務!$D$6:$D$59,0),0)","v":{"$error":"#N/A"}},null,null,40,null,null,null,null,null,null,0]
[null,null,{"$f":"OFFSET(業務!$K$5,MATCH($AE113,業務!$D$6:$D$59,0),0)","v":{"$error":"#N/A"}},null,{"$f":"OFFSET(業務!$L$5,MATCH($AE113,業務!$D$6:$D$59,0),0)","v":{"$error":"#N/A"}},null,null,{"$f":"OFFSET(業務!$M$5,MATCH($AE113,業務!$D$6:$D$59,0),0)","v":{"$error":"#N/A"}},null,null,null,null,null,{"$f":"OFFSET(業務!$N$5,MATCH($AE113,業務!$D$6:$D$59,0),0)","v":{"$error":"#N/A"}},null,null,null,null,null,null,{"$f":"OFFSET(業務!$O$5,MATCH($AE113,業務!$D$6:$D$59,0),0)","v":{"$error":"#N/A"}},null,null,{"$f":"OFFSET(業務!$P$5,MATCH($AE113,業務!$D$6:$D$59,0),0)","v":{"$error":"#N/A"}},null,{"$f":"OFFSET(業務!$Q$5,MATCH($AE113,業務!$D$6:$D$59,0),0)","v":{"$error":"#N/A"}},null,{"$f":"OFFSET(業務!$R$5,MATCH($AE113,業務!$D$6:$D$59,0),0)","v":{"$error":"#N/A"}},null,null,41,null,null,null,null,null,null,0]
[null,null,{"$f":"OFFSET(業務!$K$5,MATCH($AE114,業務!$D$6:$D$59,0),0)","v":{"$error":"#N/A"}},null,{"$f":"OFFSET(業務!$L$5,MATCH($AE114,業務!$D$6:$D$59,0),0)","v":{"$error":"#N/A"}},null,null,{"$f":"OFFSET(業務!$M$5,MATCH($AE114,業務!$D$6:$D$59,0),0)","v":{"$error":"#N/A"}},null,null,null,null,null,{"$f":"OFFSET(業務!$N$5,MATCH($AE114,業務!$D$6:$D$59,0),0)","v":{"$error":"#N/A"}},null,null,null,null,null,null,{"$f":"OFFSET(業務!$O$5,MATCH($AE114,業務!$D$6:$D$59,0),0)","v":{"$error":"#N/A"}},null,null,{"$f":"OFFSET(業務!$P$5,MATCH($AE114,業務!$D$6:$D$59,0),0)","v":{"$error":"#N/A"}},null,{"$f":"OFFSET(業務!$Q$5,MATCH($AE114,業務!$D$6:$D$59,0),0)","v":{"$error":"#N/A"}},null,{"$f":"OFFSET(業務!$R$5,MATCH($AE114,業務!$D$6:$D$59,0),0)","v":{"$error":"#N/A"}},null,null,42,null,null,null,null,null,null,0]
[null,null,{"$f":"OFFSET(業務!$K$5,MATCH($AE115,業務!$D$6:$D$59,0),0)","v":{"$error":"#N/A"}},null,{"$f":"OFFSET(業務!$L$5,MATCH($AE115,業務!$D$6:$D$59,0),0)","v":{"$error":"#N/A"}},null,null,{"$f":"OFFSET(業務!$M$5,MATCH($AE115,業務!$D$6:$D$59,0),0)","v":{"$error":"#N/A"}},null,null,null,null,null,{"$f":"OFFSET(業務!$N$5,MATCH($AE115,業務!$D$6:$D$59,0),0)","v":{"$error":"#N/A"}},null,null,null,null,null,null,{"$f":"OFFSET(業務!$O$5,MATCH($AE115,業務!$D$6:$D$59,0),0)","v":{"$error":"#N/A"}},null,null,{"$f":"OFFSET(業務!$P$5,MATCH($AE115,業務!$D$6:$D$59,0),0)","v":{"$error":"#N/A"}},null,{"$f":"OFFSET(業務!$Q$5,MATCH($AE115,業務!$D$6:$D$59,0),0)","v":{"$error":"#N/A"}},null,{"$f":"OFFSET(業務!$R$5,MATCH($AE115,業務!$D$6:$D$59,0),0)","v":{"$error":"#N/A"}},null,null,43,null,null,null,null,null,null,0]
[null,null,{"$f":"OFFSET(業務!$K$5,MATCH($AE116,業務!$D$6:$D$59,0),0)","v":{"$error":"#N/A"}},null,{"$f":"OFFSET(業務!$L$5,MATCH($AE116,業務!$D$6:$D$59,0),0)","v":{"$error":"#N/A"}},null,null,{"$f":"OFFSET(業務!$M$5,MATCH($AE116,業務!$D$6:$D$59,0),0)","v":{"$error":"#N/A"}},null,null,null,null,null,{"$f":"OFFSET(業務!$N$5,MATCH($AE116,業務!$D$6:$D$59,0),0)","v":{"$error":"#N/A"}},null,null,null,null,null,null,{"$f":"OFFSET(業務!$O$5,MATCH($AE116,業務!$D$6:$D$59,0),0)","v":{"$error":"#N/A"}},null,null,{"$f":"OFFSET(業務!$P$5,MATCH($AE116,業務!$D$6:$D$59,0),0)","v":{"$error":"#N/A"}},null,{"$f":"OFFSET(業務!$Q$5,MATCH($AE116,業務!$D$6:$D$59,0),0)","v":{"$error":"#N/A"}},null,{"$f":"OFFSET(業務!$R$5,MATCH($AE116,業務!$D$6:$D$59,0),0)","v":{"$error":"#N/A"}},null,null,44,null,null,null,null,null,null,0]
[null,null,{"$f":"OFFSET(業務!$K$5,MATCH($AE117,業務!$D$6:$D$59,0),0)","v":{"$error":"#N/A"}},null,{"$f":"OFFSET(業務!$L$5,MATCH($AE117,業務!$D$6:$D$59,0),0)","v":{"$error":"#N/A"}},null,null,{"$f":"OFFSET(業務!$M$5,MATCH($AE117,業務!$D$6:$D$59,0),0)","v":{"$error":"#N/A"}},null,null,null,null,null,{"$f":"OFFSET(業務!$N$5,MATCH($AE117,業務!$D$6:$D$59,0),0)","v":{"$error":"#N/A"}},null,null,null,null,null,null,{"$f":"OFFSET(業務!$O$5,MATCH($AE117,業務!$D$6:$D$59,0),0)","v":{"$error":"#N/A"}},null,null,{"$f":"OFFSET(業務!$P$5,MATCH($AE117,業務!$D$6:$D$59,0),0)","v":{"$error":"#N/A"}},null,{"$f":"OFFSET(業務!$Q$5,MATCH($AE117,業務!$D$6:$D$59,0),0)","v":{"$error":"#N/A"}},null,{"$f":"OFFSET(業務!$R$5,MATCH($AE117,業務!$D$6:$D$59,0),0)","v":{"$error":"#N/A"}},null,null,45,null,null,null,null,null,null,0]
[null,null,{"$f":"OFFSET(業務!$K$5,MATCH($AE118,業務!$D$6:$D$59,0),0)","v":{"$error":"#N/A"}},null,{"$f":"OFFSET(業務!$L$5,MATCH($AE118,業務!$D$6:$D$59,0),0)","v":{"$error":"#N/A"}},null,null,{"$f":"OFFSET(業務!$M$5,MATCH($AE118,業務!$D$6:$D$59,0),0)","v":{"$error":"#N/A"}},null,null,null,null,null,{"$f":"OFFSET(業務!$N$5,MATCH($AE118,業務!$D$6:$D$59,0),0)","v":{"$error":"#N/A"}},null,null,null,null,null,null,{"$f":"OFFSET(業務!$O$5,MATCH($AE118,業務!$D$6:$D$59,0),0)","v":{"$error":"#N/A"}},null,null,{"$f":"OFFSET(業務!$P$5,MATCH($AE118,業務!$D$6:$D$59,0),0)","v":{"$error":"#N/A"}},null,{"$f":"OFFSET(業務!$Q$5,MATCH($AE118,業務!$D$6:$D$59,0),0)","v":{"$error":"#N/A"}},null,{"$f":"OFFSET(業務!$R$5,MATCH($AE118,業務!$D$6:$D$59,0),0)","v":{"$error":"#N/A"}},null,null,46,null,null,null,null,null,null,0]
[null,null,{"$f":"OFFSET(業務!$K$5,MATCH($AE119,業務!$D$6:$D$59,0),0)","v":{"$error":"#N/A"}},null,{"$f":"OFFSET(業務!$L$5,MATCH($AE119,業務!$D$6:$D$59,0),0)","v":{"$error":"#N/A"}},null,null,{"$f":"OFFSET(業務!$M$5,MATCH($AE119,業務!$D$6:$D$59,0),0)","v":{"$error":"#N/A"}},null,null,null,null,null,{"$f":"OFFSET(業務!$N$5,MATCH($AE119,業務!$D$6:$D$59,0),0)","v":{"$error":"#N/A"}},null,null,null,null,null,null,{"$f":"OFFSET(業務!$O$5,MATCH($AE119,業務!$D$6:$D$59,0),0)","v":{"$error":"#N/A"}},null,null,{"$f":"OFFSET(業務!$P$5,MATCH($AE119,業務!$D$6:$D$59,0),0)","v":{"$error":"#N/A"}},null,{"$f":"OFFSET(業務!$Q$5,MATCH($AE119,業務!$D$6:$D$59,0),0)","v":{"$error":"#N/A"}},null,{"$f":"OFFSET(業務!$R$5,MATCH($AE119,業務!$D$6:$D$59,0),0)","v":{"$error":"#N/A"}},null,null,47,null,null,null,null,null,null,0]
[null,null,{"$f":"OFFSET(業務!$K$5,MATCH($AE120,業務!$D$6:$D$59,0),0)","v":{"$error":"#N/A"}},null,{"$f":"OFFSET(業務!$L$5,MATCH($AE120,業務!$D$6:$D$59,0),0)","v":{"$error":"#N/A"}},null,null,{"$f":"OFFSET(業務!$M$5,MATCH($AE120,業務!$D$6:$D$59,0),0)","v":{"$error":"#N/A"}},null,null,null,null,null,{"$f":"OFFSET(業務!$N$5,MATCH($AE120,業務!$D$6:$D$59,0),0)","v":{"$error":"#N/A"}},null,null,null,null,null,null,{"$f":"OFFSET(業務!$O$5,MATCH($AE120,業務!$D$6:$D$59,0),0)","v":{"$error":"#N/A"}},null,null,{"$f":"OFFSET(業務!$P$5,MATCH($AE120,業務!$D$6:$D$59,0),0)","v":{"$error":"#N/A"}},null,{"$f":"OFFSET(業務!$Q$5,MATCH($AE120,業務!$D$6:$D$59,0),0)","v":{"$error":"#N/A"}},null,{"$f":"OFFSET(業務!$R$5,MATCH($AE120,業務!$D$6:$D$59,0),0)","v":{"$error":"#N/A"}},null,null,48,null,null,null,null,null,null,0]
[null,null,{"$f":"OFFSET(業務!$K$5,MATCH($AE121,業務!$D$6:$D$59,0),0)","v":{"$error":"#N/A"}},null,{"$f":"OFFSET(業務!$L$5,MATCH($AE121,業務!$D$6:$D$59,0),0)","v":{"$error":"#N/A"}},null,null,{"$f":"OFFSET(業務!$M$5,MATCH($AE121,業務!$D$6:$D$59,0),0)","v":{"$error":"#N/A"}},null,null,null,null,null,{"$f":"OFFSET(業務!$N$5,MATCH($AE121,業務!$D$6:$D$59,0),0)","v":{"$error":"#N/A"}},null,null,null,null,null,null,{"$f":"OFFSET(業務!$O$5,MATCH($AE121,業務!$D$6:$D$59,0),0)","v":{"$error":"#N/A"}},null,null,{"$f":"OFFSET(業務!$P$5,MATCH($AE121,業務!$D$6:$D$59,0),0)","v":{"$error":"#N/A"}},null,{"$f":"OFFSET(業務!$Q$5,MATCH($AE121,業務!$D$6:$D$59,0),0)","v":{"$error":"#N/A"}},null,{"$f":"OFFSET(業務!$R$5,MATCH($AE121,業務!$D$6:$D$59,0),0)","v":{"$error":"#N/A"}},null,null,49,null,null,null,null,null,null,0]
[null,null,{"$f":"OFFSET(業務!$K$5,MATCH($AE122,業務!$D$6:$D$59,0),0)","v":{"$error":"#N/A"}},null,{"$f":"OFFSET(業務!$L$5,MATCH($AE122,業務!$D$6:$D$59,0),0)","v":{"$error":"#N/A"}},null,null,{"$f":"OFFSET(業務!$M$5,MATCH($AE122,業務!$D$6:$D$59,0),0)","v":{"$error":"#N/A"}},null,null,null,null,null,{"$f":"OFFSET(業務!$N$5,MATCH($AE122,業務!$D$6:$D$59,0),0)","v":{"$error":"#N/A"}},null,null,null,null,null,null,{"$f":"OFFSET(業務!$O$5,MATCH($AE122,業務!$D$6:$D$59,0),0)","v":{"$error":"#N/A"}},null,null,{"$f":"OFFSET(業務!$P$5,MATCH($AE122,業務!$D$6:$D$59,0),0)","v":{"$error":"#N/A"}},null,{"$f":"OFFSET(業務!$Q$5,MATCH($AE122,業務!$D$6:$D$59,0),0)","v":{"$error":"#N/A"}},null,{"$f":"OFFSET(業務!$R$5,MATCH($AE122,業務!$D$6:$D$59,0),0)","v":{"$error":"#N/A"}},null,null,50,null,null,null,null,null,null,0]
[null,null,{"$f":"OFFSET(業務!$K$5,MATCH($AE123,業務!$D$6:$D$59,0),0)","v":{"$error":"#N/A"}},null,{"$f":"OFFSET(業務!$L$5,MATCH($AE123,業務!$D$6:$D$59,0),0)","v":{"$error":"#N/A"}},null,null,{"$f":"OFFSET(業務!$M$5,MATCH($AE123,業務!$D$6:$D$59,0),0)","v":{"$error":"#N/A"}},null,null,null,null,null,{"$f":"OFFSET(業務!$N$5,MATCH($AE123,業務!$D$6:$D$59,0),0)","v":{"$error":"#N/A"}},null,null,null,null,null,null,{"$f":"OFFSET(業務!$O$5,MATCH($AE123,業務!$D$6:$D$59,0),0)","v":{"$error":"#N/A"}},null,null,{"$f":"OFFSET(業務!$P$5,MATCH($AE123,業務!$D$6:$D$59,0),0)","v":{"$error":"#N/A"}},null,{"$f":"OFFSET(業務!$Q$5,MATCH($AE123,業務!$D$6:$D$59,0),0)","v":{"$error":"#N/A"}},null,{"$f":"OFFSET(業務!$R$5,MATCH($AE123,業務!$D$6:$D$59,0),0)","v":{"$error":"#N/A"}},null,null,51,null,null,null,null,null,null,0]
[null,null,{"$f":"OFFSET(業務!$K$5,MATCH($AE124,業務!$D$6:$D$59,0),0)","v":{"$error":"#N/A"}},null,{"$f":"OFFSET(業務!$L$5,MATCH($AE124,業務!$D$6:$D$59,0),0)","v":{"$error":"#N/A"}},null,null,{"$f":"OFFSET(業務!$M$5,MATCH($AE124,業務!$D$6:$D$59,0),0)","v":{"$error":"#N/A"}},null,null,null,null,null,{"$f":"OFFSET(業務!$N$5,MATCH($AE124,業務!$D$6:$D$59,0),0)","v":{"$error":"#N/A"}},null,null,null,null,null,null,{"$f":"OFFSET(業務!$O$5,MATCH($AE124,業務!$D$6:$D$59,0),0)","v":{"$error":"#N/A"}},null,null,{"$f":"OFFSET(業務!$P$5,MATCH($AE124,業務!$D$6:$D$59,0),0)","v":{"$error":"#N/A"}},null,{"$f":"OFFSET(業務!$Q$5,MATCH($AE124,業務!$D$6:$D$59,0),0)","v":{"$error":"#N/A"}},null,{"$f":"OFFSET(業務!$R$5,MATCH($AE124,業務!$D$6:$D$59,0),0)","v":{"$error":"#N/A"}},null,null,52,null,null,null,null,null,null,0]
[null,null,{"$f":"OFFSET(業務!$K$5,MATCH($AE125,業務!$D$6:$D$59,0),0)","v":{"$error":"#N/A"}},null,{"$f":"OFFSET(業務!$L$5,MATCH($AE125,業務!$D$6:$D$59,0),0)","v":{"$error":"#N/A"}},null,null,{"$f":"OFFSET(業務!$M$5,MATCH($AE125,業務!$D$6:$D$59,0),0)","v":{"$error":"#N/A"}},null,null,null,null,null,{"$f":"OFFSET(業務!$N$5,MATCH($AE125,業務!$D$6:$D$59,0),0)","v":{"$error":"#N/A"}},null,null,null,null,null,null,{"$f":"OFFSET(業務!$O$5,MATCH($AE125,業務!$D$6:$D$59,0),0)","v":{"$error":"#N/A"}},null,null,{"$f":"OFFSET(業務!$P$5,MATCH($AE125,業務!$D$6:$D$59,0),0)","v":{"$error":"#N/A"}},null,{"$f":"OFFSET(業務!$Q$5,MATCH($AE125,業務!$D$6:$D$59,0),0)","v":{"$error":"#N/A"}},null,{"$f":"OFFSET(業務!$R$5,MATCH($AE125,業務!$D$6:$D$59,0),0)","v":{"$error":"#N/A"}},null,null,53,null,null,null,null,null,null,0]
[null,null,{"$f":"OFFSET(業務!$K$5,MATCH($AE126,業務!$D$6:$D$59,0),0)","v":{"$error":"#N/A"}},null,{"$f":"OFFSET(業務!$L$5,MATCH($AE126,業務!$D$6:$D$59,0),0)","v":{"$error":"#N/A"}},null,null,{"$f":"OFFSET(業務!$M$5,MATCH($AE126,業務!$D$6:$D$59,0),0)","v":{"$error":"#N/A"}},null,null,null,null,null,{"$f":"OFFSET(業務!$N$5,MATCH($AE126,業務!$D$6:$D$59,0),0)","v":{"$error":"#N/A"}},null,null,null,null,null,null,{"$f":"OFFSET(業務!$O$5,MATCH($AE126,業務!$D$6:$D$59,0),0)","v":{"$error":"#N/A"}},null,null,{"$f":"OFFSET(業務!$P$5,MATCH($AE126,業務!$D$6:$D$59,0),0)","v":{"$error":"#N/A"}},null,{"$f":"OFFSET(業務!$Q$5,MATCH($AE126,業務!$D$6:$D$59,0),0)","v":{"$error":"#N/A"}},null,{"$f":"OFFSET(業務!$R$5,MATCH($AE126,業務!$D$6:$D$59,0),0)","v":{"$error":"#N/A"}},null,null,54,null,null,null,null,null,null,0]
[null,null,null,null,null,null,null,null,null,null,null,null,null,null,null,null,null,null,null,null,null,null,null,null,null,null,null,null,null,null,null,null,null,null,null,null,null,1]
[null,null,null,"※ 同じタイミングで行える作業は、より時間がかかる作業の対応時間のみ計上",null,null,null,null,null,null,null,null,null,null,null,null,null,null,null,null,"合　計",null,null,{"$f":"コントロールシート!AC580","v":65},null,{"$f":"コントロールシート!AF580","v":5},null,null,null,null,null,null,null,null,null,null,null,1]
[null,null,null,null,null,null,null,null,null,null,null,null,null,null,null,null,null,null,null,null,null,null,null,null,null,null,null,null,null,null,null,null,null,null,null,null,null,1]

{"sheet":"7. BCP発動基準","index":13,"n_rows":113,"n_cols":38,"rows_kept":113,"cut":false,"hidden":true,"merged":[[99,2,99,3],[99,4,99,6],[99,7,99,12],[99,13,99,18],[99,19,99,20],[99,21,99,23],[99,24,99,26],[99,27,99,28],[100,2,100,3],[100,4,100,6],[100,7,100,12],[100,13,100,18],[100,19,100,20],[100,21,100,23],[100,24,100,26],[100,27,100,28],[97,2,97,3],[97,4,97,6],[97,7,97,12],[97,13,97,18],[97,19,97,20],[97,21,97,23],[97,24,97,26],[97,27,97,28],[98,2,98,3],[98,4,98,6],[98,7,98,12],[98,13,98,18],[98,19,98,20],[98,21,98,23],[98,24,98,26],[98,27,98,28],[95,2,95,3],[95,4,95,6],[95,7,95,12],[95,13,95,18],[95,19,95,20],[95,21,95,23],[95,24,95,26],[95,27,95,28],[96,2,96,3],[96,4,96,6],[96,7,96,12],[96,13,96,18],[96,19,96,20],[96,21,96,23],[96,24,96,26],[96,27,96,28],[93,2,93,3],[93,4,93,6],[93,7,93,12],[93,13,93,18],[93,19,93,20],[93,21,93,23],[93,24,93,26],[93,27,93,28],[94,2,94,3],[94,4,94,6],[94,7,94,12],[94,13,94,18],[94,19,94,20],[94,21,94,23],[94,24,94,26],[94,27,94,28],[91,2,91,3],[91,4,91,6],[91,7,91,12],[91,13,91,18],[91,19,91,20],[91,21,91,23],[91,24,91,26],[91,27,91,28],[92,2,92,3],[92,4,92,6],[92,7,92,12],[92,13,92,18],[92,19,92,20],[92,21,92,23],[92,24,92,26],[92,27,92,28],[89,2,89,3],[89,4,89,6],[89,7,89,12],[89,13,89,18],[89,19,89,20],[89,21,89,23],[89,24,89,26],[89,27,89,28],[90,2,90,3],[90,4,90,6],[90,7,90,12],[90,13,90,18],[90,19,90,20],[90,21,90,23],[90,24,90,26],[90,27,90,28],[87,2,87,3],[87,4,87,6],[87,7,87,12],[87,13,87,18],[87,19,87,20],[87,21,87,23],[87,24,87,26],[87,27,87,28],[88,2,88,3],[88,4,88,6],[88,7,88,12],[88,13,88,18],[88,19,88,20],[88,21,88,23],[88,24,88,26],[88,27,88,28],[85,2,85,3],[85,4,85,6],[85,7,85,12],[85,13,85,18],[85,19,85,20],[85,21,85,23],[85,24,85,26],[85,27,85,28],[86,2,86,3],[86,4,86,6],[86,7,86,12],[86,13,86,18],[86,19,86,20],[86,21,86,23],[86,24,86,26],[86,27,86,28],[83,2,83,3],[83,4,83,6],[83,7,83,12],[83,13,83,18],[83,19,83,20],[83,21,83,23],[83,24,83,26],[83,27,83,28],[84,2,84,3],[84,4,84,6],[84,7,84,12],[84,13,84,18],[84,19,84,20],[84,21,84,23],[84,24,84,26],[84,27,84,28],[81,2,81,3],[81,4,81,6],[81,7,81,12],[81,13,81,18],[81,19,81,20],[81,21,81,23],[81,24,81,26],[81,27,81,28],[82,2,82,3],[82,4,82,6],[82,7,82,12],[82,13,82,18],[82,19,82,20],[82,21,82,23],[82,24,82,26],[82,27,82,28],[79,2,79,3],[79,4,79,6],[79,7,79,12],[79,13,79,18],[79,19,79,20],[79,21,79,23],[79,24,79,26],[79,27,79,28],[80,2,80,3],[80,4,80,6],[80,7,80,12],[80,13,80,18],[80,19,80,20],[80,21,80,23],[80,24,80,26],[80,27,80,28],[77,2,77,3],[77,4,77,6],[77,7,77,12],[77,13,77,18],[77,19,77,20],[77,21,77,23],[77,24,77,26],[77,27,77,28],[78,2,78,3],[78,4,78,6],[78,7,78,12],[78,13,78,18],[78,19,78,20],[78,21,78,23],[78,24,78,26],[78,27,78,28],[75,24,75,26],[75,27,75,28],[76,2,76,3],[76,4,76,6],[76,7,76,12],[76,13,76,18],[76,19,76,20],[76,21,76,23],[76,24,76,26],[76,27,76,28],[75,2,75,3],[75,4,75,6],[75,7,75,12],[75,13,75,18],[75,19,75,20],[75,21,75,23],[69,2,69,3],[69,4,69,6],[69,7,69,12],[69,13,69,18],[69,19,69,20],[69,21,69,23],[69,24,69,26],[69,27,69,28],[74,2,74,3],[74,4,74,6],[74,7,74,12],[74,13,74,18],[74,19,74,20],[74,21,74,23],[74,24,74,26],[74,27,74,28],[72,2,73,6],[72,7,73,12],[72,13,73,18],[72,19,73,20],[72,21,72,28],[73,21,73,23],[73,24,73,26],[73,27,73,28],[14,9,14,11],[4,3,4,28],[3,3,3,28],[45,24,45,26],[45,27,45,28],[45,2,45,3],[45,4,45,6],[45,7,45,12],[45,13,45,18],[45,19,45,20],[45,21,45,23],[44,13,44,18],[44,2,44,3],[44,4,44,6],[44,7,44,12],[44,19,44,20],[44,21,44,23],[44,24,44,26],[44,27,44,28],[39,3,39,28],[42,2,43,6],[42,7,43,12],[42,13,43,18],[42,19,43,20],[43,21,43,23],[43,24,43,26],[43,27,43,28],[42,21,42,28],[46,27,46,28],[47,2,47,3],[47,4,47,6],[47,7,47,12],[47,13,47,18],[47,19,47,20],[47,21,47,23],[47,24,47,26],[47,27,47,28],[46,2,46,3],[46,4,46,6],[46,7,46,12],[46,13,46,18],[46,19,46,20],[46,21,46,23],[46,24,46,26],[48,24,48,26],[48,27,48,28],[49,2,49,3],[49,4,49,6],[49,7,49,12],[49,13,49,18],[49,19,49,20],[49,21,49,23],[49,24,49,26],[49,27,49,28],[48,2,48,3],[48,4,48,6],[48,7,48,12],[48,13,48,18],[48,19,48,20],[48,21,48,23],[50,24,50,26],[50,27,50,28],[51,2,51,3],[51,4,51,6],[51,7,51,12],[51,13,51,18],[51,19,51,20],[51,21,51,23],[51,24,51,26],[51,27,51,28],[50,2,50,3],[50,4,50,6],[50,7,50,12],[50,13,50,18],[50,19,50,20],[50,21,50,23],[52,24,52,26],[52,27,52,28],[53,2,53,3],[53,4,53,6],[53,7,53,12],[53,13,53,18],[53,19,53,20],[53,21,53,23],[53,24,53,26],[53,27,53,28],[52,2,52,3],[52,4,52,6],[52,7,52,12],[52,13,52,18],[52,19,52,20],[52,21,52,23],[54,24,54,26],[54,27,54,28],[55,2,55,3],[55,4,55,6],[55,7,55,12],[55,13,55,18],[55,19,55,20],[55,21,55,23],[55,24,55,26],[55,27,55,28],[54,2,54,3],[54,4,54,6],[54,7,54,12],[54,13,54,18],[54,19,54,20],[54,21,54,23],[56,24,56,26],[56,27,56,28],[57,2,57,3],[57,4,57,6],[57,7,57,12],[57,13,57,18],[57,19,57,20],[57,21,57,23],[57,24,57,26],[57,27,57,28],[56,2,56,3],[56,4,56,6],[56,7,56,12],[56,13,56,18],[56,19,56,20],[56,21,56,23],[58,24,58,26],[58,27,58,28],[59,2,59,3],[59,4,59,6],[59,7,59,12],[59,13,59,18],[59,19,59,20],[59,21,59,23],[59,24,59,26],[59,27,59,28],[58,2,58,3],[58,4,58,6],[58,7,58,12],[58,13,58,18],[58,19,58,20],[58,21,58,23],[60,24,60,26],[60,27,60,28],[61,2,61,3],[61,4,61,6],[61,7,61,12],[61,13,61,18],[61,19,61,20],[61,21,61,23],[61,24,61,26],[61,27,61,28],[60,2,60,3],[60,4,60,6],[60,7,60,12],[60,13,60,18],[60,19,60,20],[60,21,60,23],[62,24,62,26],[62,27,62,28],[63,2,63,3],[63,4,63,6],[63,7,63,12],[63,13,63,18],[63,19,63,20],[63,21,63,23],[63,24,63,26],[63,27,63,28],[62,2,62,3],[62,4,62,6],[62,7,62,12],[62,13,62,18],[62,19,62,20],[62,21,62,23],[64,24,64,26],[64,27,64,28],[65,2,65,3],[65,4,65,6],[65,7,65,12],[65,13,65,18],[65,19,65,20],[65,21,65,23],[65,24,65,26],[65,27,65,28],[64,2,64,3],[64,4,64,6],[64,7,64,12],[64,13,64,18],[64,19,64,20],[64,21,64,23],[68,2,68,3],[68,4,68,6],[68,7,68,12],[68,13,68,18],[68,19,68,20],[68,21,68,23],[68,24,68,26],[68,27,68,28],[66,24,66,26],[66,27,66,28],[67,2,67,3],[67,4,67,6],[67,7,67,12],[67,13,67,18],[67,19,67,20],[67,21,67,23],[67,24,67,26],[67,27,67,28],[66,2,66,3],[66,4,66,6],[66,7,66,12],[66,13,66,18],[66,19,66,20],[66,21,66,23],[111,4,111,28],[109,4,109,28],[101,24,101,26],[101,27,101,28],[105,3,105,28],[101,2,101,3],[101,4,101,6],[101,7,101,12],[101,13,101,18],[101,19,101,20],[101,21,101,23]]}
[]
[null,"7. BCP発動基準",null,null,null,null,null,null,null,null,null,null,null,null,null,null,null,null,null,null,null,null,null,null,null,null,null,null,null,null,null,null,null,null,null,{"$f":"IF(AE42<=8,0,IF(AE42<=26,1,2))+2","v":2},{"$f":"'6. 重要業務継続のための対策'!AJ2+'6. 重要業務継続のための対策'!AK2","v":13},"flag"]
[null,null,"7.1 安全な避難と浸水対策に要する時間",null,null,null,null,null,null,null,null,null,null,null,null,null,null,null,null,null,null,null,null,null,null,null,null,null,null,null,null,null,null,null,null,null,null,1]
[null,null,null,"現時点での安全な避難と浸水対策に要する時間を以下に示す。",null,null,null,null,null,null,null,null,null,null,null,null,null,null,null,null,null,null,null,null,null,null,null,null,null,null,null,null,null,null,null,null,null,1]
[null,null,null,"設定した浸水対策を行う時間が確保できていない場合、訓練により避難や浸水対策に要する時間を短くする、または一部浸水対策を早めに実施するなどの検討が必要である。",null,null,null,null,null,null,null,null,null,null,null,null,null,null,null,null,null,null,null,null,null,null,null,null,null,null,null,null,null,null,null,null,null,1]
[null,null,null,null,null,null,null,null,null,null,null,null,null,null,null,null,null,null,null,null,null,null,null,null,null,null,null,null,null,null,null,null,null,null,null,null,null,1]
[null,null,null,"現在の対策時間の設定",null,null,null,null,null,null,null,null,null,null,null,null,null,null,null,null,null,null,null,null,null,null,null,null,null,null,null,null,null,null,null,null,null,1]
[null,null,null,null,"①","猶予時間（目安）",null,null,null,null,null,null,null,null,null,null,null,null,null,null,{"$f":"コントロールシート!AG592","v":90},"分未満",null,null,null,null,null,null,null,null,null,null,null,null,null,null,null,1]
[null,null,null,null,"②","「直前」 に行う浸水対策に必要な時間（合計値）",null,null,null,null,null,null,null,null,null,null,null,null,null,null,{"$f":"コントロールシート!AC580","v":65},"分",null,null,null,null,null,null,null,null,null,null,null,null,null,null,null,1]
[null,null,null,null,"③"," 避難準備時間",null,null,null,null,null,null,null,null,null,null,null,null,null,null,{"$f":"コントロールシート!AG593","v":5},"分",null,null,null,null,null,null,null,null,null,null,null,null,null,null,null,1]
[null,null,null,null,"④"," 避難時間",null,null,null,null,null,null,null,null,null,null,null,null,null,null,{"$f":"コントロールシート!AG594","v":5},"分",null,null,null,null,null,null,null,null,null,null,null,null,null,null,null,1]
[null,null,null,"上記の値より",null,null,null,null,null,null,null,null,null,null,null,null,null,null,null,null,null,null,null,null,null,null,null,null,null,null,null,null,null,null,null,null,null,1]
[null,null,null,null,null,"① ＞ ②＋③＋④",null,null,null,null,null,"（①を固定値として、それ以下でなければならない）",null,null,null,null,null,null,null,null,null,null,null,null,null,null,null,null,null,null,null,null,null,null,null,null,null,1]
[null,null,null,"になることが重要である。",null,null,null,null,null,null,null,null,null,null,null,null,null,null,null,null,null,null,null,null,null,null,null,null,null,null,null,null,null,null,null,null,null,1]
[null,null,null,null,null,"現在の設定：",null,null,null,{"$f":"AE15","v":"適合"},null,null,null,null,null,null,null,null,null,null,null,null,null,null,null,null,null,null,null,null,{"$f":"IF(U8>SUM(U9:U11),\"適合\",\"不適合\")","v":"適合"},null,null,null,null,null,null,1]
[null,null,null,"上記 「現在の設定」 が 「不適合」 の場合、以下の項目の修正を検討する。",null,null,null,null,null,null,null,null,null,null,null,null,null,null,null,null,null,null,null,null,null,null,null,null,null,null,null,null,null,null,null,null,null,1]
[null,null,null,null,"※ 所要時間の見直し",null,null,null,null,null,null,null,null,null,null,null,null,"………………………………","6.2 の項目",null,null,null,null,null,null,null,null,null,null,null,null,null,null,null,null,null,null,1]
[null,null,null,null,"※ BCP発動時期の見直し",null,null,null,null,null,null,null,null,null,null,null,null,"…………………………","7.2 の項目",null,null,null,null,null,null,null,null,null,null,null,null,null,null,null,null,null,null,1]
[null,null,null,null,"※ 浸水対策実施時期の見直し",null,null,null,null,null,null,null,null,null,null,null,null,"……………………","8.1 の項目",null,null,null,null,null,null,null,null,null,null,null,null,null,null,null,null,null,null,1]
[null,null,null,null,null,null,null,null,null,null,null,null,null,null,null,null,null,null,null,null,null,null,null,null,null,null,null,null,null,null,null,null,null,null,null,null,null,1]
[null,null,null,null,null,null,null,null,null,null,null,null,null,null,null,null,null,null,null,null,null,null,null,null,null,null,null,null,null,null,null,null,null,null,null,null,null,{"$f":"IF($AE$42<=8,0,1)","v":0}]
[null,null,null,null,null,null,null,null,null,null,null,null,null,null,null,null,null,null,null,null,null,null,null,null,null,null,null,null,null,null,null,null,null,null,null,null,null,{"$f":"IF($AE$42<=8,0,1)","v":0}]
[null,null,null,null,null,null,null,null,null,null,null,null,null,null,null,null,null,null,null,null,null,null,null,null,null,null,null,null,null,null,null,null,null,null,null,null,null,0]
[null,null,null,null,null,null,null,null,null,null,null,null,null,null,null,null,null,null,null,null,null,null,null,null,null,null,null,null,null,null,null,null,null,null,null,null,null,0]
[null,null,null,null,null,null,null,null,null,null,null,null,null,null,null,null,null,null,null,null,null,null,null,null,null,null,null,null,null,null,null,null,null,null,null,null,null,0]
[null,null,null,null,null,null,null,null,null,null,null,null,null,null,null,null,null,null,null,null,null,null,null,null,null,null,null,null,null,null,null,null,null,null,null,null,null,0]
[null,null,null,null,null,null,null,null,null,null,null,null,null,null,null,null,null,null,null,null,null,null,null,null,null,null,null,null,null,null,null,null,null,null,null,null,null,0]
[null,null,null,null,null,null,null,null,null,null,null,null,null,null,null,null,null,null,null,null,null,null,null,null,null,null,null,null,null,null,null,null,null,null,null,null,null,0]
[null,null,null,null,null,null,null,null,null,null,null,null,null,null,null,null,null,null,null,null,null,null,null,null,null,null,null,null,null,null,null,null,null,null,null,null,null,0]
[null,null,null,null,null,null,null,null,null,null,null,null,null,null,null,null,null,null,null,null,null,null,null,null,null,null,null,null,null,null,null,null,null,null,null,null,null,0]
[null,null,null,null,null,null,null,null,null,null,null,null,null,null,null,null,null,null,null,null,null,null,null,null,null,null,null,null,null,null,null,null,null,null,null,null,null,0]
[null,null,null,null,null,null,null,null,null,null,null,null,null,null,null,null,null,null,null,null,null,null,null,null,null,null,null,null,null,null,null,null,null,null,null,null,null,0]
[null,null,null,null,null,null,null,null,null,null,null,null,null,null,null,null,null,null,null,null,null,null,null,null,null,null,null,null,null,null,null,null,null,null,null,null,null,0]
[null,null,null,null,null,null,null,null,null,null,null,null,null,null,null,null,null,null,null,null,null,null,null,null,null,null,null,null,null,null,null,null,null,null,null,null,null,0]
[null,null,null,null,null,null,null,null,null,null,null,null,null,null,null,null,null,null,null,null,null,null,null,null,null,null,null,null,null,null,null,null,null,null,null,null,null,0]
[null,null,null,null,null,null,null,null,null,null,null,null,null,null,null,null,null,null,null,null,null,null,null,null,null,null,null,null,null,null,null,null,null,null,null,null,null,0]
[null,null,null,null,null,null,null,null,null,null,null,null,null,null,null,null,null,null,null,null,null,null,null,null,null,null,null,null,null,null,null,null,null,null,null,null,null,0]
[null,null,null,null,null,null,null,null,null,null,null,null,null,null,null,null,null,null,null,null,null,null,null,null,null,null,null,null,null,null,null,null,null,null,null,null,null,0]
[null,null,"● 水災害発生直前対策の対応人員",null,null,null,null,null,null,null,null,null,null,null,null,null,null,null,null,null,null,null,null,null,null,null,null,null,null,null,null,null,null,null,null,null,null,1]
[null,null,null,"浸水被害の対策のリーダー及び代行者、対応人数を以下のとおり整理した。",null,null,null,null,null,null,null,null,null,null,null,null,null,null,null,null,null,null,null,null,null,null,null,null,null,null,null,null,null,null,null,null,null,1]
[null,null,null,null,null,null,null,null,null,null,null,null,null,null,null,null,null,null,null,null,null,null,null,null,null,null,null,null,null,null,null,null,null,null,null,null,null,1]
[null,null,"【浸水対策ごとの災害対応人員】",null,null,null,null,null,null,null,null,null,null,null,null,null,null,null,null,null,null,null,null,null,null,null,null,null,null,null,{"$f":"業務!E2","v":5},null,"文字数",null,null,null,null,1]
[null,null,"重要事業に必要な資源",null,null,null,null,"想定される浸水被害",null,null,null,null,null,"具体的な対策内容",null,null,null,null,null,"対応班",null,"災害対応人員",null,null,null,null,null,null,null,null,null,null,null,null,null,null,null,1]
[null,null,null,null,null,null,null,null,null,null,null,null,null,null,null,null,null,null,null,null,null,"リーダー",null,null,"（代行者）",null,null,"対応人数",null,null,null,null,null,null,null,null,null,1]
[null,null,{"$f":"IFERROR(IF(AE45=\"\",\"\",OFFSET(業務!$K$5,MATCH($AE45,業務!$E$6:$E$59,0),0)),\"\")","v":"人"},null,{"$f":"IFERROR(IF(AE45=\"\",\"\",OFFSET(業務!$L$5,MATCH($AE45,業務!$E$6:$E$59,0),0)),\"\")","v":"従業員（管理者）"},null,null,{"$f":"IFERROR(IF(AE45=\"\",\"\",OFFSET(業務!$M$5,MATCH($AE45,業務!$E$6:$E$59,0),0)),\"\")","v":"通行規制等により、本社への参集が不可能となる"},null,null,null,null,null,{"$f":"IFERROR(IF(AE45=\"\",\"\",OFFSET(業務!$N$5,MATCH($AE45,業務!$E$6:$E$59,0),0)),\"\")","v":"通行規制が予期される場合、本社ではなく、高台営業所に参集するよう連絡する"},null,null,null,null,null,{"$f":"IFERROR(IF(AE45=\"\",\"\",OFFSET(業務!$O$5,MATCH($AE45,業務!$E$6:$E$59,0),0)),\"\")","v":"避難誘導班"},null,{"$f":"IFERROR(IF(AE45=\"\",\"\",OFFSET(業務!$X$5,MATCH($AE45,業務!$E$6:$E$59,0),0)),\"\")","v":"流域　九郎"},null,null,{"$f":"IFERROR(IF(AE45=\"\",\"\",OFFSET(業務!$Y$5,MATCH($AE45,業務!$E$6:$E$59,0),0)),\"\")","v":""},null,null,{"$f":"IFERROR(IF(AE45=\"\",\"\",OFFSET(業務!$Q$5,MATCH($AE45,業務!$E$6:$E$59,0),0)&\" (人)\"),\"\")","v":"1 (人)"},null,null,1,null,{"$f":"LEN(N45)","v":36},null,null,null,null,{"$f":"IF(AE45<=$AE$42,1,0)","v":1}]
[null,null,{"$f":"IFERROR(IF(AE46=\"\",\"\",OFFSET(業務!$K$5,MATCH($AE46,業務!$E$6:$E$59,0),0)),\"\")","v":"物"},null,{"$f":"IFERROR(IF(AE46=\"\",\"\",OFFSET(業務!$L$5,MATCH($AE46,業務!$E$6:$E$59,0),0)),\"\")","v":"社用車"},null,null,{"$f":"IFERROR(IF(AE46=\"\",\"\",OFFSET(業務!$M$5,MATCH($AE46,業務!$E$6:$E$59,0),0)),\"\")","v":"トラックが流出・水没による故障が発生する"},null,null,null,null,null,{"$f":"IFERROR(IF(AE46=\"\",\"\",OFFSET(業務!$N$5,MATCH($AE46,業務!$E$6:$E$59,0),0)),\"\")","v":"トラックを本社から高台営業所に移動させる"},null,null,null,null,null,{"$f":"IFERROR(IF(AE46=\"\",\"\",OFFSET(業務!$O$5,MATCH($AE46,業務!$E$6:$E$59,0),0)),\"\")","v":"復旧対策班"},null,{"$f":"IFERROR(IF(AE46=\"\",\"\",OFFSET(業務!$X$5,MATCH($AE46,業務!$E$6:$E$59,0),0)),\"\")","v":"流域　五郎"},null,null,{"$f":"IFERROR(IF(AE46=\"\",\"\",OFFSET(業務!$Y$5,MATCH($AE46,業務!$E$6:$E$59,0),0)),\"\")","v":""},null,null,{"$f":"IFERROR(IF(AE46=\"\",\"\",OFFSET(業務!$Q$5,MATCH($AE46,業務!$E$6:$E$59,0),0)&\" (人)\"),\"\")","v":"2 (人)"},null,null,2,null,{"$f":"LEN(N46)","v":20},null,null,null,null,{"$f":"IF(AE46<=$AE$42,1,0)","v":1}]
[null,null,{"$f":"IFERROR(IF(AE47=\"\",\"\",OFFSET(業務!$K$5,MATCH($AE47,業務!$E$6:$E$59,0),0)),\"\")","v":"物"},null,{"$f":"IFERROR(IF(AE47=\"\",\"\",OFFSET(業務!$L$5,MATCH($AE47,業務!$E$6:$E$59,0),0)),\"\")","v":"原材料"},null,null,{"$f":"IFERROR(IF(AE47=\"\",\"\",OFFSET(業務!$M$5,MATCH($AE47,業務!$E$6:$E$59,0),0)),\"\")","v":"ガソリンが流出する"},null,null,null,null,null,{"$f":"IFERROR(IF(AE47=\"\",\"\",OFFSET(業務!$N$5,MATCH($AE47,業務!$E$6:$E$59,0),0)),\"\")","v":"トラックとともに、本社から高台営業所に移動させる"},null,null,null,null,null,{"$f":"IFERROR(IF(AE47=\"\",\"\",OFFSET(業務!$O$5,MATCH($AE47,業務!$E$6:$E$59,0),0)),\"\")","v":"復旧対策班"},null,{"$f":"IFERROR(IF(AE47=\"\",\"\",OFFSET(業務!$X$5,MATCH($AE47,業務!$E$6:$E$59,0),0)),\"\")","v":"流域　五郎"},null,null,{"$f":"IFERROR(IF(AE47=\"\",\"\",OFFSET(業務!$Y$5,MATCH($AE47,業務!$E$6:$E$59,0),0)),\"\")","v":""},null,null,{"$f":"IFERROR(IF(AE47=\"\",\"\",OFFSET(業務!$Q$5,MATCH($AE47,業務!$E$6:$E$59,0),0)&\" (人)\"),\"\")","v":"2 (人)"},null,null,3,null,24,null,null,null,null,1]
[null,null,{"$f":"IFERROR(IF(AE48=\"\",\"\",OFFSET(業務!$K$5,MATCH($AE48,業務!$E$6:$E$59,0),0)),\"\")","v":"物"},null,{"$f":"IFERROR(IF(AE48=\"\",\"\",OFFSET(業務!$L$5,MATCH($AE48,業務!$E$6:$E$59,0),0)),\"\")","v":"その他"},null,null,{"$f":"IFERROR(IF(AE48=\"\",\"\",OFFSET(業務!$M$5,MATCH($AE48,業務!$E$6:$E$59,0),0)),\"\")","v":"小分けした部品が浸水により流出する"},null,null,null,null,null,{"$f":"IFERROR(IF(AE48=\"\",\"\",OFFSET(業務!$N$5,MATCH($AE48,業務!$E$6:$E$59,0),0)),\"\")","v":"小分けした薬品を鍵のかかる棚（2階以上）に移動させる"},null,null,null,null,null,{"$f":"IFERROR(IF(AE48=\"\",\"\",OFFSET(業務!$O$5,MATCH($AE48,業務!$E$6:$E$59,0),0)),\"\")","v":"復旧対策班"},null,{"$f":"IFERROR(IF(AE48=\"\",\"\",OFFSET(業務!$X$5,MATCH($AE48,業務!$E$6:$E$59,0),0)),\"\")","v":"流域　五郎"},null,null,{"$f":"IFERROR(IF(AE48=\"\",\"\",OFFSET(業務!$Y$5,MATCH($AE48,業務!$E$6:$E$59,0),0)),\"\")","v":""},null,null,{"$f":"IFERROR(IF(AE48=\"\",\"\",OFFSET(業務!$Q$5,MATCH($AE48,業務!$E$6:$E$59,0),0)&\" (人)\"),\"\")","v":"2 (人)"},null,null,4,null,26,null,null,null,null,1]
[null,null,{"$f":"IFERROR(IF(AE49=\"\",\"\",OFFSET(業務!$K$5,MATCH($AE49,業務!$E$6:$E$59,0),0)),\"\")","v":"情報"},null,{"$f":"IFERROR(IF(AE49=\"\",\"\",OFFSET(業務!$L$5,MATCH($AE49,業務!$E$6:$E$59,0),0)),\"\")","v":"事務処理用PC"},null,null,{"$f":"IFERROR(IF(AE49=\"\",\"\",OFFSET(業務!$M$5,MATCH($AE49,業務!$E$6:$E$59,0),0)),\"\")","v":"事務処理用PCが使用できなくなる"},null,null,null,null,null,{"$f":"IFERROR(IF(AE49=\"\",\"\",OFFSET(業務!$N$5,MATCH($AE49,業務!$E$6:$E$59,0),0)),\"\")","v":"避難時にノートPCを持参する"},null,null,null,null,null,{"$f":"IFERROR(IF(AE49=\"\",\"\",OFFSET(業務!$O$5,MATCH($AE49,業務!$E$6:$E$59,0),0)),\"\")","v":"システム班"},null,{"$f":"IFERROR(IF(AE49=\"\",\"\",OFFSET(業務!$X$5,MATCH($AE49,業務!$E$6:$E$59,0),0)),\"\")","v":"流域　七郎"},null,null,{"$f":"IFERROR(IF(AE49=\"\",\"\",OFFSET(業務!$Y$5,MATCH($AE49,業務!$E$6:$E$59,0),0)),\"\")","v":""},null,null,{"$f":"IFERROR(IF(AE49=\"\",\"\",OFFSET(業務!$Q$5,MATCH($AE49,業務!$E$6:$E$59,0),0)&\" (人)\"),\"\")","v":"1 (人)"},null,null,5,null,14,null,null,null,null,1]
[null,null,{"$f":"IFERROR(IF(AE50=\"\",\"\",OFFSET(業務!$K$5,MATCH($AE50,業務!$E$6:$E$59,0),0)),\"\")","v":""},null,{"$f":"IFERROR(IF(AE50=\"\",\"\",OFFSET(業務!$L$5,MATCH($AE50,業務!$E$6:$E$59,0),0)),\"\")","v":""},null,null,{"$f":"IFERROR(IF(AE50=\"\",\"\",OFFSET(業務!$M$5,MATCH($AE50,業務!$E$6:$E$59,0),0)),\"\")","v":""},null,null,null,null,null,{"$f":"IFERROR(IF(AE50=\"\",\"\",OFFSET(業務!$N$5,MATCH($AE50,業務!$E$6:$E$59,0),0)),\"\")","v":""},null,null,null,null,null,{"$f":"IFERROR(IF(AE50=\"\",\"\",OFFSET(業務!$O$5,MATCH($AE50,業務!$E$6:$E$59,0),0)),\"\")","v":""},null,{"$f":"IFERROR(IF(AE50=\"\",\"\",OFFSET(業務!$X$5,MATCH($AE50,業務!$E$6:$E$59,0),0)),\"\")","v":""},null,null,{"$f":"IFERROR(IF(AE50=\"\",\"\",OFFSET(業務!$Y$5,MATCH($AE50,業務!$E$6:$E$59,0),0)),\"\")","v":""},null,null,{"$f":"IFERROR(IF(AE50=\"\",\"\",OFFSET(業務!$Q$5,MATCH($AE50,業務!$E$6:$E$59,0),0)&\" (人)\"),\"\")","v":""},null,null,6,null,0,null,null,null,null,0]
[null,null,{"$f":"IFERROR(IF(AE51=\"\",\"\",OFFSET(業務!$K$5,MATCH($AE51,業務!$E$6:$E$59,0),0)),\"\")","v":""},null,{"$f":"IFERROR(IF(AE51=\"\",\"\",OFFSET(業務!$L$5,MATCH($AE51,業務!$E$6:$E$59,0),0)),\"\")","v":""},null,null,{"$f":"IFERROR(IF(AE51=\"\",\"\",OFFSET(業務!$M$5,MATCH($AE51,業務!$E$6:$E$59,0),0)),\"\")","v":""},null,null,null,null,null,{"$f":"IFERROR(IF(AE51=\"\",\"\",OFFSET(業務!$N$5,MATCH($AE51,業務!$E$6:$E$59,0),0)),\"\")","v":""},null,null,null,null,null,{"$f":"IFERROR(IF(AE51=\"\",\"\",OFFSET(業務!$O$5,MATCH($AE51,業務!$E$6:$E$59,0),0)),\"\")","v":""},null,{"$f":"IFERROR(IF(AE51=\"\",\"\",OFFSET(業務!$X$5,MATCH($AE51,業務!$E$6:$E$59,0),0)),\"\")","v":""},null,null,{"$f":"IFERROR(IF(AE51=\"\",\"\",OFFSET(業務!$Y$5,MATCH($AE51,業務!$E$6:$E$59,0),0)),\"\")","v":""},null,null,{"$f":"IFERROR(IF(AE51=\"\",\"\",OFFSET(業務!$Q$5,MATCH($AE51,業務!$E$6:$E$59,0),0)&\" (人)\"),\"\")","v":""},null,null,7,null,0,null,null,null,null,0]
[null,null,{"$f":"IFERROR(IF(AE52=\"\",\"\",OFFSET(業務!$K$5,MATCH($AE52,業務!$E$6:$E$59,0),0)),\"\")","v":""},null,{"$f":"IFERROR(IF(AE52=\"\",\"\",OFFSET(業務!$L$5,MATCH($AE52,業務!$E$6:$E$59,0),0)),\"\")","v":""},null,null,{"$f":"IFERROR(IF(AE52=\"\",\"\",OFFSET(業務!$M$5,MATCH($AE52,業務!$E$6:$E$59,0),0)),\"\")","v":""},null,null,null,null,null,{"$f":"IFERROR(IF(AE52=\"\",\"\",OFFSET(業務!$N$5,MATCH($AE52,業務!$E$6:$E$59,0),0)),\"\")","v":""},null,null,null,null,null,{"$f":"IFERROR(IF(AE52=\"\",\"\",OFFSET(業務!$O$5,MATCH($AE52,業務!$E$6:$E$59,0),0)),\"\")","v":""},null,{"$f":"IFERROR(IF(AE52=\"\",\"\",OFFSET(業務!$X$5,MATCH($AE52,業務!$E$6:$E$59,0),0)),\"\")","v":""},null,null,{"$f":"IFERROR(IF(AE52=\"\",\"\",OFFSET(業務!$Y$5,MATCH($AE52,業務!$E$6:$E$59,0),0)),\"\")","v":""},null,null,{"$f":"IFERROR(IF(AE52=\"\",\"\",OFFSET(業務!$Q$5,MATCH($AE52,業務!$E$6:$E$59,0),0)&\" (人)\"),\"\")","v":""},null,null,8,null,0,null,null,null,null,0]
[null,null,{"$f":"IFERROR(IF(AE53=\"\",\"\",OFFSET(業務!$K$5,MATCH($AE53,業務!$E$6:$E$59,0),0)),\"\")","v":""},null,{"$f":"IFERROR(IF(AE53=\"\",\"\",OFFSET(業務!$L$5,MATCH($AE53,業務!$E$6:$E$59,0),0)),\"\")","v":""},null,null,{"$f":"IFERROR(IF(AE53=\"\",\"\",OFFSET(業務!$M$5,MATCH($AE53,業務!$E$6:$E$59,0),0)),\"\")","v":""},null,null,null,null,null,{"$f":"IFERROR(IF(AE53=\"\",\"\",OFFSET(業務!$N$5,MATCH($AE53,業務!$E$6:$E$59,0),0)),\"\")","v":""},null,null,null,null,null,{"$f":"IFERROR(IF(AE53=\"\",\"\",OFFSET(業務!$O$5,MATCH($AE53,業務!$E$6:$E$59,0),0)),\"\")","v":""},null,{"$f":"IFERROR(IF(AE53=\"\",\"\",OFFSET(業務!$X$5,MATCH($AE53,業務!$E$6:$E$59,0),0)),\"\")","v":""},null,null,{"$f":"IFERROR(IF(AE53=\"\",\"\",OFFSET(業務!$Y$5,MATCH($AE53,業務!$E$6:$E$59,0),0)),\"\")","v":""},null,null,{"$f":"IFERROR(IF(AE53=\"\",\"\",OFFSET(業務!$Q$5,MATCH($AE53,業務!$E$6:$E$59,0),0)&\" (人)\"),\"\")","v":""},null,null,9,null,0,null,null,null,null,0]
[null,null,{"$f":"IFERROR(IF(AE54=\"\",\"\",OFFSET(業務!$K$5,MATCH($AE54,業務!$E$6:$E$59,0),0)),\"\")","v":""},null,{"$f":"IFERROR(IF(AE54=\"\",\"\",OFFSET(業務!$L$5,MATCH($AE54,業務!$E$6:$E$59,0),0)),\"\")","v":""},null,null,{"$f":"IFERROR(IF(AE54=\"\",\"\",OFFSET(業務!$M$5,MATCH($AE54,業務!$E$6:$E$59,0),0)),\"\")","v":""},null,null,null,null,null,{"$f":"IFERROR(IF(AE54=\"\",\"\",OFFSET(業務!$N$5,MATCH($AE54,業務!$E$6:$E$59,0),0)),\"\")","v":""},null,null,null,null,null,{"$f":"IFERROR(IF(AE54=\"\",\"\",OFFSET(業務!$O$5,MATCH($AE54,業務!$E$6:$E$59,0),0)),\"\")","v":""},null,{"$f":"IFERROR(IF(AE54=\"\",\"\",OFFSET(業務!$X$5,MATCH($AE54,業務!$E$6:$E$59,0),0)),\"\")","v":""},null,null,{"$f":"IFERROR(IF(AE54=\"\",\"\",OFFSET(業務!$Y$5,MATCH($AE54,業務!$E$6:$E$59,0),0)),\"\")","v":""},null,null,{"$f":"IFERROR(IF(AE54=\"\",\"\",OFFSET(業務!$Q$5,MATCH($AE54,業務!$E$6:$E$59,0),0)&\" (人)\"),\"\")","v":""},null,null,10,null,0,null,null,null,null,0]
[null,null,{"$f":"IFERROR(IF(AE55=\"\",\"\",OFFSET(業務!$K$5,MATCH($AE55,業務!$E$6:$E$59,0),0)),\"\")","v":""},null,{"$f":"IFERROR(IF(AE55=\"\",\"\",OFFSET(業務!$L$5,MATCH($AE55,業務!$E$6:$E$59,0),0)),\"\")","v":""},null,null,{"$f":"IFERROR(IF(AE55=\"\",\"\",OFFSET(業務!$M$5,MATCH($AE55,業務!$E$6:$E$59,0),0)),\"\")","v":""},null,null,null,null,null,{"$f":"IFERROR(IF(AE55=\"\",\"\",OFFSET(業務!$N$5,MATCH($AE55,業務!$E$6:$E$59,0),0)),\"\")","v":""},null,null,null,null,null,{"$f":"IFERROR(IF(AE55=\"\",\"\",OFFSET(業務!$O$5,MATCH($AE55,業務!$E$6:$E$59,0),0)),\"\")","v":""},null,{"$f":"IFERROR(IF(AE55=\"\",\"\",OFFSET(業務!$X$5,MATCH($AE55,業務!$E$6:$E$59,0),0)),\"\")","v":""},null,null,{"$f":"IFERROR(IF(AE55=\"\",\"\",OFFSET(業務!$Y$5,MATCH($AE55,業務!$E$6:$E$59,0),0)),\"\")","v":""},null,null,{"$f":"IFERROR(IF(AE55=\"\",\"\",OFFSET(業務!$Q$5,MATCH($AE55,業務!$E$6:$E$59,0),0)&\" (人)\"),\"\")","v":""},null,null,11,null,0,null,null,null,null,0]
[null,null,{"$f":"IFERROR(IF(AE56=\"\",\"\",OFFSET(業務!$K$5,MATCH($AE56,業務!$E$6:$E$59,0),0)),\"\")","v":""},null,{"$f":"IFERROR(IF(AE56=\"\",\"\",OFFSET(業務!$L$5,MATCH($AE56,業務!$E$6:$E$59,0),0)),\"\")","v":""},null,null,{"$f":"IFERROR(IF(AE56=\"\",\"\",OFFSET(業務!$M$5,MATCH($AE56,業務!$E$6:$E$59,0),0)),\"\")","v":""},null,null,null,null,null,{"$f":"IFERROR(IF(AE56=\"\",\"\",OFFSET(業務!$N$5,MATCH($AE56,業務!$E$6:$E$59,0),0)),\"\")","v":""},null,null,null,null,null,{"$f":"IFERROR(IF(AE56=\"\",\"\",OFFSET(業務!$O$5,MATCH($AE56,業務!$E$6:$E$59,0),0)),\"\")","v":""},null,{"$f":"IFERROR(IF(AE56=\"\",\"\",OFFSET(業務!$X$5,MATCH($AE56,業務!$E$6:$E$59,0),0)),\"\")","v":""},null,null,{"$f":"IFERROR(IF(AE56=\"\",\"\",OFFSET(業務!$Y$5,MATCH($AE56,業務!$E$6:$E$59,0),0)),\"\")","v":""},null,null,{"$f":"IFERROR(IF(AE56=\"\",\"\",OFFSET(業務!$Q$5,MATCH($AE56,業務!$E$6:$E$59,0),0)&\" (人)\"),\"\")","v":""},null,null,12,null,0,null,null,null,null,0]
[null,null,{"$f":"IFERROR(IF(AE57=\"\",\"\",OFFSET(業務!$K$5,MATCH($AE57,業務!$E$6:$E$59,0),0)),\"\")","v":""},null,{"$f":"IFERROR(IF(AE57=\"\",\"\",OFFSET(業務!$L$5,MATCH($AE57,業務!$E$6:$E$59,0),0)),\"\")","v":""},null,null,{"$f":"IFERROR(IF(AE57=\"\",\"\",OFFSET(業務!$M$5,MATCH($AE57,業務!$E$6:$E$59,0),0)),\"\")","v":""},null,null,null,null,null,{"$f":"IFERROR(IF(AE57=\"\",\"\",OFFSET(業務!$N$5,MATCH($AE57,業務!$E$6:$E$59,0),0)),\"\")","v":""},null,null,null,null,null,{"$f":"IFERROR(IF(AE57=\"\",\"\",OFFSET(業務!$O$5,MATCH($AE57,業務!$E$6:$E$59,0),0)),\"\")","v":""},null,{"$f":"IFERROR(IF(AE57=\"\",\"\",OFFSET(業務!$X$5,MATCH($AE57,業務!$E$6:$E$59,0),0)),\"\")","v":""},null,null,{"$f":"IFERROR(IF(AE57=\"\",\"\",OFFSET(業務!$Y$5,MATCH($AE57,業務!$E$6:$E$59,0),0)),\"\")","v":""},null,null,{"$f":"IFERROR(IF(AE57=\"\",\"\",OFFSET(業務!$Q$5,MATCH($AE57,業務!$E$6:$E$59,0),0)&\" (人)\"),\"\")","v":""},null,null,13,null,0,null,null,null,null,0]
[null,null,{"$f":"IFERROR(IF(AE58=\"\",\"\",OFFSET(業務!$K$5,MATCH($AE58,業務!$E$6:$E$59,0),0)),\"\")","v":""},null,{"$f":"IFERROR(IF(AE58=\"\",\"\",OFFSET(業務!$L$5,MATCH($AE58,業務!$E$6:$E$59,0),0)),\"\")","v":""},null,null,{"$f":"IFERROR(IF(AE58=\"\",\"\",OFFSET(業務!$M$5,MATCH($AE58,業務!$E$6:$E$59,0),0)),\"\")","v":""},null,null,null,null,null,{"$f":"IFERROR(IF(AE58=\"\",\"\",OFFSET(業務!$N$5,MATCH($AE58,業務!$E$6:$E$59,0),0)),\"\")","v":""},null,null,null,null,null,{"$f":"IFERROR(IF(AE58=\"\",\"\",OFFSET(業務!$O$5,MATCH($AE58,業務!$E$6:$E$59,0),0)),\"\")","v":""},null,{"$f":"IFERROR(IF(AE58=\"\",\"\",OFFSET(業務!$X$5,MATCH($AE58,業務!$E$6:$E$59,0),0)),\"\")","v":""},null,null,{"$f":"IFERROR(IF(AE58=\"\",\"\",OFFSET(業務!$Y$5,MATCH($AE58,業務!$E$6:$E$59,0),0)),\"\")","v":""},null,null,{"$f":"IFERROR(IF(AE58=\"\",\"\",OFFSET(業務!$Q$5,MATCH($AE58,業務!$E$6:$E$59,0),0)&\" (人)\"),\"\")","v":""},null,null,14,null,0,null,null,null,null,0]
[null,null,{"$f":"IFERROR(IF(AE59=\"\",\"\",OFFSET(業務!$K$5,MATCH($AE59,業務!$E$6:$E$59,0),0)),\"\")","v":""},null,{"$f":"IFERROR(IF(AE59=\"\",\"\",OFFSET(業務!$L$5,MATCH($AE59,業務!$E$6:$E$59,0),0)),\"\")","v":""},null,null,{"$f":"IFERROR(IF(AE59=\"\",\"\",OFFSET(業務!$M$5,MATCH($AE59,業務!$E$6:$E$59,0),0)),\"\")","v":""},null,null,null,null,null,{"$f":"IFERROR(IF(AE59=\"\",\"\",OFFSET(業務!$N$5,MATCH($AE59,業務!$E$6:$E$59,0),0)),\"\")","v":""},null,null,null,null,null,{"$f":"IFERROR(IF(AE59=\"\",\"\",OFFSET(業務!$O$5,MATCH($AE59,業務!$E$6:$E$59,0),0)),\"\")","v":""},null,{"$f":"IFERROR(IF(AE59=\"\",\"\",OFFSET(業務!$X$5,MATCH($AE59,業務!$E$6:$E$59,0),0)),\"\")","v":""},null,null,{"$f":"IFERROR(IF(AE59=\"\",\"\",OFFSET(業務!$Y$5,MATCH($AE59,業務!$E$6:$E$59,0),0)),\"\")","v":""},null,null,{"$f":"IFERROR(IF(AE59=\"\",\"\",OFFSET(業務!$Q$5,MATCH($AE59,業務!$E$6:$E$59,0),0)&\" (人)\"),\"\")","v":""},null,null,15,null,0,null,null,null,null,0]
[null,null,{"$f":"IFERROR(IF(AE60=\"\",\"\",OFFSET(業務!$K$5,MATCH($AE60,業務!$E$6:$E$59,0),0)),\"\")","v":""},null,{"$f":"IFERROR(IF(AE60=\"\",\"\",OFFSET(業務!$L$5,MATCH($AE60,業務!$E$6:$E$59,0),0)),\"\")","v":""},null,null,{"$f":"IFERROR(IF(AE60=\"\",\"\",OFFSET(業務!$M$5,MATCH($AE60,業務!$E$6:$E$59,0),0)),\"\")","v":""},null,null,null,null,null,{"$f":"IFERROR(IF(AE60=\"\",\"\",OFFSET(業務!$N$5,MATCH($AE60,業務!$E$6:$E$59,0),0)),\"\")","v":""},null,null,null,null,null,{"$f":"IFERROR(IF(AE60=\"\",\"\",OFFSET(業務!$O$5,MATCH($AE60,業務!$E$6:$E$59,0),0)),\"\")","v":""},null,{"$f":"IFERROR(IF(AE60=\"\",\"\",OFFSET(業務!$X$5,MATCH($AE60,業務!$E$6:$E$59,0),0)),\"\")","v":""},null,null,{"$f":"IFERROR(IF(AE60=\"\",\"\",OFFSET(業務!$Y$5,MATCH($AE60,業務!$E$6:$E$59,0),0)),\"\")","v":""},null,null,{"$f":"IFERROR(IF(AE60=\"\",\"\",OFFSET(業務!$Q$5,MATCH($AE60,業務!$E$6:$E$59,0),0)&\" (人)\"),\"\")","v":""},null,null,16,null,0,null,null,null,null,0]
[null,null,{"$f":"IFERROR(IF(AE61=\"\",\"\",OFFSET(業務!$K$5,MATCH($AE61,業務!$E$6:$E$59,0),0)),\"\")","v":""},null,{"$f":"IFERROR(IF(AE61=\"\",\"\",OFFSET(業務!$L$5,MATCH($AE61,業務!$E$6:$E$59,0),0)),\"\")","v":""},null,null,{"$f":"IFERROR(IF(AE61=\"\",\"\",OFFSET(業務!$M$5,MATCH($AE61,業務!$E$6:$E$59,0),0)),\"\")","v":""},null,null,null,null,null,{"$f":"IFERROR(IF(AE61=\"\",\"\",OFFSET(業務!$N$5,MATCH($AE61,業務!$E$6:$E$59,0),0)),\"\")","v":""},null,null,null,null,null,{"$f":"IFERROR(IF(AE61=\"\",\"\",OFFSET(業務!$O$5,MATCH($AE61,業務!$E$6:$E$59,0),0)),\"\")","v":""},null,{"$f":"IFERROR(IF(AE61=\"\",\"\",OFFSET(業務!$X$5,MATCH($AE61,業務!$E$6:$E$59,0),0)),\"\")","v":""},null,null,{"$f":"IFERROR(IF(AE61=\"\",\"\",OFFSET(業務!$Y$5,MATCH($AE61,業務!$E$6:$E$59,0),0)),\"\")","v":""},null,null,{"$f":"IFERROR(IF(AE61=\"\",\"\",OFFSET(業務!$Q$5,MATCH($AE61,業務!$E$6:$E$59,0),0)&\" (人)\"),\"\")","v":""},null,null,17,null,0,null,null,null,null,0]
[null,null,{"$f":"IFERROR(IF(AE62=\"\",\"\",OFFSET(業務!$K$5,MATCH($AE62,業務!$E$6:$E$59,0),0)),\"\")","v":""},null,{"$f":"IFERROR(IF(AE62=\"\",\"\",OFFSET(業務!$L$5,MATCH($AE62,業務!$E$6:$E$59,0),0)),\"\")","v":""},null,null,{"$f":"IFERROR(IF(AE62=\"\",\"\",OFFSET(業務!$M$5,MATCH($AE62,業務!$E$6:$E$59,0),0)),\"\")","v":""},null,null,null,null,null,{"$f":"IFERROR(IF(AE62=\"\",\"\",OFFSET(業務!$N$5,MATCH($AE62,業務!$E$6:$E$59,0),0)),\"\")","v":""},null,null,null,null,null,{"$f":"IFERROR(IF(AE62=\"\",\"\",OFFSET(業務!$O$5,MATCH($AE62,業務!$E$6:$E$59,0),0)),\"\")","v":""},null,{"$f":"IFERROR(IF(AE62=\"\",\"\",OFFSET(業務!$X$5,MATCH($AE62,業務!$E$6:$E$59,0),0)),\"\")","v":""},null,null,{"$f":"IFERROR(IF(AE62=\"\",\"\",OFFSET(業務!$Y$5,MATCH($AE62,業務!$E$6:$E$59,0),0)),\"\")","v":""},null,null,{"$f":"IFERROR(IF(AE62=\"\",\"\",OFFSET(業務!$Q$5,MATCH($AE62,業務!$E$6:$E$59,0),0)&\" (人)\"),\"\")","v":""},null,null,18,null,0,null,null,null,null,0]
[null,null,{"$f":"IFERROR(IF(AE63=\"\",\"\",OFFSET(業務!$K$5,MATCH($AE63,業務!$E$6:$E$59,0),0)),\"\")","v":""},null,{"$f":"IFERROR(IF(AE63=\"\",\"\",OFFSET(業務!$L$5,MATCH($AE63,業務!$E$6:$E$59,0),0)),\"\")","v":""},null,null,{"$f":"IFERROR(IF(AE63=\"\",\"\",OFFSET(業務!$M$5,MATCH($AE63,業務!$E$6:$E$59,0),0)),\"\")","v":""},null,null,null,null,null,{"$f":"IFERROR(IF(AE63=\"\",\"\",OFFSET(業務!$N$5,MATCH($AE63,業務!$E$6:$E$59,0),0)),\"\")","v":""},null,null,null,null,null,{"$f":"IFERROR(IF(AE63=\"\",\"\",OFFSET(業務!$O$5,MATCH($AE63,業務!$E$6:$E$59,0),0)),\"\")","v":""},null,{"$f":"IFERROR(IF(AE63=\"\",\"\",OFFSET(業務!$X$5,MATCH($AE63,業務!$E$6:$E$59,0),0)),\"\")","v":""},null,null,{"$f":"IFERROR(IF(AE63=\"\",\"\",OFFSET(業務!$Y$5,MATCH($AE63,業務!$E$6:$E$59,0),0)),\"\")","v":""},null,null,{"$f":"IFERROR(IF(AE63=\"\",\"\",OFFSET(業務!$Q$5,MATCH($AE63,業務!$E$6:$E$59,0),0)&\" (人)\"),\"\")","v":""},null,null,19,null,0,null,null,null,null,0]
[null,null,{"$f":"IFERROR(IF(AE64=\"\",\"\",OFFSET(業務!$K$5,MATCH($AE64,業務!$E$6:$E$59,0),0)),\"\")","v":""},null,{"$f":"IFERROR(IF(AE64=\"\",\"\",OFFSET(業務!$L$5,MATCH($AE64,業務!$E$6:$E$59,0),0)),\"\")","v":""},null,null,{"$f":"IFERROR(IF(AE64=\"\",\"\",OFFSET(業務!$M$5,MATCH($AE64,業務!$E$6:$E$59,0),0)),\"\")","v":""},null,null,null,null,null,{"$f":"IFERROR(IF(AE64=\"\",\"\",OFFSET(業務!$N$5,MATCH($AE64,業務!$E$6:$E$59,0),0)),\"\")","v":""},null,null,null,null,null,{"$f":"IFERROR(IF(AE64=\"\",\"\",OFFSET(業務!$O$5,MATCH($AE64,業務!$E$6:$E$59,0),0)),\"\")","v":""},null,{"$f":"IFERROR(IF(AE64=\"\",\"\",OFFSET(業務!$X$5,MATCH($AE64,業務!$E$6:$E$59,0),0)),\"\")","v":""},null,null,{"$f":"IFERROR(IF(AE64=\"\",\"\",OFFSET(業務!$Y$5,MATCH($AE64,業務!$E$6:$E$59,0),0)),\"\")","v":""},null,null,{"$f":"IFERROR(IF(AE64=\"\",\"\",OFFSET(業務!$Q$5,MATCH($AE64,業務!$E$6:$E$59,0),0)&\" (人)\"),\"\")","v":""},null,null,20,null,0,null,null,null,null,0]
[null,null,{"$f":"IFERROR(IF(AE65=\"\",\"\",OFFSET(業務!$K$5,MATCH($AE65,業務!$E$6:$E$59,0),0)),\"\")","v":""},null,{"$f":"IFERROR(IF(AE65=\"\",\"\",OFFSET(業務!$L$5,MATCH($AE65,業務!$E$6:$E$59,0),0)),\"\")","v":""},null,null,{"$f":"IFERROR(IF(AE65=\"\",\"\",OFFSET(業務!$M$5,MATCH($AE65,業務!$E$6:$E$59,0),0)),\"\")","v":""},null,null,null,null,null,{"$f":"IFERROR(IF(AE65=\"\",\"\",OFFSET(業務!$N$5,MATCH($AE65,業務!$E$6:$E$59,0),0)),\"\")","v":""},null,null,null,null,null,{"$f":"IFERROR(IF(AE65=\"\",\"\",OFFSET(業務!$O$5,MATCH($AE65,業務!$E$6:$E$59,0),0)),\"\")","v":""},null,{"$f":"IFERROR(IF(AE65=\"\",\"\",OFFSET(業務!$X$5,MATCH($AE65,業務!$E$6:$E$59,0),0)),\"\")","v":""},null,null,{"$f":"IFERROR(IF(AE65=\"\",\"\",OFFSET(業務!$Y$5,MATCH($AE65,業務!$E$6:$E$59,0),0)),\"\")","v":""},null,null,{"$f":"IFERROR(IF(AE65=\"\",\"\",OFFSET(業務!$Q$5,MATCH($AE65,業務!$E$6:$E$59,0),0)&\" (人)\"),\"\")","v":""},null,null,21,null,0,null,null,null,null,0]
[null,null,{"$f":"IFERROR(IF(AE66=\"\",\"\",OFFSET(業務!$K$5,MATCH($AE66,業務!$E$6:$E$59,0),0)),\"\")","v":""},null,{"$f":"IFERROR(IF(AE66=\"\",\"\",OFFSET(業務!$L$5,MATCH($AE66,業務!$E$6:$E$59,0),0)),\"\")","v":""},null,null,{"$f":"IFERROR(IF(AE66=\"\",\"\",OFFSET(業務!$M$5,MATCH($AE66,業務!$E$6:$E$59,0),0)),\"\")","v":""},null,null,null,null,null,{"$f":"IFERROR(IF(AE66=\"\",\"\",OFFSET(業務!$N$5,MATCH($AE66,業務!$E$6:$E$59,0),0)),\"\")","v":""},null,null,null,null,null,{"$f":"IFERROR(IF(AE66=\"\",\"\",OFFSET(業務!$O$5,MATCH($AE66,業務!$E$6:$E$59,0),0)),\"\")","v":""},null,{"$f":"IFERROR(IF(AE66=\"\",\"\",OFFSET(業務!$X$5,MATCH($AE66,業務!$E$6:$E$59,0),0)),\"\")","v":""},null,null,{"$f":"IFERROR(IF(AE66=\"\",\"\",OFFSET(業務!$Y$5,MATCH($AE66,業務!$E$6:$E$59,0),0)),\"\")","v":""},null,null,{"$f":"IFERROR(IF(AE66=\"\",\"\",OFFSET(業務!$Q$5,MATCH($AE66,業務!$E$6:$E$59,0),0)&\" (人)\"),\"\")","v":""},null,null,22,null,0,null,null,null,null,0]
[null,null,{"$f":"IFERROR(IF(AE67=\"\",\"\",OFFSET(業務!$K$5,MATCH($AE67,業務!$E$6:$E$59,0),0)),\"\")","v":""},null,{"$f":"IFERROR(IF(AE67=\"\",\"\",OFFSET(業務!$L$5,MATCH($AE67,業務!$E$6:$E$59,0),0)),\"\")","v":""},null,null,{"$f":"IFERROR(IF(AE67=\"\",\"\",OFFSET(業務!$M$5,MATCH($AE67,業務!$E$6:$E$59,0),0)),\"\")","v":""},null,null,null,null,null,{"$f":"IFERROR(IF(AE67=\"\",\"\",OFFSET(業務!$N$5,MATCH($AE67,業務!$E$6:$E$59,0),0)),\"\")","v":""},null,null,null,null,null,{"$f":"IFERROR(IF(AE67=\"\",\"\",OFFSET(業務!$O$5,MATCH($AE67,業務!$E$6:$E$59,0),0)),\"\")","v":""},null,{"$f":"IFERROR(IF(AE67=\"\",\"\",OFFSET(業務!$X$5,MATCH($AE67,業務!$E$6:$E$59,0),0)),\"\")","v":""},null,null,{"$f":"IFERROR(IF(AE67=\"\",\"\",OFFSET(業務!$Y$5,MATCH($AE67,業務!$E$6:$E$59,0),0)),\"\")","v":""},null,null,{"$f":"IFERROR(IF(AE67=\"\",\"\",OFFSET(業務!$Q$5,MATCH($AE67,業務!$E$6:$E$59,0),0)&\" (人)\"),\"\")","v":""},null,null,23,null,0,null,null,null,null,0]
[null,null,{"$f":"IFERROR(IF(AE68=\"\",\"\",OFFSET(業務!$K$5,MATCH($AE68,業務!$E$6:$E$59,0),0)),\"\")","v":""},null,{"$f":"IFERROR(IF(AE68=\"\",\"\",OFFSET(業務!$L$5,MATCH($AE68,業務!$E$6:$E$59,0),0)),\"\")","v":""},null,null,{"$f":"IFERROR(IF(AE68=\"\",\"\",OFFSET(業務!$M$5,MATCH($AE68,業務!$E$6:$E$59,0),0)),\"\")","v":""},null,null,null,null,null,{"$f":"IFERROR(IF(AE68=\"\",\"\",OFFSET(業務!$N$5,MATCH($AE68,業務!$E$6:$E$59,0),0)),\"\")","v":""},null,null,null,null,null,{"$f":"IFERROR(IF(AE68=\"\",\"\",OFFSET(業務!$O$5,MATCH($AE68,業務!$E$6:$E$59,0),0)),\"\")","v":""},null,{"$f":"IFERROR(IF(AE68=\"\",\"\",OFFSET(業務!$X$5,MATCH($AE68,業務!$E$6:$E$59,0),0)),\"\")","v":""},null,null,{"$f":"IFERROR(IF(AE68=\"\",\"\",OFFSET(業務!$Y$5,MATCH($AE68,業務!$E$6:$E$59,0),0)),\"\")","v":""},null,null,{"$f":"IFERROR(IF(AE68=\"\",\"\",OFFSET(業務!$Q$5,MATCH($AE68,業務!$E$6:$E$59,0),0)&\" (人)\"),\"\")","v":""},null,null,24,null,0,null,null,null,null,0]
[null,null,{"$f":"IFERROR(IF(AE69=\"\",\"\",OFFSET(業務!$K$5,MATCH($AE69,業務!$E$6:$E$59,0),0)),\"\")","v":""},null,{"$f":"IFERROR(IF(AE69=\"\",\"\",OFFSET(業務!$L$5,MATCH($AE69,業務!$E$6:$E$59,0),0)),\"\")","v":""},null,null,{"$f":"IFERROR(IF(AE69=\"\",\"\",OFFSET(業務!$M$5,MATCH($AE69,業務!$E$6:$E$59,0),0)),\"\")","v":""},null,null,null,null,null,{"$f":"IFERROR(IF(AE69=\"\",\"\",OFFSET(業務!$N$5,MATCH($AE69,業務!$E$6:$E$59,0),0)),\"\")","v":""},null,null,null,null,null,{"$f":"IFERROR(IF(AE69=\"\",\"\",OFFSET(業務!$O$5,MATCH($AE69,業務!$E$6:$E$59,0),0)),\"\")","v":""},null,{"$f":"IFERROR(IF(AE69=\"\",\"\",OFFSET(業務!$X$5,MATCH($AE69,業務!$E$6:$E$59,0),0)),\"\")","v":""},null,null,{"$f":"IFERROR(IF(AE69=\"\",\"\",OFFSET(業務!$Y$5,MATCH($AE69,業務!$E$6:$E$59,0),0)),\"\")","v":""},null,null,{"$f":"IFERROR(IF(AE69=\"\",\"\",OFFSET(業務!$Q$5,MATCH($AE69,業務!$E$6:$E$59,0),0)&\" (人)\"),\"\")","v":""},null,null,{"$f":"IF($AE$42=27,\"\",AE68+1)","v":25},null,0,null,null,null,null,0]
[null,null,{"$f":"IFERROR(IF(AE70=\"\",\"\",OFFSET(業務!$K$5,MATCH($AE70,業務!$E$6:$E$59,0),0)),\"\")","v":""},null,{"$f":"IFERROR(IF(AE70=\"\",\"\",OFFSET(業務!$L$5,MATCH($AE70,業務!$E$6:$E$59,0),0)),\"\")","v":""},null,null,{"$f":"IFERROR(IF(AE70=\"\",\"\",OFFSET(業務!$M$5,MATCH($AE70,業務!$E$6:$E$59,0),0)),\"\")","v":""},null,null,null,null,null,{"$f":"IFERROR(IF(AE70=\"\",\"\",OFFSET(業務!$N$5,MATCH($AE70,業務!$E$6:$E$59,0),0)),\"\")","v":""},null,null,null,null,null,{"$f":"IFERROR(IF(AE70=\"\",\"\",OFFSET(業務!$O$5,MATCH($AE70,業務!$E$6:$E$59,0),0)),\"\")","v":""},null,{"$f":"IFERROR(IF(AE70=\"\",\"\",OFFSET(業務!$X$5,MATCH($AE70,業務!$E$6:$E$59,0),0)),\"\")","v":""},null,null,{"$f":"IFERROR(IF(AE70=\"\",\"\",OFFSET(業務!$Y$5,MATCH($AE70,業務!$E$6:$E$59,0),0)),\"\")","v":""},null,null,{"$f":"IFERROR(IF(AE70=\"\",\"\",OFFSET(業務!$Q$5,MATCH($AE70,業務!$E$6:$E$59,0),0)&\" (人)\"),\"\")","v":""},null,null,{"$f":"IF(OR($AE$42=27,$AE$42=28),\"\",AE69+1)","v":26},null,0,null,null,null,null,0]
[null,null,null,null,null,null,null,null,null,null,null,null,null,null,null,null,null,null,null,null,null,null,null,null,null,null,null,null,null,null,null,null,null,null,null,null,null,1]
[null,null,null,null,null,null,null,null,null,null,null,null,null,null,null,null,null,null,null,null,null,null,null,null,null,null,null,null,null,null,null,null,null,null,null,null,null,{"$f":"IF($AE$42>=27,1,0)","v":0}]
[null,null,"重要事業に必要な資源",null,null,null,null,"想定される浸水被害",null,null,null,null,null,"具体的な対策内容",null,null,null,null,null,"対応班",null,"災害対応人員",null,null,null,null,null,null,null,null,null,null,null,null,null,null,null,{"$f":"IF($AE$42>=27,1,0)","v":0}]
[null,null,null,null,null,null,null,null,null,null,null,null,null,null,null,null,null,null,null,null,null,"リーダー",null,null,"（代行者）",null,null,"対応人数",null,null,null,null,null,null,null,null,null,{"$f":"IF($AE$42>=27,1,0)","v":0}]
[null,null,{"$f":"IFERROR(IF(AE75=\"\",\"\",OFFSET(業務!$K$5,MATCH($AE75,業務!$E$6:$E$59,0),0)),\"\")","v":""},null,{"$f":"IFERROR(IF(AE75=\"\",\"\",OFFSET(業務!$L$5,MATCH($AE75,業務!$E$6:$E$59,0),0)),\"\")","v":""},null,null,{"$f":"IFERROR(IF(AE75=\"\",\"\",OFFSET(業務!$M$5,MATCH($AE75,業務!$E$6:$E$59,0),0)),\"\")","v":""},null,null,null,null,null,{"$f":"IFERROR(IF(AE75=\"\",\"\",OFFSET(業務!$N$5,MATCH($AE75,業務!$E$6:$E$59,0),0)),\"\")","v":""},null,null,null,null,null,{"$f":"IFERROR(IF(AE75=\"\",\"\",OFFSET(業務!$O$5,MATCH($AE75,業務!$E$6:$E$59,0),0)),\"\")","v":""},null,{"$f":"IFERROR(IF(AE75=\"\",\"\",OFFSET(業務!$X$5,MATCH($AE75,業務!$E$6:$E$59,0),0)),\"\")","v":""},null,null,{"$f":"IFERROR(IF(AE75=\"\",\"\",OFFSET(業務!$Y$5,MATCH($AE75,業務!$E$6:$E$59,0),0)),\"\")","v":""},null,null,{"$f":"IFERROR(IF(AE75=\"\",\"\",OFFSET(業務!$Q$5,MATCH($AE75,業務!$E$6:$E$59,0),0)&\" (人)\"),\"\")","v":""},null,null,{"$f":"MAX(AE45:AE70)+1","v":27},null,null,null,null,null,null,{"$f":"IF(AE75<=$AE$42,1,0)","v":0}]
[null,null,{"$f":"IFERROR(IF(AE76=\"\",\"\",OFFSET(業務!$K$5,MATCH($AE76,業務!$E$6:$E$59,0),0)),\"\")","v":""},null,{"$f":"IFERROR(IF(AE76=\"\",\"\",OFFSET(業務!$L$5,MATCH($AE76,業務!$E$6:$E$59,0),0)),\"\")","v":""},null,null,{"$f":"IFERROR(IF(AE76=\"\",\"\",OFFSET(業務!$M$5,MATCH($AE76,業務!$E$6:$E$59,0),0)),\"\")","v":""},null,null,null,null,null,{"$f":"IFERROR(IF(AE76=\"\",\"\",OFFSET(業務!$N$5,MATCH($AE76,業務!$E$6:$E$59,0),0)),\"\")","v":""},null,null,null,null,null,{"$f":"IFERROR(IF(AE76=\"\",\"\",OFFSET(業務!$O$5,MATCH($AE76,業務!$E$6:$E$59,0),0)),\"\")","v":""},null,{"$f":"IFERROR(IF(AE76=\"\",\"\",OFFSET(業務!$X$5,MATCH($AE76,業務!$E$6:$E$59,0),0)),\"\")","v":""},null,null,{"$f":"IFERROR(IF(AE76=\"\",\"\",OFFSET(業務!$Y$5,MATCH($AE76,業務!$E$6:$E$59,0),0)),\"\")","v":""},null,null,{"$f":"IFERROR(IF(AE76=\"\",\"\",OFFSET(業務!$Q$5,MATCH($AE76,業務!$E$6:$E$59,0),0)&\" (人)\"),\"\")","v":""},null,null,{"$f":"AE75+1","v":28},null,null,null,null,null,null,0]
[null,null,{"$f":"IFERROR(IF(AE77=\"\",\"\",OFFSET(業務!$K$5,MATCH($AE77,業務!$E$6:$E$59,0),0)),\"\")","v":""},null,{"$f":"IFERROR(IF(AE77=\"\",\"\",OFFSET(業務!$L$5,MATCH($AE77,業務!$E$6:$E$59,0),0)),\"\")","v":""},null,null,{"$f":"IFERROR(IF(AE77=\"\",\"\",OFFSET(業務!$M$5,MATCH($AE77,業務!$E$6:$E$59,0),0)),\"\")","v":""},null,null,null,null,null,{"$f":"IFERROR(IF(AE77=\"\",\"\",OFFSET(業務!$N$5,MATCH($AE77,業務!$E$6:$E$59,0),0)),\"\")","v":""},null,null,null,null,null,{"$f":"IFERROR(IF(AE77=\"\",\"\",OFFSET(業務!$O$5,MATCH($AE77,業務!$E$6:$E$59,0),0)),\"\")","v":""},null,{"$f":"IFERROR(IF(AE77=\"\",\"\",OFFSET(業務!$X$5,MATCH($AE77,業務!$E$6:$E$59,0),0)),\"\")","v":""},null,null,{"$f":"IFERROR(IF(AE77=\"\",\"\",OFFSET(業務!$Y$5,MATCH($AE77,業務!$E$6:$E$59,0),0)),\"\")","v":""},null,null,{"$f":"IFERROR(IF(AE77=\"\",\"\",OFFSET(業務!$Q$5,MATCH($AE77,業務!$E$6:$E$59,0),0)&\" (人)\"),\"\")","v":""},null,null,{"$f":"AE76+1","v":29},null,null,null,null,null,null,0]
[null,null,{"$f":"IFERROR(IF(AE78=\"\",\"\",OFFSET(業務!$K$5,MATCH($AE78,業務!$E$6:$E$59,0),0)),\"\")","v":""},null,{"$f":"IFERROR(IF(AE78=\"\",\"\",OFFSET(業務!$L$5,MATCH($AE78,業務!$E$6:$E$59,0),0)),\"\")","v":""},null,null,{"$f":"IFERROR(IF(AE78=\"\",\"\",OFFSET(業務!$M$5,MATCH($AE78,業務!$E$6:$E$59,0),0)),\"\")","v":""},null,null,null,null,null,{"$f":"IFERROR(IF(AE78=\"\",\"\",OFFSET(業務!$N$5,MATCH($AE78,業務!$E$6:$E$59,0),0)),\"\")","v":""},null,null,null,null,null,{"$f":"IFERROR(IF(AE78=\"\",\"\",OFFSET(業務!$O$5,MATCH($AE78,業務!$E$6:$E$59,0),0)),\"\")","v":""},null,{"$f":"IFERROR(IF(AE78=\"\",\"\",OFFSET(業務!$X$5,MATCH($AE78,業務!$E$6:$E$59,0),0)),\"\")","v":""},null,null,{"$f":"IFERROR(IF(AE78=\"\",\"\",OFFSET(業務!$Y$5,MATCH($AE78,業務!$E$6:$E$59,0),0)),\"\")","v":""},null,null,{"$f":"IFERROR(IF(AE78=\"\",\"\",OFFSET(業務!$Q$5,MATCH($AE78,業務!$E$6:$E$59,0),0)&\" (人)\"),\"\")","v":""},null,null,30,null,null,null,null,null,null,0]
[null,null,{"$f":"IFERROR(IF(AE79=\"\",\"\",OFFSET(業務!$K$5,MATCH($AE79,業務!$E$6:$E$59,0),0)),\"\")","v":""},null,{"$f":"IFERROR(IF(AE79=\"\",\"\",OFFSET(業務!$L$5,MATCH($AE79,業務!$E$6:$E$59,0),0)),\"\")","v":""},null,null,{"$f":"IFERROR(IF(AE79=\"\",\"\",OFFSET(業務!$M$5,MATCH($AE79,業務!$E$6:$E$59,0),0)),\"\")","v":""},null,null,null,null,null,{"$f":"IFERROR(IF(AE79=\"\",\"\",OFFSET(業務!$N$5,MATCH($AE79,業務!$E$6:$E$59,0),0)),\"\")","v":""},null,null,null,null,null,{"$f":"IFERROR(IF(AE79=\"\",\"\",OFFSET(業務!$O$5,MATCH($AE79,業務!$E$6:$E$59,0),0)),\"\")","v":""},null,{"$f":"IFERROR(IF(AE79=\"\",\"\",OFFSET(業務!$X$5,MATCH($AE79,業務!$E$6:$E$59,0),0)),\"\")","v":""},null,null,{"$f":"IFERROR(IF(AE79=\"\",\"\",OFFSET(業務!$Y$5,MATCH($AE79,業務!$E$6:$E$59,0),0)),\"\")","v":""},null,null,{"$f":"IFERROR(IF(AE79=\"\",\"\",OFFSET(業務!$Q$5,MATCH($AE79,業務!$E$6:$E$59,0),0)&\" (人)\"),\"\")","v":""},null,null,31,null,null,null,null,null,null,0]
[null,null,{"$f":"IFERROR(IF(AE80=\"\",\"\",OFFSET(業務!$K$5,MATCH($AE80,業務!$E$6:$E$59,0),0)),\"\")","v":""},null,{"$f":"IFERROR(IF(AE80=\"\",\"\",OFFSET(業務!$L$5,MATCH($AE80,業務!$E$6:$E$59,0),0)),\"\")","v":""},null,null,{"$f":"IFERROR(IF(AE80=\"\",\"\",OFFSET(業務!$M$5,MATCH($AE80,業務!$E$6:$E$59,0),0)),\"\")","v":""},null,null,null,null,null,{"$f":"IFERROR(IF(AE80=\"\",\"\",OFFSET(業務!$N$5,MATCH($AE80,業務!$E$6:$E$59,0),0)),\"\")","v":""},null,null,null,null,null,{"$f":"IFERROR(IF(AE80=\"\",\"\",OFFSET(業務!$O$5,MATCH($AE80,業務!$E$6:$E$59,0),0)),\"\")","v":""},null,{"$f":"IFERROR(IF(AE80=\"\",\"\",OFFSET(業務!$X$5,MATCH($AE80,業務!$E$6:$E$59,0),0)),\"\")","v":""},null,null,{"$f":"IFERROR(IF(AE80=\"\",\"\",OFFSET(業務!$Y$5,MATCH($AE80,業務!$E$6:$E$59,0),0)),\"\")","v":""},null,null,{"$f":"IFERROR(IF(AE80=\"\",\"\",OFFSET(業務!$Q$5,MATCH($AE80,業務!$E$6:$E$59,0),0)&\" (人)\"),\"\")","v":""},null,null,32,null,null,null,null,null,null,0]
[null,null,{"$f":"IFERROR(IF(AE81=\"\",\"\",OFFSET(業務!$K$5,MATCH($AE81,業務!$E$6:$E$59,0),0)),\"\")","v":""},null,{"$f":"IFERROR(IF(AE81=\"\",\"\",OFFSET(業務!$L$5,MATCH($AE81,業務!$E$6:$E$59,0),0)),\"\")","v":""},null,null,{"$f":"IFERROR(IF(AE81=\"\",\"\",OFFSET(業務!$M$5,MATCH($AE81,業務!$E$6:$E$59,0),0)),\"\")","v":""},null,null,null,null,null,{"$f":"IFERROR(IF(AE81=\"\",\"\",OFFSET(業務!$N$5,MATCH($AE81,業務!$E$6:$E$59,0),0)),\"\")","v":""},null,null,null,null,null,{"$f":"IFERROR(IF(AE81=\"\",\"\",OFFSET(業務!$O$5,MATCH($AE81,業務!$E$6:$E$59,0),0)),\"\")","v":""},null,{"$f":"IFERROR(IF(AE81=\"\",\"\",OFFSET(業務!$X$5,MATCH($AE81,業務!$E$6:$E$59,0),0)),\"\")","v":""},null,null,{"$f":"IFERROR(IF(AE81=\"\",\"\",OFFSET(業務!$Y$5,MATCH($AE81,業務!$E$6:$E$59,0),0)),\"\")","v":""},null,null,{"$f":"IFERROR(IF(AE81=\"\",\"\",OFFSET(業務!$Q$5,MATCH($AE81,業務!$E$6:$E$59,0),0)&\" (人)\"),\"\")","v":""},null,null,33,null,null,null,null,null,null,0]
[null,null,{"$f":"IFERROR(IF(AE82=\"\",\"\",OFFSET(業務!$K$5,MATCH($AE82,業務!$E$6:$E$59,0),0)),\"\")","v":""},null,{"$f":"IFERROR(IF(AE82=\"\",\"\",OFFSET(業務!$L$5,MATCH($AE82,業務!$E$6:$E$59,0),0)),\"\")","v":""},null,null,{"$f":"IFERROR(IF(AE82=\"\",\"\",OFFSET(業務!$M$5,MATCH($AE82,業務!$E$6:$E$59,0),0)),\"\")","v":""},null,null,null,null,null,{"$f":"IFERROR(IF(AE82=\"\",\"\",OFFSET(業務!$N$5,MATCH($AE82,業務!$E$6:$E$59,0),0)),\"\")","v":""},null,null,null,null,null,{"$f":"IFERROR(IF(AE82=\"\",\"\",OFFSET(業務!$O$5,MATCH($AE82,業務!$E$6:$E$59,0),0)),\"\")","v":""},null,{"$f":"IFERROR(IF(AE82=\"\",\"\",OFFSET(業務!$X$5,MATCH($AE82,業務!$E$6:$E$59,0),0)),\"\")","v":""},null,null,{"$f":"IFERROR(IF(AE82=\"\",\"\",OFFSET(業務!$Y$5,MATCH($AE82,業務!$E$6:$E$59,0),0)),\"\")","v":""},null,null,{"$f":"IFERROR(IF(AE82=\"\",\"\",OFFSET(業務!$Q$5,MATCH($AE82,業務!$E$6:$E$59,0),0)&\" (人)\"),\"\")","v":""},null,null,34,null,null,null,null,null,null,0]
[null,null,{"$f":"IFERROR(IF(AE83=\"\",\"\",OFFSET(業務!$K$5,MATCH($AE83,業務!$E$6:$E$59,0),0)),\"\")","v":""},null,{"$f":"IFERROR(IF(AE83=\"\",\"\",OFFSET(業務!$L$5,MATCH($AE83,業務!$E$6:$E$59,0),0)),\"\")","v":""},null,null,{"$f":"IFERROR(IF(AE83=\"\",\"\",OFFSET(業務!$M$5,MATCH($AE83,業務!$E$6:$E$59,0),0)),\"\")","v":""},null,null,null,null,null,{"$f":"IFERROR(IF(AE83=\"\",\"\",OFFSET(業務!$N$5,MATCH($AE83,業務!$E$6:$E$59,0),0)),\"\")","v":""},null,null,null,null,null,{"$f":"IFERROR(IF(AE83=\"\",\"\",OFFSET(業務!$O$5,MATCH($AE83,業務!$E$6:$E$59,0),0)),\"\")","v":""},null,{"$f":"IFERROR(IF(AE83=\"\",\"\",OFFSET(業務!$X$5,MATCH($AE83,業務!$E$6:$E$59,0),0)),\"\")","v":""},null,null,{"$f":"IFERROR(IF(AE83=\"\",\"\",OFFSET(業務!$Y$5,MATCH($AE83,業務!$E$6:$E$59,0),0)),\"\")","v":""},null,null,{"$f":"IFERROR(IF(AE83=\"\",\"\",OFFSET(業務!$Q$5,MATCH($AE83,業務!$E$6:$E$59,0),0)&\" (人)\"),\"\")","v":""},null,null,35,null,null,null,null,null,null,0]
[null,null,{"$f":"IFERROR(IF(AE84=\"\",\"\",OFFSET(業務!$K$5,MATCH($AE84,業務!$E$6:$E$59,0),0)),\"\")","v":""},null,{"$f":"IFERROR(IF(AE84=\"\",\"\",OFFSET(業務!$L$5,MATCH($AE84,業務!$E$6:$E$59,0),0)),\"\")","v":""},null,null,{"$f":"IFERROR(IF(AE84=\"\",\"\",OFFSET(業務!$M$5,MATCH($AE84,業務!$E$6:$E$59,0),0)),\"\")","v":""},null,null,null,null,null,{"$f":"IFERROR(IF(AE84=\"\",\"\",OFFSET(業務!$N$5,MATCH($AE84,業務!$E$6:$E$59,0),0)),\"\")","v":""},null,null,null,null,null,{"$f":"IFERROR(IF(AE84=\"\",\"\",OFFSET(業務!$O$5,MATCH($AE84,業務!$E$6:$E$59,0),0)),\"\")","v":""},null,{"$f":"IFERROR(IF(AE84=\"\",\"\",OFFSET(業務!$X$5,MATCH($AE84,業務!$E$6:$E$59,0),0)),\"\")","v":""},null,null,{"$f":"IFERROR(IF(AE84=\"\",\"\",OFFSET(業務!$Y$5,MATCH($AE84,業務!$E$6:$E$59,0),0)),\"\")","v":""},null,null,{"$f":"IFERROR(IF(AE84=\"\",\"\",OFFSET(業務!$Q$5,MATCH($AE84,業務!$E$6:$E$59,0),0)&\" (人)\"),\"\")","v":""},null,null,36,null,null,null,null,null,null,0]
[null,null,{"$f":"IFERROR(IF(AE85=\"\",\"\",OFFSET(業務!$K$5,MATCH($AE85,業務!$E$6:$E$59,0),0)),\"\")","v":""},null,{"$f":"IFERROR(IF(AE85=\"\",\"\",OFFSET(業務!$L$5,MATCH($AE85,業務!$E$6:$E$59,0),0)),\"\")","v":""},null,null,{"$f":"IFERROR(IF(AE85=\"\",\"\",OFFSET(業務!$M$5,MATCH($AE85,業務!$E$6:$E$59,0),0)),\"\")","v":""},null,null,null,null,null,{"$f":"IFERROR(IF(AE85=\"\",\"\",OFFSET(業務!$N$5,MATCH($AE85,業務!$E$6:$E$59,0),0)),\"\")","v":""},null,null,null,null,null,{"$f":"IFERROR(IF(AE85=\"\",\"\",OFFSET(業務!$O$5,MATCH($AE85,業務!$E$6:$E$59,0),0)),\"\")","v":""},null,{"$f":"IFERROR(IF(AE85=\"\",\"\",OFFSET(業務!$X$5,MATCH($AE85,業務!$E$6:$E$59,0),0)),\"\")","v":""},null,null,{"$f":"IFERROR(IF(AE85=\"\",\"\",OFFSET(業務!$Y$5,MATCH($AE85,業務!$E$6:$E$59,0),0)),\"\")","v":""},null,null,{"$f":"IFERROR(IF(AE85=\"\",\"\",OFFSET(業務!$Q$5,MATCH($AE85,業務!$E$6:$E$59,0),0)&\" (人)\"),\"\")","v":""},null,null,37,null,null,null,null,null,null,0]
[null,null,{"$f":"IFERROR(IF(AE86=\"\",\"\",OFFSET(業務!$K$5,MATCH($AE86,業務!$E$6:$E$59,0),0)),\"\")","v":""},null,{"$f":"IFERROR(IF(AE86=\"\",\"\",OFFSET(業務!$L$5,MATCH($AE86,業務!$E$6:$E$59,0),0)),\"\")","v":""},null,null,{"$f":"IFERROR(IF(AE86=\"\",\"\",OFFSET(業務!$M$5,MATCH($AE86,業務!$E$6:$E$59,0),0)),\"\")","v":""},null,null,null,null,null,{"$f":"IFERROR(IF(AE86=\"\",\"\",OFFSET(業務!$N$5,MATCH($AE86,業務!$E$6:$E$59,0),0)),\"\")","v":""},null,null,null,null,null,{"$f":"IFERROR(IF(AE86=\"\",\"\",OFFSET(業務!$O$5,MATCH($AE86,業務!$E$6:$E$59,0),0)),\"\")","v":""},null,{"$f":"IFERROR(IF(AE86=\"\",\"\",OFFSET(業務!$X$5,MATCH($AE86,業務!$E$6:$E$59,0),0)),\"\")","v":""},null,null,{"$f":"IFERROR(IF(AE86=\"\",\"\",OFFSET(業務!$Y$5,MATCH($AE86,業務!$E$6:$E$59,0),0)),\"\")","v":""},null,null,{"$f":"IFERROR(IF(AE86=\"\",\"\",OFFSET(業務!$Q$5,MATCH($AE86,業務!$E$6:$E$59,0),0)&\" (人)\"),\"\")","v":""},null,null,38,null,null,null,null,null,null,0]
[null,null,{"$f":"IFERROR(IF(AE87=\"\",\"\",OFFSET(業務!$K$5,MATCH($AE87,業務!$E$6:$E$59,0),0)),\"\")","v":""},null,{"$f":"IFERROR(IF(AE87=\"\",\"\",OFFSET(業務!$L$5,MATCH($AE87,業務!$E$6:$E$59,0),0)),\"\")","v":""},null,null,{"$f":"IFERROR(IF(AE87=\"\",\"\",OFFSET(業務!$M$5,MATCH($AE87,業務!$E$6:$E$59,0),0)),\"\")","v":""},null,null,null,null,null,{"$f":"IFERROR(IF(AE87=\"\",\"\",OFFSET(業務!$N$5,MATCH($AE87,業務!$E$6:$E$59,0),0)),\"\")","v":""},null,null,null,null,null,{"$f":"IFERROR(IF(AE87=\"\",\"\",OFFSET(業務!$O$5,MATCH($AE87,業務!$E$6:$E$59,0),0)),\"\")","v":""},null,{"$f":"IFERROR(IF(AE87=\"\",\"\",OFFSET(業務!$X$5,MATCH($AE87,業務!$E$6:$E$59,0),0)),\"\")","v":""},null,null,{"$f":"IFERROR(IF(AE87=\"\",\"\",OFFSET(業務!$Y$5,MATCH($AE87,業務!$E$6:$E$59,0),0)),\"\")","v":""},null,null,{"$f":"IFERROR(IF(AE87=\"\",\"\",OFFSET(業務!$Q$5,MATCH($AE87,業務!$E$6:$E$59,0),0)&\" (人)\"),\"\")","v":""},null,null,39,null,null,null,null,null,null,0]
[null,null,{"$f":"IFERROR(IF(AE88=\"\",\"\",OFFSET(業務!$K$5,MATCH($AE88,業務!$E$6:$E$59,0),0)),\"\")","v":""},null,{"$f":"IFERROR(IF(AE88=\"\",\"\",OFFSET(業務!$L$5,MATCH($AE88,業務!$E$6:$E$59,0),0)),\"\")","v":""},null,null,{"$f":"IFERROR(IF(AE88=\"\",\"\",OFFSET(業務!$M$5,MATCH($AE88,業務!$E$6:$E$59,0),0)),\"\")","v":""},null,null,null,null,null,{"$f":"IFERROR(IF(AE88=\"\",\"\",OFFSET(業務!$N$5,MATCH($AE88,業務!$E$6:$E$59,0),0)),\"\")","v":""},null,null,null,null,null,{"$f":"IFERROR(IF(AE88=\"\",\"\",OFFSET(業務!$O$5,MATCH($AE88,業務!$E$6:$E$59,0),0)),\"\")","v":""},null,{"$f":"IFERROR(IF(AE88=\"\",\"\",OFFSET(業務!$X$5,MATCH($AE88,業務!$E$6:$E$59,0),0)),\"\")","v":""},null,null,{"$f":"IFERROR(IF(AE88=\"\",\"\",OFFSET(業務!$Y$5,MATCH($AE88,業務!$E$6:$E$59,0),0)),\"\")","v":""},null,null,{"$f":"IFERROR(IF(AE88=\"\",\"\",OFFSET(業務!$Q$5,MATCH($AE88,業務!$E$6:$E$59,0),0)&\" (人)\"),\"\")","v":""},null,null,40,null,null,null,null,null,null,0]
[null,null,{"$f":"IFERROR(IF(AE89=\"\",\"\",OFFSET(業務!$K$5,MATCH($AE89,業務!$E$6:$E$59,0),0)),\"\")","v":""},null,{"$f":"IFERROR(IF(AE89=\"\",\"\",OFFSET(業務!$L$5,MATCH($AE89,業務!$E$6:$E$59,0),0)),\"\")","v":""},null,null,{"$f":"IFERROR(IF(AE89=\"\",\"\",OFFSET(業務!$M$5,MATCH($AE89,業務!$E$6:$E$59,0),0)),\"\")","v":""},null,null,null,null,null,{"$f":"IFERROR(IF(AE89=\"\",\"\",OFFSET(業務!$N$5,MATCH($AE89,業務!$E$6:$E$59,0),0)),\"\")","v":""},null,null,null,null,null,{"$f":"IFERROR(IF(AE89=\"\",\"\",OFFSET(業務!$O$5,MATCH($AE89,業務!$E$6:$E$59,0),0)),\"\")","v":""},null,{"$f":"IFERROR(IF(AE89=\"\",\"\",OFFSET(業務!$X$5,MATCH($AE89,業務!$E$6:$E$59,0),0)),\"\")","v":""},null,null,{"$f":"IFERROR(IF(AE89=\"\",\"\",OFFSET(業務!$Y$5,MATCH($AE89,業務!$E$6:$E$59,0),0)),\"\")","v":""},null,null,{"$f":"IFERROR(IF(AE89=\"\",\"\",OFFSET(業務!$Q$5,MATCH($AE89,業務!$E$6:$E$59,0),0)&\" (人)\"),\"\")","v":""},null,null,41,null,null,null,null,null,null,0]
[null,null,{"$f":"IFERROR(IF(AE90=\"\",\"\",OFFSET(業務!$K$5,MATCH($AE90,業務!$E$6:$E$59,0),0)),\"\")","v":""},null,{"$f":"IFERROR(IF(AE90=\"\",\"\",OFFSET(業務!$L$5,MATCH($AE90,業務!$E$6:$E$59,0),0)),\"\")","v":""},null,null,{"$f":"IFERROR(IF(AE90=\"\",\"\",OFFSET(業務!$M$5,MATCH($AE90,業務!$E$6:$E$59,0),0)),\"\")","v":""},null,null,null,null,null,{"$f":"IFERROR(IF(AE90=\"\",\"\",OFFSET(業務!$N$5,MATCH($AE90,業務!$E$6:$E$59,0),0)),\"\")","v":""},null,null,null,null,null,{"$f":"IFERROR(IF(AE90=\"\",\"\",OFFSET(業務!$O$5,MATCH($AE90,業務!$E$6:$E$59,0),0)),\"\")","v":""},null,{"$f":"IFERROR(IF(AE90=\"\",\"\",OFFSET(業務!$X$5,MATCH($AE90,業務!$E$6:$E$59,0),0)),\"\")","v":""},null,null,{"$f":"IFERROR(IF(AE90=\"\",\"\",OFFSET(業務!$Y$5,MATCH($AE90,業務!$E$6:$E$59,0),0)),\"\")","v":""},null,null,{"$f":"IFERROR(IF(AE90=\"\",\"\",OFFSET(業務!$Q$5,MATCH($AE90,業務!$E$6:$E$59,0),0)&\" (人)\"),\"\")","v":""},null,null,42,null,null,null,null,null,null,0]
[null,null,{"$f":"IFERROR(IF(AE91=\"\",\"\",OFFSET(業務!$K$5,MATCH($AE91,業務!$E$6:$E$59,0),0)),\"\")","v":""},null,{"$f":"IFERROR(IF(AE91=\"\",\"\",OFFSET(業務!$L$5,MATCH($AE91,業務!$E$6:$E$59,0),0)),\"\")","v":""},null,null,{"$f":"IFERROR(IF(AE91=\"\",\"\",OFFSET(業務!$M$5,MATCH($AE91,業務!$E$6:$E$59,0),0)),\"\")","v":""},null,null,null,null,null,{"$f":"IFERROR(IF(AE91=\"\",\"\",OFFSET(業務!$N$5,MATCH($AE91,業務!$E$6:$E$59,0),0)),\"\")","v":""},null,null,null,null,null,{"$f":"IFERROR(IF(AE91=\"\",\"\",OFFSET(業務!$O$5,MATCH($AE91,業務!$E$6:$E$59,0),0)),\"\")","v":""},null,{"$f":"IFERROR(IF(AE91=\"\",\"\",OFFSET(業務!$X$5,MATCH($AE91,業務!$E$6:$E$59,0),0)),\"\")","v":""},null,null,{"$f":"IFERROR(IF(AE91=\"\",\"\",OFFSET(業務!$Y$5,MATCH($AE91,業務!$E$6:$E$59,0),0)),\"\")","v":""},null,null,{"$f":"IFERROR(IF(AE91=\"\",\"\",OFFSET(業務!$Q$5,MATCH($AE91,業務!$E$6:$E$59,0),0)&\" (人)\"),\"\")","v":""},null,null,43,null,null,null,null,null,null,0]
[null,null,{"$f":"IFERROR(IF(AE92=\"\",\"\",OFFSET(業務!$K$5,MATCH($AE92,業務!$E$6:$E$59,0),0)),\"\")","v":""},null,{"$f":"IFERROR(IF(AE92=\"\",\"\",OFFSET(業務!$L$5,MATCH($AE92,業務!$E$6:$E$59,0),0)),\"\")","v":""},null,null,{"$f":"IFERROR(IF(AE92=\"\",\"\",OFFSET(業務!$M$5,MATCH($AE92,業務!$E$6:$E$59,0),0)),\"\")","v":""},null,null,null,null,null,{"$f":"IFERROR(IF(AE92=\"\",\"\",OFFSET(業務!$N$5,MATCH($AE92,業務!$E$6:$E$59,0),0)),\"\")","v":""},null,null,null,null,null,{"$f":"IFERROR(IF(AE92=\"\",\"\",OFFSET(業務!$O$5,MATCH($AE92,業務!$E$6:$E$59,0),0)),\"\")","v":""},null,{"$f":"IFERROR(IF(AE92=\"\",\"\",OFFSET(業務!$X$5,MATCH($AE92,業務!$E$6:$E$59,0),0)),\"\")","v":""},null,null,{"$f":"IFERROR(IF(AE92=\"\",\"\",OFFSET(業務!$Y$5,MATCH($AE92,業務!$E$6:$E$59,0),0)),\"\")","v":""},null,null,{"$f":"IFERROR(IF(AE92=\"\",\"\",OFFSET(業務!$Q$5,MATCH($AE92,業務!$E$6:$E$59,0),0)&\" (人)\"),\"\")","v":""},null,null,44,null,null,null,null,null,null,0]
[null,null,{"$f":"IFERROR(IF(AE93=\"\",\"\",OFFSET(業務!$K$5,MATCH($AE93,業務!$E$6:$E$59,0),0)),\"\")","v":""},null,{"$f":"IFERROR(IF(AE93=\"\",\"\",OFFSET(業務!$L$5,MATCH($AE93,業務!$E$6:$E$59,0),0)),\"\")","v":""},null,null,{"$f":"IFERROR(IF(AE93=\"\",\"\",OFFSET(業務!$M$5,MATCH($AE93,業務!$E$6:$E$59,0),0)),\"\")","v":""},null,null,null,null,null,{"$f":"IFERROR(IF(AE93=\"\",\"\",OFFSET(業務!$N$5,MATCH($AE93,業務!$E$6:$E$59,0),0)),\"\")","v":""},null,null,null,null,null,{"$f":"IFERROR(IF(AE93=\"\",\"\",OFFSET(業務!$O$5,MATCH($AE93,業務!$E$6:$E$59,0),0)),\"\")","v":""},null,{"$f":"IFERROR(IF(AE93=\"\",\"\",OFFSET(業務!$X$5,MATCH($AE93,業務!$E$6:$E$59,0),0)),\"\")","v":""},null,null,{"$f":"IFERROR(IF(AE93=\"\",\"\",OFFSET(業務!$Y$5,MATCH($AE93,業務!$E$6:$E$59,0),0)),\"\")","v":""},null,null,{"$f":"IFERROR(IF(AE93=\"\",\"\",OFFSET(業務!$Q$5,MATCH($AE93,業務!$E$6:$E$59,0),0)&\" (人)\"),\"\")","v":""},null,null,45,null,null,null,null,null,null,0]
[null,null,{"$f":"IFERROR(IF(AE94=\"\",\"\",OFFSET(業務!$K$5,MATCH($AE94,業務!$E$6:$E$59,0),0)),\"\")","v":""},null,{"$f":"IFERROR(IF(AE94=\"\",\"\",OFFSET(業務!$L$5,MATCH($AE94,業務!$E$6:$E$59,0),0)),\"\")","v":""},null,null,{"$f":"IFERROR(IF(AE94=\"\",\"\",OFFSET(業務!$M$5,MATCH($AE94,業務!$E$6:$E$59,0),0)),\"\")","v":""},null,null,null,null,null,{"$f":"IFERROR(IF(AE94=\"\",\"\",OFFSET(業務!$N$5,MATCH($AE94,業務!$E$6:$E$59,0),0)),\"\")","v":""},null,null,null,null,null,{"$f":"IFERROR(IF(AE94=\"\",\"\",OFFSET(業務!$O$5,MATCH($AE94,業務!$E$6:$E$59,0),0)),\"\")","v":""},null,{"$f":"IFERROR(IF(AE94=\"\",\"\",OFFSET(業務!$X$5,MATCH($AE94,業務!$E$6:$E$59,0),0)),\"\")","v":""},null,null,{"$f":"IFERROR(IF(AE94=\"\",\"\",OFFSET(業務!$Y$5,MATCH($AE94,業務!$E$6:$E$59,0),0)),\"\")","v":""},null,null,{"$f":"IFERROR(IF(AE94=\"\",\"\",OFFSET(業務!$Q$5,MATCH($AE94,業務!$E$6:$E$59,0),0)&\" (人)\"),\"\")","v":""},null,null,46,null,null,null,null,null,null,0]
[null,null,{"$f":"IFERROR(IF(AE95=\"\",\"\",OFFSET(業務!$K$5,MATCH($AE95,業務!$E$6:$E$59,0),0)),\"\")","v":""},null,{"$f":"IFERROR(IF(AE95=\"\",\"\",OFFSET(業務!$L$5,MATCH($AE95,業務!$E$6:$E$59,0),0)),\"\")","v":""},null,null,{"$f":"IFERROR(IF(AE95=\"\",\"\",OFFSET(業務!$M$5,MATCH($AE95,業務!$E$6:$E$59,0),0)),\"\")","v":""},null,null,null,null,null,{"$f":"IFERROR(IF(AE95=\"\",\"\",OFFSET(業務!$N$5,MATCH($AE95,業務!$E$6:$E$59,0),0)),\"\")","v":""},null,null,null,null,null,{"$f":"IFERROR(IF(AE95=\"\",\"\",OFFSET(業務!$O$5,MATCH($AE95,業務!$E$6:$E$59,0),0)),\"\")","v":""},null,{"$f":"IFERROR(IF(AE95=\"\",\"\",OFFSET(業務!$X$5,MATCH($AE95,業務!$E$6:$E$59,0),0)),\"\")","v":""},null,null,{"$f":"IFERROR(IF(AE95=\"\",\"\",OFFSET(業務!$Y$5,MATCH($AE95,業務!$E$6:$E$59,0),0)),\"\")","v":""},null,null,{"$f":"IFERROR(IF(AE95=\"\",\"\",OFFSET(業務!$Q$5,MATCH($AE95,業務!$E$6:$E$59,0),0)&\" (人)\"),\"\")","v":""},null,null,47,null,null,null,null,null,null,0]
[null,null,{"$f":"IFERROR(IF(AE96=\"\",\"\",OFFSET(業務!$K$5,MATCH($AE96,業務!$E$6:$E$59,0),0)),\"\")","v":""},null,{"$f":"IFERROR(IF(AE96=\"\",\"\",OFFSET(業務!$L$5,MATCH($AE96,業務!$E$6:$E$59,0),0)),\"\")","v":""},null,null,{"$f":"IFERROR(IF(AE96=\"\",\"\",OFFSET(業務!$M$5,MATCH($AE96,業務!$E$6:$E$59,0),0)),\"\")","v":""},null,null,null,null,null,{"$f":"IFERROR(IF(AE96=\"\",\"\",OFFSET(業務!$N$5,MATCH($AE96,業務!$E$6:$E$59,0),0)),\"\")","v":""},null,null,null,null,null,{"$f":"IFERROR(IF(AE96=\"\",\"\",OFFSET(業務!$O$5,MATCH($AE96,業務!$E$6:$E$59,0),0)),\"\")","v":""},null,{"$f":"IFERROR(IF(AE96=\"\",\"\",OFFSET(業務!$X$5,MATCH($AE96,業務!$E$6:$E$59,0),0)),\"\")","v":""},null,null,{"$f":"IFERROR(IF(AE96=\"\",\"\",OFFSET(業務!$Y$5,MATCH($AE96,業務!$E$6:$E$59,0),0)),\"\")","v":""},null,null,{"$f":"IFERROR(IF(AE96=\"\",\"\",OFFSET(業務!$Q$5,MATCH($AE96,業務!$E$6:$E$59,0),0)&\" (人)\"),\"\")","v":""},null,null,48,null,null,null,null,null,null,0]
[null,null,{"$f":"IFERROR(IF(AE97=\"\",\"\",OFFSET(業務!$K$5,MATCH($AE97,業務!$E$6:$E$59,0),0)),\"\")","v":""},null,{"$f":"IFERROR(IF(AE97=\"\",\"\",OFFSET(業務!$L$5,MATCH($AE97,業務!$E$6:$E$59,0),0)),\"\")","v":""},null,null,{"$f":"IFERROR(IF(AE97=\"\",\"\",OFFSET(業務!$M$5,MATCH($AE97,業務!$E$6:$E$59,0),0)),\"\")","v":""},null,null,null,null,null,{"$f":"IFERROR(IF(AE97=\"\",\"\",OFFSET(業務!$N$5,MATCH($AE97,業務!$E$6:$E$59,0),0)),\"\")","v":""},null,null,null,null,null,{"$f":"IFERROR(IF(AE97=\"\",\"\",OFFSET(業務!$O$5,MATCH($AE97,業務!$E$6:$E$59,0),0)),\"\")","v":""},null,{"$f":"IFERROR(IF(AE97=\"\",\"\",OFFSET(業務!$X$5,MATCH($AE97,業務!$E$6:$E$59,0),0)),\"\")","v":""},null,null,{"$f":"IFERROR(IF(AE97=\"\",\"\",OFFSET(業務!$Y$5,MATCH($AE97,業務!$E$6:$E$59,0),0)),\"\")","v":""},null,null,{"$f":"IFERROR(IF(AE97=\"\",\"\",OFFSET(業務!$Q$5,MATCH($AE97,業務!$E$6:$E$59,0),0)&\" (人)\"),\"\")","v":""},null,null,49,null,null,null,null,null,null,0]
[null,null,{"$f":"IFERROR(IF(AE98=\"\",\"\",OFFSET(業務!$K$5,MATCH($AE98,業務!$E$6:$E$59,0),0)),\"\")","v":""},null,{"$f":"IFERROR(IF(AE98=\"\",\"\",OFFSET(業務!$L$5,MATCH($AE98,業務!$E$6:$E$59,0),0)),\"\")","v":""},null,null,{"$f":"IFERROR(IF(AE98=\"\",\"\",OFFSET(業務!$M$5,MATCH($AE98,業務!$E$6:$E$59,0),0)),\"\")","v":""},null,null,null,null,null,{"$f":"IFERROR(IF(AE98=\"\",\"\",OFFSET(業務!$N$5,MATCH($AE98,業務!$E$6:$E$59,0),0)),\"\")","v":""},null,null,null,null,null,{"$f":"IFERROR(IF(AE98=\"\",\"\",OFFSET(業務!$O$5,MATCH($AE98,業務!$E$6:$E$59,0),0)),\"\")","v":""},null,{"$f":"IFERROR(IF(AE98=\"\",\"\",OFFSET(業務!$X$5,MATCH($AE98,業務!$E$6:$E$59,0),0)),\"\")","v":""},null,null,{"$f":"IFERROR(IF(AE98=\"\",\"\",OFFSET(業務!$Y$5,MATCH($AE98,業務!$E$6:$E$59,0),0)),\"\")","v":""},null,null,{"$f":"IFERROR(IF(AE98=\"\",\"\",OFFSET(業務!$Q$5,MATCH($AE98,業務!$E$6:$E$59,0),0)&\" (人)\"),\"\")","v":""},null,null,50,null,null,null,null,null,null,0]
[null,null,{"$f":"IFERROR(IF(AE99=\"\",\"\",OFFSET(業務!$K$5,MATCH($AE99,業務!$E$6:$E$59,0),0)),\"\")","v":""},null,{"$f":"IFERROR(IF(AE99=\"\",\"\",OFFSET(業務!$L$5,MATCH($AE99,業務!$E$6:$E$59,0),0)),\"\")","v":""},null,null,{"$f":"IFERROR(IF(AE99=\"\",\"\",OFFSET(業務!$M$5,MATCH($AE99,業務!$E$6:$E$59,0),0)),\"\")","v":""},null,null,null,null,null,{"$f":"IFERROR(IF(AE99=\"\",\"\",OFFSET(業務!$N$5,MATCH($AE99,業務!$E$6:$E$59,0),0)),\"\")","v":""},null,null,null,null,null,{"$f":"IFERROR(IF(AE99=\"\",\"\",OFFSET(業務!$O$5,MATCH($AE99,業務!$E$6:$E$59,0),0)),\"\")","v":""},null,{"$f":"IFERROR(IF(AE99=\"\",\"\",OFFSET(業務!$X$5,MATCH($AE99,業務!$E$6:$E$59,0),0)),\"\")","v":""},null,null,{"$f":"IFERROR(IF(AE99=\"\",\"\",OFFSET(業務!$Y$5,MATCH($AE99,業務!$E$6:$E$59,0),0)),\"\")","v":""},null,null,{"$f":"IFERROR(IF(AE99=\"\",\"\",OFFSET(業務!$Q$5,MATCH($AE99,業務!$E$6:$E$59,0),0)&\" (人)\"),\"\")","v":""},null,null,51,null,null,null,null,null,null,0]
[null,null,{"$f":"IFERROR(IF(AE100=\"\",\"\",OFFSET(業務!$K$5,MATCH($AE100,業務!$E$6:$E$59,0),0)),\"\")","v":""},null,{"$f":"IFERROR(IF(AE100=\"\",\"\",OFFSET(業務!$L$5,MATCH($AE100,業務!$E$6:$E$59,0),0)),\"\")","v":""},null,null,{"$f":"IFERROR(IF(AE100=\"\",\"\",OFFSET(業務!$M$5,MATCH($AE100,業務!$E$6:$E$59,0),0)),\"\")","v":""},null,null,null,null,null,{"$f":"IFERROR(IF(AE100=\"\",\"\",OFFSET(業務!$N$5,MATCH($AE100,業務!$E$6:$E$59,0),0)),\"\")","v":""},null,null,null,null,null,{"$f":"IFERROR(IF(AE100=\"\",\"\",OFFSET(業務!$O$5,MATCH($AE100,業務!$E$6:$E$59,0),0)),\"\")","v":""},null,{"$f":"IFERROR(IF(AE100=\"\",\"\",OFFSET(業務!$X$5,MATCH($AE100,業務!$E$6:$E$59,0),0)),\"\")","v":""},null,null,{"$f":"IFERROR(IF(AE100=\"\",\"\",OFFSET(業務!$Y$5,MATCH($AE100,業務!$E$6:$E$59,0),0)),\"\")","v":""},null,null,{"$f":"IFERROR(IF(AE100=\"\",\"\",OFFSET(業務!$Q$5,MATCH($AE100,業務!$E$6:$E$59,0),0)&\" (人)\"),\"\")","v":""},null,null,52,null,null,null,null,null,null,0]
[null,null,{"$f":"IFERROR(IF(AE101=\"\",\"\",OFFSET(業務!$K$5,MATCH($AE101,業務!$E$6:$E$59,0),0)),\"\")","v":""},null,{"$f":"IFERROR(IF(AE101=\"\",\"\",OFFSET(業務!$L$5,MATCH($AE101,業務!$E$6:$E$59,0),0)),\"\")","v":""},null,null,{"$f":"IFERROR(IF(AE101=\"\",\"\",OFFSET(業務!$M$5,MATCH($AE101,業務!$E$6:$E$59,0),0)),\"\")","v":""},null,null,null,null,null,{"$f":"IFERROR(IF(AE101=\"\",\"\",OFFSET(業務!$N$5,MATCH($AE101,業務!$E$6:$E$59,0),0)),\"\")","v":""},null,null,null,null,null,{"$f":"IFERROR(IF(AE101=\"\",\"\",OFFSET(業務!$O$5,MATCH($AE101,業務!$E$6:$E$59,0),0)),\"\")","v":""},null,{"$f":"IFERROR(IF(AE101=\"\",\"\",OFFSET(業務!$X$5,MATCH($AE101,業務!$E$6:$E$59,0),0)),\"\")","v":""},null,null,{"$f":"IFERROR(IF(AE101=\"\",\"\",OFFSET(業務!$Y$5,MATCH($AE101,業務!$E$6:$E$59,0),0)),\"\")","v":""},null,null,{"$f":"IFERROR(IF(AE101=\"\",\"\",OFFSET(業務!$Q$5,MATCH($AE101,業務!$E$6:$E$59,0),0)&\" (人)\"),\"\")","v":""},null,null,53,null,null,null,null,null,null,0]
[null,null,{"$f":"IFERROR(IF(AE102=\"\",\"\",OFFSET(業務!$K$5,MATCH($AE102,業務!$E$6:$E$59,0),0)),\"\")","v":""},null,{"$f":"IFERROR(IF(AE102=\"\",\"\",OFFSET(業務!$L$5,MATCH($AE102,業務!$E$6:$E$59,0),0)),\"\")","v":""},null,null,{"$f":"IFERROR(IF(AE102=\"\",\"\",OFFSET(業務!$M$5,MATCH($AE102,業務!$E$6:$E$59,0),0)),\"\")","v":""},null,null,null,null,null,{"$f":"IFERROR(IF(AE102=\"\",\"\",OFFSET(業務!$N$5,MATCH($AE102,業務!$E$6:$E$59,0),0)),\"\")","v":""},null,null,null,null,null,{"$f":"IFERROR(IF(AE102=\"\",\"\",OFFSET(業務!$O$5,MATCH($AE102,業務!$E$6:$E$59,0),0)),\"\")","v":""},null,{"$f":"IFERROR(IF(AE102=\"\",\"\",OFFSET(業務!$X$5,MATCH($AE102,業務!$E$6:$E$59,0),0)),\"\")","v":""},null,null,{"$f":"IFERROR(IF(AE102=\"\",\"\",OFFSET(業務!$Y$5,MATCH($AE102,業務!$E$6:$E$59,0),0)),\"\")","v":""},null,null,{"$f":"IFERROR(IF(AE102=\"\",\"\",OFFSET(業務!$Q$5,MATCH($AE102,業務!$E$6:$E$59,0),0)&\" (人)\"),\"\")","v":""},null,null,54,null,null,null,null,null,null,0]
[null,null,null,null,null,null,null,null,null,null,null,null,null,null,null,null,null,null,null,null,null,null,null,null,null,null,null,null,null,null,null,null,null,null,null,null,null,{"$f":"IF($AE$42>=27,1,0)","v":0}]
[null,null,null,null,null,null,null,null,null,null,null,null,null,null,null,null,null,null,null,null,null,null,null,null,null,null,null,null,null,null,null,null,null,null,null,null,null,1]
[null,null,"7.2 BCP発動基準",null,null,null,null,null,null,null,null,null,null,null,null,null,null,null,null,null,null,null,null,null,null,null,null,null,null,null,null,null,null,null,null,null,null,1]
[null,null,null,"洪水災害発生の可能性が生じた際の自社におけるBCP体制の発動基準は以下の通りとする。",null,null,null,null,null,null,null,null,null,null,null,null,null,null,null,null,null,null,null,null,null,null,null,null,null,null,null,null,null,null,null,null,null,1]
[null,null,null,"気象庁によって",null,null,null,null,null,null,null,null,{"$f":"IF(TLレベル=\"警戒レベル2\",\"（相当）以上が発令された場合、\",\"相当以上が発令された場合、\")","v":"相当以上が発令された場合、"},null,null,null,null,null,null,null,null,null,null,null,null,null,null,null,null,null,"警戒レベル2（相当）は、大雨注意報や洪水注意報、氾濫注意情報などが発表され、気象情報への関心を高めるべき段階。",null,"警戒レベル３ 相当は大雨警報（土砂災害）や洪水警報、氾濫警戒情報等が出され、自治体からは 「高齢者等避難」 が発令される段階。",null,"警戒レベル4 相当は、土砂災害警戒情報や氾濫危険情報等が出され、自治体からは 「避難指示」 が発令される\n　  段階です。",null,null,1]
[null,null,null,"本計画に従ってBCP体制を発動する。",null,null,null,null,null,null,null,null,null,null,null,null,null,null,null,null,null,null,null,null,null,null,null,null,null,null,null,null,null,null,null,null,null,1]
[null,null,null,null,null,null,null,null,null,null,null,null,null,null,null,null,null,null,null,null,null,null,null,null,null,null,null,null,null,null,null,null,null,null,null,null,null,1]
[null,null,null,"※",{"$f":"IF(コントロールシート!J659=\"警戒レベル2\",AE107,IF(コントロールシート!J659=\"警戒レベル3\",AG107,AI107))","v":"警戒レベル３ 相当は大雨警報（土砂災害）や洪水警報、氾濫警戒情報等が出され、自治体からは 「高齢者等避難」 が発令される段階。"},null,null,null,null,null,null,null,null,null,null,null,null,null,null,null,null,null,null,null,null,null,null,null,null,null,null,null,null,null,null,null,null,1]
[null,null,null,null,null,null,null,null,null,null,null,null,null,null,null,null,null,null,null,null,null,null,null,null,null,null,null,null,null,null,null,null,null,null,null,null,null,1]
[null,null,null,"※","なお、警戒レベル４ 相当が発令された際には、いつ被害が発生してもおかしくない状態のため、\n浸水対策の途中であっても、できるだけ速やかに避難先への移動を開始（避難開始する指示を）\nする。",null,null,null,null,null,null,null,null,null,null,null,null,null,null,null,null,null,null,null,null,null,null,null,null,null,null,null,null,null,null,null,null,1]
[null,null,null,null,null,null,null,null,null,null,null,null,null,null,null,null,null,null,null,null,null,null,null,null,null,null,null,null,null,null,null,null,null,null,null,null,null,1]

{"sheet":"8. BCPの定着・見直し","index":14,"n_rows":353,"n_cols":37,"rows_kept":353,"cut":false,"hidden":true,"merged":[[321,3,321,5],[321,6,321,9],[321,10,321,11],[350,3,350,4],[350,6,350,9],[350,10,350,11],[348,3,348,4],[348,6,348,9],[348,10,348,11],[349,3,349,4],[349,6,349,9],[349,10,349,11],[346,3,346,4],[346,6,346,9],[346,10,346,11],[347,3,347,4],[347,6,347,9],[347,10,347,11],[344,3,344,4],[344,6,344,9],[344,10,344,11],[345,3,345,4],[345,6,345,9],[345,10,345,11],[342,3,342,4],[342,6,342,9],[342,10,342,11],[343,3,343,4],[343,6,343,9],[343,10,343,11],[340,3,340,4],[340,6,340,9],[340,10,340,11],[341,3,341,4],[341,6,341,9],[341,10,341,11],[338,3,338,4],[338,6,338,9],[338,10,338,11],[339,3,339,4],[339,6,339,9],[339,10,339,11],[336,3,336,4],[336,6,336,9],[336,10,336,11],[337,3,337,4],[337,6,337,9],[337,10,337,11],[334,3,334,4],[334,6,334,9],[334,10,334,11],[335,3,335,4],[335,6,335,9],[335,10,335,11],[332,3,332,4],[332,6,332,9],[332,10,332,11],[333,3,333,4],[333,6,333,9],[333,10,333,11],[331,3,331,4],[331,6,331,9],[331,10,331,11],[328,3,328,4],[328,6,328,9],[328,10,328,11],[329,3,329,4],[329,6,329,9],[329,10,329,11],[276,5,276,10],[277,5,277,10],[323,3,323,4],[323,6,323,9],[323,10,323,11],[316,3,316,4],[316,6,316,9],[316,10,316,11],[317,3,317,4],[317,6,317,9],[317,10,317,11],[314,3,314,4],[314,6,314,9],[314,10,314,11],[315,3,315,4],[315,6,315,9],[315,10,315,11],[312,3,312,4],[312,6,312,9],[312,10,312,11],[313,3,313,4],[313,6,313,9],[313,10,313,11],[310,3,310,4],[271,5,271,10],[272,5,272,10],[273,5,273,10],[274,5,274,10],[275,5,275,10],[266,5,266,10],[267,5,267,10],[268,5,268,10],[269,5,269,10],[270,5,270,10],[261,5,261,10],[262,5,262,10],[263,5,263,10],[264,5,264,10],[265,5,265,10],[256,5,256,10],[257,5,257,10],[258,5,258,10],[259,5,259,10],[260,5,260,10],[251,5,251,10],[252,5,252,10],[253,5,253,10],[254,5,254,10],[255,5,255,10],[246,5,246,10],[247,5,247,10],[248,5,248,10],[249,5,249,10],[250,5,250,10],[351,3,351,4],[351,6,351,9],[351,10,351,11],[318,3,318,4],[318,6,318,9],[318,10,318,11],[322,3,322,4],[322,6,322,9],[322,10,322,11],[324,3,324,4],[324,6,324,9],[324,10,324,11],[325,3,325,4],[325,6,325,9],[325,10,325,11],[326,3,326,4],[326,6,326,9],[326,10,326,11],[327,3,327,4],[327,6,327,9],[327,10,327,11],[330,3,330,4],[330,6,330,9],[330,10,330,11],[310,6,310,9],[310,10,310,11],[311,3,311,4],[311,6,311,9],[311,10,311,11],[308,3,308,4],[308,6,308,9],[308,10,308,11],[309,3,309,4],[309,6,309,9],[309,10,309,11],[306,3,306,4],[306,6,306,9],[306,10,306,11],[307,3,307,4],[307,6,307,9],[307,10,307,11],[304,3,304,4],[304,6,304,9],[304,10,304,11],[305,3,305,4],[305,6,305,9],[305,10,305,11],[302,3,302,4],[302,6,302,9],[302,10,302,11],[303,3,303,4],[303,6,303,9],[303,10,303,11],[300,3,300,4],[300,6,300,9],[300,10,300,11],[301,3,301,4],[301,6,301,9],[301,10,301,11],[226,5,226,10],[227,5,227,10],[228,5,228,10],[298,3,298,4],[298,6,298,9],[298,10,298,11],[299,3,299,4],[299,6,299,9],[299,10,299,11],[296,3,296,4],[296,6,296,9],[296,10,296,11],[297,3,297,4],[297,6,297,9],[297,10,297,11],[242,5,242,10],[243,5,243,10],[244,5,244,10],[245,5,245,10],[236,5,236,10],[237,5,237,10],[238,5,238,10],[239,5,239,10],[240,5,240,10],[229,5,229,10],[230,5,230,10],[241,5,241,10],[295,3,295,4],[295,6,295,9],[295,10,295,11],[5,4,5,5],[5,9,5,10],[5,11,5,12],[223,4,223,10],[223,11,223,12],[282,2,282,12],[287,3,287,12],[291,3,291,12],[294,3,294,5],[294,6,294,9],[294,10,294,11],[224,5,224,10],[225,5,225,10],[231,5,231,10],[232,5,232,10],[233,5,233,10],[234,5,234,10],[235,5,235,10]]}
[]
[null,"8. BCPの定着・見直し",null,null,null,null,null,null,null,null,null,null,null,null,null,null,null,null,null,"flag",null,null,null,null,null,null,null,null,null,null,null,null,null,null,null,{"$f":"2+IF($Q$295<=24,1,2)","v":3},{"$f":"'7. BCP発動基準'!AJ2+'7. BCP発動基準'!AK2","v":15}]
[null,null,"８.１ 水防災タイムライン",null,null,null,null,null,null,null,null,null,null,null,null,null,null,null,null,1]
[null,null,"設定した対応と実施主体を時系列で整理したタイムラインを以下に示す。",null,null,null,null,null,null,null,null,null,null,null,null,null,null,{"$f":"コントロールシート!F678","v":"警戒レベル3"},null,1]
[null,null,null,null,null,null,null,null,null,null,null,null,null,null,null,null,null,null,null,1]
[null,null,"気象予警報等",null,"洪水予報",null,"土砂災害\n警戒情報","避難情報",null,"活動内容",null,"対応班（者）",null,null,null,null,"No","MAX",null,1]
[null,null,null,null,null,null,null,null,null,{"$f":"IF(K7=\"\",\"\",\"□\")","v":"□"},{"$f":"IFERROR(OFFSET(業務!$AA$5,MATCH(Q7,業務!$AJ$6:$AJ$59,0),0),\"\")","v":"発電機を購入する(2023年3月までに)"},{"$f":"IF(K7=\"\",\"\",\"□\")","v":"□"},{"$f":"IFERROR(OFFSET(業務!$AF$5,MATCH(Q7,業務!$AJ$6:$AJ$59,0),0),\"\")","v":"総務部長"},null,null,null,1,{"$f":"業務!AJ4","v":4},null,1]
[null,null,null,null,null,null,null,null,null,{"$f":"IF(K8=\"\",\"\",\"□\")","v":"□"},{"$f":"IFERROR(OFFSET(業務!$AA$5,MATCH(Q8,業務!$AJ$6:$AJ$59,0),0),\"\")","v":"必要な水を高台にある営業所に備蓄する(2022年12月までに)"},{"$f":"IF(K8=\"\",\"\",\"□\")","v":"□"},{"$f":"IFERROR(OFFSET(業務!$AF$5,MATCH(Q8,業務!$AJ$6:$AJ$59,0),0),\"\")","v":"総務部長"},null,null,null,2,null,null,1]
[null,null,null,null,null,null,null,null,null,"□",{"$f":"IFERROR(OFFSET(業務!$AA$5,MATCH(Q9,業務!$AJ$6:$AJ$59,0),0),\"\")","v":"従業員のクロストレーニングを実施する(2024年3月までに)"},"□",{"$f":"IFERROR(OFFSET(業務!$AF$5,MATCH(Q9,業務!$AJ$6:$AJ$59,0),0),\"\")","v":"管理部長"},null,null,null,3,null,null,1]
[null,null,null,null,null,null,null,null,null,"□",{"$f":"IFERROR(OFFSET(業務!$AA$5,MATCH(Q10,業務!$AJ$6:$AJ$59,0),0),\"\")","v":"顧客情報をクラウド上に保存しておく(2023年3月までに)"},"□",{"$f":"IFERROR(OFFSET(業務!$AF$5,MATCH(Q10,業務!$AJ$6:$AJ$59,0),0),\"\")","v":"経営企画部長"},null,null,null,4,null,null,1]
[null,null,null,null,null,null,null,null,null,"",{"$f":"IFERROR(OFFSET(業務!$AA$5,MATCH(Q11,業務!$AJ$6:$AJ$59,0),0),\"\")","v":""},"",{"$f":"IFERROR(OFFSET(業務!$AF$5,MATCH(Q11,業務!$AJ$6:$AJ$59,0),0),\"\")","v":""},null,null,null,5,null,null,1]
[null,null,null,null,null,null,null,null,null,"",{"$f":"IFERROR(OFFSET(業務!$AA$5,MATCH(Q12,業務!$AJ$6:$AJ$59,0),0),\"\")","v":""},"",{"$f":"IFERROR(OFFSET(業務!$AF$5,MATCH(Q12,業務!$AJ$6:$AJ$59,0),0),\"\")","v":""},null,null,null,6,null,null,{"$f":"IF(Q12<=$R$7,1,0)","v":0}]
[null,null,null,null,null,null,null,null,null,"",{"$f":"IFERROR(OFFSET(業務!$AA$5,MATCH(Q13,業務!$AJ$6:$AJ$59,0),0),\"\")","v":""},"",{"$f":"IFERROR(OFFSET(業務!$AF$5,MATCH(Q13,業務!$AJ$6:$AJ$59,0),0),\"\")","v":""},null,null,null,7,null,null,{"$f":"IF(Q13<=$R$7,1,0)","v":0}]
[null,null,null,null,null,null,null,null,null,"",{"$f":"IFERROR(OFFSET(業務!$AA$5,MATCH(Q14,業務!$AJ$6:$AJ$59,0),0),\"\")","v":""},"",{"$f":"IFERROR(OFFSET(業務!$AF$5,MATCH(Q14,業務!$AJ$6:$AJ$59,0),0),\"\")","v":""},null,null,null,8,null,null,0]
[null,null,null,null,null,null,null,null,null,"",{"$f":"IFERROR(OFFSET(業務!$AA$5,MATCH(Q15,業務!$AJ$6:$AJ$59,0),0),\"\")","v":""},"",{"$f":"IFERROR(OFFSET(業務!$AF$5,MATCH(Q15,業務!$AJ$6:$AJ$59,0),0),\"\")","v":""},null,null,null,9,null,null,0]
[null,null,null,null,null,null,null,null,null,"",{"$f":"IFERROR(OFFSET(業務!$AA$5,MATCH(Q16,業務!$AJ$6:$AJ$59,0),0),\"\")","v":""},"",{"$f":"IFERROR(OFFSET(業務!$AF$5,MATCH(Q16,業務!$AJ$6:$AJ$59,0),0),\"\")","v":""},null,null,null,10,null,null,0]
[null,null,null,null,null,null,null,null,null,"",{"$f":"IFERROR(OFFSET(業務!$AA$5,MATCH(Q17,業務!$AJ$6:$AJ$59,0),0),\"\")","v":""},"",{"$f":"IFERROR(OFFSET(業務!$AF$5,MATCH(Q17,業務!$AJ$6:$AJ$59,0),0),\"\")","v":""},null,null,null,11,null,null,0]
[null,null,null,null,null,null,null,null,null,"",{"$f":"IFERROR(OFFSET(業務!$AA$5,MATCH(Q18,業務!$AJ$6:$AJ$59,0),0),\"\")","v":""},"",{"$f":"IFERROR(OFFSET(業務!$AF$5,MATCH(Q18,業務!$AJ$6:$AJ$59,0),0),\"\")","v":""},null,null,null,12,null,null,0]
[null,null,null,null,null,null,null,null,null,"",{"$f":"IFERROR(OFFSET(業務!$AA$5,MATCH(Q19,業務!$AJ$6:$AJ$59,0),0),\"\")","v":""},"",{"$f":"IFERROR(OFFSET(業務!$AF$5,MATCH(Q19,業務!$AJ$6:$AJ$59,0),0),\"\")","v":""},null,null,null,13,null,null,0]
[null,null,null,null,null,null,null,null,null,"",{"$f":"IFERROR(OFFSET(業務!$AA$5,MATCH(Q20,業務!$AJ$6:$AJ$59,0),0),\"\")","v":""},"",{"$f":"IFERROR(OFFSET(業務!$AF$5,MATCH(Q20,業務!$AJ$6:$AJ$59,0),0),\"\")","v":""},null,null,null,14,null,null,0]
[null,null,null,null,null,null,null,null,null,"",{"$f":"IFERROR(OFFSET(業務!$AA$5,MATCH(Q21,業務!$AJ$6:$AJ$59,0),0),\"\")","v":""},"",{"$f":"IFERROR(OFFSET(業務!$AF$5,MATCH(Q21,業務!$AJ$6:$AJ$59,0),0),\"\")","v":""},null,null,null,15,null,null,0]
[null,null,null,null,null,null,null,null,null,"",{"$f":"IFERROR(OFFSET(業務!$AA$5,MATCH(Q22,業務!$AJ$6:$AJ$59,0),0),\"\")","v":""},"",{"$f":"IFERROR(OFFSET(業務!$AF$5,MATCH(Q22,業務!$AJ$6:$AJ$59,0),0),\"\")","v":""},null,null,null,16,null,null,0]
[null,null,null,null,null,null,null,null,null,"",{"$f":"IFERROR(OFFSET(業務!$AA$5,MATCH(Q23,業務!$AJ$6:$AJ$59,0),0),\"\")","v":""},"",{"$f":"IFERROR(OFFSET(業務!$AF$5,MATCH(Q23,業務!$AJ$6:$AJ$59,0),0),\"\")","v":""},null,null,null,17,null,null,0]
[null,null,null,null,null,null,null,null,null,"",{"$f":"IFERROR(OFFSET(業務!$AA$5,MATCH(Q24,業務!$AJ$6:$AJ$59,0),0),\"\")","v":""},"",{"$f":"IFERROR(OFFSET(業務!$AF$5,MATCH(Q24,業務!$AJ$6:$AJ$59,0),0),\"\")","v":""},null,null,null,18,null,null,0]
[null,null,null,null,null,null,null,null,null,"",{"$f":"IFERROR(OFFSET(業務!$AA$5,MATCH(Q25,業務!$AJ$6:$AJ$59,0),0),\"\")","v":""},"",{"$f":"IFERROR(OFFSET(業務!$AF$5,MATCH(Q25,業務!$AJ$6:$AJ$59,0),0),\"\")","v":""},null,null,null,19,null,null,0]
[null,null,null,null,null,null,null,null,null,"",{"$f":"IFERROR(OFFSET(業務!$AA$5,MATCH(Q26,業務!$AJ$6:$AJ$59,0),0),\"\")","v":""},"",{"$f":"IFERROR(OFFSET(業務!$AF$5,MATCH(Q26,業務!$AJ$6:$AJ$59,0),0),\"\")","v":""},null,null,null,20,null,null,0]
[null,null,null,null,null,null,null,null,null,"",{"$f":"IFERROR(OFFSET(業務!$AA$5,MATCH(Q27,業務!$AJ$6:$AJ$59,0),0),\"\")","v":""},"",{"$f":"IFERROR(OFFSET(業務!$AF$5,MATCH(Q27,業務!$AJ$6:$AJ$59,0),0),\"\")","v":""},null,null,null,21,null,null,0]
[null,null,null,null,null,null,null,null,null,"",{"$f":"IFERROR(OFFSET(業務!$AA$5,MATCH(Q28,業務!$AJ$6:$AJ$59,0),0),\"\")","v":""},"",{"$f":"IFERROR(OFFSET(業務!$AF$5,MATCH(Q28,業務!$AJ$6:$AJ$59,0),0),\"\")","v":""},null,null,null,22,null,null,0]
[null,null,null,null,null,null,null,null,null,"",{"$f":"IFERROR(OFFSET(業務!$AA$5,MATCH(Q29,業務!$AJ$6:$AJ$59,0),0),\"\")","v":""},"",{"$f":"IFERROR(OFFSET(業務!$AF$5,MATCH(Q29,業務!$AJ$6:$AJ$59,0),0),\"\")","v":""},null,null,null,23,null,null,0]
[null,null,null,null,null,null,null,null,null,"",{"$f":"IFERROR(OFFSET(業務!$AA$5,MATCH(Q30,業務!$AJ$6:$AJ$59,0),0),\"\")","v":""},"",{"$f":"IFERROR(OFFSET(業務!$AF$5,MATCH(Q30,業務!$AJ$6:$AJ$59,0),0),\"\")","v":""},null,null,null,24,null,null,0]
[null,null,null,null,null,null,null,null,null,"",{"$f":"IFERROR(OFFSET(業務!$AA$5,MATCH(Q31,業務!$AJ$6:$AJ$59,0),0),\"\")","v":""},"",{"$f":"IFERROR(OFFSET(業務!$AF$5,MATCH(Q31,業務!$AJ$6:$AJ$59,0),0),\"\")","v":""},null,null,null,25,null,null,0]
[null,null,null,null,null,null,null,null,null,"",{"$f":"IFERROR(OFFSET(業務!$AA$5,MATCH(Q32,業務!$AJ$6:$AJ$59,0),0),\"\")","v":""},"",{"$f":"IFERROR(OFFSET(業務!$AF$5,MATCH(Q32,業務!$AJ$6:$AJ$59,0),0),\"\")","v":""},null,null,null,26,null,null,0]
[null,null,null,null,null,null,null,null,null,"",{"$f":"IFERROR(OFFSET(業務!$AA$5,MATCH(Q33,業務!$AJ$6:$AJ$59,0),0),\"\")","v":""},"",{"$f":"IFERROR(OFFSET(業務!$AF$5,MATCH(Q33,業務!$AJ$6:$AJ$59,0),0),\"\")","v":""},null,null,null,27,null,null,0]
[null,null,null,null,null,null,null,null,null,"",{"$f":"IFERROR(OFFSET(業務!$AA$5,MATCH(Q34,業務!$AJ$6:$AJ$59,0),0),\"\")","v":""},"",{"$f":"IFERROR(OFFSET(業務!$AF$5,MATCH(Q34,業務!$AJ$6:$AJ$59,0),0),\"\")","v":""},null,null,null,28,null,null,0]
[null,null,null,null,null,null,null,null,null,"",{"$f":"IFERROR(OFFSET(業務!$AA$5,MATCH(Q35,業務!$AJ$6:$AJ$59,0),0),\"\")","v":""},"",{"$f":"IFERROR(OFFSET(業務!$AF$5,MATCH(Q35,業務!$AJ$6:$AJ$59,0),0),\"\")","v":""},null,null,null,29,null,null,0]
[null,null,null,null,null,null,null,null,null,"",{"$f":"IFERROR(OFFSET(業務!$AA$5,MATCH(Q36,業務!$AJ$6:$AJ$59,0),0),\"\")","v":""},"",{"$f":"IFERROR(OFFSET(業務!$AF$5,MATCH(Q36,業務!$AJ$6:$AJ$59,0),0),\"\")","v":""},null,null,null,30,null,null,0]
[null,null,null,null,null,null,null,null,null,"",{"$f":"IFERROR(OFFSET(業務!$AA$5,MATCH(Q37,業務!$AJ$6:$AJ$59,0),0),\"\")","v":""},"",{"$f":"IFERROR(OFFSET(業務!$AF$5,MATCH(Q37,業務!$AJ$6:$AJ$59,0),0),\"\")","v":""},null,null,null,31,null,null,0]
[null,null,null,null,null,null,null,null,null,"",{"$f":"IFERROR(OFFSET(業務!$AA$5,MATCH(Q38,業務!$AJ$6:$AJ$59,0),0),\"\")","v":""},"",{"$f":"IFERROR(OFFSET(業務!$AF$5,MATCH(Q38,業務!$AJ$6:$AJ$59,0),0),\"\")","v":""},null,null,null,32,null,null,0]
[null,null,null,null,null,null,null,null,null,"",{"$f":"IFERROR(OFFSET(業務!$AA$5,MATCH(Q39,業務!$AJ$6:$AJ$59,0),0),\"\")","v":""},"",{"$f":"IFERROR(OFFSET(業務!$AF$5,MATCH(Q39,業務!$AJ$6:$AJ$59,0),0),\"\")","v":""},null,null,null,33,null,null,0]
[null,null,null,null,null,null,null,null,null,"",{"$f":"IFERROR(OFFSET(業務!$AA$5,MATCH(Q40,業務!$AJ$6:$AJ$59,0),0),\"\")","v":""},"",{"$f":"IFERROR(OFFSET(業務!$AF$5,MATCH(Q40,業務!$AJ$6:$AJ$59,0),0),\"\")","v":""},null,null,null,34,null,null,0]
[null,null,null,null,null,null,null,null,null,"",{"$f":"IFERROR(OFFSET(業務!$AA$5,MATCH(Q41,業務!$AJ$6:$AJ$59,0),0),\"\")","v":""},"",{"$f":"IFERROR(OFFSET(業務!$AF$5,MATCH(Q41,業務!$AJ$6:$AJ$59,0),0),\"\")","v":""},null,null,null,35,null,null,0]
[null,null,null,null,null,null,null,null,null,"",{"$f":"IFERROR(OFFSET(業務!$AA$5,MATCH(Q42,業務!$AJ$6:$AJ$59,0),0),\"\")","v":""},"",{"$f":"IFERROR(OFFSET(業務!$AF$5,MATCH(Q42,業務!$AJ$6:$AJ$59,0),0),\"\")","v":""},null,null,null,36,null,null,0]
[null,null,null,null,null,null,null,null,null,"",{"$f":"IFERROR(OFFSET(業務!$AA$5,MATCH(Q43,業務!$AJ$6:$AJ$59,0),0),\"\")","v":""},"",{"$f":"IFERROR(OFFSET(業務!$AF$5,MATCH(Q43,業務!$AJ$6:$AJ$59,0),0),\"\")","v":""},null,null,null,37,null,null,0]
[null,null,null,null,null,null,null,null,null,"",{"$f":"IFERROR(OFFSET(業務!$AA$5,MATCH(Q44,業務!$AJ$6:$AJ$59,0),0),\"\")","v":""},"",{"$f":"IFERROR(OFFSET(業務!$AF$5,MATCH(Q44,業務!$AJ$6:$AJ$59,0),0),\"\")","v":""},null,null,null,38,null,null,0]
[null,null,null,null,null,null,null,null,null,"",{"$f":"IFERROR(OFFSET(業務!$AA$5,MATCH(Q45,業務!$AJ$6:$AJ$59,0),0),\"\")","v":""},"",{"$f":"IFERROR(OFFSET(業務!$AF$5,MATCH(Q45,業務!$AJ$6:$AJ$59,0),0),\"\")","v":""},null,null,null,39,null,null,0]
[null,null,null,null,null,null,null,null,null,"",{"$f":"IFERROR(OFFSET(業務!$AA$5,MATCH(Q46,業務!$AJ$6:$AJ$59,0),0),\"\")","v":""},"",{"$f":"IFERROR(OFFSET(業務!$AF$5,MATCH(Q46,業務!$AJ$6:$AJ$59,0),0),\"\")","v":""},null,null,null,40,null,null,0]
[null,null,null,null,null,null,null,null,null,"",{"$f":"IFERROR(OFFSET(業務!$AA$5,MATCH(Q47,業務!$AJ$6:$AJ$59,0),0),\"\")","v":""},"",{"$f":"IFERROR(OFFSET(業務!$AF$5,MATCH(Q47,業務!$AJ$6:$AJ$59,0),0),\"\")","v":""},null,null,null,41,null,null,0]
[null,null,null,null,null,null,null,null,null,"",{"$f":"IFERROR(OFFSET(業務!$AA$5,MATCH(Q48,業務!$AJ$6:$AJ$59,0),0),\"\")","v":""},"",{"$f":"IFERROR(OFFSET(業務!$AF$5,MATCH(Q48,業務!$AJ$6:$AJ$59,0),0),\"\")","v":""},null,null,null,42,null,null,0]
[null,null,null,null,null,null,null,null,null,"",{"$f":"IFERROR(OFFSET(業務!$AA$5,MATCH(Q49,業務!$AJ$6:$AJ$59,0),0),\"\")","v":""},"",{"$f":"IFERROR(OFFSET(業務!$AF$5,MATCH(Q49,業務!$AJ$6:$AJ$59,0),0),\"\")","v":""},null,null,null,43,null,null,0]
[null,null,null,null,null,null,null,null,null,"",{"$f":"IFERROR(OFFSET(業務!$AA$5,MATCH(Q50,業務!$AJ$6:$AJ$59,0),0),\"\")","v":""},"",{"$f":"IFERROR(OFFSET(業務!$AF$5,MATCH(Q50,業務!$AJ$6:$AJ$59,0),0),\"\")","v":""},null,null,null,44,null,null,0]
[null,null,null,null,null,null,null,null,null,"",{"$f":"IFERROR(OFFSET(業務!$AA$5,MATCH(Q51,業務!$AJ$6:$AJ$59,0),0),\"\")","v":""},"",{"$f":"IFERROR(OFFSET(業務!$AF$5,MATCH(Q51,業務!$AJ$6:$AJ$59,0),0),\"\")","v":""},null,null,null,45,null,null,0]
[null,null,null,null,null,null,null,null,null,"",{"$f":"IFERROR(OFFSET(業務!$AA$5,MATCH(Q52,業務!$AJ$6:$AJ$59,0),0),\"\")","v":""},"",{"$f":"IFERROR(OFFSET(業務!$AF$5,MATCH(Q52,業務!$AJ$6:$AJ$59,0),0),\"\")","v":""},null,null,null,46,null,null,0]
[null,null,null,null,null,null,null,null,null,"",{"$f":"IFERROR(OFFSET(業務!$AA$5,MATCH(Q53,業務!$AJ$6:$AJ$59,0),0),\"\")","v":""},"",{"$f":"IFERROR(OFFSET(業務!$AF$5,MATCH(Q53,業務!$AJ$6:$AJ$59,0),0),\"\")","v":""},null,null,null,47,null,null,0]
[null,null,null,null,null,null,null,null,null,"",{"$f":"IFERROR(OFFSET(業務!$AA$5,MATCH(Q54,業務!$AJ$6:$AJ$59,0),0),\"\")","v":""},"",{"$f":"IFERROR(OFFSET(業務!$AF$5,MATCH(Q54,業務!$AJ$6:$AJ$59,0),0),\"\")","v":""},null,null,null,48,null,null,0]
[null,null,null,null,null,null,null,null,null,"",{"$f":"IFERROR(OFFSET(業務!$AA$5,MATCH(Q55,業務!$AJ$6:$AJ$59,0),0),\"\")","v":""},"",{"$f":"IFERROR(OFFSET(業務!$AF$5,MATCH(Q55,業務!$AJ$6:$AJ$59,0),0),\"\")","v":""},null,null,null,49,null,null,0]
[null,null,null,null,null,null,null,null,null,"",{"$f":"IFERROR(OFFSET(業務!$AA$5,MATCH(Q56,業務!$AJ$6:$AJ$59,0),0),\"\")","v":""},"",{"$f":"IFERROR(OFFSET(業務!$AF$5,MATCH(Q56,業務!$AJ$6:$AJ$59,0),0),\"\")","v":""},null,null,null,50,null,null,0]
[null,null,null,null,null,null,null,null,null,"",{"$f":"IFERROR(OFFSET(業務!$AA$5,MATCH(Q57,業務!$AJ$6:$AJ$59,0),0),\"\")","v":""},"",{"$f":"IFERROR(OFFSET(業務!$AF$5,MATCH(Q57,業務!$AJ$6:$AJ$59,0),0),\"\")","v":""},null,null,null,51,null,null,0]
[null,null,null,null,null,null,null,null,null,"",{"$f":"IFERROR(OFFSET(業務!$AA$5,MATCH(Q58,業務!$AJ$6:$AJ$59,0),0),\"\")","v":""},"",{"$f":"IFERROR(OFFSET(業務!$AF$5,MATCH(Q58,業務!$AJ$6:$AJ$59,0),0),\"\")","v":""},null,null,null,52,null,null,0]
[null,null,null,null,null,null,null,null,null,"",{"$f":"IFERROR(OFFSET(業務!$AA$5,MATCH(Q59,業務!$AJ$6:$AJ$59,0),0),\"\")","v":""},"",{"$f":"IFERROR(OFFSET(業務!$AF$5,MATCH(Q59,業務!$AJ$6:$AJ$59,0),0),\"\")","v":""},null,null,null,53,null,null,0]
[null,null,null,null,null,null,null,null,null,"",{"$f":"IFERROR(OFFSET(業務!$AA$5,MATCH(Q60,業務!$AJ$6:$AJ$59,0),0),\"\")","v":""},"",{"$f":"IFERROR(OFFSET(業務!$AF$5,MATCH(Q60,業務!$AJ$6:$AJ$59,0),0),\"\")","v":""},null,null,null,54,null,null,0]
[null,null,null,null,null,null,null,null,null,"",{"$f":"IFERROR(OFFSET(業務!$AA$5,MATCH(Q61,業務!$AK$6:$AK$59,0),0),\"\")","v":""},"",{"$f":"IFERROR(OFFSET(業務!$O$5,MATCH(Q61,業務!$AK$6:$AK$59,0),0),\"\")","v":""},null,null,null,1,{"$f":"業務!AK4","v":0},null,1]
[null,null,null,null,null,null,null,null,null,"",{"$f":"IFERROR(OFFSET(業務!$AA$5,MATCH(Q62,業務!$AK$6:$AK$59,0),0),\"\")","v":""},"",{"$f":"IFERROR(OFFSET(業務!$O$5,MATCH(Q62,業務!$AK$6:$AK$59,0),0),\"\")","v":""},null,null,null,2,null,null,1]
[null,null,null,null,null,null,null,null,null,"",{"$f":"IFERROR(OFFSET(業務!$AA$5,MATCH(Q63,業務!$AK$6:$AK$59,0),0),\"\")","v":""},"",{"$f":"IFERROR(OFFSET(業務!$O$5,MATCH(Q63,業務!$AK$6:$AK$59,0),0),\"\")","v":""},null,null,null,3,null,null,1]
[null,null,null,null,null,null,null,null,null,"",{"$f":"IFERROR(OFFSET(業務!$AA$5,MATCH(Q64,業務!$AK$6:$AK$59,0),0),\"\")","v":""},"",{"$f":"IFERROR(OFFSET(業務!$O$5,MATCH(Q64,業務!$AK$6:$AK$59,0),0),\"\")","v":""},null,null,null,4,null,null,1]
[null,null,null,null,null,null,null,null,null,"",{"$f":"IFERROR(OFFSET(業務!$AA$5,MATCH(Q65,業務!$AK$6:$AK$59,0),0),\"\")","v":""},"",{"$f":"IFERROR(OFFSET(業務!$O$5,MATCH(Q65,業務!$AK$6:$AK$59,0),0),\"\")","v":""},null,null,null,5,null,null,1]
[null,null,null,null,null,null,null,null,null,"",{"$f":"IFERROR(OFFSET(業務!$AA$5,MATCH(Q66,業務!$AK$6:$AK$59,0),0),\"\")","v":""},"",{"$f":"IFERROR(OFFSET(業務!$O$5,MATCH(Q66,業務!$AK$6:$AK$59,0),0),\"\")","v":""},null,null,null,6,null,null,{"$f":"IF(Q66<=$R$61,1,0)","v":0}]
[null,null,null,null,null,null,null,null,null,"",{"$f":"IFERROR(OFFSET(業務!$AA$5,MATCH(Q67,業務!$AK$6:$AK$59,0),0),\"\")","v":""},"",{"$f":"IFERROR(OFFSET(業務!$O$5,MATCH(Q67,業務!$AK$6:$AK$59,0),0),\"\")","v":""},null,null,null,7,null,null,{"$f":"IF(Q67<=$R$61,1,0)","v":0}]
[null,null,null,null,null,null,null,null,null,"",{"$f":"IFERROR(OFFSET(業務!$AA$5,MATCH(Q68,業務!$AK$6:$AK$59,0),0),\"\")","v":""},"",{"$f":"IFERROR(OFFSET(業務!$O$5,MATCH(Q68,業務!$AK$6:$AK$59,0),0),\"\")","v":""},null,null,null,8,null,null,0]
[null,null,null,null,null,null,null,null,null,"",{"$f":"IFERROR(OFFSET(業務!$AA$5,MATCH(Q69,業務!$AK$6:$AK$59,0),0),\"\")","v":""},"",{"$f":"IFERROR(OFFSET(業務!$O$5,MATCH(Q69,業務!$AK$6:$AK$59,0),0),\"\")","v":""},null,null,null,9,null,null,0]
[null,null,null,null,null,null,null,null,null,"",{"$f":"IFERROR(OFFSET(業務!$AA$5,MATCH(Q70,業務!$AK$6:$AK$59,0),0),\"\")","v":""},"",{"$f":"IFERROR(OFFSET(業務!$O$5,MATCH(Q70,業務!$AK$6:$AK$59,0),0),\"\")","v":""},null,null,null,10,null,null,0]
[null,null,null,null,null,null,null,null,null,"",{"$f":"IFERROR(OFFSET(業務!$AA$5,MATCH(Q71,業務!$AK$6:$AK$59,0),0),\"\")","v":""},"",{"$f":"IFERROR(OFFSET(業務!$O$5,MATCH(Q71,業務!$AK$6:$AK$59,0),0),\"\")","v":""},null,null,null,11,null,null,0]
[null,null,null,null,null,null,null,null,null,{"$f":"IF(K72=\"\",\"\",\"□\")","v":""},{"$f":"IFERROR(OFFSET(業務!$AA$5,MATCH(Q72,業務!$AK$6:$AK$59,0),0),\"\")","v":""},{"$f":"IF(K72=\"\",\"\",\"□\")","v":""},{"$f":"IFERROR(OFFSET(業務!$O$5,MATCH(Q72,業務!$AK$6:$AK$59,0),0),\"\")","v":""},null,null,null,12,null,null,0]
[null,null,null,null,null,null,null,null,null,"",{"$f":"IFERROR(OFFSET(業務!$AA$5,MATCH(Q73,業務!$AK$6:$AK$59,0),0),\"\")","v":""},"",{"$f":"IFERROR(OFFSET(業務!$O$5,MATCH(Q73,業務!$AK$6:$AK$59,0),0),\"\")","v":""},null,null,null,13,null,null,0]
[null,null,null,null,null,null,null,null,null,"",{"$f":"IFERROR(OFFSET(業務!$AA$5,MATCH(Q74,業務!$AK$6:$AK$59,0),0),\"\")","v":""},"",{"$f":"IFERROR(OFFSET(業務!$O$5,MATCH(Q74,業務!$AK$6:$AK$59,0),0),\"\")","v":""},null,null,null,14,null,null,0]
[null,null,null,null,null,null,null,null,null,"",{"$f":"IFERROR(OFFSET(業務!$AA$5,MATCH(Q75,業務!$AK$6:$AK$59,0),0),\"\")","v":""},"",{"$f":"IFERROR(OFFSET(業務!$O$5,MATCH(Q75,業務!$AK$6:$AK$59,0),0),\"\")","v":""},null,null,null,15,null,null,0]
[null,null,null,null,null,null,null,null,null,"",{"$f":"IFERROR(OFFSET(業務!$AA$5,MATCH(Q76,業務!$AK$6:$AK$59,0),0),\"\")","v":""},"",{"$f":"IFERROR(OFFSET(業務!$O$5,MATCH(Q76,業務!$AK$6:$AK$59,0),0),\"\")","v":""},null,null,null,16,null,null,0]
[null,null,null,null,null,null,null,null,null,"",{"$f":"IFERROR(OFFSET(業務!$AA$5,MATCH(Q77,業務!$AK$6:$AK$59,0),0),\"\")","v":""},"",{"$f":"IFERROR(OFFSET(業務!$O$5,MATCH(Q77,業務!$AK$6:$AK$59,0),0),\"\")","v":""},null,null,null,17,null,null,0]
[null,null,null,null,null,null,null,null,null,"",{"$f":"IFERROR(OFFSET(業務!$AA$5,MATCH(Q78,業務!$AK$6:$AK$59,0),0),\"\")","v":""},"",{"$f":"IFERROR(OFFSET(業務!$O$5,MATCH(Q78,業務!$AK$6:$AK$59,0),0),\"\")","v":""},null,null,null,18,null,null,0]
[null,null,null,null,null,null,null,null,null,"",{"$f":"IFERROR(OFFSET(業務!$AA$5,MATCH(Q79,業務!$AK$6:$AK$59,0),0),\"\")","v":""},"",{"$f":"IFERROR(OFFSET(業務!$O$5,MATCH(Q79,業務!$AK$6:$AK$59,0),0),\"\")","v":""},null,null,null,19,null,null,0]
[null,null,null,null,null,null,null,null,null,"",{"$f":"IFERROR(OFFSET(業務!$AA$5,MATCH(Q80,業務!$AK$6:$AK$59,0),0),\"\")","v":""},"",{"$f":"IFERROR(OFFSET(業務!$O$5,MATCH(Q80,業務!$AK$6:$AK$59,0),0),\"\")","v":""},null,null,null,20,null,null,0]
[null,null,null,null,null,null,null,null,null,"",{"$f":"IFERROR(OFFSET(業務!$AA$5,MATCH(Q81,業務!$AK$6:$AK$59,0),0),\"\")","v":""},"",{"$f":"IFERROR(OFFSET(業務!$O$5,MATCH(Q81,業務!$AK$6:$AK$59,0),0),\"\")","v":""},null,null,null,21,null,null,0]
[null,null,null,null,null,null,null,null,null,"",{"$f":"IFERROR(OFFSET(業務!$AA$5,MATCH(Q82,業務!$AK$6:$AK$59,0),0),\"\")","v":""},"",{"$f":"IFERROR(OFFSET(業務!$O$5,MATCH(Q82,業務!$AK$6:$AK$59,0),0),\"\")","v":""},null,null,null,22,null,null,0]
[null,null,null,null,null,null,null,null,null,"",{"$f":"IFERROR(OFFSET(業務!$AA$5,MATCH(Q83,業務!$AK$6:$AK$59,0),0),\"\")","v":""},"",{"$f":"IFERROR(OFFSET(業務!$O$5,MATCH(Q83,業務!$AK$6:$AK$59,0),0),\"\")","v":""},null,null,null,23,null,null,0]
[null,null,null,null,null,null,null,null,null,"",{"$f":"IFERROR(OFFSET(業務!$AA$5,MATCH(Q84,業務!$AK$6:$AK$59,0),0),\"\")","v":""},"",{"$f":"IFERROR(OFFSET(業務!$O$5,MATCH(Q84,業務!$AK$6:$AK$59,0),0),\"\")","v":""},null,null,null,24,null,null,0]
[null,null,null,null,null,null,null,null,null,"",{"$f":"IFERROR(OFFSET(業務!$AA$5,MATCH(Q85,業務!$AK$6:$AK$59,0),0),\"\")","v":""},"",{"$f":"IFERROR(OFFSET(業務!$O$5,MATCH(Q85,業務!$AK$6:$AK$59,0),0),\"\")","v":""},null,null,null,25,null,null,0]
[null,null,null,null,null,null,null,null,null,"",{"$f":"IFERROR(OFFSET(業務!$AA$5,MATCH(Q86,業務!$AK$6:$AK$59,0),0),\"\")","v":""},"",{"$f":"IFERROR(OFFSET(業務!$O$5,MATCH(Q86,業務!$AK$6:$AK$59,0),0),\"\")","v":""},null,null,null,26,null,null,0]
[null,null,null,null,null,null,null,null,null,"",{"$f":"IFERROR(OFFSET(業務!$AA$5,MATCH(Q87,業務!$AK$6:$AK$59,0),0),\"\")","v":""},"",{"$f":"IFERROR(OFFSET(業務!$O$5,MATCH(Q87,業務!$AK$6:$AK$59,0),0),\"\")","v":""},null,null,null,27,null,null,0]
[null,null,null,null,null,null,null,null,null,"",{"$f":"IFERROR(OFFSET(業務!$AA$5,MATCH(Q88,業務!$AK$6:$AK$59,0),0),\"\")","v":""},"",{"$f":"IFERROR(OFFSET(業務!$O$5,MATCH(Q88,業務!$AK$6:$AK$59,0),0),\"\")","v":""},null,null,null,28,null,null,0]
[null,null,null,null,null,null,null,null,null,"",{"$f":"IFERROR(OFFSET(業務!$AA$5,MATCH(Q89,業務!$AK$6:$AK$59,0),0),\"\")","v":""},"",{"$f":"IFERROR(OFFSET(業務!$O$5,MATCH(Q89,業務!$AK$6:$AK$59,0),0),\"\")","v":""},null,null,null,29,null,null,0]
[null,null,null,null,null,null,null,null,null,"",{"$f":"IFERROR(OFFSET(業務!$AA$5,MATCH(Q90,業務!$AK$6:$AK$59,0),0),\"\")","v":""},"",{"$f":"IFERROR(OFFSET(業務!$O$5,MATCH(Q90,業務!$AK$6:$AK$59,0),0),\"\")","v":""},null,null,null,30,null,null,0]
[null,null,null,null,null,null,null,null,null,"",{"$f":"IFERROR(OFFSET(業務!$AA$5,MATCH(Q91,業務!$AK$6:$AK$59,0),0),\"\")","v":""},"",{"$f":"IFERROR(OFFSET(業務!$O$5,MATCH(Q91,業務!$AK$6:$AK$59,0),0),\"\")","v":""},null,null,null,31,null,null,0]
[null,null,null,null,null,null,null,null,null,"",{"$f":"IFERROR(OFFSET(業務!$AA$5,MATCH(Q92,業務!$AK$6:$AK$59,0),0),\"\")","v":""},"",{"$f":"IFERROR(OFFSET(業務!$O$5,MATCH(Q92,業務!$AK$6:$AK$59,0),0),\"\")","v":""},null,null,null,32,null,null,0]
[null,null,null,null,null,null,null,null,null,"",{"$f":"IFERROR(OFFSET(業務!$AA$5,MATCH(Q93,業務!$AK$6:$AK$59,0),0),\"\")","v":""},"",{"$f":"IFERROR(OFFSET(業務!$O$5,MATCH(Q93,業務!$AK$6:$AK$59,0),0),\"\")","v":""},null,null,null,33,null,null,0]
[null,null,null,null,null,null,null,null,null,"",{"$f":"IFERROR(OFFSET(業務!$AA$5,MATCH(Q94,業務!$AK$6:$AK$59,0),0),\"\")","v":""},"",{"$f":"IFERROR(OFFSET(業務!$O$5,MATCH(Q94,業務!$AK$6:$AK$59,0),0),\"\")","v":""},null,null,null,34,null,null,0]
[null,null,null,null,null,null,null,null,null,"",{"$f":"IFERROR(OFFSET(業務!$AA$5,MATCH(Q95,業務!$AK$6:$AK$59,0),0),\"\")","v":""},"",{"$f":"IFERROR(OFFSET(業務!$O$5,MATCH(Q95,業務!$AK$6:$AK$59,0),0),\"\")","v":""},null,null,null,35,null,null,0]
[null,null,null,null,null,null,null,null,null,"",{"$f":"IFERROR(OFFSET(業務!$AA$5,MATCH(Q96,業務!$AK$6:$AK$59,0),0),\"\")","v":""},"",{"$f":"IFERROR(OFFSET(業務!$O$5,MATCH(Q96,業務!$AK$6:$AK$59,0),0),\"\")","v":""},null,null,null,36,null,null,0]
[null,null,null,null,null,null,null,null,null,"",{"$f":"IFERROR(OFFSET(業務!$AA$5,MATCH(Q97,業務!$AK$6:$AK$59,0),0),\"\")","v":""},"",{"$f":"IFERROR(OFFSET(業務!$O$5,MATCH(Q97,業務!$AK$6:$AK$59,0),0),\"\")","v":""},null,null,null,37,null,null,0]
[null,null,null,null,null,null,null,null,null,"",{"$f":"IFERROR(OFFSET(業務!$AA$5,MATCH(Q98,業務!$AK$6:$AK$59,0),0),\"\")","v":""},"",{"$f":"IFERROR(OFFSET(業務!$O$5,MATCH(Q98,業務!$AK$6:$AK$59,0),0),\"\")","v":""},null,null,null,38,null,null,0]
[null,null,null,null,null,null,null,null,null,"",{"$f":"IFERROR(OFFSET(業務!$AA$5,MATCH(Q99,業務!$AK$6:$AK$59,0),0),\"\")","v":""},"",{"$f":"IFERROR(OFFSET(業務!$O$5,MATCH(Q99,業務!$AK$6:$AK$59,0),0),\"\")","v":""},null,null,null,39,null,null,0]
[null,null,null,null,null,null,null,null,null,"",{"$f":"IFERROR(OFFSET(業務!$AA$5,MATCH(Q100,業務!$AK$6:$AK$59,0),0),\"\")","v":""},"",{"$f":"IFERROR(OFFSET(業務!$O$5,MATCH(Q100,業務!$AK$6:$AK$59,0),0),\"\")","v":""},null,null,null,40,null,null,0]
[null,null,null,null,null,null,null,null,null,"",{"$f":"IFERROR(OFFSET(業務!$AA$5,MATCH(Q101,業務!$AK$6:$AK$59,0),0),\"\")","v":""},"",{"$f":"IFERROR(OFFSET(業務!$O$5,MATCH(Q101,業務!$AK$6:$AK$59,0),0),\"\")","v":""},null,null,null,41,null,null,0]
[null,null,null,null,null,null,null,null,null,"",{"$f":"IFERROR(OFFSET(業務!$AA$5,MATCH(Q102,業務!$AK$6:$AK$59,0),0),\"\")","v":""},"",{"$f":"IFERROR(OFFSET(業務!$O$5,MATCH(Q102,業務!$AK$6:$AK$59,0),0),\"\")","v":""},null,null,null,42,null,null,0]
[null,null,null,null,null,null,null,null,null,"",{"$f":"IFERROR(OFFSET(業務!$AA$5,MATCH(Q103,業務!$AK$6:$AK$59,0),0),\"\")","v":""},"",{"$f":"IFERROR(OFFSET(業務!$O$5,MATCH(Q103,業務!$AK$6:$AK$59,0),0),\"\")","v":""},null,null,null,43,null,null,0]
[null,null,null,null,null,null,null,null,null,"",{"$f":"IFERROR(OFFSET(業務!$AA$5,MATCH(Q104,業務!$AK$6:$AK$59,0),0),\"\")","v":""},"",{"$f":"IFERROR(OFFSET(業務!$O$5,MATCH(Q104,業務!$AK$6:$AK$59,0),0),\"\")","v":""},null,null,null,44,null,null,0]
[null,null,null,null,null,null,null,null,null,"",{"$f":"IFERROR(OFFSET(業務!$AA$5,MATCH(Q105,業務!$AK$6:$AK$59,0),0),\"\")","v":""},"",{"$f":"IFERROR(OFFSET(業務!$O$5,MATCH(Q105,業務!$AK$6:$AK$59,0),0),\"\")","v":""},null,null,null,45,null,null,0]
[null,null,null,null,null,null,null,null,null,"",{"$f":"IFERROR(OFFSET(業務!$AA$5,MATCH(Q106,業務!$AK$6:$AK$59,0),0),\"\")","v":""},"",{"$f":"IFERROR(OFFSET(業務!$O$5,MATCH(Q106,業務!$AK$6:$AK$59,0),0),\"\")","v":""},null,null,null,46,null,null,0]
[null,null,null,null,null,null,null,null,null,"",{"$f":"IFERROR(OFFSET(業務!$AA$5,MATCH(Q107,業務!$AK$6:$AK$59,0),0),\"\")","v":""},"",{"$f":"IFERROR(OFFSET(業務!$O$5,MATCH(Q107,業務!$AK$6:$AK$59,0),0),\"\")","v":""},null,null,null,47,null,null,0]
[null,null,null,null,null,null,null,null,null,"",{"$f":"IFERROR(OFFSET(業務!$AA$5,MATCH(Q108,業務!$AK$6:$AK$59,0),0),\"\")","v":""},"",{"$f":"IFERROR(OFFSET(業務!$O$5,MATCH(Q108,業務!$AK$6:$AK$59,0),0),\"\")","v":""},null,null,null,48,null,null,0]
[null,null,null,null,null,null,null,null,null,"",{"$f":"IFERROR(OFFSET(業務!$AA$5,MATCH(Q109,業務!$AK$6:$AK$59,0),0),\"\")","v":""},"",{"$f":"IFERROR(OFFSET(業務!$O$5,MATCH(Q109,業務!$AK$6:$AK$59,0),0),\"\")","v":""},null,null,null,49,null,null,0]
[null,null,null,null,null,null,null,null,null,"",{"$f":"IFERROR(OFFSET(業務!$AA$5,MATCH(Q110,業務!$AK$6:$AK$59,0),0),\"\")","v":""},"",{"$f":"IFERROR(OFFSET(業務!$O$5,MATCH(Q110,業務!$AK$6:$AK$59,0),0),\"\")","v":""},null,null,null,50,null,null,0]
[null,null,null,null,null,null,null,null,null,"",{"$f":"IFERROR(OFFSET(業務!$AA$5,MATCH(Q111,業務!$AK$6:$AK$59,0),0),\"\")","v":""},"",{"$f":"IFERROR(OFFSET(業務!$O$5,MATCH(Q111,業務!$AK$6:$AK$59,0),0),\"\")","v":""},null,null,null,51,null,null,0]
[null,null,null,null,null,null,null,null,null,"",{"$f":"IFERROR(OFFSET(業務!$AA$5,MATCH(Q112,業務!$AK$6:$AK$59,0),0),\"\")","v":""},"",{"$f":"IFERROR(OFFSET(業務!$O$5,MATCH(Q112,業務!$AK$6:$AK$59,0),0),\"\")","v":""},null,null,null,52,null,null,0]
[null,null,null,null,null,null,null,null,null,"",{"$f":"IFERROR(OFFSET(業務!$AA$5,MATCH(Q113,業務!$AK$6:$AK$59,0),0),\"\")","v":""},"",{"$f":"IFERROR(OFFSET(業務!$O$5,MATCH(Q113,業務!$AK$6:$AK$59,0),0),\"\")","v":""},null,null,null,53,null,null,0]
[null,null,null,null,null,null,null,null,null,"",{"$f":"IFERROR(OFFSET(業務!$AA$5,MATCH(Q114,業務!$AK$6:$AK$59,0),0),\"\")","v":""},"",{"$f":"IFERROR(OFFSET(業務!$O$5,MATCH(Q114,業務!$AK$6:$AK$59,0),0),\"\")","v":""},null,null,null,54,null,null,0]
[null,null,null,null,null,null,null,null,null,"□",{"$f":"IFERROR(OFFSET(業務!$AA$5,MATCH(Q115,業務!$AL$6:$AL$59,0),0),\"\")","v":"通行規制が予期される場合、本社ではなく、高台営業所に参集するよう連絡する(5分)"},"□",{"$f":"IFERROR(OFFSET(業務!$O$5,MATCH(Q115,業務!$AL$6:$AL$59,0),0),\"\")","v":"避難誘導班"},null,null,null,1,{"$f":"業務!AL4","v":5},null,1]
[null,null,null,null,null,null,null,null,null,"□",{"$f":"IFERROR(OFFSET(業務!$AA$5,MATCH(Q116,業務!$AL$6:$AL$59,0),0),\"\")","v":"トラックを本社から高台営業所に移動させる(30分)"},"□",{"$f":"IFERROR(OFFSET(業務!$O$5,MATCH(Q116,業務!$AL$6:$AL$59,0),0),\"\")","v":"復旧対策班"},null,null,null,2,null,null,1]
[null,null,null,null,null,null,null,null,null,"□",{"$f":"IFERROR(OFFSET(業務!$AA$5,MATCH(Q117,業務!$AL$6:$AL$59,0),0),\"\")","v":"トラックとともに、本社から高台営業所に移動させる(30分)"},"□",{"$f":"IFERROR(OFFSET(業務!$O$5,MATCH(Q117,業務!$AL$6:$AL$59,0),0),\"\")","v":"復旧対策班"},null,null,null,3,null,null,1]
[null,null,null,null,null,null,null,null,null,"□",{"$f":"IFERROR(OFFSET(業務!$AA$5,MATCH(Q118,業務!$AL$6:$AL$59,0),0),\"\")","v":"小分けした薬品を鍵のかかる棚（2階以上）に移動させる(30分)"},"□",{"$f":"IFERROR(OFFSET(業務!$O$5,MATCH(Q118,業務!$AL$6:$AL$59,0),0),\"\")","v":"復旧対策班"},null,null,null,4,null,null,1]
[null,null,null,null,null,null,null,null,null,"□",{"$f":"IFERROR(OFFSET(業務!$AA$5,MATCH(Q119,業務!$AL$6:$AL$59,0),0),\"\")","v":"避難時にノートPCを持参する(5分)"},"□",{"$f":"IFERROR(OFFSET(業務!$O$5,MATCH(Q119,業務!$AL$6:$AL$59,0),0),\"\")","v":"システム班"},null,null,null,5,null,null,1]
[null,null,null,null,null,null,null,null,null,"",{"$f":"IFERROR(OFFSET(業務!$AA$5,MATCH(Q120,業務!$AL$6:$AL$59,0),0),\"\")","v":""},"",{"$f":"IFERROR(OFFSET(業務!$O$5,MATCH(Q120,業務!$AL$6:$AL$59,0),0),\"\")","v":""},null,null,null,6,null,null,{"$f":"IF(Q120<=$R$115,1,0)","v":0}]
[null,null,null,null,null,null,null,null,null,"",{"$f":"IFERROR(OFFSET(業務!$AA$5,MATCH(Q121,業務!$AL$6:$AL$59,0),0),\"\")","v":""},"",{"$f":"IFERROR(OFFSET(業務!$O$5,MATCH(Q121,業務!$AL$6:$AL$59,0),0),\"\")","v":""},null,null,null,7,null,null,{"$f":"IF(Q121<=$R$115,1,0)","v":0}]
[null,null,null,null,null,null,null,null,null,"",{"$f":"IFERROR(OFFSET(業務!$AA$5,MATCH(Q122,業務!$AL$6:$AL$59,0),0),\"\")","v":""},"",{"$f":"IFERROR(OFFSET(業務!$O$5,MATCH(Q122,業務!$AL$6:$AL$59,0),0),\"\")","v":""},null,null,null,8,null,null,0]
[null,null,null,null,null,null,null,null,null,"",{"$f":"IFERROR(OFFSET(業務!$AA$5,MATCH(Q123,業務!$AL$6:$AL$59,0),0),\"\")","v":""},"",{"$f":"IFERROR(OFFSET(業務!$O$5,MATCH(Q123,業務!$AL$6:$AL$59,0),0),\"\")","v":""},null,null,null,9,null,null,0]
[null,null,null,null,null,null,null,null,null,"",{"$f":"IFERROR(OFFSET(業務!$AA$5,MATCH(Q124,業務!$AL$6:$AL$59,0),0),\"\")","v":""},"",{"$f":"IFERROR(OFFSET(業務!$O$5,MATCH(Q124,業務!$AL$6:$AL$59,0),0),\"\")","v":""},null,null,null,10,null,null,0]
[null,null,null,null,null,null,null,null,null,"",{"$f":"IFERROR(OFFSET(業務!$AA$5,MATCH(Q125,業務!$AL$6:$AL$59,0),0),\"\")","v":""},"",{"$f":"IFERROR(OFFSET(業務!$O$5,MATCH(Q125,業務!$AL$6:$AL$59,0),0),\"\")","v":""},null,null,null,11,null,null,0]
[null,null,null,null,null,null,null,null,null,"",{"$f":"IFERROR(OFFSET(業務!$AA$5,MATCH(Q126,業務!$AL$6:$AL$59,0),0),\"\")","v":""},"",{"$f":"IFERROR(OFFSET(業務!$O$5,MATCH(Q126,業務!$AL$6:$AL$59,0),0),\"\")","v":""},null,null,null,12,null,null,0]
[null,null,null,null,null,null,null,null,null,"",{"$f":"IFERROR(OFFSET(業務!$AA$5,MATCH(Q127,業務!$AL$6:$AL$59,0),0),\"\")","v":""},"",{"$f":"IFERROR(OFFSET(業務!$O$5,MATCH(Q127,業務!$AL$6:$AL$59,0),0),\"\")","v":""},null,null,null,13,null,null,0]
[null,null,null,null,null,null,null,null,null,"",{"$f":"IFERROR(OFFSET(業務!$AA$5,MATCH(Q128,業務!$AL$6:$AL$59,0),0),\"\")","v":""},"",{"$f":"IFERROR(OFFSET(業務!$O$5,MATCH(Q128,業務!$AL$6:$AL$59,0),0),\"\")","v":""},null,null,null,14,null,null,0]
[null,null,null,null,null,null,null,null,null,"",{"$f":"IFERROR(OFFSET(業務!$AA$5,MATCH(Q129,業務!$AL$6:$AL$59,0),0),\"\")","v":""},"",{"$f":"IFERROR(OFFSET(業務!$O$5,MATCH(Q129,業務!$AL$6:$AL$59,0),0),\"\")","v":""},null,null,null,15,null,null,0]
[null,null,null,null,null,null,null,null,null,"",{"$f":"IFERROR(OFFSET(業務!$AA$5,MATCH(Q130,業務!$AL$6:$AL$59,0),0),\"\")","v":""},"",{"$f":"IFERROR(OFFSET(業務!$O$5,MATCH(Q130,業務!$AL$6:$AL$59,0),0),\"\")","v":""},null,null,null,16,null,null,0]
[null,null,null,null,null,null,null,null,null,"",{"$f":"IFERROR(OFFSET(業務!$AA$5,MATCH(Q131,業務!$AL$6:$AL$59,0),0),\"\")","v":""},"",{"$f":"IFERROR(OFFSET(業務!$O$5,MATCH(Q131,業務!$AL$6:$AL$59,0),0),\"\")","v":""},null,null,null,17,null,null,0]
[null,null,null,null,null,null,null,null,null,"",{"$f":"IFERROR(OFFSET(業務!$AA$5,MATCH(Q132,業務!$AL$6:$AL$59,0),0),\"\")","v":""},"",{"$f":"IFERROR(OFFSET(業務!$O$5,MATCH(Q132,業務!$AL$6:$AL$59,0),0),\"\")","v":""},null,null,null,18,null,null,0]
[null,null,null,null,null,null,null,null,null,"",{"$f":"IFERROR(OFFSET(業務!$AA$5,MATCH(Q133,業務!$AL$6:$AL$59,0),0),\"\")","v":""},"",{"$f":"IFERROR(OFFSET(業務!$O$5,MATCH(Q133,業務!$AL$6:$AL$59,0),0),\"\")","v":""},null,null,null,19,null,null,0]
[null,null,null,null,null,null,null,null,null,"",{"$f":"IFERROR(OFFSET(業務!$AA$5,MATCH(Q134,業務!$AL$6:$AL$59,0),0),\"\")","v":""},"",{"$f":"IFERROR(OFFSET(業務!$O$5,MATCH(Q134,業務!$AL$6:$AL$59,0),0),\"\")","v":""},null,null,null,20,null,null,0]
[null,null,null,null,null,null,null,null,null,"",{"$f":"IFERROR(OFFSET(業務!$AA$5,MATCH(Q135,業務!$AL$6:$AL$59,0),0),\"\")","v":""},"",{"$f":"IFERROR(OFFSET(業務!$O$5,MATCH(Q135,業務!$AL$6:$AL$59,0),0),\"\")","v":""},null,null,null,21,null,null,0]
[null,null,null,null,null,null,null,null,null,{"$f":"IF(K136=\"\",\"\",\"□\")","v":""},{"$f":"IFERROR(OFFSET(業務!$AA$5,MATCH(Q136,業務!$AL$6:$AL$59,0),0),\"\")","v":""},{"$f":"IF(K136=\"\",\"\",\"□\")","v":""},{"$f":"IFERROR(OFFSET(業務!$O$5,MATCH(Q136,業務!$AL$6:$AL$59,0),0),\"\")","v":""},null,null,null,22,null,null,0]
[null,null,null,null,null,null,null,null,null,"",{"$f":"IFERROR(OFFSET(業務!$AA$5,MATCH(Q137,業務!$AL$6:$AL$59,0),0),\"\")","v":""},"",{"$f":"IFERROR(OFFSET(業務!$O$5,MATCH(Q137,業務!$AL$6:$AL$59,0),0),\"\")","v":""},null,null,null,23,null,null,0]
[null,null,null,null,null,null,null,null,null,"",{"$f":"IFERROR(OFFSET(業務!$AA$5,MATCH(Q138,業務!$AL$6:$AL$59,0),0),\"\")","v":""},"",{"$f":"IFERROR(OFFSET(業務!$O$5,MATCH(Q138,業務!$AL$6:$AL$59,0),0),\"\")","v":""},null,null,null,24,null,null,0]
[null,null,null,null,null,null,null,null,null,"",{"$f":"IFERROR(OFFSET(業務!$AA$5,MATCH(Q139,業務!$AL$6:$AL$59,0),0),\"\")","v":""},"",{"$f":"IFERROR(OFFSET(業務!$O$5,MATCH(Q139,業務!$AL$6:$AL$59,0),0),\"\")","v":""},null,null,null,25,null,null,0]
[null,null,null,null,null,null,null,null,null,"",{"$f":"IFERROR(OFFSET(業務!$AA$5,MATCH(Q140,業務!$AL$6:$AL$59,0),0),\"\")","v":""},"",{"$f":"IFERROR(OFFSET(業務!$O$5,MATCH(Q140,業務!$AL$6:$AL$59,0),0),\"\")","v":""},null,null,null,26,null,null,0]
[null,null,null,null,null,null,null,null,null,"",{"$f":"IFERROR(OFFSET(業務!$AA$5,MATCH(Q141,業務!$AL$6:$AL$59,0),0),\"\")","v":""},"",{"$f":"IFERROR(OFFSET(業務!$O$5,MATCH(Q141,業務!$AL$6:$AL$59,0),0),\"\")","v":""},null,null,null,27,null,null,0]
[null,null,null,null,null,null,null,null,null,"",{"$f":"IFERROR(OFFSET(業務!$AA$5,MATCH(Q142,業務!$AL$6:$AL$59,0),0),\"\")","v":""},"",{"$f":"IFERROR(OFFSET(業務!$O$5,MATCH(Q142,業務!$AL$6:$AL$59,0),0),\"\")","v":""},null,null,null,28,null,null,0]
[null,null,null,null,null,null,null,null,null,"",{"$f":"IFERROR(OFFSET(業務!$AA$5,MATCH(Q143,業務!$AL$6:$AL$59,0),0),\"\")","v":""},"",{"$f":"IFERROR(OFFSET(業務!$O$5,MATCH(Q143,業務!$AL$6:$AL$59,0),0),\"\")","v":""},null,null,null,29,null,null,0]
[null,null,null,null,null,null,null,null,null,"",{"$f":"IFERROR(OFFSET(業務!$AA$5,MATCH(Q144,業務!$AL$6:$AL$59,0),0),\"\")","v":""},"",{"$f":"IFERROR(OFFSET(業務!$O$5,MATCH(Q144,業務!$AL$6:$AL$59,0),0),\"\")","v":""},null,null,null,30,null,null,0]
[null,null,null,null,null,null,null,null,null,"",{"$f":"IFERROR(OFFSET(業務!$AA$5,MATCH(Q145,業務!$AL$6:$AL$59,0),0),\"\")","v":""},"",{"$f":"IFERROR(OFFSET(業務!$O$5,MATCH(Q145,業務!$AL$6:$AL$59,0),0),\"\")","v":""},null,null,null,31,null,null,0]
[null,null,null,null,null,null,null,null,null,"",{"$f":"IFERROR(OFFSET(業務!$AA$5,MATCH(Q146,業務!$AL$6:$AL$59,0),0),\"\")","v":""},"",{"$f":"IFERROR(OFFSET(業務!$O$5,MATCH(Q146,業務!$AL$6:$AL$59,0),0),\"\")","v":""},null,null,null,32,null,null,0]
[null,null,null,null,null,null,null,null,null,"",{"$f":"IFERROR(OFFSET(業務!$AA$5,MATCH(Q147,業務!$AL$6:$AL$59,0),0),\"\")","v":""},"",{"$f":"IFERROR(OFFSET(業務!$O$5,MATCH(Q147,業務!$AL$6:$AL$59,0),0),\"\")","v":""},null,null,null,33,null,null,0]
[null,null,null,null,null,null,null,null,null,"",{"$f":"IFERROR(OFFSET(業務!$AA$5,MATCH(Q148,業務!$AL$6:$AL$59,0),0),\"\")","v":""},"",{"$f":"IFERROR(OFFSET(業務!$O$5,MATCH(Q148,業務!$AL$6:$AL$59,0),0),\"\")","v":""},null,null,null,34,null,null,0]
[null,null,null,null,null,null,null,null,null,"",{"$f":"IFERROR(OFFSET(業務!$AA$5,MATCH(Q149,業務!$AL$6:$AL$59,0),0),\"\")","v":""},"",{"$f":"IFERROR(OFFSET(業務!$O$5,MATCH(Q149,業務!$AL$6:$AL$59,0),0),\"\")","v":""},null,null,null,35,null,null,0]
[null,null,null,null,null,null,null,null,null,"",{"$f":"IFERROR(OFFSET(業務!$AA$5,MATCH(Q150,業務!$AL$6:$AL$59,0),0),\"\")","v":""},"",{"$f":"IFERROR(OFFSET(業務!$O$5,MATCH(Q150,業務!$AL$6:$AL$59,0),0),\"\")","v":""},null,null,null,36,null,null,0]
[null,null,null,null,null,null,null,null,null,"",{"$f":"IFERROR(OFFSET(業務!$AA$5,MATCH(Q151,業務!$AL$6:$AL$59,0),0),\"\")","v":""},"",{"$f":"IFERROR(OFFSET(業務!$O$5,MATCH(Q151,業務!$AL$6:$AL$59,0),0),\"\")","v":""},null,null,null,37,null,null,0]
[null,null,null,null,null,null,null,null,null,"",{"$f":"IFERROR(OFFSET(業務!$AA$5,MATCH(Q152,業務!$AL$6:$AL$59,0),0),\"\")","v":""},"",{"$f":"IFERROR(OFFSET(業務!$O$5,MATCH(Q152,業務!$AL$6:$AL$59,0),0),\"\")","v":""},null,null,null,38,null,null,0]
[null,null,null,null,null,null,null,null,null,"",{"$f":"IFERROR(OFFSET(業務!$AA$5,MATCH(Q153,業務!$AL$6:$AL$59,0),0),\"\")","v":""},"",{"$f":"IFERROR(OFFSET(業務!$O$5,MATCH(Q153,業務!$AL$6:$AL$59,0),0),\"\")","v":""},null,null,null,39,null,null,0]
[null,null,null,null,null,null,null,null,null,"",{"$f":"IFERROR(OFFSET(業務!$AA$5,MATCH(Q154,業務!$AL$6:$AL$59,0),0),\"\")","v":""},"",{"$f":"IFERROR(OFFSET(業務!$O$5,MATCH(Q154,業務!$AL$6:$AL$59,0),0),\"\")","v":""},null,null,null,40,null,null,0]
[null,null,null,null,null,null,null,null,null,"",{"$f":"IFERROR(OFFSET(業務!$AA$5,MATCH(Q155,業務!$AL$6:$AL$59,0),0),\"\")","v":""},"",{"$f":"IFERROR(OFFSET(業務!$O$5,MATCH(Q155,業務!$AL$6:$AL$59,0),0),\"\")","v":""},null,null,null,41,null,null,0]
[null,null,null,null,null,null,null,null,null,"",{"$f":"IFERROR(OFFSET(業務!$AA$5,MATCH(Q156,業務!$AL$6:$AL$59,0),0),\"\")","v":""},"",{"$f":"IFERROR(OFFSET(業務!$O$5,MATCH(Q156,業務!$AL$6:$AL$59,0),0),\"\")","v":""},null,null,null,42,null,null,0]
[null,null,null,null,null,null,null,null,null,"",{"$f":"IFERROR(OFFSET(業務!$AA$5,MATCH(Q157,業務!$AL$6:$AL$59,0),0),\"\")","v":""},"",{"$f":"IFERROR(OFFSET(業務!$O$5,MATCH(Q157,業務!$AL$6:$AL$59,0),0),\"\")","v":""},null,null,null,43,null,null,0]
[null,null,null,null,null,null,null,null,null,"",{"$f":"IFERROR(OFFSET(業務!$AA$5,MATCH(Q158,業務!$AL$6:$AL$59,0),0),\"\")","v":""},"",{"$f":"IFERROR(OFFSET(業務!$O$5,MATCH(Q158,業務!$AL$6:$AL$59,0),0),\"\")","v":""},null,null,null,44,null,null,0]
[null,null,null,null,null,null,null,null,null,"",{"$f":"IFERROR(OFFSET(業務!$AA$5,MATCH(Q159,業務!$AL$6:$AL$59,0),0),\"\")","v":""},"",{"$f":"IFERROR(OFFSET(業務!$O$5,MATCH(Q159,業務!$AL$6:$AL$59,0),0),\"\")","v":""},null,null,null,45,null,null,0]
[null,null,null,null,null,null,null,null,null,"",{"$f":"IFERROR(OFFSET(業務!$AA$5,MATCH(Q160,業務!$AL$6:$AL$59,0),0),\"\")","v":""},"",{"$f":"IFERROR(OFFSET(業務!$O$5,MATCH(Q160,業務!$AL$6:$AL$59,0),0),\"\")","v":""},null,null,null,46,null,null,0]
[null,null,null,null,null,null,null,null,null,"",{"$f":"IFERROR(OFFSET(業務!$AA$5,MATCH(Q161,業務!$AL$6:$AL$59,0),0),\"\")","v":""},"",{"$f":"IFERROR(OFFSET(業務!$O$5,MATCH(Q161,業務!$AL$6:$AL$59,0),0),\"\")","v":""},null,null,null,47,null,null,0]
[null,null,null,null,null,null,null,null,null,"",{"$f":"IFERROR(OFFSET(業務!$AA$5,MATCH(Q162,業務!$AL$6:$AL$59,0),0),\"\")","v":""},"",{"$f":"IFERROR(OFFSET(業務!$O$5,MATCH(Q162,業務!$AL$6:$AL$59,0),0),\"\")","v":""},null,null,null,48,null,null,0]
[null,null,null,null,null,null,null,null,null,"",{"$f":"IFERROR(OFFSET(業務!$AA$5,MATCH(Q163,業務!$AL$6:$AL$59,0),0),\"\")","v":""},"",{"$f":"IFERROR(OFFSET(業務!$O$5,MATCH(Q163,業務!$AL$6:$AL$59,0),0),\"\")","v":""},null,null,null,49,null,null,0]
[null,null,null,null,null,null,null,null,null,"",{"$f":"IFERROR(OFFSET(業務!$AA$5,MATCH(Q164,業務!$AL$6:$AL$59,0),0),\"\")","v":""},"",{"$f":"IFERROR(OFFSET(業務!$O$5,MATCH(Q164,業務!$AL$6:$AL$59,0),0),\"\")","v":""},null,null,null,50,null,null,0]
[null,null,null,null,null,null,null,null,null,"",{"$f":"IFERROR(OFFSET(業務!$AA$5,MATCH(Q165,業務!$AL$6:$AL$59,0),0),\"\")","v":""},"",{"$f":"IFERROR(OFFSET(業務!$O$5,MATCH(Q165,業務!$AL$6:$AL$59,0),0),\"\")","v":""},null,null,null,51,null,null,0]
[null,null,null,null,null,null,null,null,null,"",{"$f":"IFERROR(OFFSET(業務!$AA$5,MATCH(Q166,業務!$AL$6:$AL$59,0),0),\"\")","v":""},"",{"$f":"IFERROR(OFFSET(業務!$O$5,MATCH(Q166,業務!$AL$6:$AL$59,0),0),\"\")","v":""},null,null,null,52,null,null,0]
[null,null,null,null,null,null,null,null,null,"",{"$f":"IFERROR(OFFSET(業務!$AA$5,MATCH(Q167,業務!$AL$6:$AL$59,0),0),\"\")","v":""},"",{"$f":"IFERROR(OFFSET(業務!$O$5,MATCH(Q167,業務!$AL$6:$AL$59,0),0),\"\")","v":""},null,null,null,53,null,null,0]
[null,null,null,null,null,null,null,null,null,"",{"$f":"IFERROR(OFFSET(業務!$AA$5,MATCH(Q168,業務!$AL$6:$AL$59,0),0),\"\")","v":""},"",{"$f":"IFERROR(OFFSET(業務!$O$5,MATCH(Q168,業務!$AL$6:$AL$59,0),0),\"\")","v":""},null,null,null,54,null,null,0]
[null,null,null,null,null,null,null,null,null,"",{"$f":"IFERROR(OFFSET(業務!$AA$5,MATCH(Q169,業務!$AM$6:$AM$59,0),0),\"\")","v":""},"",{"$f":"IFERROR(OFFSET(業務!$O$5,MATCH(Q169,業務!$AM$6:$AM$59,0),0),\"\")","v":""},null,null,null,1,{"$f":"業務!AM4","v":0},null,1]
[null,null,null,null,null,null,null,null,null,"",{"$f":"IFERROR(OFFSET(業務!$AA$5,MATCH(Q170,業務!$AM$6:$AM$59,0),0),\"\")","v":""},"",{"$f":"IFERROR(OFFSET(業務!$O$5,MATCH(Q170,業務!$AM$6:$AM$59,0),0),\"\")","v":""},null,null,null,2,null,null,1]
[null,null,null,null,null,null,null,null,null,"",{"$f":"IFERROR(OFFSET(業務!$AA$5,MATCH(Q171,業務!$AM$6:$AM$59,0),0),\"\")","v":""},"",{"$f":"IFERROR(OFFSET(業務!$O$5,MATCH(Q171,業務!$AM$6:$AM$59,0),0),\"\")","v":""},null,null,null,3,null,null,1]
[null,null,null,null,null,null,null,null,null,"",{"$f":"IFERROR(OFFSET(業務!$AA$5,MATCH(Q172,業務!$AM$6:$AM$59,0),0),\"\")","v":""},"",{"$f":"IFERROR(OFFSET(業務!$O$5,MATCH(Q172,業務!$AM$6:$AM$59,0),0),\"\")","v":""},null,null,null,4,null,null,1]
[null,null,null,null,null,null,null,null,null,"",{"$f":"IFERROR(OFFSET(業務!$AA$5,MATCH(Q173,業務!$AM$6:$AM$59,0),0),\"\")","v":""},"",{"$f":"IFERROR(OFFSET(業務!$O$5,MATCH(Q173,業務!$AM$6:$AM$59,0),0),\"\")","v":""},null,null,null,5,null,null,1]
[null,null,null,null,null,null,null,null,null,"",{"$f":"IFERROR(OFFSET(業務!$AA$5,MATCH(Q174,業務!$AM$6:$AM$59,0),0),\"\")","v":""},"",{"$f":"IFERROR(OFFSET(業務!$O$5,MATCH(Q174,業務!$AM$6:$AM$59,0),0),\"\")","v":""},null,null,null,6,null,null,{"$f":"IF(K174=\"\",0,1)","v":0}]
[null,null,null,null,null,null,null,null,null,"",{"$f":"IFERROR(OFFSET(業務!$AA$5,MATCH(Q175,業務!$AM$6:$AM$59,0),0),\"\")","v":""},"",{"$f":"IFERROR(OFFSET(業務!$O$5,MATCH(Q175,業務!$AM$6:$AM$59,0),0),\"\")","v":""},null,null,null,7,null,null,0]
[null,null,null,null,null,null,null,null,null,"",{"$f":"IFERROR(OFFSET(業務!$AA$5,MATCH(Q176,業務!$AM$6:$AM$59,0),0),\"\")","v":""},"",{"$f":"IFERROR(OFFSET(業務!$O$5,MATCH(Q176,業務!$AM$6:$AM$59,0),0),\"\")","v":""},null,null,null,8,null,null,0]
[null,null,null,null,null,null,null,null,null,"",{"$f":"IFERROR(OFFSET(業務!$AA$5,MATCH(Q177,業務!$AM$6:$AM$59,0),0),\"\")","v":""},"",{"$f":"IFERROR(OFFSET(業務!$O$5,MATCH(Q177,業務!$AM$6:$AM$59,0),0),\"\")","v":""},null,null,null,9,null,null,0]
[null,null,null,null,null,null,null,null,null,"",{"$f":"IFERROR(OFFSET(業務!$AA$5,MATCH(Q178,業務!$AM$6:$AM$59,0),0),\"\")","v":""},"",{"$f":"IFERROR(OFFSET(業務!$O$5,MATCH(Q178,業務!$AM$6:$AM$59,0),0),\"\")","v":""},null,null,null,10,null,null,0]
[null,null,null,null,null,null,null,null,null,"",{"$f":"IFERROR(OFFSET(業務!$AA$5,MATCH(Q179,業務!$AM$6:$AM$59,0),0),\"\")","v":""},"",{"$f":"IFERROR(OFFSET(業務!$O$5,MATCH(Q179,業務!$AM$6:$AM$59,0),0),\"\")","v":""},null,null,null,11,null,null,0]
[null,null,null,null,null,null,null,null,null,"",{"$f":"IFERROR(OFFSET(業務!$AA$5,MATCH(Q180,業務!$AM$6:$AM$59,0),0),\"\")","v":""},"",{"$f":"IFERROR(OFFSET(業務!$O$5,MATCH(Q180,業務!$AM$6:$AM$59,0),0),\"\")","v":""},null,null,null,12,null,null,0]
[null,null,null,null,null,null,null,null,null,"",{"$f":"IFERROR(OFFSET(業務!$AA$5,MATCH(Q181,業務!$AM$6:$AM$59,0),0),\"\")","v":""},"",{"$f":"IFERROR(OFFSET(業務!$O$5,MATCH(Q181,業務!$AM$6:$AM$59,0),0),\"\")","v":""},null,null,null,13,null,null,0]
[null,null,null,null,null,null,null,null,null,"",{"$f":"IFERROR(OFFSET(業務!$AA$5,MATCH(Q182,業務!$AM$6:$AM$59,0),0),\"\")","v":""},"",{"$f":"IFERROR(OFFSET(業務!$O$5,MATCH(Q182,業務!$AM$6:$AM$59,0),0),\"\")","v":""},null,null,null,14,null,null,0]
[null,null,null,null,null,null,null,null,null,"",{"$f":"IFERROR(OFFSET(業務!$AA$5,MATCH(Q183,業務!$AM$6:$AM$59,0),0),\"\")","v":""},"",{"$f":"IFERROR(OFFSET(業務!$O$5,MATCH(Q183,業務!$AM$6:$AM$59,0),0),\"\")","v":""},null,null,null,15,null,null,0]
[null,null,null,null,null,null,null,null,null,"",{"$f":"IFERROR(OFFSET(業務!$AA$5,MATCH(Q184,業務!$AM$6:$AM$59,0),0),\"\")","v":""},"",{"$f":"IFERROR(OFFSET(業務!$O$5,MATCH(Q184,業務!$AM$6:$AM$59,0),0),\"\")","v":""},null,null,null,16,null,null,0]
[null,null,null,null,null,null,null,null,null,"",{"$f":"IFERROR(OFFSET(業務!$AA$5,MATCH(Q185,業務!$AM$6:$AM$59,0),0),\"\")","v":""},"",{"$f":"IFERROR(OFFSET(業務!$O$5,MATCH(Q185,業務!$AM$6:$AM$59,0),0),\"\")","v":""},null,null,null,17,null,null,0]
[null,null,null,null,null,null,null,null,null,"",{"$f":"IFERROR(OFFSET(業務!$AA$5,MATCH(Q186,業務!$AM$6:$AM$59,0),0),\"\")","v":""},"",{"$f":"IFERROR(OFFSET(業務!$O$5,MATCH(Q186,業務!$AM$6:$AM$59,0),0),\"\")","v":""},null,null,null,18,null,null,0]
[null,null,null,null,null,null,null,null,null,"",{"$f":"IFERROR(OFFSET(業務!$AA$5,MATCH(Q187,業務!$AM$6:$AM$59,0),0),\"\")","v":""},"",{"$f":"IFERROR(OFFSET(業務!$O$5,MATCH(Q187,業務!$AM$6:$AM$59,0),0),\"\")","v":""},null,null,null,19,null,null,0]
[null,null,null,null,null,null,null,null,null,"",{"$f":"IFERROR(OFFSET(業務!$AA$5,MATCH(Q188,業務!$AM$6:$AM$59,0),0),\"\")","v":""},"",{"$f":"IFERROR(OFFSET(業務!$O$5,MATCH(Q188,業務!$AM$6:$AM$59,0),0),\"\")","v":""},null,null,null,20,null,null,0]
[null,null,null,null,null,null,null,null,null,"",{"$f":"IFERROR(OFFSET(業務!$AA$5,MATCH(Q189,業務!$AM$6:$AM$59,0),0),\"\")","v":""},"",{"$f":"IFERROR(OFFSET(業務!$O$5,MATCH(Q189,業務!$AM$6:$AM$59,0),0),\"\")","v":""},null,null,null,21,null,null,0]
[null,null,null,null,null,null,null,null,null,"",{"$f":"IFERROR(OFFSET(業務!$AA$5,MATCH(Q190,業務!$AM$6:$AM$59,0),0),\"\")","v":""},"",{"$f":"IFERROR(OFFSET(業務!$O$5,MATCH(Q190,業務!$AM$6:$AM$59,0),0),\"\")","v":""},null,null,null,22,null,null,0]
[null,null,null,null,null,null,null,null,null,"",{"$f":"IFERROR(OFFSET(業務!$AA$5,MATCH(Q191,業務!$AM$6:$AM$59,0),0),\"\")","v":""},"",{"$f":"IFERROR(OFFSET(業務!$O$5,MATCH(Q191,業務!$AM$6:$AM$59,0),0),\"\")","v":""},null,null,null,23,null,null,0]
[null,null,null,null,null,null,null,null,null,"",{"$f":"IFERROR(OFFSET(業務!$AA$5,MATCH(Q192,業務!$AM$6:$AM$59,0),0),\"\")","v":""},"",{"$f":"IFERROR(OFFSET(業務!$O$5,MATCH(Q192,業務!$AM$6:$AM$59,0),0),\"\")","v":""},null,null,null,24,null,null,0]
[null,null,null,null,null,null,null,null,null,"",{"$f":"IFERROR(OFFSET(業務!$AA$5,MATCH(Q193,業務!$AM$6:$AM$59,0),0),\"\")","v":""},"",{"$f":"IFERROR(OFFSET(業務!$O$5,MATCH(Q193,業務!$AM$6:$AM$59,0),0),\"\")","v":""},null,null,null,25,null,null,0]
[null,null,null,null,null,null,null,null,null,"",{"$f":"IFERROR(OFFSET(業務!$AA$5,MATCH(Q194,業務!$AM$6:$AM$59,0),0),\"\")","v":""},"",{"$f":"IFERROR(OFFSET(業務!$O$5,MATCH(Q194,業務!$AM$6:$AM$59,0),0),\"\")","v":""},null,null,null,26,null,null,{"$f":"IF(K194=\"\",0,1)","v":0}]
[null,null,null,null,null,null,null,null,null,"",{"$f":"IFERROR(OFFSET(業務!$AA$5,MATCH(Q195,業務!$AM$6:$AM$59,0),0),\"\")","v":""},"",{"$f":"IFERROR(OFFSET(業務!$O$5,MATCH(Q195,業務!$AM$6:$AM$59,0),0),\"\")","v":""},null,null,null,27,null,null,0]
[null,null,null,null,null,null,null,null,null,"",{"$f":"IFERROR(OFFSET(業務!$AA$5,MATCH(Q196,業務!$AM$6:$AM$59,0),0),\"\")","v":""},"",{"$f":"IFERROR(OFFSET(業務!$O$5,MATCH(Q196,業務!$AM$6:$AM$59,0),0),\"\")","v":""},null,null,null,28,null,null,0]
[null,null,null,null,null,null,null,null,null,"",{"$f":"IFERROR(OFFSET(業務!$AA$5,MATCH(Q197,業務!$AM$6:$AM$59,0),0),\"\")","v":""},"",{"$f":"IFERROR(OFFSET(業務!$O$5,MATCH(Q197,業務!$AM$6:$AM$59,0),0),\"\")","v":""},null,null,null,29,null,null,0]
[null,null,null,null,null,null,null,null,null,"",{"$f":"IFERROR(OFFSET(業務!$AA$5,MATCH(Q198,業務!$AM$6:$AM$59,0),0),\"\")","v":""},"",{"$f":"IFERROR(OFFSET(業務!$O$5,MATCH(Q198,業務!$AM$6:$AM$59,0),0),\"\")","v":""},null,null,null,30,null,null,0]
[null,null,null,null,null,null,null,null,null,"",{"$f":"IFERROR(OFFSET(業務!$AA$5,MATCH(Q199,業務!$AM$6:$AM$59,0),0),\"\")","v":""},"",{"$f":"IFERROR(OFFSET(業務!$O$5,MATCH(Q199,業務!$AM$6:$AM$59,0),0),\"\")","v":""},null,null,null,31,null,null,0]
[null,null,null,null,null,null,null,null,null,{"$f":"IF(K200=\"\",\"\",\"□\")","v":""},{"$f":"IFERROR(OFFSET(業務!$AA$5,MATCH(Q200,業務!$AM$6:$AM$59,0),0),\"\")","v":""},{"$f":"IF(K200=\"\",\"\",\"□\")","v":""},{"$f":"IFERROR(OFFSET(業務!$O$5,MATCH(Q200,業務!$AM$6:$AM$59,0),0),\"\")","v":""},null,null,null,32,null,null,0]
[null,null,null,null,null,null,null,null,null,"",{"$f":"IFERROR(OFFSET(業務!$AA$5,MATCH(Q201,業務!$AM$6:$AM$59,0),0),\"\")","v":""},"",{"$f":"IFERROR(OFFSET(業務!$O$5,MATCH(Q201,業務!$AM$6:$AM$59,0),0),\"\")","v":""},null,null,null,33,null,null,0]
[null,null,null,null,null,null,null,null,null,"",{"$f":"IFERROR(OFFSET(業務!$AA$5,MATCH(Q202,業務!$AM$6:$AM$59,0),0),\"\")","v":""},"",{"$f":"IFERROR(OFFSET(業務!$O$5,MATCH(Q202,業務!$AM$6:$AM$59,0),0),\"\")","v":""},null,null,null,34,null,null,0]
[null,null,null,null,null,null,null,null,null,"",{"$f":"IFERROR(OFFSET(業務!$AA$5,MATCH(Q203,業務!$AM$6:$AM$59,0),0),\"\")","v":""},"",{"$f":"IFERROR(OFFSET(業務!$O$5,MATCH(Q203,業務!$AM$6:$AM$59,0),0),\"\")","v":""},null,null,null,35,null,null,0]
[null,null,null,null,null,null,null,null,null,"",{"$f":"IFERROR(OFFSET(業務!$AA$5,MATCH(Q204,業務!$AM$6:$AM$59,0),0),\"\")","v":""},"",{"$f":"IFERROR(OFFSET(業務!$O$5,MATCH(Q204,業務!$AM$6:$AM$59,0),0),\"\")","v":""},null,null,null,36,null,null,0]
[null,null,null,null,null,null,null,null,null,"",{"$f":"IFERROR(OFFSET(業務!$AA$5,MATCH(Q205,業務!$AM$6:$AM$59,0),0),\"\")","v":""},"",{"$f":"IFERROR(OFFSET(業務!$O$5,MATCH(Q205,業務!$AM$6:$AM$59,0),0),\"\")","v":""},null,null,null,37,null,null,0]
[null,null,null,null,null,null,null,null,null,"",{"$f":"IFERROR(OFFSET(業務!$AA$5,MATCH(Q206,業務!$AM$6:$AM$59,0),0),\"\")","v":""},"",{"$f":"IFERROR(OFFSET(業務!$O$5,MATCH(Q206,業務!$AM$6:$AM$59,0),0),\"\")","v":""},null,null,null,38,null,null,0]
[null,null,null,null,null,null,null,null,null,"",{"$f":"IFERROR(OFFSET(業務!$AA$5,MATCH(Q207,業務!$AM$6:$AM$59,0),0),\"\")","v":""},"",{"$f":"IFERROR(OFFSET(業務!$O$5,MATCH(Q207,業務!$AM$6:$AM$59,0),0),\"\")","v":""},null,null,null,39,null,null,0]
[null,null,null,null,null,null,null,null,null,"",{"$f":"IFERROR(OFFSET(業務!$AA$5,MATCH(Q208,業務!$AM$6:$AM$59,0),0),\"\")","v":""},"",{"$f":"IFERROR(OFFSET(業務!$O$5,MATCH(Q208,業務!$AM$6:$AM$59,0),0),\"\")","v":""},null,null,null,40,null,null,0]
[null,null,null,null,null,null,null,null,null,"",{"$f":"IFERROR(OFFSET(業務!$AA$5,MATCH(Q209,業務!$AM$6:$AM$59,0),0),\"\")","v":""},"",{"$f":"IFERROR(OFFSET(業務!$O$5,MATCH(Q209,業務!$AM$6:$AM$59,0),0),\"\")","v":""},null,null,null,41,null,null,0]
[null,null,null,null,null,null,null,null,null,"",{"$f":"IFERROR(OFFSET(業務!$AA$5,MATCH(Q210,業務!$AM$6:$AM$59,0),0),\"\")","v":""},"",{"$f":"IFERROR(OFFSET(業務!$O$5,MATCH(Q210,業務!$AM$6:$AM$59,0),0),\"\")","v":""},null,null,null,42,null,null,0]
[null,null,null,null,null,null,null,null,null,"",{"$f":"IFERROR(OFFSET(業務!$AA$5,MATCH(Q211,業務!$AM$6:$AM$59,0),0),\"\")","v":""},"",{"$f":"IFERROR(OFFSET(業務!$O$5,MATCH(Q211,業務!$AM$6:$AM$59,0),0),\"\")","v":""},null,null,null,43,null,null,0]
[null,null,null,null,null,null,null,null,null,"",{"$f":"IFERROR(OFFSET(業務!$AA$5,MATCH(Q212,業務!$AM$6:$AM$59,0),0),\"\")","v":""},"",{"$f":"IFERROR(OFFSET(業務!$O$5,MATCH(Q212,業務!$AM$6:$AM$59,0),0),\"\")","v":""},null,null,null,44,null,null,0]
[null,null,null,null,null,null,null,null,null,"",{"$f":"IFERROR(OFFSET(業務!$AA$5,MATCH(Q213,業務!$AM$6:$AM$59,0),0),\"\")","v":""},"",{"$f":"IFERROR(OFFSET(業務!$O$5,MATCH(Q213,業務!$AM$6:$AM$59,0),0),\"\")","v":""},null,null,null,45,null,null,0]
[null,null,null,null,null,null,null,null,null,"",{"$f":"IFERROR(OFFSET(業務!$AA$5,MATCH(Q214,業務!$AM$6:$AM$59,0),0),\"\")","v":""},"",{"$f":"IFERROR(OFFSET(業務!$O$5,MATCH(Q214,業務!$AM$6:$AM$59,0),0),\"\")","v":""},null,null,null,46,null,null,0]
[null,null,null,null,null,null,null,null,null,"",{"$f":"IFERROR(OFFSET(業務!$AA$5,MATCH(Q215,業務!$AM$6:$AM$59,0),0),\"\")","v":""},"",{"$f":"IFERROR(OFFSET(業務!$O$5,MATCH(Q215,業務!$AM$6:$AM$59,0),0),\"\")","v":""},null,null,null,47,null,null,0]
[null,null,null,null,null,null,null,null,null,"",{"$f":"IFERROR(OFFSET(業務!$AA$5,MATCH(Q216,業務!$AM$6:$AM$59,0),0),\"\")","v":""},"",{"$f":"IFERROR(OFFSET(業務!$O$5,MATCH(Q216,業務!$AM$6:$AM$59,0),0),\"\")","v":""},null,null,null,48,null,null,0]
[null,null,null,null,null,null,null,null,null,"",{"$f":"IFERROR(OFFSET(業務!$AA$5,MATCH(Q217,業務!$AM$6:$AM$59,0),0),\"\")","v":""},"",{"$f":"IFERROR(OFFSET(業務!$O$5,MATCH(Q217,業務!$AM$6:$AM$59,0),0),\"\")","v":""},null,null,null,49,null,null,0]
[null,null,null,null,null,null,null,null,null,"",{"$f":"IFERROR(OFFSET(業務!$AA$5,MATCH(Q218,業務!$AM$6:$AM$59,0),0),\"\")","v":""},"",{"$f":"IFERROR(OFFSET(業務!$O$5,MATCH(Q218,業務!$AM$6:$AM$59,0),0),\"\")","v":""},null,null,null,50,null,null,0]
[null,null,null,null,null,null,null,null,null,"",{"$f":"IFERROR(OFFSET(業務!$AA$5,MATCH(Q219,業務!$AM$6:$AM$59,0),0),\"\")","v":""},"",{"$f":"IFERROR(OFFSET(業務!$O$5,MATCH(Q219,業務!$AM$6:$AM$59,0),0),\"\")","v":""},null,null,null,51,null,null,0]
[null,null,null,null,null,null,null,null,null,"",{"$f":"IFERROR(OFFSET(業務!$AA$5,MATCH(Q220,業務!$AM$6:$AM$59,0),0),\"\")","v":""},"",{"$f":"IFERROR(OFFSET(業務!$O$5,MATCH(Q220,業務!$AM$6:$AM$59,0),0),\"\")","v":""},null,null,null,52,null,null,0]
[null,null,null,null,null,null,null,null,null,"",{"$f":"IFERROR(OFFSET(業務!$AA$5,MATCH(Q221,業務!$AM$6:$AM$59,0),0),\"\")","v":""},"",{"$f":"IFERROR(OFFSET(業務!$O$5,MATCH(Q221,業務!$AM$6:$AM$59,0),0),\"\")","v":""},null,null,null,53,null,null,0]
[null,null,null,null,null,null,null,null,null,"",{"$f":"IFERROR(OFFSET(業務!$AA$5,MATCH(Q222,業務!$AM$6:$AM$59,0),0),\"\")","v":""},"",{"$f":"IFERROR(OFFSET(業務!$O$5,MATCH(Q222,業務!$AM$6:$AM$59,0),0),\"\")","v":""},null,null,null,54,null,null,0]
[null,null,null,null,null,null,null,null,null,null,null,null,null,null,null,null,null,null,null,1]
[null,"\n",null,null,"活動内容",null,null,null,null,null,null,"対応班",null,null,null,null,null,null,null,1]
[null,null,null,null,{"$f":"IF(F225=\"\",\"\",\"□\")","v":""},{"$f":"IFERROR(OFFSET(業務!$AA$5,MATCH(Q225,業務!$AN$6:$AN$59,0),0),\"\")","v":""},null,null,null,null,null,{"$f":"IF(F225=\"\",\"\",\"□\")","v":""},{"$f":"IFERROR(OFFSET(業務!$O$5,MATCH(Q225,業務!$AN$6:$AN$59,0),0),\"\")","v":""},null,null,null,1,{"$f":"業務!AN4","v":0},null,1]
[null,null,null,null,{"$f":"IF(F226=\"\",\"\",\"□\")","v":""},{"$f":"IFERROR(OFFSET(業務!$AA$5,MATCH(Q226,業務!$AN$6:$AN$59,0),0),\"\")","v":""},null,null,null,null,null,{"$f":"IF(F226=\"\",\"\",\"□\")","v":""},{"$f":"IFERROR(OFFSET(業務!$O$5,MATCH(Q226,業務!$AN$6:$AN$59,0),0),\"\")","v":""},null,null,null,2,null,null,1]
[null,null,null,null,"",{"$f":"IFERROR(OFFSET(業務!$AA$5,MATCH(Q227,業務!$AN$6:$AN$59,0),0),\"\")","v":""},null,null,null,null,null,"",{"$f":"IFERROR(OFFSET(業務!$O$5,MATCH(Q227,業務!$AN$6:$AN$59,0),0),\"\")","v":""},null,null,null,3,null,null,1]
[null,null,null,null,"",{"$f":"IFERROR(OFFSET(業務!$AA$5,MATCH(Q228,業務!$AN$6:$AN$59,0),0),\"\")","v":""},null,null,null,null,null,"",{"$f":"IFERROR(OFFSET(業務!$O$5,MATCH(Q228,業務!$AN$6:$AN$59,0),0),\"\")","v":""},null,null,null,4,null,null,1]
[null,null,null,null,"",{"$f":"IFERROR(OFFSET(業務!$AA$5,MATCH(Q229,業務!$AN$6:$AN$59,0),0),\"\")","v":""},null,null,null,null,null,"",{"$f":"IFERROR(OFFSET(業務!$O$5,MATCH(Q229,業務!$AN$6:$AN$59,0),0),\"\")","v":""},null,null,null,5,null,null,1]
[null,null,null,null,"",{"$f":"IFERROR(OFFSET(業務!$AA$5,MATCH(Q230,業務!$AN$6:$AN$59,0),0),\"\")","v":""},null,null,null,null,null,"",{"$f":"IFERROR(OFFSET(業務!$O$5,MATCH(Q230,業務!$AN$6:$AN$59,0),0),\"\")","v":""},null,null,null,6,null,null,{"$f":"IF(Q230<=R2457,1,0)","v":0}]
[null,null,null,null,"",{"$f":"IFERROR(OFFSET(業務!$AA$5,MATCH(Q231,業務!$AN$6:$AN$59,0),0),\"\")","v":""},null,null,null,null,null,"",{"$f":"IFERROR(OFFSET(業務!$O$5,MATCH(Q231,業務!$AN$6:$AN$59,0),0),\"\")","v":""},null,null,null,7,null,null,0]
[null,null,null,null,"",{"$f":"IFERROR(OFFSET(業務!$AA$5,MATCH(Q232,業務!$AN$6:$AN$59,0),0),\"\")","v":""},null,null,null,null,null,"",{"$f":"IFERROR(OFFSET(業務!$O$5,MATCH(Q232,業務!$AN$6:$AN$59,0),0),\"\")","v":""},null,null,null,8,null,null,0]
[null,null,null,null,"",{"$f":"IFERROR(OFFSET(業務!$AA$5,MATCH(Q233,業務!$AN$6:$AN$59,0),0),\"\")","v":""},null,null,null,null,null,"",{"$f":"IFERROR(OFFSET(業務!$O$5,MATCH(Q233,業務!$AN$6:$AN$59,0),0),\"\")","v":""},null,null,null,9,null,null,0]
[null,null,null,null,"",{"$f":"IFERROR(OFFSET(業務!$AA$5,MATCH(Q234,業務!$AN$6:$AN$59,0),0),\"\")","v":""},null,null,null,null,null,"",{"$f":"IFERROR(OFFSET(業務!$O$5,MATCH(Q234,業務!$AN$6:$AN$59,0),0),\"\")","v":""},null,null,null,10,null,null,0]
[null,null,null,null,"",{"$f":"IFERROR(OFFSET(業務!$AA$5,MATCH(Q235,業務!$AN$6:$AN$59,0),0),\"\")","v":""},null,null,null,null,null,"",{"$f":"IFERROR(OFFSET(業務!$O$5,MATCH(Q235,業務!$AN$6:$AN$59,0),0),\"\")","v":""},null,null,null,11,null,null,0]
[null,null,null,null,"",{"$f":"IFERROR(OFFSET(業務!$AA$5,MATCH(Q236,業務!$AN$6:$AN$59,0),0),\"\")","v":""},null,null,null,null,null,"",{"$f":"IFERROR(OFFSET(業務!$O$5,MATCH(Q236,業務!$AN$6:$AN$59,0),0),\"\")","v":""},null,null,null,12,null,null,0]
[null,null,null,null,"",{"$f":"IFERROR(OFFSET(業務!$AA$5,MATCH(Q237,業務!$AN$6:$AN$59,0),0),\"\")","v":""},null,null,null,null,null,"",{"$f":"IFERROR(OFFSET(業務!$O$5,MATCH(Q237,業務!$AN$6:$AN$59,0),0),\"\")","v":""},null,null,null,13,null,null,0]
[null,null,null,null,"",{"$f":"IFERROR(OFFSET(業務!$AA$5,MATCH(Q238,業務!$AN$6:$AN$59,0),0),\"\")","v":""},null,null,null,null,null,"",{"$f":"IFERROR(OFFSET(業務!$O$5,MATCH(Q238,業務!$AN$6:$AN$59,0),0),\"\")","v":""},null,null,null,14,null,null,0]
[null,null,null,null,"",{"$f":"IFERROR(OFFSET(業務!$AA$5,MATCH(Q239,業務!$AN$6:$AN$59,0),0),\"\")","v":""},null,null,null,null,null,"",{"$f":"IFERROR(OFFSET(業務!$O$5,MATCH(Q239,業務!$AN$6:$AN$59,0),0),\"\")","v":""},null,null,null,15,null,null,0]
[null,null,null,null,"",{"$f":"IFERROR(OFFSET(業務!$AA$5,MATCH(Q240,業務!$AN$6:$AN$59,0),0),\"\")","v":""},null,null,null,null,null,"",{"$f":"IFERROR(OFFSET(業務!$O$5,MATCH(Q240,業務!$AN$6:$AN$59,0),0),\"\")","v":""},null,null,null,16,null,null,0]
[null,null,null,null,"",{"$f":"IFERROR(OFFSET(業務!$AA$5,MATCH(Q241,業務!$AN$6:$AN$59,0),0),\"\")","v":""},null,null,null,null,null,"",{"$f":"IFERROR(OFFSET(業務!$O$5,MATCH(Q241,業務!$AN$6:$AN$59,0),0),\"\")","v":""},null,null,null,17,null,null,0]
[null,null,null,null,"",{"$f":"IFERROR(OFFSET(業務!$AA$5,MATCH(Q242,業務!$AN$6:$AN$59,0),0),\"\")","v":""},null,null,null,null,null,"",{"$f":"IFERROR(OFFSET(業務!$O$5,MATCH(Q242,業務!$AN$6:$AN$59,0),0),\"\")","v":""},null,null,null,18,null,null,0]
[null,null,null,null,"",{"$f":"IFERROR(OFFSET(業務!$AA$5,MATCH(Q243,業務!$AN$6:$AN$59,0),0),\"\")","v":""},null,null,null,null,null,"",{"$f":"IFERROR(OFFSET(業務!$O$5,MATCH(Q243,業務!$AN$6:$AN$59,0),0),\"\")","v":""},null,null,null,19,null,null,0]
[null,null,null,null,"",{"$f":"IFERROR(OFFSET(業務!$AA$5,MATCH(Q244,業務!$AN$6:$AN$59,0),0),\"\")","v":""},null,null,null,null,null,"",{"$f":"IFERROR(OFFSET(業務!$O$5,MATCH(Q244,業務!$AN$6:$AN$59,0),0),\"\")","v":""},null,null,null,20,null,null,0]
[null,null,null,null,"",{"$f":"IFERROR(OFFSET(業務!$AA$5,MATCH(Q245,業務!$AN$6:$AN$59,0),0),\"\")","v":""},null,null,null,null,null,"",{"$f":"IFERROR(OFFSET(業務!$O$5,MATCH(Q245,業務!$AN$6:$AN$59,0),0),\"\")","v":""},null,null,null,21,null,null,0]
[null,null,null,null,"",{"$f":"IFERROR(OFFSET(業務!$AA$5,MATCH(Q246,業務!$AN$6:$AN$59,0),0),\"\")","v":""},null,null,null,null,null,"",{"$f":"IFERROR(OFFSET(業務!$O$5,MATCH(Q246,業務!$AN$6:$AN$59,0),0),\"\")","v":""},null,null,null,22,null,null,0]
[null,null,null,null,"",{"$f":"IFERROR(OFFSET(業務!$AA$5,MATCH(Q247,業務!$AN$6:$AN$59,0),0),\"\")","v":""},null,null,null,null,null,"",{"$f":"IFERROR(OFFSET(業務!$O$5,MATCH(Q247,業務!$AN$6:$AN$59,0),0),\"\")","v":""},null,null,null,23,null,null,0]
[null,null,null,null,"",{"$f":"IFERROR(OFFSET(業務!$AA$5,MATCH(Q248,業務!$AN$6:$AN$59,0),0),\"\")","v":""},null,null,null,null,null,"",{"$f":"IFERROR(OFFSET(業務!$O$5,MATCH(Q248,業務!$AN$6:$AN$59,0),0),\"\")","v":""},null,null,null,24,null,null,0]
[null,null,null,null,"",{"$f":"IFERROR(OFFSET(業務!$AA$5,MATCH(Q249,業務!$AN$6:$AN$59,0),0),\"\")","v":""},null,null,null,null,null,"",{"$f":"IFERROR(OFFSET(業務!$O$5,MATCH(Q249,業務!$AN$6:$AN$59,0),0),\"\")","v":""},null,null,null,25,null,null,0]
[null,null,null,null,"",{"$f":"IFERROR(OFFSET(業務!$AA$5,MATCH(Q250,業務!$AN$6:$AN$59,0),0),\"\")","v":""},null,null,null,null,null,"",{"$f":"IFERROR(OFFSET(業務!$O$5,MATCH(Q250,業務!$AN$6:$AN$59,0),0),\"\")","v":""},null,null,null,26,null,null,0]
[null,null,null,null,"",{"$f":"IFERROR(OFFSET(業務!$AA$5,MATCH(Q251,業務!$AN$6:$AN$59,0),0),\"\")","v":""},null,null,null,null,null,"",{"$f":"IFERROR(OFFSET(業務!$O$5,MATCH(Q251,業務!$AN$6:$AN$59,0),0),\"\")","v":""},null,null,null,27,null,null,0]
[null,null,null,null,"",{"$f":"IFERROR(OFFSET(業務!$AA$5,MATCH(Q252,業務!$AN$6:$AN$59,0),0),\"\")","v":""},null,null,null,null,null,"",{"$f":"IFERROR(OFFSET(業務!$O$5,MATCH(Q252,業務!$AN$6:$AN$59,0),0),\"\")","v":""},null,null,null,28,null,null,0]
[null,null,null,null,"",{"$f":"IFERROR(OFFSET(業務!$AA$5,MATCH(Q253,業務!$AN$6:$AN$59,0),0),\"\")","v":""},null,null,null,null,null,"",{"$f":"IFERROR(OFFSET(業務!$O$5,MATCH(Q253,業務!$AN$6:$AN$59,0),0),\"\")","v":""},null,null,null,29,null,null,0]
[null,null,null,null,"",{"$f":"IFERROR(OFFSET(業務!$AA$5,MATCH(Q254,業務!$AN$6:$AN$59,0),0),\"\")","v":""},null,null,null,null,null,"",{"$f":"IFERROR(OFFSET(業務!$O$5,MATCH(Q254,業務!$AN$6:$AN$59,0),0),\"\")","v":""},null,null,null,30,null,null,0]
[null,null,null,null,"",{"$f":"IFERROR(OFFSET(業務!$AA$5,MATCH(Q255,業務!$AN$6:$AN$59,0),0),\"\")","v":""},null,null,null,null,null,"",{"$f":"IFERROR(OFFSET(業務!$O$5,MATCH(Q255,業務!$AN$6:$AN$59,0),0),\"\")","v":""},null,null,null,31,null,null,0]
[null,null,null,null,"",{"$f":"IFERROR(OFFSET(業務!$AA$5,MATCH(Q256,業務!$AN$6:$AN$59,0),0),\"\")","v":""},null,null,null,null,null,"",{"$f":"IFERROR(OFFSET(業務!$O$5,MATCH(Q256,業務!$AN$6:$AN$59,0),0),\"\")","v":""},null,null,null,32,null,null,0]
[null,null,null,null,"",{"$f":"IFERROR(OFFSET(業務!$AA$5,MATCH(Q257,業務!$AN$6:$AN$59,0),0),\"\")","v":""},null,null,null,null,null,"",{"$f":"IFERROR(OFFSET(業務!$O$5,MATCH(Q257,業務!$AN$6:$AN$59,0),0),\"\")","v":""},null,null,null,33,null,null,0]
[null,null,null,null,"",{"$f":"IFERROR(OFFSET(業務!$AA$5,MATCH(Q258,業務!$AN$6:$AN$59,0),0),\"\")","v":""},null,null,null,null,null,"",{"$f":"IFERROR(OFFSET(業務!$O$5,MATCH(Q258,業務!$AN$6:$AN$59,0),0),\"\")","v":""},null,null,null,34,null,null,0]
[null,null,null,null,"",{"$f":"IFERROR(OFFSET(業務!$AA$5,MATCH(Q259,業務!$AN$6:$AN$59,0),0),\"\")","v":""},null,null,null,null,null,"",{"$f":"IFERROR(OFFSET(業務!$O$5,MATCH(Q259,業務!$AN$6:$AN$59,0),0),\"\")","v":""},null,null,null,35,null,null,0]
[null,null,null,null,"",{"$f":"IFERROR(OFFSET(業務!$AA$5,MATCH(Q260,業務!$AN$6:$AN$59,0),0),\"\")","v":""},null,null,null,null,null,"",{"$f":"IFERROR(OFFSET(業務!$O$5,MATCH(Q260,業務!$AN$6:$AN$59,0),0),\"\")","v":""},null,null,null,36,null,null,0]
[null,null,null,null,"",{"$f":"IFERROR(OFFSET(業務!$AA$5,MATCH(Q261,業務!$AN$6:$AN$59,0),0),\"\")","v":""},null,null,null,null,null,"",{"$f":"IFERROR(OFFSET(業務!$O$5,MATCH(Q261,業務!$AN$6:$AN$59,0),0),\"\")","v":""},null,null,null,37,null,null,0]
[null,null,null,null,"",{"$f":"IFERROR(OFFSET(業務!$AA$5,MATCH(Q262,業務!$AN$6:$AN$59,0),0),\"\")","v":""},null,null,null,null,null,"",{"$f":"IFERROR(OFFSET(業務!$O$5,MATCH(Q262,業務!$AN$6:$AN$59,0),0),\"\")","v":""},null,null,null,38,null,null,{"$f":"IF(Q262<=R2489,1,0)","v":0}]
[null,null,null,null,"",{"$f":"IFERROR(OFFSET(業務!$AA$5,MATCH(Q263,業務!$AN$6:$AN$59,0),0),\"\")","v":""},null,null,null,null,null,"",{"$f":"IFERROR(OFFSET(業務!$O$5,MATCH(Q263,業務!$AN$6:$AN$59,0),0),\"\")","v":""},null,null,null,39,null,null,0]
[null,null,null,null,"",{"$f":"IFERROR(OFFSET(業務!$AA$5,MATCH(Q264,業務!$AN$6:$AN$59,0),0),\"\")","v":""},null,null,null,null,null,"",{"$f":"IFERROR(OFFSET(業務!$O$5,MATCH(Q264,業務!$AN$6:$AN$59,0),0),\"\")","v":""},null,null,null,40,null,null,0]
[null,null,null,null,"",{"$f":"IFERROR(OFFSET(業務!$AA$5,MATCH(Q265,業務!$AN$6:$AN$59,0),0),\"\")","v":""},null,null,null,null,null,"",{"$f":"IFERROR(OFFSET(業務!$O$5,MATCH(Q265,業務!$AN$6:$AN$59,0),0),\"\")","v":""},null,null,null,41,null,null,0]
[null,null,null,null,"",{"$f":"IFERROR(OFFSET(業務!$AA$5,MATCH(Q266,業務!$AN$6:$AN$59,0),0),\"\")","v":""},null,null,null,null,null,"",{"$f":"IFERROR(OFFSET(業務!$O$5,MATCH(Q266,業務!$AN$6:$AN$59,0),0),\"\")","v":""},null,null,null,42,null,null,0]
[null,null,null,null,"",{"$f":"IFERROR(OFFSET(業務!$AA$5,MATCH(Q267,業務!$AN$6:$AN$59,0),0),\"\")","v":""},null,null,null,null,null,"",{"$f":"IFERROR(OFFSET(業務!$O$5,MATCH(Q267,業務!$AN$6:$AN$59,0),0),\"\")","v":""},null,null,null,43,null,null,0]
[null,null,null,null,"",{"$f":"IFERROR(OFFSET(業務!$AA$5,MATCH(Q268,業務!$AN$6:$AN$59,0),0),\"\")","v":""},null,null,null,null,null,"",{"$f":"IFERROR(OFFSET(業務!$O$5,MATCH(Q268,業務!$AN$6:$AN$59,0),0),\"\")","v":""},null,null,null,44,null,null,0]
[null,null,null,null,"",{"$f":"IFERROR(OFFSET(業務!$AA$5,MATCH(Q269,業務!$AN$6:$AN$59,0),0),\"\")","v":""},null,null,null,null,null,"",{"$f":"IFERROR(OFFSET(業務!$O$5,MATCH(Q269,業務!$AN$6:$AN$59,0),0),\"\")","v":""},null,null,null,45,null,null,0]
[null,null,null,null,"",{"$f":"IFERROR(OFFSET(業務!$AA$5,MATCH(Q270,業務!$AN$6:$AN$59,0),0),\"\")","v":""},null,null,null,null,null,"",{"$f":"IFERROR(OFFSET(業務!$O$5,MATCH(Q270,業務!$AN$6:$AN$59,0),0),\"\")","v":""},null,null,null,46,null,null,0]
[null,null,null,null,"",{"$f":"IFERROR(OFFSET(業務!$AA$5,MATCH(Q271,業務!$AN$6:$AN$59,0),0),\"\")","v":""},null,null,null,null,null,"",{"$f":"IFERROR(OFFSET(業務!$O$5,MATCH(Q271,業務!$AN$6:$AN$59,0),0),\"\")","v":""},null,null,null,47,null,null,0]
[null,null,null,null,"",{"$f":"IFERROR(OFFSET(業務!$AA$5,MATCH(Q272,業務!$AN$6:$AN$59,0),0),\"\")","v":""},null,null,null,null,null,"",{"$f":"IFERROR(OFFSET(業務!$O$5,MATCH(Q272,業務!$AN$6:$AN$59,0),0),\"\")","v":""},null,null,null,48,null,null,0]
[null,null,null,null,"",{"$f":"IFERROR(OFFSET(業務!$AA$5,MATCH(Q273,業務!$AN$6:$AN$59,0),0),\"\")","v":""},null,null,null,null,null,"",{"$f":"IFERROR(OFFSET(業務!$O$5,MATCH(Q273,業務!$AN$6:$AN$59,0),0),\"\")","v":""},null,null,null,49,null,null,0]
[null,null,null,null,"",{"$f":"IFERROR(OFFSET(業務!$AA$5,MATCH(Q274,業務!$AN$6:$AN$59,0),0),\"\")","v":""},null,null,null,null,null,"",{"$f":"IFERROR(OFFSET(業務!$O$5,MATCH(Q274,業務!$AN$6:$AN$59,0),0),\"\")","v":""},null,null,null,50,null,null,0]
[null,null,null,null,"",{"$f":"IFERROR(OFFSET(業務!$AA$5,MATCH(Q275,業務!$AN$6:$AN$59,0),0),\"\")","v":""},null,null,null,null,null,"",{"$f":"IFERROR(OFFSET(業務!$O$5,MATCH(Q275,業務!$AN$6:$AN$59,0),0),\"\")","v":""},null,null,null,51,null,null,0]
[null,null,null,null,"",{"$f":"IFERROR(OFFSET(業務!$AA$5,MATCH(Q276,業務!$AN$6:$AN$59,0),0),\"\")","v":""},null,null,null,null,null,"",{"$f":"IFERROR(OFFSET(業務!$O$5,MATCH(Q276,業務!$AN$6:$AN$59,0),0),\"\")","v":""},null,null,null,52,null,null,0]
[null,null,null,null,"",{"$f":"IFERROR(OFFSET(業務!$AA$5,MATCH(Q277,業務!$AN$6:$AN$59,0),0),\"\")","v":""},null,null,null,null,null,"",{"$f":"IFERROR(OFFSET(業務!$O$5,MATCH(Q277,業務!$AN$6:$AN$59,0),0),\"\")","v":""},null,null,null,53,null,null,0]
[null,null,null,null,"",{"$f":"IFERROR(OFFSET(業務!$AA$5,MATCH(Q278,業務!$AN$6:$AN$59,0),0),\"\")","v":""},null,null,null,null,null,"",{"$f":"IFERROR(OFFSET(業務!$O$5,MATCH(Q278,業務!$AN$6:$AN$59,0),0),\"\")","v":""},null,null,null,54,null,null,0]
[null,null,null,null,null,null,null,null,null,null,null,null,null,null,null,null,null,null,null,1]
[null,null,null,null,null,null,null,null,null,null,null,null,null,null,null,null,null,null,null,1]
[null,null,"8.2 BCPの定着・見直し",null,null,null,null,null,null,null,null,null,null,null,null,null,null,null,null,1]
[null,null,"● 訓練計画",null,null,null,null,null,null,null,null,null,null,null,null,null,null,null,null,1]
[null,null,"緊急事態発生時に BCP が有効に活用されるためには、ただ BCP を策定しただけでは不十分であり、日頃からの従業員への BCP 教育と併せて、定期的な訓練の実施が不可欠である。\n自社における BCP 訓練の開催スケジュールを以下に示すとおりである。",null,null,null,null,null,null,null,null,null,null,null,null,null,null,null,null,1]
[null,null,null,null,null,null,null,null,null,null,null,null,null,null,null,null,null,null,null,1]
[null,null,null,null,{"$f":"\"○ 毎年　\" &コントロールシート!I809&\"　回、　\"&コントロールシート!K809&\"　月　に全従業員を対象として、BCP 初動対応訓練を実施する。\"","v":"○ 毎年　1　回、　9　月　に全従業員を対象として、BCP 初動対応訓練を実施する。"},null,null,null,null,null,null,null,null,null,null,null,null,null,null,1]
[null,null,null,null,null,null,null,null,null,null,null,null,null,null,null,null,null,null,null,1]
[null,null,"【具体的な実施案】",null,null,null,null,null,null,null,null,null,null,null,null,null,null,null,null,1]
[null,null,"",{"$f":"コントロールシート!F813&\"\"","v":""},null,null,null,null,null,null,null,null,null,null,null,null,null,null,null,1]
[null,null,null,null,null,null,null,null,null,null,null,null,null,null,null,null,null,null,null,1]
[null,null,null,null,null,null,null,null,null,null,null,null,null,null,null,null,null,null,null,1]
[null,null,"● 今後の計画（課題）",null,null,null,null,null,null,null,null,null,null,null,null,null,null,null,null,1]
[null,null,null,"5.2 で対策不可にチェックを入れた項目が今後の課題として残されている。\n現状では以下に抽出された資源への浸水被害は避けられないが、事業を継続させるためには、浸水被害によって生じる損失を最小限に抑えることも重要である。\n損失を最小限に抑えるために考え得る対応策、およびその対策を行う期限については、以下の通りである。",null,null,null,null,null,null,null,null,null,null,null,null,null,null,null,1]
[null,null,null,null,null,null,null,null,null,null,null,null,null,null,null,null,null,null,null,1]
[null,null,null,"【今後の計画（課題）一覧】",null,null,null,null,null,null,null,null,null,null,null,null,null,null,null,1]
[null,null,null,"重要事業に\n必要な資源",null,null,"浸水被害の内容",null,null,null,"考え得る対応策（案）",null,"期限",null,null,null,{"$f":"業務!H2","v":2},null,null,1]
[null,null,null,{"$f":"IFERROR(OFFSET(業務!$K$5,MATCH(Q296,業務!$H$6:$H$59,0),0),\"\")","v":"インフラ"},null,{"$f":"IFERROR(OFFSET(業務!$L$5,MATCH(Q296,業務!$H$6:$H$59,0),0),\"\")","v":"道路"},{"$f":"IFERROR(OFFSET(業務!$M$5,MATCH(Q296,業務!$H$6:$H$59,0),0),\"\")","v":"道路が通行止めとなる"},null,null,null,{"$f":"IFERROR(OFFSET(業務!$AC$5,MATCH(Q296,業務!$H$6:$H$59,0),0),\"\")","v":"簡易型ゴムボートの購入"},null,{"$f":"IFERROR(OFFSET(業務!$AD$5,MATCH(Q296,業務!$H$6:$H$59,0),0),\"\")","v":"6ヶ月以内"},null,null,null,1,null,null,1]
[null,null,null,{"$f":"IFERROR(OFFSET(業務!$K$5,MATCH(Q297,業務!$H$6:$H$59,0),0),\"\")","v":"物"},null,{"$f":"IFERROR(OFFSET(業務!$L$5,MATCH(Q297,業務!$H$6:$H$59,0),0),\"\")","v":"事務所"},{"$f":"IFERROR(OFFSET(業務!$M$5,MATCH(Q297,業務!$H$6:$H$59,0),0),\"\")","v":"浸水により、本社は2階まで使用不可"},null,null,null,{"$f":"IFERROR(OFFSET(業務!$AC$5,MATCH(Q297,業務!$H$6:$H$59,0),0),\"\")","v":"3階に事務所を移動"},null,{"$f":"IFERROR(OFFSET(業務!$AD$5,MATCH(Q297,業務!$H$6:$H$59,0),0),\"\")","v":"1年以内"},null,null,null,2,null,null,1]
[null,null,null,{"$f":"IFERROR(OFFSET(業務!$K$5,MATCH(Q298,業務!$H$6:$H$59,0),0),\"\")","v":""},null,{"$f":"IFERROR(OFFSET(業務!$L$5,MATCH(Q298,業務!$H$6:$H$59,0),0),\"\")","v":""},{"$f":"IFERROR(OFFSET(業務!$M$5,MATCH(Q298,業務!$H$6:$H$59,0),0),\"\")","v":""},null,null,null,{"$f":"IFERROR(OFFSET(業務!$AC$5,MATCH(Q298,業務!$H$6:$H$59,0),0),\"\")","v":""},null,{"$f":"IFERROR(OFFSET(業務!$AD$5,MATCH(Q298,業務!$H$6:$H$59,0),0),\"\")","v":""},null,null,null,3,null,null,1]
[null,null,null,{"$f":"IFERROR(OFFSET(業務!$K$5,MATCH(Q299,業務!$H$6:$H$59,0),0),\"\")","v":""},null,{"$f":"IFERROR(OFFSET(業務!$L$5,MATCH(Q299,業務!$H$6:$H$59,0),0),\"\")","v":""},{"$f":"IFERROR(OFFSET(業務!$M$5,MATCH(Q299,業務!$H$6:$H$59,0),0),\"\")","v":""},null,null,null,{"$f":"IFERROR(OFFSET(業務!$AC$5,MATCH(Q299,業務!$H$6:$H$59,0),0),\"\")","v":""},null,{"$f":"IFERROR(OFFSET(業務!$AD$5,MATCH(Q299,業務!$H$6:$H$59,0),0),\"\")","v":""},null,null,null,4,null,null,{"$f":"IF(Q299<=$Q$295,1,0)","v":0}]
[null,null,null,{"$f":"IFERROR(OFFSET(業務!$K$5,MATCH(Q300,業務!$H$6:$H$59,0),0),\"\")","v":""},null,{"$f":"IFERROR(OFFSET(業務!$L$5,MATCH(Q300,業務!$H$6:$H$59,0),0),\"\")","v":""},{"$f":"IFERROR(OFFSET(業務!$M$5,MATCH(Q300,業務!$H$6:$H$59,0),0),\"\")","v":""},null,null,null,{"$f":"IFERROR(OFFSET(業務!$AC$5,MATCH(Q300,業務!$H$6:$H$59,0),0),\"\")","v":""},null,{"$f":"IFERROR(OFFSET(業務!$AD$5,MATCH(Q300,業務!$H$6:$H$59,0),0),\"\")","v":""},null,null,null,5,null,null,{"$f":"IF(Q300<=$Q$295,1,0)","v":0}]
[null,null,null,{"$f":"IFERROR(OFFSET(業務!$K$5,MATCH(Q301,業務!$H$6:$H$59,0),0),\"\")","v":""},null,{"$f":"IFERROR(OFFSET(業務!$L$5,MATCH(Q301,業務!$H$6:$H$59,0),0),\"\")","v":""},{"$f":"IFERROR(OFFSET(業務!$M$5,MATCH(Q301,業務!$H$6:$H$59,0),0),\"\")","v":""},null,null,null,{"$f":"IFERROR(OFFSET(業務!$AC$5,MATCH(Q301,業務!$H$6:$H$59,0),0),\"\")","v":""},null,{"$f":"IFERROR(OFFSET(業務!$AD$5,MATCH(Q301,業務!$H$6:$H$59,0),0),\"\")","v":""},null,null,null,6,null,null,0]
[null,null,null,{"$f":"IFERROR(OFFSET(業務!$K$5,MATCH(Q302,業務!$H$6:$H$59,0),0),\"\")","v":""},null,{"$f":"IFERROR(OFFSET(業務!$L$5,MATCH(Q302,業務!$H$6:$H$59,0),0),\"\")","v":""},{"$f":"IFERROR(OFFSET(業務!$M$5,MATCH(Q302,業務!$H$6:$H$59,0),0),\"\")","v":""},null,null,null,{"$f":"IFERROR(OFFSET(業務!$AC$5,MATCH(Q302,業務!$H$6:$H$59,0),0),\"\")","v":""},null,{"$f":"IFERROR(OFFSET(業務!$AD$5,MATCH(Q302,業務!$H$6:$H$59,0),0),\"\")","v":""},null,null,null,7,null,null,0]
[null,null,null,{"$f":"IFERROR(OFFSET(業務!$K$5,MATCH(Q303,業務!$H$6:$H$59,0),0),\"\")","v":""},null,{"$f":"IFERROR(OFFSET(業務!$L$5,MATCH(Q303,業務!$H$6:$H$59,0),0),\"\")","v":""},{"$f":"IFERROR(OFFSET(業務!$M$5,MATCH(Q303,業務!$H$6:$H$59,0),0),\"\")","v":""},null,null,null,{"$f":"IFERROR(OFFSET(業務!$AC$5,MATCH(Q303,業務!$H$6:$H$59,0),0),\"\")","v":""},null,{"$f":"IFERROR(OFFSET(業務!$AD$5,MATCH(Q303,業務!$H$6:$H$59,0),0),\"\")","v":""},null,null,null,8,null,null,0]
[null,null,null,{"$f":"IFERROR(OFFSET(業務!$K$5,MATCH(Q304,業務!$H$6:$H$59,0),0),\"\")","v":""},null,{"$f":"IFERROR(OFFSET(業務!$L$5,MATCH(Q304,業務!$H$6:$H$59,0),0),\"\")","v":""},{"$f":"IFERROR(OFFSET(業務!$M$5,MATCH(Q304,業務!$H$6:$H$59,0),0),\"\")","v":""},null,null,null,{"$f":"IFERROR(OFFSET(業務!$AC$5,MATCH(Q304,業務!$H$6:$H$59,0),0),\"\")","v":""},null,{"$f":"IFERROR(OFFSET(業務!$AD$5,MATCH(Q304,業務!$H$6:$H$59,0),0),\"\")","v":""},null,null,null,9,null,null,0]
[null,null,null,{"$f":"IFERROR(OFFSET(業務!$K$5,MATCH(Q305,業務!$H$6:$H$59,0),0),\"\")","v":""},null,{"$f":"IFERROR(OFFSET(業務!$L$5,MATCH(Q305,業務!$H$6:$H$59,0),0),\"\")","v":""},{"$f":"IFERROR(OFFSET(業務!$M$5,MATCH(Q305,業務!$H$6:$H$59,0),0),\"\")","v":""},null,null,null,{"$f":"IFERROR(OFFSET(業務!$AC$5,MATCH(Q305,業務!$H$6:$H$59,0),0),\"\")","v":""},null,{"$f":"IFERROR(OFFSET(業務!$AD$5,MATCH(Q305,業務!$H$6:$H$59,0),0),\"\")","v":""},null,null,null,10,null,null,0]
[null,null,null,{"$f":"IFERROR(OFFSET(業務!$K$5,MATCH(Q306,業務!$H$6:$H$59,0),0),\"\")","v":""},null,{"$f":"IFERROR(OFFSET(業務!$L$5,MATCH(Q306,業務!$H$6:$H$59,0),0),\"\")","v":""},{"$f":"IFERROR(OFFSET(業務!$M$5,MATCH(Q306,業務!$H$6:$H$59,0),0),\"\")","v":""},null,null,null,{"$f":"IFERROR(OFFSET(業務!$AC$5,MATCH(Q306,業務!$H$6:$H$59,0),0),\"\")","v":""},null,{"$f":"IFERROR(OFFSET(業務!$AD$5,MATCH(Q306,業務!$H$6:$H$59,0),0),\"\")","v":""},null,null,null,11,null,null,0]
[null,null,null,{"$f":"IFERROR(OFFSET(業務!$K$5,MATCH(Q307,業務!$H$6:$H$59,0),0),\"\")","v":""},null,{"$f":"IFERROR(OFFSET(業務!$L$5,MATCH(Q307,業務!$H$6:$H$59,0),0),\"\")","v":""},{"$f":"IFERROR(OFFSET(業務!$M$5,MATCH(Q307,業務!$H$6:$H$59,0),0),\"\")","v":""},null,null,null,{"$f":"IFERROR(OFFSET(業務!$AC$5,MATCH(Q307,業務!$H$6:$H$59,0),0),\"\")","v":""},null,{"$f":"IFERROR(OFFSET(業務!$AD$5,MATCH(Q307,業務!$H$6:$H$59,0),0),\"\")","v":""},null,null,null,12,null,null,0]
[null,null,null,{"$f":"IFERROR(OFFSET(業務!$K$5,MATCH(Q308,業務!$H$6:$H$59,0),0),\"\")","v":""},null,{"$f":"IFERROR(OFFSET(業務!$L$5,MATCH(Q308,業務!$H$6:$H$59,0),0),\"\")","v":""},{"$f":"IFERROR(OFFSET(業務!$M$5,MATCH(Q308,業務!$H$6:$H$59,0),0),\"\")","v":""},null,null,null,{"$f":"IFERROR(OFFSET(業務!$AC$5,MATCH(Q308,業務!$H$6:$H$59,0),0),\"\")","v":""},null,{"$f":"IFERROR(OFFSET(業務!$AD$5,MATCH(Q308,業務!$H$6:$H$59,0),0),\"\")","v":""},null,null,null,13,null,null,0]
[null,null,null,{"$f":"IFERROR(OFFSET(業務!$K$5,MATCH(Q309,業務!$H$6:$H$59,0),0),\"\")","v":""},null,{"$f":"IFERROR(OFFSET(業務!$L$5,MATCH(Q309,業務!$H$6:$H$59,0),0),\"\")","v":""},{"$f":"IFERROR(OFFSET(業務!$M$5,MATCH(Q309,業務!$H$6:$H$59,0),0),\"\")","v":""},null,null,null,{"$f":"IFERROR(OFFSET(業務!$AC$5,MATCH(Q309,業務!$H$6:$H$59,0),0),\"\")","v":""},null,{"$f":"IFERROR(OFFSET(業務!$AD$5,MATCH(Q309,業務!$H$6:$H$59,0),0),\"\")","v":""},null,null,null,14,null,null,0]
[null,null,null,{"$f":"IFERROR(OFFSET(業務!$K$5,MATCH(Q310,業務!$H$6:$H$59,0),0),\"\")","v":""},null,{"$f":"IFERROR(OFFSET(業務!$L$5,MATCH(Q310,業務!$H$6:$H$59,0),0),\"\")","v":""},{"$f":"IFERROR(OFFSET(業務!$M$5,MATCH(Q310,業務!$H$6:$H$59,0),0),\"\")","v":""},null,null,null,{"$f":"IFERROR(OFFSET(業務!$AC$5,MATCH(Q310,業務!$H$6:$H$59,0),0),\"\")","v":""},null,{"$f":"IFERROR(OFFSET(業務!$AD$5,MATCH(Q310,業務!$H$6:$H$59,0),0),\"\")","v":""},null,null,null,15,null,null,0]
[null,null,null,{"$f":"IFERROR(OFFSET(業務!$K$5,MATCH(Q311,業務!$H$6:$H$59,0),0),\"\")","v":""},null,{"$f":"IFERROR(OFFSET(業務!$L$5,MATCH(Q311,業務!$H$6:$H$59,0),0),\"\")","v":""},{"$f":"IFERROR(OFFSET(業務!$M$5,MATCH(Q311,業務!$H$6:$H$59,0),0),\"\")","v":""},null,null,null,{"$f":"IFERROR(OFFSET(業務!$AC$5,MATCH(Q311,業務!$H$6:$H$59,0),0),\"\")","v":""},null,{"$f":"IFERROR(OFFSET(業務!$AD$5,MATCH(Q311,業務!$H$6:$H$59,0),0),\"\")","v":""},null,null,null,16,null,null,0]
[null,null,null,{"$f":"IFERROR(OFFSET(業務!$K$5,MATCH(Q312,業務!$H$6:$H$59,0),0),\"\")","v":""},null,{"$f":"IFERROR(OFFSET(業務!$L$5,MATCH(Q312,業務!$H$6:$H$59,0),0),\"\")","v":""},{"$f":"IFERROR(OFFSET(業務!$M$5,MATCH(Q312,業務!$H$6:$H$59,0),0),\"\")","v":""},null,null,null,{"$f":"IFERROR(OFFSET(業務!$AC$5,MATCH(Q312,業務!$H$6:$H$59,0),0),\"\")","v":""},null,{"$f":"IFERROR(OFFSET(業務!$AD$5,MATCH(Q312,業務!$H$6:$H$59,0),0),\"\")","v":""},null,null,null,17,null,null,0]
[null,null,null,{"$f":"IFERROR(OFFSET(業務!$K$5,MATCH(Q313,業務!$H$6:$H$59,0),0),\"\")","v":""},null,{"$f":"IFERROR(OFFSET(業務!$L$5,MATCH(Q313,業務!$H$6:$H$59,0),0),\"\")","v":""},{"$f":"IFERROR(OFFSET(業務!$M$5,MATCH(Q313,業務!$H$6:$H$59,0),0),\"\")","v":""},null,null,null,{"$f":"IFERROR(OFFSET(業務!$AC$5,MATCH(Q313,業務!$H$6:$H$59,0),0),\"\")","v":""},null,{"$f":"IFERROR(OFFSET(業務!$AD$5,MATCH(Q313,業務!$H$6:$H$59,0),0),\"\")","v":""},null,null,null,18,null,null,0]
[null,null,null,{"$f":"IFERROR(OFFSET(業務!$K$5,MATCH(Q314,業務!$H$6:$H$59,0),0),\"\")","v":""},null,{"$f":"IFERROR(OFFSET(業務!$L$5,MATCH(Q314,業務!$H$6:$H$59,0),0),\"\")","v":""},{"$f":"IFERROR(OFFSET(業務!$M$5,MATCH(Q314,業務!$H$6:$H$59,0),0),\"\")","v":""},null,null,null,{"$f":"IFERROR(OFFSET(業務!$AC$5,MATCH(Q314,業務!$H$6:$H$59,0),0),\"\")","v":""},null,{"$f":"IFERROR(OFFSET(業務!$AD$5,MATCH(Q314,業務!$H$6:$H$59,0),0),\"\")","v":""},null,null,null,19,null,null,0]
[null,null,null,{"$f":"IFERROR(OFFSET(業務!$K$5,MATCH(Q315,業務!$H$6:$H$59,0),0),\"\")","v":""},null,{"$f":"IFERROR(OFFSET(業務!$L$5,MATCH(Q315,業務!$H$6:$H$59,0),0),\"\")","v":""},{"$f":"IFERROR(OFFSET(業務!$M$5,MATCH(Q315,業務!$H$6:$H$59,0),0),\"\")","v":""},null,null,null,{"$f":"IFERROR(OFFSET(業務!$AC$5,MATCH(Q315,業務!$H$6:$H$59,0),0),\"\")","v":""},null,{"$f":"IFERROR(OFFSET(業務!$AD$5,MATCH(Q315,業務!$H$6:$H$59,0),0),\"\")","v":""},null,null,null,20,null,null,0]
[null,null,null,{"$f":"IFERROR(OFFSET(業務!$K$5,MATCH(Q316,業務!$H$6:$H$59,0),0),\"\")","v":""},null,{"$f":"IFERROR(OFFSET(業務!$L$5,MATCH(Q316,業務!$H$6:$H$59,0),0),\"\")","v":""},{"$f":"IFERROR(OFFSET(業務!$M$5,MATCH(Q316,業務!$H$6:$H$59,0),0),\"\")","v":""},null,null,null,{"$f":"IFERROR(OFFSET(業務!$AC$5,MATCH(Q316,業務!$H$6:$H$59,0),0),\"\")","v":""},null,{"$f":"IFERROR(OFFSET(業務!$AD$5,MATCH(Q316,業務!$H$6:$H$59,0),0),\"\")","v":""},null,null,null,21,null,null,0]
[null,null,null,{"$f":"IFERROR(OFFSET(業務!$K$5,MATCH(Q317,業務!$H$6:$H$59,0),0),\"\")","v":""},null,{"$f":"IFERROR(OFFSET(業務!$L$5,MATCH(Q317,業務!$H$6:$H$59,0),0),\"\")","v":""},{"$f":"IFERROR(OFFSET(業務!$M$5,MATCH(Q317,業務!$H$6:$H$59,0),0),\"\")","v":""},null,null,null,{"$f":"IFERROR(OFFSET(業務!$AC$5,MATCH(Q317,業務!$H$6:$H$59,0),0),\"\")","v":""},null,{"$f":"IFERROR(OFFSET(業務!$AD$5,MATCH(Q317,業務!$H$6:$H$59,0),0),\"\")","v":""},null,null,null,22,null,null,0]
[null,null,null,{"$f":"IFERROR(OFFSET(業務!$K$5,MATCH(Q318,業務!$H$6:$H$59,0),0),\"\")","v":""},null,{"$f":"IFERROR(OFFSET(業務!$L$5,MATCH(Q318,業務!$H$6:$H$59,0),0),\"\")","v":""},{"$f":"IFERROR(OFFSET(業務!$M$5,MATCH(Q318,業務!$H$6:$H$59,0),0),\"\")","v":""},null,null,null,{"$f":"IFERROR(OFFSET(業務!$AC$5,MATCH(Q318,業務!$H$6:$H$59,0),0),\"\")","v":""},null,{"$f":"IFERROR(OFFSET(業務!$AD$5,MATCH(Q318,業務!$H$6:$H$59,0),0),\"\")","v":""},null,null,null,{"$f":"IF(Q295=25,\"\",Q317+1)","v":23},null,null,{"$f":"IF(Q318<=$Q$295,1,0)","v":0}]
[null,null,null,{"$f":"IFERROR(OFFSET(業務!$K$5,MATCH(Q319,業務!$H$6:$H$59,0),0),\"\")","v":""},null,{"$f":"IFERROR(OFFSET(業務!$L$5,MATCH(Q319,業務!$H$6:$H$59,0),0),\"\")","v":""},{"$f":"IFERROR(OFFSET(業務!$M$5,MATCH(Q319,業務!$H$6:$H$59,0),0),\"\")","v":""},null,null,null,{"$f":"IFERROR(OFFSET(業務!$AC$5,MATCH(Q319,業務!$H$6:$H$59,0),0),\"\")","v":""},null,{"$f":"IFERROR(OFFSET(業務!$AD$5,MATCH(Q319,業務!$H$6:$H$59,0),0),\"\")","v":""},null,null,null,{"$f":"IF(OR(Q295=25,Q295=26),\"\",Q318+1)","v":24},null,null,0]
[null,null,null,null,null,null,null,null,null,null,null,null,null,null,null,null,null,null,null,1]
[null,null,null,null,null,null,null,null,null,null,null,null,null,null,null,null,null,null,null,{"$f":"IF(Q295>=25,1,0)","v":0}]
[null,null,null,"重要事業に\n必要な資源",null,null,"浸水被害の内容",null,null,null,"考え得る対応策（案）",null,"期限",null,null,null,null,null,null,{"$f":"IF(Q295>=25,1,0)","v":0}]
[null,null,null,{"$f":"IFERROR(OFFSET(業務!$K$5,MATCH(Q323,業務!$H$6:$H$59,0),0),\"\")","v":""},null,{"$f":"IFERROR(OFFSET(業務!$L$5,MATCH(Q323,業務!$H$6:$H$59,0),0),\"\")","v":""},{"$f":"IFERROR(OFFSET(業務!$M$5,MATCH(Q323,業務!$H$6:$H$59,0),0),\"\")","v":""},null,null,null,{"$f":"IFERROR(OFFSET(業務!$AC$5,MATCH(Q323,業務!$H$6:$H$59,0),0),\"\")","v":""},null,{"$f":"IFERROR(OFFSET(業務!$AD$5,MATCH(Q323,業務!$H$6:$H$59,0),0),\"\")","v":""},null,null,null,{"$f":"MAX(Q296:Q319)+1","v":25},null,null,0]
[null,null,null,{"$f":"IFERROR(OFFSET(業務!$K$5,MATCH(Q324,業務!$H$6:$H$59,0),0),\"\")","v":""},null,{"$f":"IFERROR(OFFSET(業務!$L$5,MATCH(Q324,業務!$H$6:$H$59,0),0),\"\")","v":""},{"$f":"IFERROR(OFFSET(業務!$M$5,MATCH(Q324,業務!$H$6:$H$59,0),0),\"\")","v":""},null,null,null,{"$f":"IFERROR(OFFSET(業務!$AC$5,MATCH(Q324,業務!$H$6:$H$59,0),0),\"\")","v":""},null,{"$f":"IFERROR(OFFSET(業務!$AD$5,MATCH(Q324,業務!$H$6:$H$59,0),0),\"\")","v":""},null,null,null,{"$f":"Q323+1","v":26},null,null,0]
[null,null,null,{"$f":"IFERROR(OFFSET(業務!$K$5,MATCH(Q325,業務!$H$6:$H$59,0),0),\"\")","v":""},null,{"$f":"IFERROR(OFFSET(業務!$L$5,MATCH(Q325,業務!$H$6:$H$59,0),0),\"\")","v":""},{"$f":"IFERROR(OFFSET(業務!$M$5,MATCH(Q325,業務!$H$6:$H$59,0),0),\"\")","v":""},null,null,null,{"$f":"IFERROR(OFFSET(業務!$AC$5,MATCH(Q325,業務!$H$6:$H$59,0),0),\"\")","v":""},null,{"$f":"IFERROR(OFFSET(業務!$AD$5,MATCH(Q325,業務!$H$6:$H$59,0),0),\"\")","v":""},null,null,null,{"$f":"Q324+1","v":27},null,null,0]
[null,null,null,{"$f":"IFERROR(OFFSET(業務!$K$5,MATCH(Q326,業務!$H$6:$H$59,0),0),\"\")","v":""},null,{"$f":"IFERROR(OFFSET(業務!$L$5,MATCH(Q326,業務!$H$6:$H$59,0),0),\"\")","v":""},{"$f":"IFERROR(OFFSET(業務!$M$5,MATCH(Q326,業務!$H$6:$H$59,0),0),\"\")","v":""},null,null,null,{"$f":"IFERROR(OFFSET(業務!$AC$5,MATCH(Q326,業務!$H$6:$H$59,0),0),\"\")","v":""},null,{"$f":"IFERROR(OFFSET(業務!$AD$5,MATCH(Q326,業務!$H$6:$H$59,0),0),\"\")","v":""},null,null,null,28,null,null,0]
[null,null,null,{"$f":"IFERROR(OFFSET(業務!$K$5,MATCH(Q327,業務!$H$6:$H$59,0),0),\"\")","v":""},null,{"$f":"IFERROR(OFFSET(業務!$L$5,MATCH(Q327,業務!$H$6:$H$59,0),0),\"\")","v":""},{"$f":"IFERROR(OFFSET(業務!$M$5,MATCH(Q327,業務!$H$6:$H$59,0),0),\"\")","v":""},null,null,null,{"$f":"IFERROR(OFFSET(業務!$AC$5,MATCH(Q327,業務!$H$6:$H$59,0),0),\"\")","v":""},null,{"$f":"IFERROR(OFFSET(業務!$AD$5,MATCH(Q327,業務!$H$6:$H$59,0),0),\"\")","v":""},null,null,null,29,null,null,0]
[null,null,null,{"$f":"IFERROR(OFFSET(業務!$K$5,MATCH(Q328,業務!$H$6:$H$59,0),0),\"\")","v":""},null,{"$f":"IFERROR(OFFSET(業務!$L$5,MATCH(Q328,業務!$H$6:$H$59,0),0),\"\")","v":""},{"$f":"IFERROR(OFFSET(業務!$M$5,MATCH(Q328,業務!$H$6:$H$59,0),0),\"\")","v":""},null,null,null,{"$f":"IFERROR(OFFSET(業務!$AC$5,MATCH(Q328,業務!$H$6:$H$59,0),0),\"\")","v":""},null,{"$f":"IFERROR(OFFSET(業務!$AD$5,MATCH(Q328,業務!$H$6:$H$59,0),0),\"\")","v":""},null,null,null,30,null,null,0]
[null,null,null,{"$f":"IFERROR(OFFSET(業務!$K$5,MATCH(Q329,業務!$H$6:$H$59,0),0),\"\")","v":""},null,{"$f":"IFERROR(OFFSET(業務!$L$5,MATCH(Q329,業務!$H$6:$H$59,0),0),\"\")","v":""},{"$f":"IFERROR(OFFSET(業務!$M$5,MATCH(Q329,業務!$H$6:$H$59,0),0),\"\")","v":""},null,null,null,{"$f":"IFERROR(OFFSET(業務!$AC$5,MATCH(Q329,業務!$H$6:$H$59,0),0),\"\")","v":""},null,{"$f":"IFERROR(OFFSET(業務!$AD$5,MATCH(Q329,業務!$H$6:$H$59,0),0),\"\")","v":""},null,null,null,31,null,null,0]
[null,null,null,{"$f":"IFERROR(OFFSET(業務!$K$5,MATCH(Q330,業務!$H$6:$H$59,0),0),\"\")","v":""},null,{"$f":"IFERROR(OFFSET(業務!$L$5,MATCH(Q330,業務!$H$6:$H$59,0),0),\"\")","v":""},{"$f":"IFERROR(OFFSET(業務!$M$5,MATCH(Q330,業務!$H$6:$H$59,0),0),\"\")","v":""},null,null,null,{"$f":"IFERROR(OFFSET(業務!$AC$5,MATCH(Q330,業務!$H$6:$H$59,0),0),\"\")","v":""},null,{"$f":"IFERROR(OFFSET(業務!$AD$5,MATCH(Q330,業務!$H$6:$H$59,0),0),\"\")","v":""},null,null,null,32,null,null,0]
[null,null,null,{"$f":"IFERROR(OFFSET(業務!$K$5,MATCH(Q331,業務!$H$6:$H$59,0),0),\"\")","v":""},null,{"$f":"IFERROR(OFFSET(業務!$L$5,MATCH(Q331,業務!$H$6:$H$59,0),0),\"\")","v":""},{"$f":"IFERROR(OFFSET(業務!$M$5,MATCH(Q331,業務!$H$6:$H$59,0),0),\"\")","v":""},null,null,null,{"$f":"IFERROR(OFFSET(業務!$AC$5,MATCH(Q331,業務!$H$6:$H$59,0),0),\"\")","v":""},null,{"$f":"IFERROR(OFFSET(業務!$AD$5,MATCH(Q331,業務!$H$6:$H$59,0),0),\"\")","v":""},null,null,null,33,null,null,0]
[null,null,null,{"$f":"IFERROR(OFFSET(業務!$K$5,MATCH(Q332,業務!$H$6:$H$59,0),0),\"\")","v":""},null,{"$f":"IFERROR(OFFSET(業務!$L$5,MATCH(Q332,業務!$H$6:$H$59,0),0),\"\")","v":""},{"$f":"IFERROR(OFFSET(業務!$M$5,MATCH(Q332,業務!$H$6:$H$59,0),0),\"\")","v":""},null,null,null,{"$f":"IFERROR(OFFSET(業務!$AC$5,MATCH(Q332,業務!$H$6:$H$59,0),0),\"\")","v":""},null,{"$f":"IFERROR(OFFSET(業務!$AD$5,MATCH(Q332,業務!$H$6:$H$59,0),0),\"\")","v":""},null,null,null,34,null,null,0]
[null,null,null,{"$f":"IFERROR(OFFSET(業務!$K$5,MATCH(Q333,業務!$H$6:$H$59,0),0),\"\")","v":""},null,{"$f":"IFERROR(OFFSET(業務!$L$5,MATCH(Q333,業務!$H$6:$H$59,0),0),\"\")","v":""},{"$f":"IFERROR(OFFSET(業務!$M$5,MATCH(Q333,業務!$H$6:$H$59,0),0),\"\")","v":""},null,null,null,{"$f":"IFERROR(OFFSET(業務!$AC$5,MATCH(Q333,業務!$H$6:$H$59,0),0),\"\")","v":""},null,{"$f":"IFERROR(OFFSET(業務!$AD$5,MATCH(Q333,業務!$H$6:$H$59,0),0),\"\")","v":""},null,null,null,35,null,null,0]
[null,null,null,{"$f":"IFERROR(OFFSET(業務!$K$5,MATCH(Q334,業務!$H$6:$H$59,0),0),\"\")","v":""},null,{"$f":"IFERROR(OFFSET(業務!$L$5,MATCH(Q334,業務!$H$6:$H$59,0),0),\"\")","v":""},{"$f":"IFERROR(OFFSET(業務!$M$5,MATCH(Q334,業務!$H$6:$H$59,0),0),\"\")","v":""},null,null,null,{"$f":"IFERROR(OFFSET(業務!$AC$5,MATCH(Q334,業務!$H$6:$H$59,0),0),\"\")","v":""},null,{"$f":"IFERROR(OFFSET(業務!$AD$5,MATCH(Q334,業務!$H$6:$H$59,0),0),\"\")","v":""},null,null,null,36,null,null,0]
[null,null,null,{"$f":"IFERROR(OFFSET(業務!$K$5,MATCH(Q335,業務!$H$6:$H$59,0),0),\"\")","v":""},null,{"$f":"IFERROR(OFFSET(業務!$L$5,MATCH(Q335,業務!$H$6:$H$59,0),0),\"\")","v":""},{"$f":"IFERROR(OFFSET(業務!$M$5,MATCH(Q335,業務!$H$6:$H$59,0),0),\"\")","v":""},null,null,null,{"$f":"IFERROR(OFFSET(業務!$AC$5,MATCH(Q335,業務!$H$6:$H$59,0),0),\"\")","v":""},null,{"$f":"IFERROR(OFFSET(業務!$AD$5,MATCH(Q335,業務!$H$6:$H$59,0),0),\"\")","v":""},null,null,null,37,null,null,0]
[null,null,null,{"$f":"IFERROR(OFFSET(業務!$K$5,MATCH(Q336,業務!$H$6:$H$59,0),0),\"\")","v":""},null,{"$f":"IFERROR(OFFSET(業務!$L$5,MATCH(Q336,業務!$H$6:$H$59,0),0),\"\")","v":""},{"$f":"IFERROR(OFFSET(業務!$M$5,MATCH(Q336,業務!$H$6:$H$59,0),0),\"\")","v":""},null,null,null,{"$f":"IFERROR(OFFSET(業務!$AC$5,MATCH(Q336,業務!$H$6:$H$59,0),0),\"\")","v":""},null,{"$f":"IFERROR(OFFSET(業務!$AD$5,MATCH(Q336,業務!$H$6:$H$59,0),0),\"\")","v":""},null,null,null,38,null,null,0]
[null,null,null,{"$f":"IFERROR(OFFSET(業務!$K$5,MATCH(Q337,業務!$H$6:$H$59,0),0),\"\")","v":""},null,{"$f":"IFERROR(OFFSET(業務!$L$5,MATCH(Q337,業務!$H$6:$H$59,0),0),\"\")","v":""},{"$f":"IFERROR(OFFSET(業務!$M$5,MATCH(Q337,業務!$H$6:$H$59,0),0),\"\")","v":""},null,null,null,{"$f":"IFERROR(OFFSET(業務!$AC$5,MATCH(Q337,業務!$H$6:$H$59,0),0),\"\")","v":""},null,{"$f":"IFERROR(OFFSET(業務!$AD$5,MATCH(Q337,業務!$H$6:$H$59,0),0),\"\")","v":""},null,null,null,39,null,null,0]
[null,null,null,{"$f":"IFERROR(OFFSET(業務!$K$5,MATCH(Q338,業務!$H$6:$H$59,0),0),\"\")","v":""},null,{"$f":"IFERROR(OFFSET(業務!$L$5,MATCH(Q338,業務!$H$6:$H$59,0),0),\"\")","v":""},{"$f":"IFERROR(OFFSET(業務!$M$5,MATCH(Q338,業務!$H$6:$H$59,0),0),\"\")","v":""},null,null,null,{"$f":"IFERROR(OFFSET(業務!$AC$5,MATCH(Q338,業務!$H$6:$H$59,0),0),\"\")","v":""},null,{"$f":"IFERROR(OFFSET(業務!$AD$5,MATCH(Q338,業務!$H$6:$H$59,0),0),\"\")","v":""},null,null,null,40,null,null,0]
[null,null,null,{"$f":"IFERROR(OFFSET(業務!$K$5,MATCH(Q339,業務!$H$6:$H$59,0),0),\"\")","v":""},null,{"$f":"IFERROR(OFFSET(業務!$L$5,MATCH(Q339,業務!$H$6:$H$59,0),0),\"\")","v":""},{"$f":"IFERROR(OFFSET(業務!$M$5,MATCH(Q339,業務!$H$6:$H$59,0),0),\"\")","v":""},null,null,null,{"$f":"IFERROR(OFFSET(業務!$AC$5,MATCH(Q339,業務!$H$6:$H$59,0),0),\"\")","v":""},null,{"$f":"IFERROR(OFFSET(業務!$AD$5,MATCH(Q339,業務!$H$6:$H$59,0),0),\"\")","v":""},null,null,null,41,null,null,0]
[null,null,null,{"$f":"IFERROR(OFFSET(業務!$K$5,MATCH(Q340,業務!$H$6:$H$59,0),0),\"\")","v":""},null,{"$f":"IFERROR(OFFSET(業務!$L$5,MATCH(Q340,業務!$H$6:$H$59,0),0),\"\")","v":""},{"$f":"IFERROR(OFFSET(業務!$M$5,MATCH(Q340,業務!$H$6:$H$59,0),0),\"\")","v":""},null,null,null,{"$f":"IFERROR(OFFSET(業務!$AC$5,MATCH(Q340,業務!$H$6:$H$59,0),0),\"\")","v":""},null,{"$f":"IFERROR(OFFSET(業務!$AD$5,MATCH(Q340,業務!$H$6:$H$59,0),0),\"\")","v":""},null,null,null,42,null,null,0]
[null,null,null,{"$f":"IFERROR(OFFSET(業務!$K$5,MATCH(Q341,業務!$H$6:$H$59,0),0),\"\")","v":""},null,{"$f":"IFERROR(OFFSET(業務!$L$5,MATCH(Q341,業務!$H$6:$H$59,0),0),\"\")","v":""},{"$f":"IFERROR(OFFSET(業務!$M$5,MATCH(Q341,業務!$H$6:$H$59,0),0),\"\")","v":""},null,null,null,{"$f":"IFERROR(OFFSET(業務!$AC$5,MATCH(Q341,業務!$H$6:$H$59,0),0),\"\")","v":""},null,{"$f":"IFERROR(OFFSET(業務!$AD$5,MATCH(Q341,業務!$H$6:$H$59,0),0),\"\")","v":""},null,null,null,43,null,null,0]
[null,null,null,{"$f":"IFERROR(OFFSET(業務!$K$5,MATCH(Q342,業務!$H$6:$H$59,0),0),\"\")","v":""},null,{"$f":"IFERROR(OFFSET(業務!$L$5,MATCH(Q342,業務!$H$6:$H$59,0),0),\"\")","v":""},{"$f":"IFERROR(OFFSET(業務!$M$5,MATCH(Q342,業務!$H$6:$H$59,0),0),\"\")","v":""},null,null,null,{"$f":"IFERROR(OFFSET(業務!$AC$5,MATCH(Q342,業務!$H$6:$H$59,0),0),\"\")","v":""},null,{"$f":"IFERROR(OFFSET(業務!$AD$5,MATCH(Q342,業務!$H$6:$H$59,0),0),\"\")","v":""},null,null,null,44,null,null,0]
[null,null,null,{"$f":"IFERROR(OFFSET(業務!$K$5,MATCH(Q343,業務!$H$6:$H$59,0),0),\"\")","v":""},null,{"$f":"IFERROR(OFFSET(業務!$L$5,MATCH(Q343,業務!$H$6:$H$59,0),0),\"\")","v":""},{"$f":"IFERROR(OFFSET(業務!$M$5,MATCH(Q343,業務!$H$6:$H$59,0),0),\"\")","v":""},null,null,null,{"$f":"IFERROR(OFFSET(業務!$AC$5,MATCH(Q343,業務!$H$6:$H$59,0),0),\"\")","v":""},null,{"$f":"IFERROR(OFFSET(業務!$AD$5,MATCH(Q343,業務!$H$6:$H$59,0),0),\"\")","v":""},null,null,null,45,null,null,0]
[null,null,null,{"$f":"IFERROR(OFFSET(業務!$K$5,MATCH(Q344,業務!$H$6:$H$59,0),0),\"\")","v":""},null,{"$f":"IFERROR(OFFSET(業務!$L$5,MATCH(Q344,業務!$H$6:$H$59,0),0),\"\")","v":""},{"$f":"IFERROR(OFFSET(業務!$M$5,MATCH(Q344,業務!$H$6:$H$59,0),0),\"\")","v":""},null,null,null,{"$f":"IFERROR(OFFSET(業務!$AC$5,MATCH(Q344,業務!$H$6:$H$59,0),0),\"\")","v":""},null,{"$f":"IFERROR(OFFSET(業務!$AD$5,MATCH(Q344,業務!$H$6:$H$59,0),0),\"\")","v":""},null,null,null,46,null,null,0]
[null,null,null,{"$f":"IFERROR(OFFSET(業務!$K$5,MATCH(Q345,業務!$H$6:$H$59,0),0),\"\")","v":""},null,{"$f":"IFERROR(OFFSET(業務!$L$5,MATCH(Q345,業務!$H$6:$H$59,0),0),\"\")","v":""},{"$f":"IFERROR(OFFSET(業務!$M$5,MATCH(Q345,業務!$H$6:$H$59,0),0),\"\")","v":""},null,null,null,{"$f":"IFERROR(OFFSET(業務!$AC$5,MATCH(Q345,業務!$H$6:$H$59,0),0),\"\")","v":""},null,{"$f":"IFERROR(OFFSET(業務!$AD$5,MATCH(Q345,業務!$H$6:$H$59,0),0),\"\")","v":""},null,null,null,47,null,null,0]
[null,null,null,{"$f":"IFERROR(OFFSET(業務!$K$5,MATCH(Q346,業務!$H$6:$H$59,0),0),\"\")","v":""},null,{"$f":"IFERROR(OFFSET(業務!$L$5,MATCH(Q346,業務!$H$6:$H$59,0),0),\"\")","v":""},{"$f":"IFERROR(OFFSET(業務!$M$5,MATCH(Q346,業務!$H$6:$H$59,0),0),\"\")","v":""},null,null,null,{"$f":"IFERROR(OFFSET(業務!$AC$5,MATCH(Q346,業務!$H$6:$H$59,0),0),\"\")","v":""},null,{"$f":"IFERROR(OFFSET(業務!$AD$5,MATCH(Q346,業務!$H$6:$H$59,0),0),\"\")","v":""},null,null,null,48,null,null,0]
[null,null,null,{"$f":"IFERROR(OFFSET(業務!$K$5,MATCH(Q347,業務!$H$6:$H$59,0),0),\"\")","v":""},null,{"$f":"IFERROR(OFFSET(業務!$L$5,MATCH(Q347,業務!$H$6:$H$59,0),0),\"\")","v":""},{"$f":"IFERROR(OFFSET(業務!$M$5,MATCH(Q347,業務!$H$6:$H$59,0),0),\"\")","v":""},null,null,null,{"$f":"IFERROR(OFFSET(業務!$AC$5,MATCH(Q347,業務!$H$6:$H$59,0),0),\"\")","v":""},null,{"$f":"IFERROR(OFFSET(業務!$AD$5,MATCH(Q347,業務!$H$6:$H$59,0),0),\"\")","v":""},null,null,null,49,null,null,0]
[null,null,null,{"$f":"IFERROR(OFFSET(業務!$K$5,MATCH(Q348,業務!$H$6:$H$59,0),0),\"\")","v":""},null,{"$f":"IFERROR(OFFSET(業務!$L$5,MATCH(Q348,業務!$H$6:$H$59,0),0),\"\")","v":""},{"$f":"IFERROR(OFFSET(業務!$M$5,MATCH(Q348,業務!$H$6:$H$59,0),0),\"\")","v":""},null,null,null,{"$f":"IFERROR(OFFSET(業務!$AC$5,MATCH(Q348,業務!$H$6:$H$59,0),0),\"\")","v":""},null,{"$f":"IFERROR(OFFSET(業務!$AD$5,MATCH(Q348,業務!$H$6:$H$59,0),0),\"\")","v":""},null,null,null,50,null,null,0]
[null,null,null,{"$f":"IFERROR(OFFSET(業務!$K$5,MATCH(Q349,業務!$H$6:$H$59,0),0),\"\")","v":""},null,{"$f":"IFERROR(OFFSET(業務!$L$5,MATCH(Q349,業務!$H$6:$H$59,0),0),\"\")","v":""},{"$f":"IFERROR(OFFSET(業務!$M$5,MATCH(Q349,業務!$H$6:$H$59,0),0),\"\")","v":""},null,null,null,{"$f":"IFERROR(OFFSET(業務!$AC$5,MATCH(Q349,業務!$H$6:$H$59,0),0),\"\")","v":""},null,{"$f":"IFERROR(OFFSET(業務!$AD$5,MATCH(Q349,業務!$H$6:$H$59,0),0),\"\")","v":""},null,null,null,51,null,null,0]
[null,null,null,{"$f":"IFERROR(OFFSET(業務!$K$5,MATCH(Q350,業務!$H$6:$H$59,0),0),\"\")","v":""},null,{"$f":"IFERROR(OFFSET(業務!$L$5,MATCH(Q350,業務!$H$6:$H$59,0),0),\"\")","v":""},{"$f":"IFERROR(OFFSET(業務!$M$5,MATCH(Q350,業務!$H$6:$H$59,0),0),\"\")","v":""},null,null,null,{"$f":"IFERROR(OFFSET(業務!$AC$5,MATCH(Q350,業務!$H$6:$H$59,0),0),\"\")","v":""},null,{"$f":"IFERROR(OFFSET(業務!$AD$5,MATCH(Q350,業務!$H$6:$H$59,0),0),\"\")","v":""},null,null,null,52,null,null,0]
[null,null,null,{"$f":"IFERROR(OFFSET(業務!$K$5,MATCH(Q351,業務!$H$6:$H$59,0),0),\"\")","v":""},null,{"$f":"IFERROR(OFFSET(業務!$L$5,MATCH(Q351,業務!$H$6:$H$59,0),0),\"\")","v":""},{"$f":"IFERROR(OFFSET(業務!$M$5,MATCH(Q351,業務!$H$6:$H$59,0),0),\"\")","v":""},null,null,null,{"$f":"IFERROR(OFFSET(業務!$AC$5,MATCH(Q351,業務!$H$6:$H$59,0),0),\"\")","v":""},null,{"$f":"IFERROR(OFFSET(業務!$AD$5,MATCH(Q351,業務!$H$6:$H$59,0),0),\"\")","v":""},null,null,null,53,null,null,0]
[null,null,null,{"$f":"IFERROR(OFFSET(業務!$K$5,MATCH(Q352,業務!$H$6:$H$59,0),0),\"\")","v":""},null,{"$f":"IFERROR(OFFSET(業務!$L$5,MATCH(Q352,業務!$H$6:$H$59,0),0),\"\")","v":""},{"$f":"IFERROR(OFFSET(業務!$M$5,MATCH(Q352,業務!$H$6:$H$59,0),0),\"\")","v":""},null,null,null,{"$f":"IFERROR(OFFSET(業務!$AC$5,MATCH(Q352,業務!$H$6:$H$59,0),0),\"\")","v":""},null,{"$f":"IFERROR(OFFSET(業務!$AD$5,MATCH(Q352,業務!$H$6:$H$59,0),0),\"\")","v":""},null,null,null,54,null,null,0]
[null,null,null,null,null,null,null,null,null,null,null,null,null,null,null,null,null,null,null,{"$f":"IF(Q295>=25,1,0)","v":0}]

{"sheet":"9. 備蓄品リスト","index":15,"n_rows":58,"n_cols":38,"rows_kept":58,"cut":false,"hidden":true,"merged":[[33,2,33,7],[39,2,39,24],[39,25,39,28],[49,25,49,26],[50,25,50,26],[40,2,40,7],[48,2,48,7],[36,11,36,28],[50,2,50,7],[46,2,46,7],[41,2,41,7],[42,2,42,7],[43,2,43,7],[44,2,44,7],[45,2,45,7],[51,25,51,26],[45,25,45,26],[47,25,47,26],[48,25,48,26],[41,25,41,26],[42,25,42,26],[43,25,43,26],[18,25,18,26],[33,25,33,26],[34,25,34,26],[35,25,35,26],[29,25,29,26],[30,25,30,26],[31,25,31,26],[26,25,26,26],[27,25,27,26],[28,25,28,26],[22,25,22,26],[24,25,24,26],[25,25,25,26],[19,25,19,26],[20,25,20,26],[21,25,21,26],[51,2,51,7],[9,2,9,7],[49,2,49,7],[9,11,9,28],[17,11,17,28],[40,25,40,26],[44,25,44,26],[23,11,23,28],[12,25,12,26],[13,25,13,26],[14,25,14,26],[10,25,10,26],[11,25,11,26],[46,11,46,28],[32,11,32,28],[47,2,47,7],[54,2,54,7],[56,2,56,7],[55,2,55,7],[54,25,54,26],[52,2,52,7],[53,2,53,7],[52,25,52,26],[53,25,53,26],[56,11,56,28],[55,25,55,26],[2,2,2,28],[24,2,24,7],[18,2,18,7],[10,2,10,7],[5,2,5,7],[4,2,4,24],[4,25,4,28],[5,25,5,26],[6,25,6,26],[6,2,6,7],[7,2,7,7],[8,2,8,7],[7,25,7,26],[8,25,8,26],[15,25,15,26],[16,25,16,26]]}
[]
[null,"9. 備蓄品リスト",null,null,null,null,null,null,null,null,null,null,null,null,null,null,null,null,null,null,null,null,null,null,null,null,null,null,null,null,null,null,null,null,null,2,{"$f":"'8. BCPの定着・見直し'!AJ2+'8. BCPの定着・見直し'!AK2","v":18},"flag"]
[null,null,"水害の発生に備え準備しておくべき備蓄品の一例と現時点での保有状況を以下に示す。\n備蓄品は、日頃から維持管理に努めるとともに、不足している備蓄品は計画的に補充する必要がある。",null,null,null,null,null,null,null,null,null,null,null,null,null,null,null,null,null,null,null,null,null,null,null,null,null,null,null,null,null,null,null,null,null,null,1]
[null,null,"【備蓄品リスト】",null,null,null,null,null,null,null,null,null,null,null,null,null,null,null,null,null,null,null,null,null,null,null,null,null,null,null,null,null,null,null,null,null,null,1]
[null,null,"備蓄品",null,null,null,null,null,null,null,null,null,null,null,null,null,null,null,null,null,null,null,null,null,null,"数量",null,null,null,null,null,null,null,null,null,null,null,1]
[null,null,"水・食料",null,null,null,null,null,"□ 水",null,null,null,null,null,null,null,null,null,null,null,null,null,null,null,null,{"$f":"コントロールシート!AA882&\"\"","v":""},null,"Ｌ",null,null,null,null,null,null,null,null,null,1]
[null,null,null,null,null,null,null,null,"□ アルファ米・乾パン",null,null,null,null,null,null,null,null,null,null,null,null,null,null,null,null,{"$f":"コントロールシート!AA884&\"\"","v":"100"},null,"食",null,null,null,null,null,null,null,null,null,1]
[null,null,null,null,null,null,null,null,"□ レトルト食品・缶詰（肉・魚・野菜）",null,null,null,null,null,null,null,null,null,null,null,null,null,null,null,null,{"$f":"コントロールシート!AA886&\"\"","v":"100"},null,"食",null,null,null,null,null,null,null,null,null,1]
[null,null,null,null,null,null,null,null,"□ 栄養補助食品・経口補水液",null,null,null,null,null,null,null,null,null,null,null,null,null,null,null,null,{"$f":"コントロールシート!AA888&\"\"","v":""},null,"個",null,null,null,null,null,null,null,null,null,1]
[null,null,null,null,null,null,null,null,"□ その他",null,null,{"$f":"コントロールシート!U890&\"\"","v":""},null,null,null,null,null,null,null,null,null,null,null,null,null,null,null,null,null,null,null,null,null,null,null,null,null,1]
[null,null,"衛生用品",null,null,null,null,null,"□ ティッシュペーパー",null,null,null,null,null,null,null,null,null,null,null,null,null,null,null,null,{"$f":"コントロールシート!AA895&\"\"","v":""},null,"箱",null,null,null,null,null,null,null,null,null,1]
[null,null,null,null,null,null,null,null,"□ 除菌ティッシュ",null,null,null,null,null,null,null,null,null,null,null,null,null,null,null,null,{"$f":"コントロールシート!AA897&\"\"","v":""},null,"セット",null,null,null,null,null,null,null,null,null,1]
[null,null,null,null,null,null,null,null,"□ マウスウォッシュ・口腔ケア・ウェットティッシュ",null,null,null,null,null,null,null,null,null,null,null,null,null,null,null,null,{"$f":"コントロールシート!AA899&\"\"","v":""},null,"個",null,null,null,null,null,null,null,null,null,1]
[null,null,null,null,null,null,null,null,"□ うがい薬",null,null,null,null,null,null,null,null,null,null,null,null,null,null,null,null,{"$f":"コントロールシート!AA901&\"\"","v":""},null,"本",null,null,null,null,null,null,null,null,null,1]
[null,null,null,null,null,null,null,null,"□ マスク",null,null,null,null,null,null,null,null,null,null,null,null,null,null,null,null,{"$f":"コントロールシート!AA903&\"\"","v":""},null,"枚",null,null,null,null,null,null,null,null,null,1]
[null,null,null,null,null,null,null,null,"□ ハンドジェル・除菌スプレー",null,null,null,null,null,null,null,null,null,null,null,null,null,null,null,null,{"$f":"コントロールシート!AA905&\"\"","v":""},null,"個",null,null,null,null,null,null,null,null,null,1]
[null,null,null,null,null,null,null,null,"□ 圧縮タオル",null,null,null,null,null,null,null,null,null,null,null,null,null,null,null,null,{"$f":"コントロールシート!AA907&\"\"","v":""},null,"枚",null,null,null,null,null,null,null,null,null,1]
[null,null,null,null,null,null,null,null,"□ その他",null,null,{"$f":"コントロールシート!U909&\"\"","v":""},null,null,null,null,null,null,null,null,null,null,null,null,null,null,null,null,null,null,null,null,null,null,null,null,null,1]
[null,null,"トイレ用品",null,null,null,null,null,"□ 簡易トイレ",null,null,null,null,null,null,null,null,null,null,null,null,null,null,null,null,{"$f":"コントロールシート!AA914&\"\"","v":""},null,"回分",null,null,null,null,null,null,null,null,null,1]
[null,null,null,null,null,null,null,null,"□ トイレットペーパー",null,null,null,null,null,null,null,null,null,null,null,null,null,null,null,null,{"$f":"コントロールシート!AA916&\"\"","v":""},null,"ロール",null,null,null,null,null,null,null,null,null,1]
[null,null,null,null,null,null,null,null,"□ 密閉型汚物入れ・防臭袋",null,null,null,null,null,null,null,null,null,null,null,null,null,null,null,null,{"$f":"コントロールシート!AA918&\"\"","v":""},null,"個",null,null,null,null,null,null,null,null,null,1]
[null,null,null,null,null,null,null,null,"□ 非常トイレ凝固剤",null,null,null,null,null,null,null,null,null,null,null,null,null,null,null,null,{"$f":"コントロールシート!AA920&\"\"","v":""},null,"個",null,null,null,null,null,null,null,null,null,1]
[null,null,null,null,null,null,null,null,"□ お尻拭き",null,null,null,null,null,null,null,null,null,null,null,null,null,null,null,null,{"$f":"コントロールシート!AA922&\"\"","v":""},null,"セット",null,null,null,null,null,null,null,null,null,1]
[null,null,null,null,null,null,null,null,"□ その他",null,null,{"$f":"コントロールシート!U924&\"\"","v":""},null,null,null,null,null,null,null,null,null,null,null,null,null,null,null,null,null,null,null,null,null,null,null,null,null,1]
[null,null,"生活用品",null,null,null,null,null,"□ ブルーシート",null,null,null,null,null,null,null,null,null,null,null,null,null,null,null,null,{"$f":"コントロールシート!AA929&\"\"","v":""},null,"枚",null,null,null,null,null,null,null,null,null,1]
[null,null,null,null,null,null,null,null,"□ 食品用ラップ",null,null,null,null,null,null,null,null,null,null,null,null,null,null,null,null,{"$f":"コントロールシート!AA931&\"\"","v":""},null,"本",null,null,null,null,null,null,null,null,null,1]
[null,null,null,null,null,null,null,null,"□ ポリ袋",null,null,null,null,null,null,null,null,null,null,null,null,null,null,null,null,{"$f":"コントロールシート!AA933&\"\"","v":""},null,"枚",null,null,null,null,null,null,null,null,null,1]
[null,null,null,null,null,null,null,null,"□ 紙コップ・紙皿・割りばし",null,null,null,null,null,null,null,null,null,null,null,null,null,null,null,null,{"$f":"コントロールシート!AA935&\"\"","v":""},null,"セット",null,null,null,null,null,null,null,null,null,1]
[null,null,null,null,null,null,null,null,"□ スマートフォン・モバイルバッテリー",null,null,null,null,null,null,null,null,null,null,null,null,null,null,null,null,{"$f":"コントロールシート!AA937&\"\"","v":""},null,"個",null,null,null,null,null,null,null,null,null,1]
[null,null,null,null,null,null,null,null,"□ 電池",null,null,null,null,null,null,null,null,null,null,null,null,null,null,null,null,{"$f":"コントロールシート!AA939&\"\"","v":""},null,"個",null,null,null,null,null,null,null,null,null,1]
[null,null,null,null,null,null,null,null,"□ ライター",null,null,null,null,null,null,null,null,null,null,null,null,null,null,null,null,{"$f":"コントロールシート!AA941&\"\"","v":""},null,"個",null,null,null,null,null,null,null,null,null,1]
[null,null,null,null,null,null,null,null,"□ 調理器具（携帯用ガスコンロ、鍋等）",null,null,null,null,null,null,null,null,null,null,null,null,null,null,null,null,{"$f":"コントロールシート!AA943&\"\"","v":""},null,"セット",null,null,null,null,null,null,null,null,null,1]
[null,null,null,null,null,null,null,null,"□ その他",null,null,{"$f":"コントロールシート!U945&\"\"","v":""},null,null,null,null,null,null,null,null,null,null,null,null,null,null,null,null,null,null,null,null,null,null,null,null,null,1]
[null,null,"救急救助",null,null,null,null,null,"□ 医薬品（解熱剤・鎮痛剤・胃薬・整腸剤など）",null,null,null,null,null,null,null,null,null,null,null,null,null,null,null,null,{"$f":"コントロールシート!AA950&\"\"","v":""},null,"人分",null,null,null,null,null,null,null,null,null,1]
[null,null,null,null,null,null,null,null,"□ 救急セット（ガーゼ・脱脂綿・消毒液・包帯・絆創膏・シップ・体温計など）",null,null,null,null,null,null,null,null,null,null,null,null,null,null,null,null,{"$f":"コントロールシート!AA952&\"\"","v":""},null,"人分",null,null,null,null,null,null,null,null,null,1]
[null,null,null,null,null,null,null,null,"□ 工具セット（ドライバー・レンチ・ペンチ・金槌・のこぎりなど）",null,null,null,null,null,null,null,null,null,null,null,null,null,null,null,null,{"$f":"コントロールシート!AA954&\"\"","v":""},null,"セット",null,null,null,null,null,null,null,null,null,1]
[null,null,null,null,null,null,null,null,"□ その他",null,null,{"$f":"コントロールシート!U956&\"\"","v":""},null,null,null,null,null,null,null,null,null,null,null,null,null,null,null,null,null,null,null,null,null,null,null,null,null,1]
[null,null,null,null,null,null,null,null,null,null,null,null,null,null,null,null,null,null,null,null,null,null,null,null,null,null,null,null,null,null,null,null,null,null,null,null,null,1]
[null,null,null,null,null,null,null,null,null,null,null,null,null,null,null,null,null,null,null,null,null,null,null,null,null,null,null,null,null,null,null,null,null,null,null,null,null,1]
[null,null,"備蓄品",null,null,null,null,null,null,null,null,null,null,null,null,null,null,null,null,null,null,null,null,null,null,"数量",null,null,null,null,null,null,null,null,null,null,null,1]
[null,null,"防災用品",null,null,null,null,null,"□ ヘルメット・軍手・運動靴",null,null,null,null,null,null,null,null,null,null,null,null,null,null,null,null,{"$f":"コントロールシート!AA961&\"\"","v":""},null,"人分",null,null,null,null,null,null,null,null,null,1]
[null,null,null,null,null,null,null,null,"□ ホイッスル・LEDライト・ランタン",null,null,null,null,null,null,null,null,null,null,null,null,null,null,null,null,{"$f":"コントロールシート!AA963&\"\"","v":""},null,"個",null,null,null,null,null,null,null,null,null,1]
[null,null,null,null,null,null,null,null,"□ 寝袋・毛布・エアーマット",null,null,null,null,null,null,null,null,null,null,null,null,null,null,null,null,{"$f":"コントロールシート!AA965&\"\"","v":""},null,"人分",null,null,null,null,null,null,null,null,null,1]
[null,null,null,null,null,null,null,null,"□ カイロ",null,null,null,null,null,null,null,null,null,null,null,null,null,null,null,null,{"$f":"コントロールシート!AA967&\"\"","v":""},null,"個",null,null,null,null,null,null,null,null,null,1]
[null,null,null,null,null,null,null,null,"□ ラジオ",null,null,null,null,null,null,null,null,null,null,null,null,null,null,null,null,{"$f":"コントロールシート!AA969&\"\"","v":""},null,"台",null,null,null,null,null,null,null,null,null,1]
[null,null,null,null,null,null,null,null,"□ 防災手帳・広域避難地図",null,null,null,null,null,null,null,null,null,null,null,null,null,null,null,null,{"$f":"コントロールシート!AA971&\"\"","v":""},null,"人分",null,null,null,null,null,null,null,null,null,1]
[null,null,null,null,null,null,null,null,"□ その他",null,null,{"$f":"コントロールシート!U973&\"\"","v":"□扇風機5台"},null,null,null,null,null,null,null,null,null,null,null,null,null,null,null,null,null,null,null,null,null,null,null,null,null,1]
[null,null,"オフィス・災害対策本部",null,null,null,null,null,"□ 非常用発電機",null,null,null,null,null,null,null,null,null,null,null,null,null,null,null,null,{"$f":"コントロールシート!AA978&\"\"","v":""},null,"台",null,null,null,null,null,null,null,null,null,1]
[null,null,null,null,null,null,null,null,"□ 電源タップ",null,null,null,null,null,null,null,null,null,null,null,null,null,null,null,null,{"$f":"コントロールシート!AA980&\"\"","v":""},null,"個",null,null,null,null,null,null,null,null,null,1]
[null,null,null,null,null,null,null,null,"□ 延長ケーブル",null,null,null,null,null,null,null,null,null,null,null,null,null,null,null,null,{"$f":"コントロールシート!AA982&\"\"","v":""},null,"本",null,null,null,null,null,null,null,null,null,1]
[null,null,null,null,null,null,null,null,"□ 台車・折りたたみリヤカー",null,null,null,null,null,null,null,null,null,null,null,null,null,null,null,null,{"$f":"コントロールシート!AA984&\"\"","v":""},null,"台",null,null,null,null,null,null,null,null,null,1]
[null,null,null,null,null,null,null,null,"□ サイレン付拡声器",null,null,null,null,null,null,null,null,null,null,null,null,null,null,null,null,{"$f":"コントロールシート!AA986&\"\"","v":""},null,"台",null,null,null,null,null,null,null,null,null,1]
[null,null,null,null,null,null,null,null,"□ 連絡用簡易無線機・衛星携帯電話・トランシーバー",null,null,null,null,null,null,null,null,null,null,null,null,null,null,null,null,{"$f":"コントロールシート!AA988&\"\"","v":""},null,"台",null,null,null,null,null,null,null,null,null,1]
[null,null,null,null,null,null,null,null,"□ 投光器・コードリール（屋外用）",null,null,null,null,null,null,null,null,null,null,null,null,null,null,null,null,{"$f":"コントロールシート!AA990&\"\"","v":""},null,"台",null,null,null,null,null,null,null,null,null,1]
[null,null,null,null,null,null,null,null,"□ 避難用防煙ビニール袋・避難ロープ・吊下式避難はしご",null,null,null,null,null,null,null,null,null,null,null,null,null,null,null,null,{"$f":"コントロールシート!AA992&\"\"","v":""},null,"本/台",null,null,null,null,null,null,null,null,null,1]
[null,null,null,null,null,null,null,null,"□ 消火器",null,null,null,null,null,null,null,null,null,null,null,null,null,null,null,null,{"$f":"コントロールシート!AA994&\"\"","v":""},null,"個",null,null,null,null,null,null,null,null,null,1]
[null,null,null,null,null,null,null,null,"□ その他",null,null,{"$f":"コントロールシート!U996&\"\"","v":""},null,null,null,null,null,null,null,null,null,null,null,null,null,null,null,null,null,null,null,null,null,null,null,null,null,1]
[null,null,null,null,null,null,null,null,null,null,null,null,null,null,null,null,null,null,null,null,null,null,null,null,null,null,null,null,null,null,null,null,null,null,null,null,null,1]

{"sheet":"10. 資料編","index":16,"n_rows":221,"n_cols":38,"rows_kept":221,"cut":false,"hidden":true,"merged":[[215,2,215,6],[215,7,215,12],[215,13,215,20],[215,21,215,28],[211,2,211,6],[211,7,211,12],[211,13,211,20],[211,21,211,28],[213,2,213,3],[213,4,213,6],[213,7,213,17],[213,18,213,28],[214,2,214,6],[214,7,214,12],[214,13,214,20],[214,21,214,28],[207,2,207,6],[207,7,207,12],[207,13,207,20],[207,21,207,28],[209,2,209,3],[209,4,209,6],[209,7,209,17],[209,18,209,28],[210,2,210,6],[210,7,210,12],[210,13,210,20],[210,21,210,28],[203,2,203,6],[203,7,203,12],[203,13,203,20],[203,21,203,28],[205,2,205,3],[205,4,205,6],[205,7,205,17],[205,18,205,28],[206,2,206,6],[206,7,206,12],[206,13,206,20],[206,21,206,28],[199,2,199,6],[199,7,199,12],[199,13,199,20],[199,21,199,28],[201,2,201,3],[201,4,201,6],[201,7,201,17],[201,18,201,28],[202,2,202,6],[202,7,202,12],[202,13,202,20],[202,21,202,28],[195,2,195,6],[195,7,195,12],[195,13,195,20],[195,21,195,28],[197,2,197,3],[197,4,197,6],[197,7,197,17],[197,18,197,28],[198,2,198,6],[198,7,198,12],[198,13,198,20],[198,21,198,28],[191,2,191,6],[191,7,191,12],[191,13,191,20],[191,21,191,28],[193,2,193,3],[193,4,193,6],[193,7,193,17],[193,18,193,28],[194,2,194,6],[194,7,194,12],[194,13,194,20],[194,21,194,28],[187,2,187,6],[187,7,187,12],[187,13,187,20],[187,21,187,28],[189,2,189,3],[189,4,189,6],[189,7,189,17],[189,18,189,28],[190,2,190,6],[190,7,190,12],[190,13,190,20],[190,21,190,28],[183,2,183,6],[183,7,183,12],[183,13,183,20],[183,21,183,28],[185,2,185,3],[185,4,185,6],[185,7,185,17],[185,18,185,28],[186,2,186,6],[186,7,186,12],[186,13,186,20],[186,21,186,28],[179,2,179,6],[179,7,179,12],[179,13,179,20],[179,21,179,28],[181,2,181,3],[181,4,181,6],[181,7,181,17],[181,18,181,28],[182,2,182,6],[182,7,182,12],[182,13,182,20],[182,21,182,28],[175,2,175,6],[175,7,175,12],[175,13,175,20],[175,21,175,28],[177,2,177,3],[177,4,177,6],[177,7,177,17],[177,18,177,28],[178,2,178,6],[178,7,178,12],[178,13,178,20],[178,21,178,28],[171,2,171,6],[171,7,171,12],[171,13,171,20],[171,21,171,28],[173,2,173,3],[173,4,173,6],[173,7,173,17],[173,18,173,28],[174,2,174,6],[174,7,174,12],[174,13,174,20],[174,21,174,28],[167,2,167,6],[167,7,167,12],[167,13,167,20],[167,21,167,28],[169,2,169,3],[169,4,169,6],[169,7,169,17],[169,18,169,28],[170,2,170,6],[170,7,170,12],[170,13,170,20],[170,21,170,28],[163,2,163,6],[163,7,163,12],[163,13,163,20],[163,21,163,28],[165,2,165,3],[165,4,165,6],[165,7,165,17],[165,18,165,28],[166,2,166,6],[166,7,166,12],[166,13,166,20],[166,21,166,28],[159,2,159,6],[159,7,159,12],[159,13,159,20],[159,21,159,28],[161,2,161,3],[161,4,161,6],[161,7,161,17],[161,18,161,28],[162,2,162,6],[162,7,162,12],[162,13,162,20],[162,21,162,28],[155,2,155,6],[155,7,155,12],[155,13,155,20],[155,21,155,28],[157,2,157,3],[157,4,157,6],[157,7,157,17],[157,18,157,28],[158,2,158,6],[158,7,158,12],[158,13,158,20],[158,21,158,28],[151,2,151,6],[151,7,151,12],[151,13,151,20],[151,21,151,28],[153,2,153,3],[153,4,153,6],[153,7,153,17],[153,18,153,28],[154,2,154,6],[154,7,154,12],[154,13,154,20],[154,21,154,28],[147,2,147,6],[147,7,147,12],[147,13,147,20],[147,21,147,28],[149,2,149,3],[149,4,149,6],[149,7,149,17],[149,18,149,28],[150,2,150,6],[150,7,150,12],[150,13,150,20],[150,21,150,28],[143,2,143,6],[143,7,143,12],[143,13,143,20],[143,21,143,28],[145,2,145,3],[145,4,145,6],[145,7,145,17],[145,18,145,28],[146,2,146,6],[146,7,146,12],[146,13,146,20],[146,21,146,28],[139,2,139,6],[139,7,139,12],[139,13,139,20],[139,21,139,28],[141,2,141,3],[141,4,141,6],[141,7,141,17],[141,18,141,28],[142,2,142,6],[142,7,142,12],[142,13,142,20],[142,21,142,28],[135,2,135,6],[135,7,135,12],[135,13,135,20],[135,21,135,28],[137,2,137,3],[137,4,137,6],[137,7,137,17],[137,18,137,28],[138,2,138,6],[138,7,138,12],[138,13,138,20],[138,21,138,28],[131,2,131,6],[131,7,131,12],[131,13,131,20],[131,21,131,28],[133,2,133,3],[133,4,133,6],[133,7,133,17],[133,18,133,28],[134,2,134,6],[134,7,134,12],[134,13,134,20],[134,21,134,28],[127,2,127,6],[127,7,127,12],[127,13,127,20],[127,21,127,28],[129,2,129,3],[129,4,129,6],[129,7,129,17],[129,18,129,28],[130,2,130,6],[130,7,130,12],[130,13,130,20],[130,21,130,28],[123,2,123,6],[123,7,123,12],[123,13,123,20],[123,21,123,28],[125,2,125,3],[125,4,125,6],[125,7,125,17],[125,18,125,28],[126,2,126,6],[126,7,126,12],[126,13,126,20],[126,21,126,28],[119,7,119,12],[119,13,119,20],[119,21,119,28],[121,2,121,3],[121,4,121,6],[121,7,121,17],[121,18,121,28],[122,2,122,6],[122,7,122,12],[122,13,122,20],[122,21,122,28],[119,2,119,6],[115,2,115,6],[115,7,115,12],[115,13,115,20],[115,21,115,28],[117,2,117,3],[117,4,117,6],[117,7,117,17],[117,18,117,28],[118,2,118,6],[118,7,118,12],[118,13,118,20],[118,21,118,28],[4,18,4,28],[5,2,5,3],[5,4,5,6],[6,21,6,28],[7,7,7,12],[7,13,7,20],[13,2,13,3],[13,4,13,6],[111,13,111,20],[111,21,111,28],[111,2,111,6],[111,7,111,12],[85,18,85,28],[86,2,86,6],[86,7,86,12],[86,13,86,20],[86,21,86,28],[87,2,87,6],[87,7,87,12],[87,13,87,20],[81,2,81,3],[83,2,83,6],[83,7,83,12],[83,13,83,20],[3,2,3,28],[6,7,6,12],[6,13,6,20],[71,2,71,6],[71,7,71,12],[71,13,71,20],[71,21,71,28],[69,2,69,3],[63,2,63,6],[63,7,63,12],[63,13,63,20],[63,21,63,28],[4,2,4,6],[5,7,5,17],[5,18,5,28],[4,7,4,17],[7,21,7,28],[6,2,6,6],[7,2,7,6],[10,2,10,6],[10,7,10,12],[10,13,10,20],[10,21,10,28],[11,2,11,6],[83,21,83,28],[81,4,81,6],[81,7,81,17],[81,18,81,28],[82,2,82,6],[82,7,82,12],[82,13,82,20],[82,21,82,28],[107,2,107,6],[107,7,107,12],[107,13,107,20],[107,21,107,28],[87,21,87,28],[85,2,85,3],[85,4,85,6],[85,7,85,17],[95,2,95,6],[95,7,95,12],[95,13,95,20],[95,21,95,28],[93,2,93,3],[93,4,93,6],[93,7,93,17],[93,18,93,28],[109,2,109,3],[109,4,109,6],[109,7,109,17],[109,18,109,28],[91,2,91,6],[91,7,91,12],[91,13,91,20],[91,21,91,28],[13,7,13,17],[13,18,13,28],[21,2,21,3],[21,4,21,6],[21,7,21,17],[21,18,21,28],[18,2,18,6],[18,7,18,12],[18,13,18,20],[18,21,18,28],[19,2,19,6],[19,7,19,12],[19,13,19,20],[19,21,19,28],[25,2,25,3],[25,4,25,6],[11,7,11,12],[11,13,11,20],[11,21,11,28],[9,7,9,17],[9,18,9,28],[9,2,9,3],[9,4,9,6],[17,2,17,3],[17,4,17,6],[17,7,17,17],[17,18,17,28],[14,2,14,6],[14,7,14,12],[14,13,14,20],[14,21,14,28],[15,2,15,6],[15,7,15,12],[15,13,15,20],[15,21,15,28],[25,7,25,17],[25,18,25,28],[22,2,22,6],[22,7,22,12],[22,13,22,20],[22,21,22,28],[23,2,23,6],[23,7,23,12],[23,13,23,20],[23,21,23,28],[29,2,29,3],[29,4,29,6],[29,7,29,17],[29,18,29,28],[26,2,26,6],[26,7,26,12],[26,13,26,20],[26,21,26,28],[27,2,27,6],[27,7,27,12],[27,13,27,20],[27,21,27,28],[33,2,33,3],[33,4,33,6],[33,7,33,17],[33,18,33,28],[30,2,30,6],[30,7,30,12],[30,13,30,20],[30,21,30,28],[31,2,31,6],[31,7,31,12],[31,13,31,20],[31,21,31,28],[37,2,37,3],[37,4,37,6],[37,7,37,17],[37,18,37,28],[34,2,34,6],[34,7,34,12],[34,13,34,20],[34,21,34,28],[35,2,35,6],[35,7,35,12],[35,13,35,20],[35,21,35,28],[41,2,41,3],[41,4,41,6],[41,7,41,17],[41,18,41,28],[38,2,38,6],[38,7,38,12],[38,13,38,20],[38,21,38,28],[39,2,39,6],[39,7,39,12],[39,13,39,20],[39,21,39,28],[45,2,45,3],[45,4,45,6],[45,7,45,17],[45,18,45,28],[42,2,42,6],[42,7,42,12],[42,13,42,20],[42,21,42,28],[43,2,43,6],[43,7,43,12],[43,13,43,20],[43,21,43,28],[49,2,49,3],[49,4,49,6],[49,7,49,17],[49,18,49,28],[46,2,46,6],[46,7,46,12],[46,13,46,20],[46,21,46,28],[47,2,47,6],[47,7,47,12],[47,13,47,20],[47,21,47,28],[53,2,53,3],[53,4,53,6],[53,7,53,17],[53,18,53,28],[50,2,50,6],[50,7,50,12],[50,13,50,20],[50,21,50,28],[51,2,51,6],[51,7,51,12],[51,13,51,20],[51,21,51,28],[62,21,62,28],[57,2,57,3],[57,4,57,6],[57,7,57,17],[57,18,57,28],[54,2,54,6],[54,7,54,12],[54,13,54,20],[54,21,54,28],[55,2,55,6],[55,7,55,12],[55,13,55,20],[55,21,55,28],[74,2,74,6],[66,7,66,12],[66,13,66,20],[66,21,66,28],[67,2,67,6],[58,2,58,6],[58,7,58,12],[58,13,58,20],[58,21,58,28],[59,2,59,6],[59,7,59,12],[59,13,59,20],[59,21,59,28],[61,2,61,3],[65,2,65,3],[65,4,65,6],[65,7,65,17],[65,18,65,28],[61,4,61,6],[61,7,61,17],[61,18,61,28],[62,2,62,6],[62,7,62,12],[62,13,62,20],[73,4,73,6],[73,7,73,17],[73,18,73,28],[69,4,69,6],[69,7,69,17],[69,18,69,28],[70,2,70,6],[70,7,70,12],[70,13,70,20],[70,21,70,28],[66,2,66,6],[78,2,78,6],[78,7,78,12],[78,13,78,20],[78,21,78,28],[79,7,79,12],[79,13,79,20],[79,21,79,28],[77,2,77,3],[77,4,77,6],[77,7,77,17],[77,18,77,28],[79,2,79,6],[67,7,67,12],[67,13,67,20],[67,21,67,28],[74,7,74,12],[74,13,74,20],[74,21,74,28],[75,2,75,6],[75,7,75,12],[75,13,75,20],[75,21,75,28],[73,2,73,3],[94,2,94,6],[94,7,94,12],[94,13,94,20],[94,21,94,28],[89,2,89,3],[89,4,89,6],[89,7,89,17],[89,18,89,28],[90,2,90,6],[90,7,90,12],[90,13,90,20],[90,21,90,28],[97,2,97,3],[97,4,97,6],[97,7,97,17],[97,18,97,28],[98,2,98,6],[98,7,98,12],[98,13,98,20],[98,21,98,28],[99,2,99,6],[99,7,99,12],[99,13,99,20],[99,21,99,28],[105,2,105,3],[105,4,105,6],[105,7,105,17],[105,18,105,28],[106,2,106,6],[101,2,101,3],[101,4,101,6],[101,7,101,17],[101,18,101,28],[102,2,102,6],[102,7,102,12],[102,13,102,20],[102,21,102,28],[103,2,103,6],[103,7,103,12],[103,13,103,20],[103,21,103,28],[106,7,106,12],[106,13,106,20],[106,21,106,28],[110,2,110,6],[110,7,110,12],[110,13,110,20],[110,21,110,28],[219,2,219,6],[219,7,219,12],[219,13,219,20],[219,21,219,28],[217,2,217,3],[217,4,217,6],[217,7,217,17],[217,18,217,28],[218,2,218,6],[218,7,218,12],[218,13,218,20],[218,21,218,28],[113,2,113,3],[113,4,113,6],[113,7,113,17],[113,18,113,28],[114,2,114,6],[114,7,114,12],[114,13,114,20],[114,21,114,28]]}
[]
[null,"10. 資料編",null,null,null,null,null,null,null,null,null,null,null,null,null,null,null,null,null,null,null,null,null,null,null,null,null,null,null,null,null,null,null,null,null,{"$f":"IF($AE$5<=10,1,ROUNDUP((AE5-10)/11,0)+1)","v":1},{"$f":"'9. 備蓄品リスト'!AJ2+'9. 備蓄品リスト'!AK2","v":20},"flag"]
[null,null,null,null,null,null,null,null,null,null,null,null,null,null,null,null,null,null,null,null,null,null,null,null,null,null,null,null,null,null,null,null,null,null,null,null,null,1]
[null,null,"6.1 で設定した浸水被害の 「事前」 対策の実施時期や実施担当等を以下に示す。",null,null,null,null,null,null,null,null,null,null,null,null,null,null,null,null,null,null,null,null,null,null,null,null,null,null,null,null,null,null,null,null,null,null,1]
[null,null,"重要事業に必要な資源",null,null,null,null,"浸水被害の内容",null,null,null,null,null,null,null,null,null,null,"具体的な対策内容",null,null,null,null,null,null,null,null,null,null,null,{"$f":"業務!I2","v":4},null,null,null,null,null,null,1]
[null,null,{"$f":"IFERROR(OFFSET(業務!$K$5,MATCH(AE6,業務!$I$6:$I$59,0),0),\"\")","v":"インフラ"},null,{"$f":"IFERROR(OFFSET(業務!$L$5,MATCH(AE6,業務!$I$6:$I$59,0),0),\"\")","v":"電気"},null,null,{"$f":"IFERROR(OFFSET(業務!$M$5,MATCH(AE6,業務!$I$6:$I$59,0),0),\"\")","v":"電気が供給されない"},null,null,null,null,null,null,null,null,null,null,{"$f":"IFERROR(OFFSET(業務!$N$5,MATCH(AE6,業務!$I$6:$I$59,0),0),\"\")","v":"発電機を購入する"},null,null,null,null,null,null,null,null,null,null,null,1,null,null,null,null,null,null,{"$f":"IF(AE6<=$AE$5,1,0)","v":1}]
[null,null,"（実施時期）",null,null,null,null,"（誰が）",null,null,null,null,null,"（自由記入）",null,null,null,null,null,null,null,"（自由記入）",null,null,null,null,null,null,null,null,null,null,null,null,null,null,null,{"$f":"AL6","v":1}]
[null,null,{"$f":"IFERROR(OFFSET(業務!$AE$5,MATCH(AE6,業務!$I$6:$I$59,0),0),\"\")","v":"2023年3月までに"},null,null,null,null,{"$f":"IFERROR(OFFSET(業務!$AF$5,MATCH(AE6,業務!$I$6:$I$59,0),0),\"\")","v":"総務部長"},null,null,null,null,null,{"$f":"IFERROR(OFFSET(業務!$AG$5,MATCH(AE6,業務!$I$6:$I$59,0),0),\"\")","v":"年内に、購入する発電機の検討を開始する"},null,null,null,null,null,null,null,{"$f":"IFERROR(OFFSET(業務!$AH$5,MATCH(AE6,業務!$I$6:$I$59,0),0),\"\")","v":"財務部長と要調整"},null,null,null,null,null,null,null,null,null,null,null,null,null,null,null,{"$f":"AL7","v":1}]
[null,null,null,null,null,null,null,null,null,null,null,null,null,null,null,null,null,null,null,null,null,null,null,null,null,null,null,null,null,null,null,null,null,null,null,null,null,{"$f":"AL8","v":1}]
[null,null,{"$f":"IFERROR(OFFSET(業務!$K$5,MATCH(AE10,業務!$I$6:$I$59,0),0),\"\")","v":"インフラ"},null,{"$f":"IFERROR(OFFSET(業務!$L$5,MATCH(AE10,業務!$I$6:$I$59,0),0),\"\")","v":"水道"},null,null,{"$f":"IFERROR(OFFSET(業務!$M$5,MATCH(AE10,業務!$I$6:$I$59,0),0),\"\")","v":"飲料水や生活用水が供給されない"},null,null,null,null,null,null,null,null,null,null,{"$f":"IFERROR(OFFSET(業務!$N$5,MATCH(AE10,業務!$I$6:$I$59,0),0),\"\")","v":"必要な水を高台にある営業所に備蓄する"},null,null,null,null,null,null,null,null,null,null,null,2,null,null,null,null,null,null,{"$f":"IF(AE10<=$AE$5,1,0)","v":1}]
[null,null,"（実施時期）",null,null,null,null,"（誰が）",null,null,null,null,null,"（自由記入）",null,null,null,null,null,null,null,"（自由記入）",null,null,null,null,null,null,null,null,null,null,null,null,null,null,null,{"$f":"AL10","v":1}]
[null,null,{"$f":"IFERROR(OFFSET(業務!$AE$5,MATCH(AE10,業務!$I$6:$I$59,0),0),\"\")","v":"2022年12月までに"},null,null,null,null,{"$f":"IFERROR(OFFSET(業務!$AF$5,MATCH(AE10,業務!$I$6:$I$59,0),0),\"\")","v":"総務部長"},null,null,null,null,null,{"$f":"IFERROR(OFFSET(業務!$AG$5,MATCH(AE10,業務!$I$6:$I$59,0),0),\"\")","v":"従業員数×3日分の飲料水を購入する"},null,null,null,null,null,null,null,{"$f":"IFERROR(OFFSET(業務!$AH$5,MATCH(AE10,業務!$I$6:$I$59,0),0),\"\")","v":""},null,null,null,null,null,null,null,null,null,null,null,null,null,null,null,1]
[null,null,null,null,null,null,null,null,null,null,null,null,null,null,null,null,null,null,null,null,null,null,null,null,null,null,null,null,null,null,null,null,null,null,null,null,null,1]
[null,null,{"$f":"IFERROR(OFFSET(業務!$K$5,MATCH(AE14,業務!$I$6:$I$59,0),0),\"\")","v":"人"},null,{"$f":"IFERROR(OFFSET(業務!$L$5,MATCH(AE14,業務!$I$6:$I$59,0),0),\"\")","v":"従業員（作業員）"},null,null,{"$f":"IFERROR(OFFSET(業務!$M$5,MATCH(AE14,業務!$I$6:$I$59,0),0),\"\")","v":"従業員が出勤できない"},null,null,null,null,null,null,null,null,null,null,{"$f":"IFERROR(OFFSET(業務!$N$5,MATCH(AE14,業務!$I$6:$I$59,0),0),\"\")","v":"従業員のクロストレーニングを実施する"},null,null,null,null,null,null,null,null,null,null,null,3,null,null,null,null,null,null,{"$f":"IF(AE14<=$AE$5,1,0)","v":1}]
[null,null,"（実施時期）",null,null,null,null,"（誰が）",null,null,null,null,null,"（自由記入）",null,null,null,null,null,null,null,"（自由記入）",null,null,null,null,null,null,null,null,null,null,null,null,null,null,null,{"$f":"AL14","v":1}]
[null,null,{"$f":"IFERROR(OFFSET(業務!$AE$5,MATCH(AE14,業務!$I$6:$I$59,0),0),\"\")","v":"2024年3月までに"},null,null,null,null,{"$f":"IFERROR(OFFSET(業務!$AF$5,MATCH(AE14,業務!$I$6:$I$59,0),0),\"\")","v":"管理部長"},null,null,null,null,null,{"$f":"IFERROR(OFFSET(業務!$AG$5,MATCH(AE14,業務!$I$6:$I$59,0),0),\"\")","v":"年内に、業務に必要なスキルの洗い出しを実施する"},null,null,null,null,null,null,null,{"$f":"IFERROR(OFFSET(業務!$AH$5,MATCH(AE14,業務!$I$6:$I$59,0),0),\"\")","v":""},null,null,null,null,null,null,null,null,null,null,null,null,null,null,null,1]
[null,null,null,null,null,null,null,null,null,null,null,null,null,null,null,null,null,null,null,null,null,null,null,null,null,null,null,null,null,null,null,null,null,null,null,null,null,1]
[null,null,{"$f":"IFERROR(OFFSET(業務!$K$5,MATCH(AE18,業務!$I$6:$I$59,0),0),\"\")","v":"情報"},null,{"$f":"IFERROR(OFFSET(業務!$L$5,MATCH(AE18,業務!$I$6:$I$59,0),0),\"\")","v":"顧客情報"},null,null,{"$f":"IFERROR(OFFSET(業務!$M$5,MATCH(AE18,業務!$I$6:$I$59,0),0),\"\")","v":"PCから顧客情報が呼び出せなくなる"},null,null,null,null,null,null,null,null,null,null,{"$f":"IFERROR(OFFSET(業務!$N$5,MATCH(AE18,業務!$I$6:$I$59,0),0),\"\")","v":"顧客情報をクラウド上に保存しておく"},null,null,null,null,null,null,null,null,null,null,null,4,null,null,null,null,null,null,{"$f":"IF(AE18<=$AE$5,1,0)","v":1}]
[null,null,"（実施時期）",null,null,null,null,"（誰が）",null,null,null,null,null,"（自由記入）",null,null,null,null,null,null,null,"（自由記入）",null,null,null,null,null,null,null,null,null,null,null,null,null,null,null,{"$f":"AL18","v":1}]
[null,null,{"$f":"IFERROR(OFFSET(業務!$AE$5,MATCH(AE18,業務!$I$6:$I$59,0),0),\"\")","v":"2023年3月までに"},null,null,null,null,{"$f":"IFERROR(OFFSET(業務!$AF$5,MATCH(AE18,業務!$I$6:$I$59,0),0),\"\")","v":"経営企画部長"},null,null,null,null,null,{"$f":"IFERROR(OFFSET(業務!$AG$5,MATCH(AE18,業務!$I$6:$I$59,0),0),\"\")","v":"年内に、クラウドストレージの検討を開始する"},null,null,null,null,null,null,null,{"$f":"IFERROR(OFFSET(業務!$AH$5,MATCH(AE18,業務!$I$6:$I$59,0),0),\"\")","v":""},null,null,null,null,null,null,null,null,null,null,null,null,null,null,null,1]
[null,null,null,null,null,null,null,null,null,null,null,null,null,null,null,null,null,null,null,null,null,null,null,null,null,null,null,null,null,null,null,null,null,null,null,null,null,1]
[null,null,{"$f":"IFERROR(OFFSET(業務!$K$5,MATCH(AE22,業務!$I$6:$I$59,0),0),\"\")","v":""},null,{"$f":"IFERROR(OFFSET(業務!$L$5,MATCH(AE22,業務!$I$6:$I$59,0),0),\"\")","v":""},null,null,{"$f":"IFERROR(OFFSET(業務!$M$5,MATCH(AE22,業務!$I$6:$I$59,0),0),\"\")","v":""},null,null,null,null,null,null,null,null,null,null,{"$f":"IFERROR(OFFSET(業務!$N$5,MATCH(AE22,業務!$I$6:$I$59,0),0),\"\")","v":""},null,null,null,null,null,null,null,null,null,null,null,5,null,null,null,null,null,null,{"$f":"IF(AE22<=$AE$5,1,0)","v":0}]
[null,null,"（実施時期）",null,null,null,null,"（誰が）",null,null,null,null,null,"（自由記入）",null,null,null,null,null,null,null,"（自由記入）",null,null,null,null,null,null,null,null,null,null,null,null,null,null,null,{"$f":"AL22","v":0}]
[null,null,{"$f":"IFERROR(OFFSET(業務!$AE$5,MATCH(AE22,業務!$I$6:$I$59,0),0),\"\")","v":""},null,null,null,null,{"$f":"IFERROR(OFFSET(業務!$AF$5,MATCH(AE22,業務!$I$6:$I$59,0),0),\"\")","v":""},null,null,null,null,null,{"$f":"IFERROR(OFFSET(業務!$AG$5,MATCH(AE22,業務!$I$6:$I$59,0),0),\"\")","v":""},null,null,null,null,null,null,null,{"$f":"IFERROR(OFFSET(業務!$AH$5,MATCH(AE22,業務!$I$6:$I$59,0),0),\"\")","v":""},null,null,null,null,null,null,null,null,null,null,null,null,null,null,null,0]
[null,null,null,null,null,null,null,null,null,null,null,null,null,null,null,null,null,null,null,null,null,null,null,null,null,null,null,null,null,null,null,null,null,null,null,null,null,0]
[null,null,{"$f":"IFERROR(OFFSET(業務!$K$5,MATCH(AE26,業務!$I$6:$I$59,0),0),\"\")","v":""},null,{"$f":"IFERROR(OFFSET(業務!$L$5,MATCH(AE26,業務!$I$6:$I$59,0),0),\"\")","v":""},null,null,{"$f":"IFERROR(OFFSET(業務!$M$5,MATCH(AE26,業務!$I$6:$I$59,0),0),\"\")","v":""},null,null,null,null,null,null,null,null,null,null,{"$f":"IFERROR(OFFSET(業務!$N$5,MATCH(AE26,業務!$I$6:$I$59,0),0),\"\")","v":""},null,null,null,null,null,null,null,null,null,null,null,6,null,null,null,null,null,null,{"$f":"IF(AE26<=$AE$5,1,0)","v":0}]
[null,null,"（実施時期）",null,null,null,null,"（誰が）",null,null,null,null,null,"（自由記入）",null,null,null,null,null,null,null,"（自由記入）",null,null,null,null,null,null,null,null,null,null,null,null,null,null,null,{"$f":"AL26","v":0}]
[null,null,{"$f":"IFERROR(OFFSET(業務!$AE$5,MATCH(AE26,業務!$I$6:$I$59,0),0),\"\")","v":""},null,null,null,null,{"$f":"IFERROR(OFFSET(業務!$AF$5,MATCH(AE26,業務!$I$6:$I$59,0),0),\"\")","v":""},null,null,null,null,null,{"$f":"IFERROR(OFFSET(業務!$AG$5,MATCH(AE26,業務!$I$6:$I$59,0),0),\"\")","v":""},null,null,null,null,null,null,null,{"$f":"IFERROR(OFFSET(業務!$AH$5,MATCH(AE26,業務!$I$6:$I$59,0),0),\"\")","v":""},null,null,null,null,null,null,null,null,null,null,null,null,null,null,null,0]
[null,null,null,null,null,null,null,null,null,null,null,null,null,null,null,null,null,null,null,null,null,null,null,null,null,null,null,null,null,null,null,null,null,null,null,null,null,0]
[null,null,{"$f":"IFERROR(OFFSET(業務!$K$5,MATCH(AE30,業務!$I$6:$I$59,0),0),\"\")","v":""},null,{"$f":"IFERROR(OFFSET(業務!$L$5,MATCH(AE30,業務!$I$6:$I$59,0),0),\"\")","v":""},null,null,{"$f":"IFERROR(OFFSET(業務!$M$5,MATCH(AE30,業務!$I$6:$I$59,0),0),\"\")","v":""},null,null,null,null,null,null,null,null,null,null,{"$f":"IFERROR(OFFSET(業務!$N$5,MATCH(AE30,業務!$I$6:$I$59,0),0),\"\")","v":""},null,null,null,null,null,null,null,null,null,null,null,7,null,null,null,null,null,null,{"$f":"IF(AE30<=$AE$5,1,0)","v":0}]
[null,null,"（実施時期）",null,null,null,null,"（誰が）",null,null,null,null,null,"（自由記入）",null,null,null,null,null,null,null,"（自由記入）",null,null,null,null,null,null,null,null,null,null,null,null,null,null,null,{"$f":"AL30","v":0}]
[null,null,{"$f":"IFERROR(OFFSET(業務!$AE$5,MATCH(AE30,業務!$I$6:$I$59,0),0),\"\")","v":""},null,null,null,null,{"$f":"IFERROR(OFFSET(業務!$AF$5,MATCH(AE30,業務!$I$6:$I$59,0),0),\"\")","v":""},null,null,null,null,null,{"$f":"IFERROR(OFFSET(業務!$AG$5,MATCH(AE30,業務!$I$6:$I$59,0),0),\"\")","v":""},null,null,null,null,null,null,null,{"$f":"IFERROR(OFFSET(業務!$AH$5,MATCH(AE30,業務!$I$6:$I$59,0),0),\"\")","v":""},null,null,null,null,null,null,null,null,null,null,null,null,null,null,null,0]
[null,null,null,null,null,null,null,null,null,null,null,null,null,null,null,null,null,null,null,null,null,null,null,null,null,null,null,null,null,null,null,null,null,null,null,null,null,0]
[null,null,{"$f":"IFERROR(OFFSET(業務!$K$5,MATCH(AE34,業務!$I$6:$I$59,0),0),\"\")","v":""},null,{"$f":"IFERROR(OFFSET(業務!$L$5,MATCH(AE34,業務!$I$6:$I$59,0),0),\"\")","v":""},null,null,{"$f":"IFERROR(OFFSET(業務!$M$5,MATCH(AE34,業務!$I$6:$I$59,0),0),\"\")","v":""},null,null,null,null,null,null,null,null,null,null,{"$f":"IFERROR(OFFSET(業務!$N$5,MATCH(AE34,業務!$I$6:$I$59,0),0),\"\")","v":""},null,null,null,null,null,null,null,null,null,null,null,8,null,null,null,null,null,null,{"$f":"IF(AE34<=$AE$5,1,0)","v":0}]
[null,null,"（実施時期）",null,null,null,null,"（誰が）",null,null,null,null,null,"（自由記入）",null,null,null,null,null,null,null,"（自由記入）",null,null,null,null,null,null,null,null,null,null,null,null,null,null,null,{"$f":"AL34","v":0}]
[null,null,{"$f":"IFERROR(OFFSET(業務!$AE$5,MATCH(AE34,業務!$I$6:$I$59,0),0),\"\")","v":""},null,null,null,null,{"$f":"IFERROR(OFFSET(業務!$AF$5,MATCH(AE34,業務!$I$6:$I$59,0),0),\"\")","v":""},null,null,null,null,null,{"$f":"IFERROR(OFFSET(業務!$AG$5,MATCH(AE34,業務!$I$6:$I$59,0),0),\"\")","v":""},null,null,null,null,null,null,null,{"$f":"IFERROR(OFFSET(業務!$AH$5,MATCH(AE34,業務!$I$6:$I$59,0),0),\"\")","v":""},null,null,null,null,null,null,null,null,null,null,null,null,null,null,null,0]
[null,null,null,null,null,null,null,null,null,null,null,null,null,null,null,null,null,null,null,null,null,null,null,null,null,null,null,null,null,null,null,null,null,null,null,null,null,0]
[null,null,{"$f":"IFERROR(OFFSET(業務!$K$5,MATCH(AE38,業務!$I$6:$I$59,0),0),\"\")","v":""},null,{"$f":"IFERROR(OFFSET(業務!$L$5,MATCH(AE38,業務!$I$6:$I$59,0),0),\"\")","v":""},null,null,{"$f":"IFERROR(OFFSET(業務!$M$5,MATCH(AE38,業務!$I$6:$I$59,0),0),\"\")","v":""},null,null,null,null,null,null,null,null,null,null,{"$f":"IFERROR(OFFSET(業務!$N$5,MATCH(AE38,業務!$I$6:$I$59,0),0),\"\")","v":""},null,null,null,null,null,null,null,null,null,null,null,9,null,null,null,null,null,null,{"$f":"IF(AE38<=$AE$5,1,0)","v":0}]
[null,null,"（実施時期）",null,null,null,null,"（誰が）",null,null,null,null,null,"（自由記入）",null,null,null,null,null,null,null,"（自由記入）",null,null,null,null,null,null,null,null,null,null,null,null,null,null,null,{"$f":"AL38","v":0}]
[null,null,{"$f":"IFERROR(OFFSET(業務!$AE$5,MATCH(AE38,業務!$I$6:$I$59,0),0),\"\")","v":""},null,null,null,null,{"$f":"IFERROR(OFFSET(業務!$AF$5,MATCH(AE38,業務!$I$6:$I$59,0),0),\"\")","v":""},null,null,null,null,null,{"$f":"IFERROR(OFFSET(業務!$AG$5,MATCH(AE38,業務!$I$6:$I$59,0),0),\"\")","v":""},null,null,null,null,null,null,null,{"$f":"IFERROR(OFFSET(業務!$AH$5,MATCH(AE38,業務!$I$6:$I$59,0),0),\"\")","v":""},null,null,null,null,null,null,null,null,null,null,null,null,null,null,null,0]
[null,null,null,null,null,null,null,null,null,null,null,null,null,null,null,null,null,null,null,null,null,null,null,null,null,null,null,null,null,null,null,null,null,null,null,null,null,0]
[null,null,{"$f":"IFERROR(OFFSET(業務!$K$5,MATCH(AE42,業務!$I$6:$I$59,0),0),\"\")","v":""},null,{"$f":"IFERROR(OFFSET(業務!$L$5,MATCH(AE42,業務!$I$6:$I$59,0),0),\"\")","v":""},null,null,{"$f":"IFERROR(OFFSET(業務!$M$5,MATCH(AE42,業務!$I$6:$I$59,0),0),\"\")","v":""},null,null,null,null,null,null,null,null,null,null,{"$f":"IFERROR(OFFSET(業務!$N$5,MATCH(AE42,業務!$I$6:$I$59,0),0),\"\")","v":""},null,null,null,null,null,null,null,null,null,null,null,10,null,null,null,null,null,null,{"$f":"IF(AE42<=$AE$5,1,0)","v":0}]
[null,null,"（実施時期）",null,null,null,null,"（誰が）",null,null,null,null,null,"（自由記入）",null,null,null,null,null,null,null,"（自由記入）",null,null,null,null,null,null,null,null,null,null,null,null,null,null,null,{"$f":"AL42","v":0}]
[null,null,{"$f":"IFERROR(OFFSET(業務!$AE$5,MATCH(AE42,業務!$I$6:$I$59,0),0),\"\")","v":""},null,null,null,null,{"$f":"IFERROR(OFFSET(業務!$AF$5,MATCH(AE42,業務!$I$6:$I$59,0),0),\"\")","v":""},null,null,null,null,null,{"$f":"IFERROR(OFFSET(業務!$AG$5,MATCH(AE42,業務!$I$6:$I$59,0),0),\"\")","v":""},null,null,null,null,null,null,null,{"$f":"IFERROR(OFFSET(業務!$AH$5,MATCH(AE42,業務!$I$6:$I$59,0),0),\"\")","v":""},null,null,null,null,null,null,null,null,null,null,null,null,null,null,null,0]
[null,null,null,null,null,null,null,null,null,null,null,null,null,null,null,null,null,null,null,null,null,null,null,null,null,null,null,null,null,null,null,null,null,null,null,null,null,0]
[null,null,{"$f":"IFERROR(OFFSET(業務!$K$5,MATCH(AE46,業務!$I$6:$I$59,0),0),\"\")","v":""},null,{"$f":"IFERROR(OFFSET(業務!$L$5,MATCH(AE46,業務!$I$6:$I$59,0),0),\"\")","v":""},null,null,{"$f":"IFERROR(OFFSET(業務!$M$5,MATCH(AE46,業務!$I$6:$I$59,0),0),\"\")","v":""},null,null,null,null,null,null,null,null,null,null,{"$f":"IFERROR(OFFSET(業務!$N$5,MATCH(AE46,業務!$I$6:$I$59,0),0),\"\")","v":""},null,null,null,null,null,null,null,null,null,null,null,11,null,null,null,null,null,null,{"$f":"IF(AE46<=$AE$5,1,0)","v":0}]
[null,null,"（実施時期）",null,null,null,null,"（誰が）",null,null,null,null,null,"（自由記入）",null,null,null,null,null,null,null,"（自由記入）",null,null,null,null,null,null,null,null,null,null,null,null,null,null,null,{"$f":"AL46","v":0}]
[null,null,{"$f":"IFERROR(OFFSET(業務!$AE$5,MATCH(AE46,業務!$I$6:$I$59,0),0),\"\")","v":""},null,null,null,null,{"$f":"IFERROR(OFFSET(業務!$AF$5,MATCH(AE46,業務!$I$6:$I$59,0),0),\"\")","v":""},null,null,null,null,null,{"$f":"IFERROR(OFFSET(業務!$AG$5,MATCH(AE46,業務!$I$6:$I$59,0),0),\"\")","v":""},null,null,null,null,null,null,null,{"$f":"IFERROR(OFFSET(業務!$AH$5,MATCH(AE46,業務!$I$6:$I$59,0),0),\"\")","v":""},null,null,null,null,null,null,null,null,null,null,null,null,null,null,null,0]
[null,null,null,null,null,null,null,null,null,null,null,null,null,null,null,null,null,null,null,null,null,null,null,null,null,null,null,null,null,null,null,null,null,null,null,null,null,0]
[null,null,{"$f":"IFERROR(OFFSET(業務!$K$5,MATCH(AE50,業務!$I$6:$I$59,0),0),\"\")","v":""},null,{"$f":"IFERROR(OFFSET(業務!$L$5,MATCH(AE50,業務!$I$6:$I$59,0),0),\"\")","v":""},null,null,{"$f":"IFERROR(OFFSET(業務!$M$5,MATCH(AE50,業務!$I$6:$I$59,0),0),\"\")","v":""},null,null,null,null,null,null,null,null,null,null,{"$f":"IFERROR(OFFSET(業務!$N$5,MATCH(AE50,業務!$I$6:$I$59,0),0),\"\")","v":""},null,null,null,null,null,null,null,null,null,null,null,12,null,null,null,null,null,null,{"$f":"IF(AE50<=$AE$5,1,0)","v":0}]
[null,null,"（実施時期）",null,null,null,null,"（誰が）",null,null,null,null,null,"（自由記入）",null,null,null,null,null,null,null,"（自由記入）",null,null,null,null,null,null,null,null,null,null,null,null,null,null,null,{"$f":"AL50","v":0}]
[null,null,{"$f":"IFERROR(OFFSET(業務!$AE$5,MATCH(AE50,業務!$I$6:$I$59,0),0),\"\")","v":""},null,null,null,null,{"$f":"IFERROR(OFFSET(業務!$AF$5,MATCH(AE50,業務!$I$6:$I$59,0),0),\"\")","v":""},null,null,null,null,null,{"$f":"IFERROR(OFFSET(業務!$AG$5,MATCH(AE50,業務!$I$6:$I$59,0),0),\"\")","v":""},null,null,null,null,null,null,null,{"$f":"IFERROR(OFFSET(業務!$AH$5,MATCH(AE50,業務!$I$6:$I$59,0),0),\"\")","v":""},null,null,null,null,null,null,null,null,null,null,null,null,null,null,null,0]
[null,null,null,null,null,null,null,null,null,null,null,null,null,null,null,null,null,null,null,null,null,null,null,null,null,null,null,null,null,null,null,null,null,null,null,null,null,0]
[null,null,{"$f":"IFERROR(OFFSET(業務!$K$5,MATCH(AE54,業務!$I$6:$I$59,0),0),\"\")","v":""},null,{"$f":"IFERROR(OFFSET(業務!$L$5,MATCH(AE54,業務!$I$6:$I$59,0),0),\"\")","v":""},null,null,{"$f":"IFERROR(OFFSET(業務!$M$5,MATCH(AE54,業務!$I$6:$I$59,0),0),\"\")","v":""},null,null,null,null,null,null,null,null,null,null,{"$f":"IFERROR(OFFSET(業務!$N$5,MATCH(AE54,業務!$I$6:$I$59,0),0),\"\")","v":""},null,null,null,null,null,null,null,null,null,null,null,13,null,null,null,null,null,null,{"$f":"IF(AE54<=$AE$5,1,0)","v":0}]
[null,null,"（実施時期）",null,null,null,null,"（誰が）",null,null,null,null,null,"（自由記入）",null,null,null,null,null,null,null,"（自由記入）",null,null,null,null,null,null,null,null,null,null,null,null,null,null,null,{"$f":"AL54","v":0}]
[null,null,{"$f":"IFERROR(OFFSET(業務!$AE$5,MATCH(AE54,業務!$I$6:$I$59,0),0),\"\")","v":""},null,null,null,null,{"$f":"IFERROR(OFFSET(業務!$AF$5,MATCH(AE54,業務!$I$6:$I$59,0),0),\"\")","v":""},null,null,null,null,null,{"$f":"IFERROR(OFFSET(業務!$AG$5,MATCH(AE54,業務!$I$6:$I$59,0),0),\"\")","v":""},null,null,null,null,null,null,null,{"$f":"IFERROR(OFFSET(業務!$AH$5,MATCH(AE54,業務!$I$6:$I$59,0),0),\"\")","v":""},null,null,null,null,null,null,null,null,null,null,null,null,null,null,null,0]
[null,null,null,null,null,null,null,null,null,null,null,null,null,null,null,null,null,null,null,null,null,null,null,null,null,null,null,null,null,null,null,null,null,null,null,null,null,0]
[null,null,{"$f":"IFERROR(OFFSET(業務!$K$5,MATCH(AE58,業務!$I$6:$I$59,0),0),\"\")","v":""},null,{"$f":"IFERROR(OFFSET(業務!$L$5,MATCH(AE58,業務!$I$6:$I$59,0),0),\"\")","v":""},null,null,{"$f":"IFERROR(OFFSET(業務!$M$5,MATCH(AE58,業務!$I$6:$I$59,0),0),\"\")","v":""},null,null,null,null,null,null,null,null,null,null,{"$f":"IFERROR(OFFSET(業務!$N$5,MATCH(AE58,業務!$I$6:$I$59,0),0),\"\")","v":""},null,null,null,null,null,null,null,null,null,null,null,14,null,null,null,null,null,null,{"$f":"IF(AE58<=$AE$5,1,0)","v":0}]
[null,null,"（実施時期）",null,null,null,null,"（誰が）",null,null,null,null,null,"（自由記入）",null,null,null,null,null,null,null,"（自由記入）",null,null,null,null,null,null,null,null,null,null,null,null,null,null,null,{"$f":"AL58","v":0}]
[null,null,{"$f":"IFERROR(OFFSET(業務!$AE$5,MATCH(AE58,業務!$I$6:$I$59,0),0),\"\")","v":""},null,null,null,null,{"$f":"IFERROR(OFFSET(業務!$AF$5,MATCH(AE58,業務!$I$6:$I$59,0),0),\"\")","v":""},null,null,null,null,null,{"$f":"IFERROR(OFFSET(業務!$AG$5,MATCH(AE58,業務!$I$6:$I$59,0),0),\"\")","v":""},null,null,null,null,null,null,null,{"$f":"IFERROR(OFFSET(業務!$AH$5,MATCH(AE58,業務!$I$6:$I$59,0),0),\"\")","v":""},null,null,null,null,null,null,null,null,null,null,null,null,null,null,null,0]
[null,null,null,null,null,null,null,null,null,null,null,null,null,null,null,null,null,null,null,null,null,null,null,null,null,null,null,null,null,null,null,null,null,null,null,null,null,0]
[null,null,{"$f":"IFERROR(OFFSET(業務!$K$5,MATCH(AE62,業務!$I$6:$I$59,0),0),\"\")","v":""},null,{"$f":"IFERROR(OFFSET(業務!$L$5,MATCH(AE62,業務!$I$6:$I$59,0),0),\"\")","v":""},null,null,{"$f":"IFERROR(OFFSET(業務!$M$5,MATCH(AE62,業務!$I$6:$I$59,0),0),\"\")","v":""},null,null,null,null,null,null,null,null,null,null,{"$f":"IFERROR(OFFSET(業務!$N$5,MATCH(AE62,業務!$I$6:$I$59,0),0),\"\")","v":""},null,null,null,null,null,null,null,null,null,null,null,15,null,null,null,null,null,null,{"$f":"IF(AE62<=$AE$5,1,0)","v":0}]
[null,null,"（実施時期）",null,null,null,null,"（誰が）",null,null,null,null,null,"（自由記入）",null,null,null,null,null,null,null,"（自由記入）",null,null,null,null,null,null,null,null,null,null,null,null,null,null,null,{"$f":"AL62","v":0}]
[null,null,{"$f":"IFERROR(OFFSET(業務!$AE$5,MATCH(AE62,業務!$I$6:$I$59,0),0),\"\")","v":""},null,null,null,null,{"$f":"IFERROR(OFFSET(業務!$AF$5,MATCH(AE62,業務!$I$6:$I$59,0),0),\"\")","v":""},null,null,null,null,null,{"$f":"IFERROR(OFFSET(業務!$AG$5,MATCH(AE62,業務!$I$6:$I$59,0),0),\"\")","v":""},null,null,null,null,null,null,null,{"$f":"IFERROR(OFFSET(業務!$AH$5,MATCH(AE62,業務!$I$6:$I$59,0),0),\"\")","v":""},null,null,null,null,null,null,null,null,null,null,null,null,null,null,null,0]
[null,null,null,null,null,null,null,null,null,null,null,null,null,null,null,null,null,null,null,null,null,null,null,null,null,null,null,null,null,null,null,null,null,null,null,null,null,0]
[null,null,{"$f":"IFERROR(OFFSET(業務!$K$5,MATCH(AE66,業務!$I$6:$I$59,0),0),\"\")","v":""},null,{"$f":"IFERROR(OFFSET(業務!$L$5,MATCH(AE66,業務!$I$6:$I$59,0),0),\"\")","v":""},null,null,{"$f":"IFERROR(OFFSET(業務!$M$5,MATCH(AE66,業務!$I$6:$I$59,0),0),\"\")","v":""},null,null,null,null,null,null,null,null,null,null,{"$f":"IFERROR(OFFSET(業務!$N$5,MATCH(AE66,業務!$I$6:$I$59,0),0),\"\")","v":""},null,null,null,null,null,null,null,null,null,null,null,16,null,null,null,null,null,null,{"$f":"IF(AE66<=$AE$5,1,0)","v":0}]
[null,null,"（実施時期）",null,null,null,null,"（誰が）",null,null,null,null,null,"（自由記入）",null,null,null,null,null,null,null,"（自由記入）",null,null,null,null,null,null,null,null,null,null,null,null,null,null,null,{"$f":"AL66","v":0}]
[null,null,{"$f":"IFERROR(OFFSET(業務!$AE$5,MATCH(AE66,業務!$I$6:$I$59,0),0),\"\")","v":""},null,null,null,null,{"$f":"IFERROR(OFFSET(業務!$AF$5,MATCH(AE66,業務!$I$6:$I$59,0),0),\"\")","v":""},null,null,null,null,null,{"$f":"IFERROR(OFFSET(業務!$AG$5,MATCH(AE66,業務!$I$6:$I$59,0),0),\"\")","v":""},null,null,null,null,null,null,null,{"$f":"IFERROR(OFFSET(業務!$AH$5,MATCH(AE66,業務!$I$6:$I$59,0),0),\"\")","v":""},null,null,null,null,null,null,null,null,null,null,null,null,null,null,null,0]
[null,null,null,null,null,null,null,null,null,null,null,null,null,null,null,null,null,null,null,null,null,null,null,null,null,null,null,null,null,null,null,null,null,null,null,null,null,0]
[null,null,{"$f":"IFERROR(OFFSET(業務!$K$5,MATCH(AE70,業務!$I$6:$I$59,0),0),\"\")","v":""},null,{"$f":"IFERROR(OFFSET(業務!$L$5,MATCH(AE70,業務!$I$6:$I$59,0),0),\"\")","v":""},null,null,{"$f":"IFERROR(OFFSET(業務!$M$5,MATCH(AE70,業務!$I$6:$I$59,0),0),\"\")","v":""},null,null,null,null,null,null,null,null,null,null,{"$f":"IFERROR(OFFSET(業務!$N$5,MATCH(AE70,業務!$I$6:$I$59,0),0),\"\")","v":""},null,null,null,null,null,null,null,null,null,null,null,17,null,null,null,null,null,null,{"$f":"IF(AE70<=$AE$5,1,0)","v":0}]
[null,null,"（実施時期）",null,null,null,null,"（誰が）",null,null,null,null,null,"（自由記入）",null,null,null,null,null,null,null,"（自由記入）",null,null,null,null,null,null,null,null,null,null,null,null,null,null,null,{"$f":"AL70","v":0}]
[null,null,{"$f":"IFERROR(OFFSET(業務!$AE$5,MATCH(AE70,業務!$I$6:$I$59,0),0),\"\")","v":""},null,null,null,null,{"$f":"IFERROR(OFFSET(業務!$AF$5,MATCH(AE70,業務!$I$6:$I$59,0),0),\"\")","v":""},null,null,null,null,null,{"$f":"IFERROR(OFFSET(業務!$AG$5,MATCH(AE70,業務!$I$6:$I$59,0),0),\"\")","v":""},null,null,null,null,null,null,null,{"$f":"IFERROR(OFFSET(業務!$AH$5,MATCH(AE70,業務!$I$6:$I$59,0),0),\"\")","v":""},null,null,null,null,null,null,null,null,null,null,null,null,null,null,null,0]
[null,null,null,null,null,null,null,null,null,null,null,null,null,null,null,null,null,null,null,null,null,null,null,null,null,null,null,null,null,null,null,null,null,null,null,null,null,0]
[null,null,{"$f":"IFERROR(OFFSET(業務!$K$5,MATCH(AE74,業務!$I$6:$I$59,0),0),\"\")","v":""},null,{"$f":"IFERROR(OFFSET(業務!$L$5,MATCH(AE74,業務!$I$6:$I$59,0),0),\"\")","v":""},null,null,{"$f":"IFERROR(OFFSET(業務!$M$5,MATCH(AE74,業務!$I$6:$I$59,0),0),\"\")","v":""},null,null,null,null,null,null,null,null,null,null,{"$f":"IFERROR(OFFSET(業務!$N$5,MATCH(AE74,業務!$I$6:$I$59,0),0),\"\")","v":""},null,null,null,null,null,null,null,null,null,null,null,18,null,null,null,null,null,null,{"$f":"IF(AE74<=$AE$5,1,0)","v":0}]
[null,null,"（実施時期）",null,null,null,null,"（誰が）",null,null,null,null,null,"（自由記入）",null,null,null,null,null,null,null,"（自由記入）",null,null,null,null,null,null,null,null,null,null,null,null,null,null,null,{"$f":"AL74","v":0}]
[null,null,{"$f":"IFERROR(OFFSET(業務!$AE$5,MATCH(AE74,業務!$I$6:$I$59,0),0),\"\")","v":""},null,null,null,null,{"$f":"IFERROR(OFFSET(業務!$AF$5,MATCH(AE74,業務!$I$6:$I$59,0),0),\"\")","v":""},null,null,null,null,null,{"$f":"IFERROR(OFFSET(業務!$AG$5,MATCH(AE74,業務!$I$6:$I$59,0),0),\"\")","v":""},null,null,null,null,null,null,null,{"$f":"IFERROR(OFFSET(業務!$AH$5,MATCH(AE74,業務!$I$6:$I$59,0),0),\"\")","v":""},null,null,null,null,null,null,null,null,null,null,null,null,null,null,null,0]
[null,null,null,null,null,null,null,null,null,null,null,null,null,null,null,null,null,null,null,null,null,null,null,null,null,null,null,null,null,null,null,null,null,null,null,null,null,0]
[null,null,{"$f":"IFERROR(OFFSET(業務!$K$5,MATCH(AE78,業務!$I$6:$I$59,0),0),\"\")","v":""},null,{"$f":"IFERROR(OFFSET(業務!$L$5,MATCH(AE78,業務!$I$6:$I$59,0),0),\"\")","v":""},null,null,{"$f":"IFERROR(OFFSET(業務!$M$5,MATCH(AE78,業務!$I$6:$I$59,0),0),\"\")","v":""},null,null,null,null,null,null,null,null,null,null,{"$f":"IFERROR(OFFSET(業務!$N$5,MATCH(AE78,業務!$I$6:$I$59,0),0),\"\")","v":""},null,null,null,null,null,null,null,null,null,null,null,19,null,null,null,null,null,null,{"$f":"IF(AE78<=$AE$5,1,0)","v":0}]
[null,null,"（実施時期）",null,null,null,null,"（誰が）",null,null,null,null,null,"（自由記入）",null,null,null,null,null,null,null,"（自由記入）",null,null,null,null,null,null,null,null,null,null,null,null,null,null,null,{"$f":"AL78","v":0}]
[null,null,{"$f":"IFERROR(OFFSET(業務!$AE$5,MATCH(AE78,業務!$I$6:$I$59,0),0),\"\")","v":""},null,null,null,null,{"$f":"IFERROR(OFFSET(業務!$AF$5,MATCH(AE78,業務!$I$6:$I$59,0),0),\"\")","v":""},null,null,null,null,null,{"$f":"IFERROR(OFFSET(業務!$AG$5,MATCH(AE78,業務!$I$6:$I$59,0),0),\"\")","v":""},null,null,null,null,null,null,null,{"$f":"IFERROR(OFFSET(業務!$AH$5,MATCH(AE78,業務!$I$6:$I$59,0),0),\"\")","v":""},null,null,null,null,null,null,null,null,null,null,null,null,null,null,null,0]
[null,null,null,null,null,null,null,null,null,null,null,null,null,null,null,null,null,null,null,null,null,null,null,null,null,null,null,null,null,null,null,null,null,null,null,null,null,0]
[null,null,{"$f":"IFERROR(OFFSET(業務!$K$5,MATCH(AE82,業務!$I$6:$I$59,0),0),\"\")","v":""},null,{"$f":"IFERROR(OFFSET(業務!$L$5,MATCH(AE82,業務!$I$6:$I$59,0),0),\"\")","v":""},null,null,{"$f":"IFERROR(OFFSET(業務!$M$5,MATCH(AE82,業務!$I$6:$I$59,0),0),\"\")","v":""},null,null,null,null,null,null,null,null,null,null,{"$f":"IFERROR(OFFSET(業務!$N$5,MATCH(AE82,業務!$I$6:$I$59,0),0),\"\")","v":""},null,null,null,null,null,null,null,null,null,null,null,20,null,null,null,null,null,null,{"$f":"IF(AE82<=$AE$5,1,0)","v":0}]
[null,null,"（実施時期）",null,null,null,null,"（誰が）",null,null,null,null,null,"（自由記入）",null,null,null,null,null,null,null,"（自由記入）",null,null,null,null,null,null,null,null,null,null,null,null,null,null,null,{"$f":"AL82","v":0}]
[null,null,{"$f":"IFERROR(OFFSET(業務!$AE$5,MATCH(AE82,業務!$I$6:$I$59,0),0),\"\")","v":""},null,null,null,null,{"$f":"IFERROR(OFFSET(業務!$AF$5,MATCH(AE82,業務!$I$6:$I$59,0),0),\"\")","v":""},null,null,null,null,null,{"$f":"IFERROR(OFFSET(業務!$AG$5,MATCH(AE82,業務!$I$6:$I$59,0),0),\"\")","v":""},null,null,null,null,null,null,null,{"$f":"IFERROR(OFFSET(業務!$AH$5,MATCH(AE82,業務!$I$6:$I$59,0),0),\"\")","v":""},null,null,null,null,null,null,null,null,null,null,null,null,null,null,null,0]
[null,null,null,null,null,null,null,null,null,null,null,null,null,null,null,null,null,null,null,null,null,null,null,null,null,null,null,null,null,null,null,null,null,null,null,null,null,0]
[null,null,{"$f":"IFERROR(OFFSET(業務!$K$5,MATCH(AE86,業務!$I$6:$I$59,0),0),\"\")","v":""},null,{"$f":"IFERROR(OFFSET(業務!$L$5,MATCH(AE86,業務!$I$6:$I$59,0),0),\"\")","v":""},null,null,{"$f":"IFERROR(OFFSET(業務!$M$5,MATCH(AE86,業務!$I$6:$I$59,0),0),\"\")","v":""},null,null,null,null,null,null,null,null,null,null,{"$f":"IFERROR(OFFSET(業務!$N$5,MATCH(AE86,業務!$I$6:$I$59,0),0),\"\")","v":""},null,null,null,null,null,null,null,null,null,null,null,21,null,null,null,null,null,null,{"$f":"IF(AE86<=$AE$5,1,0)","v":0}]
[null,null,"（実施時期）",null,null,null,null,"（誰が）",null,null,null,null,null,"（自由記入）",null,null,null,null,null,null,null,"（自由記入）",null,null,null,null,null,null,null,null,null,null,null,null,null,null,null,{"$f":"AL86","v":0}]
[null,null,{"$f":"IFERROR(OFFSET(業務!$AE$5,MATCH(AE86,業務!$I$6:$I$59,0),0),\"\")","v":""},null,null,null,null,{"$f":"IFERROR(OFFSET(業務!$AF$5,MATCH(AE86,業務!$I$6:$I$59,0),0),\"\")","v":""},null,null,null,null,null,{"$f":"IFERROR(OFFSET(業務!$AG$5,MATCH(AE86,業務!$I$6:$I$59,0),0),\"\")","v":""},null,null,null,null,null,null,null,{"$f":"IFERROR(OFFSET(業務!$AH$5,MATCH(AE86,業務!$I$6:$I$59,0),0),\"\")","v":""},null,null,null,null,null,null,null,null,null,null,null,null,null,null,null,0]
[null,null,null,null,null,null,null,null,null,null,null,null,null,null,null,null,null,null,null,null,null,null,null,null,null,null,null,null,null,null,null,null,null,null,null,null,null,0]
[null,null,{"$f":"IFERROR(OFFSET(業務!$K$5,MATCH(AE90,業務!$I$6:$I$59,0),0),\"\")","v":""},null,{"$f":"IFERROR(OFFSET(業務!$L$5,MATCH(AE90,業務!$I$6:$I$59,0),0),\"\")","v":""},null,null,{"$f":"IFERROR(OFFSET(業務!$M$5,MATCH(AE90,業務!$I$6:$I$59,0),0),\"\")","v":""},null,null,null,null,null,null,null,null,null,null,{"$f":"IFERROR(OFFSET(業務!$N$5,MATCH(AE90,業務!$I$6:$I$59,0),0),\"\")","v":""},null,null,null,null,null,null,null,null,null,null,null,22,null,null,null,null,null,null,{"$f":"IF(AE90<=$AE$5,1,0)","v":0}]
[null,null,"（実施時期）",null,null,null,null,"（誰が）",null,null,null,null,null,"（自由記入）",null,null,null,null,null,null,null,"（自由記入）",null,null,null,null,null,null,null,null,null,null,null,null,null,null,null,{"$f":"AL90","v":0}]
[null,null,{"$f":"IFERROR(OFFSET(業務!$AE$5,MATCH(AE90,業務!$I$6:$I$59,0),0),\"\")","v":""},null,null,null,null,{"$f":"IFERROR(OFFSET(業務!$AF$5,MATCH(AE90,業務!$I$6:$I$59,0),0),\"\")","v":""},null,null,null,null,null,{"$f":"IFERROR(OFFSET(業務!$AG$5,MATCH(AE90,業務!$I$6:$I$59,0),0),\"\")","v":""},null,null,null,null,null,null,null,{"$f":"IFERROR(OFFSET(業務!$AH$5,MATCH(AE90,業務!$I$6:$I$59,0),0),\"\")","v":""},null,null,null,null,null,null,null,null,null,null,null,null,null,null,null,0]
[null,null,null,null,null,null,null,null,null,null,null,null,null,null,null,null,null,null,null,null,null,null,null,null,null,null,null,null,null,null,null,null,null,null,null,null,null,0]
[null,null,{"$f":"IFERROR(OFFSET(業務!$K$5,MATCH(AE94,業務!$I$6:$I$59,0),0),\"\")","v":""},null,{"$f":"IFERROR(OFFSET(業務!$L$5,MATCH(AE94,業務!$I$6:$I$59,0),0),\"\")","v":""},null,null,{"$f":"IFERROR(OFFSET(業務!$M$5,MATCH(AE94,業務!$I$6:$I$59,0),0),\"\")","v":""},null,null,null,null,null,null,null,null,null,null,{"$f":"IFERROR(OFFSET(業務!$N$5,MATCH(AE94,業務!$I$6:$I$59,0),0),\"\")","v":""},null,null,null,null,null,null,null,null,null,null,null,23,null,null,null,null,null,null,{"$f":"IF(AE94<=$AE$5,1,0)","v":0}]
[null,null,"（実施時期）",null,null,null,null,"（誰が）",null,null,null,null,null,"（自由記入）",null,null,null,null,null,null,null,"（自由記入）",null,null,null,null,null,null,null,null,null,null,null,null,null,null,null,{"$f":"AL94","v":0}]
[null,null,{"$f":"IFERROR(OFFSET(業務!$AE$5,MATCH(AE94,業務!$I$6:$I$59,0),0),\"\")","v":""},null,null,null,null,{"$f":"IFERROR(OFFSET(業務!$AF$5,MATCH(AE94,業務!$I$6:$I$59,0),0),\"\")","v":""},null,null,null,null,null,{"$f":"IFERROR(OFFSET(業務!$AG$5,MATCH(AE94,業務!$I$6:$I$59,0),0),\"\")","v":""},null,null,null,null,null,null,null,{"$f":"IFERROR(OFFSET(業務!$AH$5,MATCH(AE94,業務!$I$6:$I$59,0),0),\"\")","v":""},null,null,null,null,null,null,null,null,null,null,null,null,null,null,null,0]
[null,null,null,null,null,null,null,null,null,null,null,null,null,null,null,null,null,null,null,null,null,null,null,null,null,null,null,null,null,null,null,null,null,null,null,null,null,0]
[null,null,{"$f":"IFERROR(OFFSET(業務!$K$5,MATCH(AE98,業務!$I$6:$I$59,0),0),\"\")","v":""},null,{"$f":"IFERROR(OFFSET(業務!$L$5,MATCH(AE98,業務!$I$6:$I$59,0),0),\"\")","v":""},null,null,{"$f":"IFERROR(OFFSET(業務!$M$5,MATCH(AE98,業務!$I$6:$I$59,0),0),\"\")","v":""},null,null,null,null,null,null,null,null,null,null,{"$f":"IFERROR(OFFSET(業務!$N$5,MATCH(AE98,業務!$I$6:$I$59,0),0),\"\")","v":""},null,null,null,null,null,null,null,null,null,null,null,24,null,null,null,null,null,null,{"$f":"IF(AE98<=$AE$5,1,0)","v":0}]
[null,null,"（実施時期）",null,null,null,null,"（誰が）",null,null,null,null,null,"（自由記入）",null,null,null,null,null,null,null,"（自由記入）",null,null,null,null,null,null,null,null,null,null,null,null,null,null,null,{"$f":"AL98","v":0}]
[null,null,{"$f":"IFERROR(OFFSET(業務!$AE$5,MATCH(AE98,業務!$I$6:$I$59,0),0),\"\")","v":""},null,null,null,null,{"$f":"IFERROR(OFFSET(業務!$AF$5,MATCH(AE98,業務!$I$6:$I$59,0),0),\"\")","v":""},null,null,null,null,null,{"$f":"IFERROR(OFFSET(業務!$AG$5,MATCH(AE98,業務!$I$6:$I$59,0),0),\"\")","v":""},null,null,null,null,null,null,null,{"$f":"IFERROR(OFFSET(業務!$AH$5,MATCH(AE98,業務!$I$6:$I$59,0),0),\"\")","v":""},null,null,null,null,null,null,null,null,null,null,null,null,null,null,null,0]
[null,null,null,null,null,null,null,null,null,null,null,null,null,null,null,null,null,null,null,null,null,null,null,null,null,null,null,null,null,null,null,null,null,null,null,null,null,0]
[null,null,{"$f":"IFERROR(OFFSET(業務!$K$5,MATCH(AE102,業務!$I$6:$I$59,0),0),\"\")","v":""},null,{"$f":"IFERROR(OFFSET(業務!$L$5,MATCH(AE102,業務!$I$6:$I$59,0),0),\"\")","v":""},null,null,{"$f":"IFERROR(OFFSET(業務!$M$5,MATCH(AE102,業務!$I$6:$I$59,0),0),\"\")","v":""},null,null,null,null,null,null,null,null,null,null,{"$f":"IFERROR(OFFSET(業務!$N$5,MATCH(AE102,業務!$I$6:$I$59,0),0),\"\")","v":""},null,null,null,null,null,null,null,null,null,null,null,25,null,null,null,null,null,null,{"$f":"IF(AE102<=$AE$5,1,0)","v":0}]
[null,null,"（実施時期）",null,null,null,null,"（誰が）",null,null,null,null,null,"（自由記入）",null,null,null,null,null,null,null,"（自由記入）",null,null,null,null,null,null,null,null,null,null,null,null,null,null,null,{"$f":"AL102","v":0}]
[null,null,{"$f":"IFERROR(OFFSET(業務!$AE$5,MATCH(AE102,業務!$I$6:$I$59,0),0),\"\")","v":""},null,null,null,null,{"$f":"IFERROR(OFFSET(業務!$AF$5,MATCH(AE102,業務!$I$6:$I$59,0),0),\"\")","v":""},null,null,null,null,null,{"$f":"IFERROR(OFFSET(業務!$AG$5,MATCH(AE102,業務!$I$6:$I$59,0),0),\"\")","v":""},null,null,null,null,null,null,null,{"$f":"IFERROR(OFFSET(業務!$AH$5,MATCH(AE102,業務!$I$6:$I$59,0),0),\"\")","v":""},null,null,null,null,null,null,null,null,null,null,null,null,null,null,null,0]
[null,null,null,null,null,null,null,null,null,null,null,null,null,null,null,null,null,null,null,null,null,null,null,null,null,null,null,null,null,null,null,null,null,null,null,null,null,0]
[null,null,{"$f":"IFERROR(OFFSET(業務!$K$5,MATCH(AE106,業務!$I$6:$I$59,0),0),\"\")","v":""},null,{"$f":"IFERROR(OFFSET(業務!$L$5,MATCH(AE106,業務!$I$6:$I$59,0),0),\"\")","v":""},null,null,{"$f":"IFERROR(OFFSET(業務!$M$5,MATCH(AE106,業務!$I$6:$I$59,0),0),\"\")","v":""},null,null,null,null,null,null,null,null,null,null,{"$f":"IFERROR(OFFSET(業務!$N$5,MATCH(AE106,業務!$I$6:$I$59,0),0),\"\")","v":""},null,null,null,null,null,null,null,null,null,null,null,26,null,null,null,null,null,null,{"$f":"IF(AE106<=$AE$5,1,0)","v":0}]
[null,null,"（実施時期）",null,null,null,null,"（誰が）",null,null,null,null,null,"（自由記入）",null,null,null,null,null,null,null,"（自由記入）",null,null,null,null,null,null,null,null,null,null,null,null,null,null,null,{"$f":"AL106","v":0}]
[null,null,{"$f":"IFERROR(OFFSET(業務!$AE$5,MATCH(AE106,業務!$I$6:$I$59,0),0),\"\")","v":""},null,null,null,null,{"$f":"IFERROR(OFFSET(業務!$AF$5,MATCH(AE106,業務!$I$6:$I$59,0),0),\"\")","v":""},null,null,null,null,null,{"$f":"IFERROR(OFFSET(業務!$AG$5,MATCH(AE106,業務!$I$6:$I$59,0),0),\"\")","v":""},null,null,null,null,null,null,null,{"$f":"IFERROR(OFFSET(業務!$AH$5,MATCH(AE106,業務!$I$6:$I$59,0),0),\"\")","v":""},null,null,null,null,null,null,null,null,null,null,null,null,null,null,null,0]
[null,null,null,null,null,null,null,null,null,null,null,null,null,null,null,null,null,null,null,null,null,null,null,null,null,null,null,null,null,null,null,null,null,null,null,null,null,0]
[null,null,{"$f":"IFERROR(OFFSET(業務!$K$5,MATCH(AE110,業務!$I$6:$I$59,0),0),\"\")","v":""},null,{"$f":"IFERROR(OFFSET(業務!$L$5,MATCH(AE110,業務!$I$6:$I$59,0),0),\"\")","v":""},null,null,{"$f":"IFERROR(OFFSET(業務!$M$5,MATCH(AE110,業務!$I$6:$I$59,0),0),\"\")","v":""},null,null,null,null,null,null,null,null,null,null,{"$f":"IFERROR(OFFSET(業務!$N$5,MATCH(AE110,業務!$I$6:$I$59,0),0),\"\")","v":""},null,null,null,null,null,null,null,null,null,null,null,27,null,null,null,null,null,null,{"$f":"IF(AE110<=$AE$5,1,0)","v":0}]
[null,null,"（実施時期）",null,null,null,null,"（誰が）",null,null,null,null,null,"（自由記入）",null,null,null,null,null,null,null,"（自由記入）",null,null,null,null,null,null,null,null,null,null,null,null,null,null,null,{"$f":"AL110","v":0}]
[null,null,{"$f":"IFERROR(OFFSET(業務!$AE$5,MATCH(AE110,業務!$I$6:$I$59,0),0),\"\")","v":""},null,null,null,null,{"$f":"IFERROR(OFFSET(業務!$AF$5,MATCH(AE110,業務!$I$6:$I$59,0),0),\"\")","v":""},null,null,null,null,null,{"$f":"IFERROR(OFFSET(業務!$AG$5,MATCH(AE110,業務!$I$6:$I$59,0),0),\"\")","v":""},null,null,null,null,null,null,null,{"$f":"IFERROR(OFFSET(業務!$AH$5,MATCH(AE110,業務!$I$6:$I$59,0),0),\"\")","v":""},null,null,null,null,null,null,null,null,null,null,null,null,null,null,null,0]
[null,null,null,null,null,null,null,null,null,null,null,null,null,null,null,null,null,null,null,null,null,null,null,null,null,null,null,null,null,null,null,null,null,null,null,null,null,0]
[null,null,{"$f":"IFERROR(OFFSET(業務!$K$5,MATCH(AE114,業務!$I$6:$I$59,0),0),\"\")","v":""},null,{"$f":"IFERROR(OFFSET(業務!$L$5,MATCH(AE114,業務!$I$6:$I$59,0),0),\"\")","v":""},null,null,{"$f":"IFERROR(OFFSET(業務!$M$5,MATCH(AE114,業務!$I$6:$I$59,0),0),\"\")","v":""},null,null,null,null,null,null,null,null,null,null,{"$f":"IFERROR(OFFSET(業務!$N$5,MATCH(AE114,業務!$I$6:$I$59,0),0),\"\")","v":""},null,null,null,null,null,null,null,null,null,null,null,28,null,null,null,null,null,null,{"$f":"IF(AE114<=$AE$5,1,0)","v":0}]
[null,null,"（実施時期）",null,null,null,null,"（誰が）",null,null,null,null,null,"（自由記入）",null,null,null,null,null,null,null,"（自由記入）",null,null,null,null,null,null,null,null,null,null,null,null,null,null,null,{"$f":"AL114","v":0}]
[null,null,{"$f":"IFERROR(OFFSET(業務!$AE$5,MATCH(AE114,業務!$I$6:$I$59,0),0),\"\")","v":""},null,null,null,null,{"$f":"IFERROR(OFFSET(業務!$AF$5,MATCH(AE114,業務!$I$6:$I$59,0),0),\"\")","v":""},null,null,null,null,null,{"$f":"IFERROR(OFFSET(業務!$AG$5,MATCH(AE114,業務!$I$6:$I$59,0),0),\"\")","v":""},null,null,null,null,null,null,null,{"$f":"IFERROR(OFFSET(業務!$AH$5,MATCH(AE114,業務!$I$6:$I$59,0),0),\"\")","v":""},null,null,null,null,null,null,null,null,null,null,null,null,null,null,null,0]
[null,null,null,null,null,null,null,null,null,null,null,null,null,null,null,null,null,null,null,null,null,null,null,null,null,null,null,null,null,null,null,null,null,null,null,null,null,0]
[null,null,{"$f":"IFERROR(OFFSET(業務!$K$5,MATCH(AE118,業務!$I$6:$I$59,0),0),\"\")","v":""},null,{"$f":"IFERROR(OFFSET(業務!$L$5,MATCH(AE118,業務!$I$6:$I$59,0),0),\"\")","v":""},null,null,{"$f":"IFERROR(OFFSET(業務!$M$5,MATCH(AE118,業務!$I$6:$I$59,0),0),\"\")","v":""},null,null,null,null,null,null,null,null,null,null,{"$f":"IFERROR(OFFSET(業務!$N$5,MATCH(AE118,業務!$I$6:$I$59,0),0),\"\")","v":""},null,null,null,null,null,null,null,null,null,null,null,29,null,null,null,null,null,null,{"$f":"IF(AE118<=$AE$5,1,0)","v":0}]
[null,null,"（実施時期）",null,null,null,null,"（誰が）",null,null,null,null,null,"（自由記入）",null,null,null,null,null,null,null,"（自由記入）",null,null,null,null,null,null,null,null,null,null,null,null,null,null,null,{"$f":"AL118","v":0}]
[null,null,{"$f":"IFERROR(OFFSET(業務!$AE$5,MATCH(AE118,業務!$I$6:$I$59,0),0),\"\")","v":""},null,null,null,null,{"$f":"IFERROR(OFFSET(業務!$AF$5,MATCH(AE118,業務!$I$6:$I$59,0),0),\"\")","v":""},null,null,null,null,null,{"$f":"IFERROR(OFFSET(業務!$AG$5,MATCH(AE118,業務!$I$6:$I$59,0),0),\"\")","v":""},null,null,null,null,null,null,null,{"$f":"IFERROR(OFFSET(業務!$AH$5,MATCH(AE118,業務!$I$6:$I$59,0),0),\"\")","v":""},null,null,null,null,null,null,null,null,null,null,null,null,null,null,null,0]
[null,null,null,null,null,null,null,null,null,null,null,null,null,null,null,null,null,null,null,null,null,null,null,null,null,null,null,null,null,null,null,null,null,null,null,null,null,0]
[null,null,{"$f":"IFERROR(OFFSET(業務!$K$5,MATCH(AE122,業務!$I$6:$I$59,0),0),\"\")","v":""},null,{"$f":"IFERROR(OFFSET(業務!$L$5,MATCH(AE122,業務!$I$6:$I$59,0),0),\"\")","v":""},null,null,{"$f":"IFERROR(OFFSET(業務!$M$5,MATCH(AE122,業務!$I$6:$I$59,0),0),\"\")","v":""},null,null,null,null,null,null,null,null,null,null,{"$f":"IFERROR(OFFSET(業務!$N$5,MATCH(AE122,業務!$I$6:$I$59,0),0),\"\")","v":""},null,null,null,null,null,null,null,null,null,null,null,30,null,null,null,null,null,null,{"$f":"IF(AE122<=$AE$5,1,0)","v":0}]
[null,null,"（実施時期）",null,null,null,null,"（誰が）",null,null,null,null,null,"（自由記入）",null,null,null,null,null,null,null,"（自由記入）",null,null,null,null,null,null,null,null,null,null,null,null,null,null,null,{"$f":"AL122","v":0}]
[null,null,{"$f":"IFERROR(OFFSET(業務!$AE$5,MATCH(AE122,業務!$I$6:$I$59,0),0),\"\")","v":""},null,null,null,null,{"$f":"IFERROR(OFFSET(業務!$AF$5,MATCH(AE122,業務!$I$6:$I$59,0),0),\"\")","v":""},null,null,null,null,null,{"$f":"IFERROR(OFFSET(業務!$AG$5,MATCH(AE122,業務!$I$6:$I$59,0),0),\"\")","v":""},null,null,null,null,null,null,null,{"$f":"IFERROR(OFFSET(業務!$AH$5,MATCH(AE122,業務!$I$6:$I$59,0),0),\"\")","v":""},null,null,null,null,null,null,null,null,null,null,null,null,null,null,null,0]
[null,null,null,null,null,null,null,null,null,null,null,null,null,null,null,null,null,null,null,null,null,null,null,null,null,null,null,null,null,null,null,null,null,null,null,null,null,0]
[null,null,{"$f":"IFERROR(OFFSET(業務!$K$5,MATCH(AE126,業務!$I$6:$I$59,0),0),\"\")","v":""},null,{"$f":"IFERROR(OFFSET(業務!$L$5,MATCH(AE126,業務!$I$6:$I$59,0),0),\"\")","v":""},null,null,{"$f":"IFERROR(OFFSET(業務!$M$5,MATCH(AE126,業務!$I$6:$I$59,0),0),\"\")","v":""},null,null,null,null,null,null,null,null,null,null,{"$f":"IFERROR(OFFSET(業務!$N$5,MATCH(AE126,業務!$I$6:$I$59,0),0),\"\")","v":""},null,null,null,null,null,null,null,null,null,null,null,31,null,null,null,null,null,null,{"$f":"IF(AE126<=$AE$5,1,0)","v":0}]
[null,null,"（実施時期）",null,null,null,null,"（誰が）",null,null,null,null,null,"（自由記入）",null,null,null,null,null,null,null,"（自由記入）",null,null,null,null,null,null,null,null,null,null,null,null,null,null,null,{"$f":"AL126","v":0}]
[null,null,{"$f":"IFERROR(OFFSET(業務!$AE$5,MATCH(AE126,業務!$I$6:$I$59,0),0),\"\")","v":""},null,null,null,null,{"$f":"IFERROR(OFFSET(業務!$AF$5,MATCH(AE126,業務!$I$6:$I$59,0),0),\"\")","v":""},null,null,null,null,null,{"$f":"IFERROR(OFFSET(業務!$AG$5,MATCH(AE126,業務!$I$6:$I$59,0),0),\"\")","v":""},null,null,null,null,null,null,null,{"$f":"IFERROR(OFFSET(業務!$AH$5,MATCH(AE126,業務!$I$6:$I$59,0),0),\"\")","v":""},null,null,null,null,null,null,null,null,null,null,null,null,null,null,null,0]
[null,null,null,null,null,null,null,null,null,null,null,null,null,null,null,null,null,null,null,null,null,null,null,null,null,null,null,null,null,null,null,null,null,null,null,null,null,0]
[null,null,{"$f":"IFERROR(OFFSET(業務!$K$5,MATCH(AE130,業務!$I$6:$I$59,0),0),\"\")","v":""},null,{"$f":"IFERROR(OFFSET(業務!$L$5,MATCH(AE130,業務!$I$6:$I$59,0),0),\"\")","v":""},null,null,{"$f":"IFERROR(OFFSET(業務!$M$5,MATCH(AE130,業務!$I$6:$I$59,0),0),\"\")","v":""},null,null,null,null,null,null,null,null,null,null,{"$f":"IFERROR(OFFSET(業務!$N$5,MATCH(AE130,業務!$I$6:$I$59,0),0),\"\")","v":""},null,null,null,null,null,null,null,null,null,null,null,32,null,null,null,null,null,null,{"$f":"IF(AE130<=$AE$5,1,0)","v":0}]
[null,null,"（実施時期）",null,null,null,null,"（誰が）",null,null,null,null,null,"（自由記入）",null,null,null,null,null,null,null,"（自由記入）",null,null,null,null,null,null,null,null,null,null,null,null,null,null,null,{"$f":"AL130","v":0}]
[null,null,{"$f":"IFERROR(OFFSET(業務!$AE$5,MATCH(AE130,業務!$I$6:$I$59,0),0),\"\")","v":""},null,null,null,null,{"$f":"IFERROR(OFFSET(業務!$AF$5,MATCH(AE130,業務!$I$6:$I$59,0),0),\"\")","v":""},null,null,null,null,null,{"$f":"IFERROR(OFFSET(業務!$AG$5,MATCH(AE130,業務!$I$6:$I$59,0),0),\"\")","v":""},null,null,null,null,null,null,null,{"$f":"IFERROR(OFFSET(業務!$AH$5,MATCH(AE130,業務!$I$6:$I$59,0),0),\"\")","v":""},null,null,null,null,null,null,null,null,null,null,null,null,null,null,null,0]
[null,null,null,null,null,null,null,null,null,null,null,null,null,null,null,null,null,null,null,null,null,null,null,null,null,null,null,null,null,null,null,null,null,null,null,null,null,0]
[null,null,{"$f":"IFERROR(OFFSET(業務!$K$5,MATCH(AE134,業務!$I$6:$I$59,0),0),\"\")","v":""},null,{"$f":"IFERROR(OFFSET(業務!$L$5,MATCH(AE134,業務!$I$6:$I$59,0),0),\"\")","v":""},null,null,{"$f":"IFERROR(OFFSET(業務!$M$5,MATCH(AE134,業務!$I$6:$I$59,0),0),\"\")","v":""},null,null,null,null,null,null,null,null,null,null,{"$f":"IFERROR(OFFSET(業務!$N$5,MATCH(AE134,業務!$I$6:$I$59,0),0),\"\")","v":""},null,null,null,null,null,null,null,null,null,null,null,33,null,null,null,null,null,null,{"$f":"IF(AE134<=$AE$5,1,0)","v":0}]
[null,null,"（実施時期）",null,null,null,null,"（誰が）",null,null,null,null,null,"（自由記入）",null,null,null,null,null,null,null,"（自由記入）",null,null,null,null,null,null,null,null,null,null,null,null,null,null,null,{"$f":"AL134","v":0}]
[null,null,{"$f":"IFERROR(OFFSET(業務!$AE$5,MATCH(AE134,業務!$I$6:$I$59,0),0),\"\")","v":""},null,null,null,null,{"$f":"IFERROR(OFFSET(業務!$AF$5,MATCH(AE134,業務!$I$6:$I$59,0),0),\"\")","v":""},null,null,null,null,null,{"$f":"IFERROR(OFFSET(業務!$AG$5,MATCH(AE134,業務!$I$6:$I$59,0),0),\"\")","v":""},null,null,null,null,null,null,null,{"$f":"IFERROR(OFFSET(業務!$AH$5,MATCH(AE134,業務!$I$6:$I$59,0),0),\"\")","v":""},null,null,null,null,null,null,null,null,null,null,null,null,null,null,null,0]
[null,null,null,null,null,null,null,null,null,null,null,null,null,null,null,null,null,null,null,null,null,null,null,null,null,null,null,null,null,null,null,null,null,null,null,null,null,0]
[null,null,{"$f":"IFERROR(OFFSET(業務!$K$5,MATCH(AE138,業務!$I$6:$I$59,0),0),\"\")","v":""},null,{"$f":"IFERROR(OFFSET(業務!$L$5,MATCH(AE138,業務!$I$6:$I$59,0),0),\"\")","v":""},null,null,{"$f":"IFERROR(OFFSET(業務!$M$5,MATCH(AE138,業務!$I$6:$I$59,0),0),\"\")","v":""},null,null,null,null,null,null,null,null,null,null,{"$f":"IFERROR(OFFSET(業務!$N$5,MATCH(AE138,業務!$I$6:$I$59,0),0),\"\")","v":""},null,null,null,null,null,null,null,null,null,null,null,34,null,null,null,null,null,null,{"$f":"IF(AE138<=$AE$5,1,0)","v":0}]
[null,null,"（実施時期）",null,null,null,null,"（誰が）",null,null,null,null,null,"（自由記入）",null,null,null,null,null,null,null,"（自由記入）",null,null,null,null,null,null,null,null,null,null,null,null,null,null,null,{"$f":"AL138","v":0}]
[null,null,{"$f":"IFERROR(OFFSET(業務!$AE$5,MATCH(AE138,業務!$I$6:$I$59,0),0),\"\")","v":""},null,null,null,null,{"$f":"IFERROR(OFFSET(業務!$AF$5,MATCH(AE138,業務!$I$6:$I$59,0),0),\"\")","v":""},null,null,null,null,null,{"$f":"IFERROR(OFFSET(業務!$AG$5,MATCH(AE138,業務!$I$6:$I$59,0),0),\"\")","v":""},null,null,null,null,null,null,null,{"$f":"IFERROR(OFFSET(業務!$AH$5,MATCH(AE138,業務!$I$6:$I$59,0),0),\"\")","v":""},null,null,null,null,null,null,null,null,null,null,null,null,null,null,null,0]
[null,null,null,null,null,null,null,null,null,null,null,null,null,null,null,null,null,null,null,null,null,null,null,null,null,null,null,null,null,null,null,null,null,null,null,null,null,0]
[null,null,{"$f":"IFERROR(OFFSET(業務!$K$5,MATCH(AE142,業務!$I$6:$I$59,0),0),\"\")","v":""},null,{"$f":"IFERROR(OFFSET(業務!$L$5,MATCH(AE142,業務!$I$6:$I$59,0),0),\"\")","v":""},null,null,{"$f":"IFERROR(OFFSET(業務!$M$5,MATCH(AE142,業務!$I$6:$I$59,0),0),\"\")","v":""},null,null,null,null,null,null,null,null,null,null,{"$f":"IFERROR(OFFSET(業務!$N$5,MATCH(AE142,業務!$I$6:$I$59,0),0),\"\")","v":""},null,null,null,null,null,null,null,null,null,null,null,35,null,null,null,null,null,null,{"$f":"IF(AE142<=$AE$5,1,0)","v":0}]
[null,null,"（実施時期）",null,null,null,null,"（誰が）",null,null,null,null,null,"（自由記入）",null,null,null,null,null,null,null,"（自由記入）",null,null,null,null,null,null,null,null,null,null,null,null,null,null,null,{"$f":"AL142","v":0}]
[null,null,{"$f":"IFERROR(OFFSET(業務!$AE$5,MATCH(AE142,業務!$I$6:$I$59,0),0),\"\")","v":""},null,null,null,null,{"$f":"IFERROR(OFFSET(業務!$AF$5,MATCH(AE142,業務!$I$6:$I$59,0),0),\"\")","v":""},null,null,null,null,null,{"$f":"IFERROR(OFFSET(業務!$AG$5,MATCH(AE142,業務!$I$6:$I$59,0),0),\"\")","v":""},null,null,null,null,null,null,null,{"$f":"IFERROR(OFFSET(業務!$AH$5,MATCH(AE142,業務!$I$6:$I$59,0),0),\"\")","v":""},null,null,null,null,null,null,null,null,null,null,null,null,null,null,null,0]
[null,null,null,null,null,null,null,null,null,null,null,null,null,null,null,null,null,null,null,null,null,null,null,null,null,null,null,null,null,null,null,null,null,null,null,null,null,0]
[null,null,{"$f":"IFERROR(OFFSET(業務!$K$5,MATCH(AE146,業務!$I$6:$I$59,0),0),\"\")","v":""},null,{"$f":"IFERROR(OFFSET(業務!$L$5,MATCH(AE146,業務!$I$6:$I$59,0),0),\"\")","v":""},null,null,{"$f":"IFERROR(OFFSET(業務!$M$5,MATCH(AE146,業務!$I$6:$I$59,0),0),\"\")","v":""},null,null,null,null,null,null,null,null,null,null,{"$f":"IFERROR(OFFSET(業務!$N$5,MATCH(AE146,業務!$I$6:$I$59,0),0),\"\")","v":""},null,null,null,null,null,null,null,null,null,null,null,36,null,null,null,null,null,null,{"$f":"IF(AE146<=$AE$5,1,0)","v":0}]
[null,null,"（実施時期）",null,null,null,null,"（誰が）",null,null,null,null,null,"（自由記入）",null,null,null,null,null,null,null,"（自由記入）",null,null,null,null,null,null,null,null,null,null,null,null,null,null,null,{"$f":"AL146","v":0}]
[null,null,{"$f":"IFERROR(OFFSET(業務!$AE$5,MATCH(AE146,業務!$I$6:$I$59,0),0),\"\")","v":""},null,null,null,null,{"$f":"IFERROR(OFFSET(業務!$AF$5,MATCH(AE146,業務!$I$6:$I$59,0),0),\"\")","v":""},null,null,null,null,null,{"$f":"IFERROR(OFFSET(業務!$AG$5,MATCH(AE146,業務!$I$6:$I$59,0),0),\"\")","v":""},null,null,null,null,null,null,null,{"$f":"IFERROR(OFFSET(業務!$AH$5,MATCH(AE146,業務!$I$6:$I$59,0),0),\"\")","v":""},null,null,null,null,null,null,null,null,null,null,null,null,null,null,null,0]
[null,null,null,null,null,null,null,null,null,null,null,null,null,null,null,null,null,null,null,null,null,null,null,null,null,null,null,null,null,null,null,null,null,null,null,null,null,0]
[null,null,{"$f":"IFERROR(OFFSET(業務!$K$5,MATCH(AE150,業務!$I$6:$I$59,0),0),\"\")","v":""},null,{"$f":"IFERROR(OFFSET(業務!$L$5,MATCH(AE150,業務!$I$6:$I$59,0),0),\"\")","v":""},null,null,{"$f":"IFERROR(OFFSET(業務!$M$5,MATCH(AE150,業務!$I$6:$I$59,0),0),\"\")","v":""},null,null,null,null,null,null,null,null,null,null,{"$f":"IFERROR(OFFSET(業務!$N$5,MATCH(AE150,業務!$I$6:$I$59,0),0),\"\")","v":""},null,null,null,null,null,null,null,null,null,null,null,37,null,null,null,null,null,null,{"$f":"IF(AE150<=$AE$5,1,0)","v":0}]
[null,null,"（実施時期）",null,null,null,null,"（誰が）",null,null,null,null,null,"（自由記入）",null,null,null,null,null,null,null,"（自由記入）",null,null,null,null,null,null,null,null,null,null,null,null,null,null,null,{"$f":"AL150","v":0}]
[null,null,{"$f":"IFERROR(OFFSET(業務!$AE$5,MATCH(AE150,業務!$I$6:$I$59,0),0),\"\")","v":""},null,null,null,null,{"$f":"IFERROR(OFFSET(業務!$AF$5,MATCH(AE150,業務!$I$6:$I$59,0),0),\"\")","v":""},null,null,null,null,null,{"$f":"IFERROR(OFFSET(業務!$AG$5,MATCH(AE150,業務!$I$6:$I$59,0),0),\"\")","v":""},null,null,null,null,null,null,null,{"$f":"IFERROR(OFFSET(業務!$AH$5,MATCH(AE150,業務!$I$6:$I$59,0),0),\"\")","v":""},null,null,null,null,null,null,null,null,null,null,null,null,null,null,null,0]
[null,null,null,null,null,null,null,null,null,null,null,null,null,null,null,null,null,null,null,null,null,null,null,null,null,null,null,null,null,null,null,null,null,null,null,null,null,0]
[null,null,{"$f":"IFERROR(OFFSET(業務!$K$5,MATCH(AE154,業務!$I$6:$I$59,0),0),\"\")","v":""},null,{"$f":"IFERROR(OFFSET(業務!$L$5,MATCH(AE154,業務!$I$6:$I$59,0),0),\"\")","v":""},null,null,{"$f":"IFERROR(OFFSET(業務!$M$5,MATCH(AE154,業務!$I$6:$I$59,0),0),\"\")","v":""},null,null,null,null,null,null,null,null,null,null,{"$f":"IFERROR(OFFSET(業務!$N$5,MATCH(AE154,業務!$I$6:$I$59,0),0),\"\")","v":""},null,null,null,null,null,null,null,null,null,null,null,38,null,null,null,null,null,null,{"$f":"IF(AE154<=$AE$5,1,0)","v":0}]
[null,null,"（実施時期）",null,null,null,null,"（誰が）",null,null,null,null,null,"（自由記入）",null,null,null,null,null,null,null,"（自由記入）",null,null,null,null,null,null,null,null,null,null,null,null,null,null,null,{"$f":"AL154","v":0}]
[null,null,{"$f":"IFERROR(OFFSET(業務!$AE$5,MATCH(AE154,業務!$I$6:$I$59,0),0),\"\")","v":""},null,null,null,null,{"$f":"IFERROR(OFFSET(業務!$AF$5,MATCH(AE154,業務!$I$6:$I$59,0),0),\"\")","v":""},null,null,null,null,null,{"$f":"IFERROR(OFFSET(業務!$AG$5,MATCH(AE154,業務!$I$6:$I$59,0),0),\"\")","v":""},null,null,null,null,null,null,null,{"$f":"IFERROR(OFFSET(業務!$AH$5,MATCH(AE154,業務!$I$6:$I$59,0),0),\"\")","v":""},null,null,null,null,null,null,null,null,null,null,null,null,null,null,null,0]
[null,null,null,null,null,null,null,null,null,null,null,null,null,null,null,null,null,null,null,null,null,null,null,null,null,null,null,null,null,null,null,null,null,null,null,null,null,0]
[null,null,{"$f":"IFERROR(OFFSET(業務!$K$5,MATCH(AE158,業務!$I$6:$I$59,0),0),\"\")","v":""},null,{"$f":"IFERROR(OFFSET(業務!$L$5,MATCH(AE158,業務!$I$6:$I$59,0),0),\"\")","v":""},null,null,{"$f":"IFERROR(OFFSET(業務!$M$5,MATCH(AE158,業務!$I$6:$I$59,0),0),\"\")","v":""},null,null,null,null,null,null,null,null,null,null,{"$f":"IFERROR(OFFSET(業務!$N$5,MATCH(AE158,業務!$I$6:$I$59,0),0),\"\")","v":""},null,null,null,null,null,null,null,null,null,null,null,39,null,null,null,null,null,null,{"$f":"IF(AE158<=$AE$5,1,0)","v":0}]
[null,null,"（実施時期）",null,null,null,null,"（誰が）",null,null,null,null,null,"（自由記入）",null,null,null,null,null,null,null,"（自由記入）",null,null,null,null,null,null,null,null,null,null,null,null,null,null,null,{"$f":"AL158","v":0}]
[null,null,{"$f":"IFERROR(OFFSET(業務!$AE$5,MATCH(AE158,業務!$I$6:$I$59,0),0),\"\")","v":""},null,null,null,null,{"$f":"IFERROR(OFFSET(業務!$AF$5,MATCH(AE158,業務!$I$6:$I$59,0),0),\"\")","v":""},null,null,null,null,null,{"$f":"IFERROR(OFFSET(業務!$AG$5,MATCH(AE158,業務!$I$6:$I$59,0),0),\"\")","v":""},null,null,null,null,null,null,null,{"$f":"IFERROR(OFFSET(業務!$AH$5,MATCH(AE158,業務!$I$6:$I$59,0),0),\"\")","v":""},null,null,null,null,null,null,null,null,null,null,null,null,null,null,null,0]
[null,null,null,null,null,null,null,null,null,null,null,null,null,null,null,null,null,null,null,null,null,null,null,null,null,null,null,null,null,null,null,null,null,null,null,null,null,0]
[null,null,{"$f":"IFERROR(OFFSET(業務!$K$5,MATCH(AE162,業務!$I$6:$I$59,0),0),\"\")","v":""},null,{"$f":"IFERROR(OFFSET(業務!$L$5,MATCH(AE162,業務!$I$6:$I$59,0),0),\"\")","v":""},null,null,{"$f":"IFERROR(OFFSET(業務!$M$5,MATCH(AE162,業務!$I$6:$I$59,0),0),\"\")","v":""},null,null,null,null,null,null,null,null,null,null,{"$f":"IFERROR(OFFSET(業務!$N$5,MATCH(AE162,業務!$I$6:$I$59,0),0),\"\")","v":""},null,null,null,null,null,null,null,null,null,null,null,40,null,null,null,null,null,null,{"$f":"IF(AE162<=$AE$5,1,0)","v":0}]
[null,null,"（実施時期）",null,null,null,null,"（誰が）",null,null,null,null,null,"（自由記入）",null,null,null,null,null,null,null,"（自由記入）",null,null,null,null,null,null,null,null,null,null,null,null,null,null,null,{"$f":"AL162","v":0}]
[null,null,{"$f":"IFERROR(OFFSET(業務!$AE$5,MATCH(AE162,業務!$I$6:$I$59,0),0),\"\")","v":""},null,null,null,null,{"$f":"IFERROR(OFFSET(業務!$AF$5,MATCH(AE162,業務!$I$6:$I$59,0),0),\"\")","v":""},null,null,null,null,null,{"$f":"IFERROR(OFFSET(業務!$AG$5,MATCH(AE162,業務!$I$6:$I$59,0),0),\"\")","v":""},null,null,null,null,null,null,null,{"$f":"IFERROR(OFFSET(業務!$AH$5,MATCH(AE162,業務!$I$6:$I$59,0),0),\"\")","v":""},null,null,null,null,null,null,null,null,null,null,null,null,null,null,null,0]
[null,null,null,null,null,null,null,null,null,null,null,null,null,null,null,null,null,null,null,null,null,null,null,null,null,null,null,null,null,null,null,null,null,null,null,null,null,0]
[null,null,{"$f":"IFERROR(OFFSET(業務!$K$5,MATCH(AE166,業務!$I$6:$I$59,0),0),\"\")","v":""},null,{"$f":"IFERROR(OFFSET(業務!$L$5,MATCH(AE166,業務!$I$6:$I$59,0),0),\"\")","v":""},null,null,{"$f":"IFERROR(OFFSET(業務!$M$5,MATCH(AE166,業務!$I$6:$I$59,0),0),\"\")","v":""},null,null,null,null,null,null,null,null,null,null,{"$f":"IFERROR(OFFSET(業務!$N$5,MATCH(AE166,業務!$I$6:$I$59,0),0),\"\")","v":""},null,null,null,null,null,null,null,null,null,null,null,41,null,null,null,null,null,null,{"$f":"IF(AE166<=$AE$5,1,0)","v":0}]
[null,null,"（実施時期）",null,null,null,null,"（誰が）",null,null,null,null,null,"（自由記入）",null,null,null,null,null,null,null,"（自由記入）",null,null,null,null,null,null,null,null,null,null,null,null,null,null,null,{"$f":"AL166","v":0}]
[null,null,{"$f":"IFERROR(OFFSET(業務!$AE$5,MATCH(AE166,業務!$I$6:$I$59,0),0),\"\")","v":""},null,null,null,null,{"$f":"IFERROR(OFFSET(業務!$AF$5,MATCH(AE166,業務!$I$6:$I$59,0),0),\"\")","v":""},null,null,null,null,null,{"$f":"IFERROR(OFFSET(業務!$AG$5,MATCH(AE166,業務!$I$6:$I$59,0),0),\"\")","v":""},null,null,null,null,null,null,null,{"$f":"IFERROR(OFFSET(業務!$AH$5,MATCH(AE166,業務!$I$6:$I$59,0),0),\"\")","v":""},null,null,null,null,null,null,null,null,null,null,null,null,null,null,null,0]
[null,null,null,null,null,null,null,null,null,null,null,null,null,null,null,null,null,null,null,null,null,null,null,null,null,null,null,null,null,null,null,null,null,null,null,null,null,0]
[null,null,{"$f":"IFERROR(OFFSET(業務!$K$5,MATCH(AE170,業務!$I$6:$I$59,0),0),\"\")","v":""},null,{"$f":"IFERROR(OFFSET(業務!$L$5,MATCH(AE170,業務!$I$6:$I$59,0),0),\"\")","v":""},null,null,{"$f":"IFERROR(OFFSET(業務!$M$5,MATCH(AE170,業務!$I$6:$I$59,0),0),\"\")","v":""},null,null,null,null,null,null,null,null,null,null,{"$f":"IFERROR(OFFSET(業務!$N$5,MATCH(AE170,業務!$I$6:$I$59,0),0),\"\")","v":""},null,null,null,null,null,null,null,null,null,null,null,42,null,null,null,null,null,null,{"$f":"IF(AE170<=$AE$5,1,0)","v":0}]
[null,null,"（実施時期）",null,null,null,null,"（誰が）",null,null,null,null,null,"（自由記入）",null,null,null,null,null,null,null,"（自由記入）",null,null,null,null,null,null,null,null,null,null,null,null,null,null,null,{"$f":"AL170","v":0}]
[null,null,{"$f":"IFERROR(OFFSET(業務!$AE$5,MATCH(AE170,業務!$I$6:$I$59,0),0),\"\")","v":""},null,null,null,null,{"$f":"IFERROR(OFFSET(業務!$AF$5,MATCH(AE170,業務!$I$6:$I$59,0),0),\"\")","v":""},null,null,null,null,null,{"$f":"IFERROR(OFFSET(業務!$AG$5,MATCH(AE170,業務!$I$6:$I$59,0),0),\"\")","v":""},null,null,null,null,null,null,null,{"$f":"IFERROR(OFFSET(業務!$AH$5,MATCH(AE170,業務!$I$6:$I$59,0),0),\"\")","v":""},null,null,null,null,null,null,null,null,null,null,null,null,null,null,null,0]
[null,null,null,null,null,null,null,null,null,null,null,null,null,null,null,null,null,null,null,null,null,null,null,null,null,null,null,null,null,null,null,null,null,null,null,null,null,0]
[null,null,{"$f":"IFERROR(OFFSET(業務!$K$5,MATCH(AE174,業務!$I$6:$I$59,0),0),\"\")","v":""},null,{"$f":"IFERROR(OFFSET(業務!$L$5,MATCH(AE174,業務!$I$6:$I$59,0),0),\"\")","v":""},null,null,{"$f":"IFERROR(OFFSET(業務!$M$5,MATCH(AE174,業務!$I$6:$I$59,0),0),\"\")","v":""},null,null,null,null,null,null,null,null,null,null,{"$f":"IFERROR(OFFSET(業務!$N$5,MATCH(AE174,業務!$I$6:$I$59,0),0),\"\")","v":""},null,null,null,null,null,null,null,null,null,null,null,43,null,null,null,null,null,null,{"$f":"IF(AE174<=$AE$5,1,0)","v":0}]
[null,null,"（実施時期）",null,null,null,null,"（誰が）",null,null,null,null,null,"（自由記入）",null,null,null,null,null,null,null,"（自由記入）",null,null,null,null,null,null,null,null,null,null,null,null,null,null,null,{"$f":"AL174","v":0}]
[null,null,{"$f":"IFERROR(OFFSET(業務!$AE$5,MATCH(AE174,業務!$I$6:$I$59,0),0),\"\")","v":""},null,null,null,null,{"$f":"IFERROR(OFFSET(業務!$AF$5,MATCH(AE174,業務!$I$6:$I$59,0),0),\"\")","v":""},null,null,null,null,null,{"$f":"IFERROR(OFFSET(業務!$AG$5,MATCH(AE174,業務!$I$6:$I$59,0),0),\"\")","v":""},null,null,null,null,null,null,null,{"$f":"IFERROR(OFFSET(業務!$AH$5,MATCH(AE174,業務!$I$6:$I$59,0),0),\"\")","v":""},null,null,null,null,null,null,null,null,null,null,null,null,null,null,null,0]
[null,null,null,null,null,null,null,null,null,null,null,null,null,null,null,null,null,null,null,null,null,null,null,null,null,null,null,null,null,null,null,null,null,null,null,null,null,0]
[null,null,{"$f":"IFERROR(OFFSET(業務!$K$5,MATCH(AE178,業務!$I$6:$I$59,0),0),\"\")","v":""},null,{"$f":"IFERROR(OFFSET(業務!$L$5,MATCH(AE178,業務!$I$6:$I$59,0),0),\"\")","v":""},null,null,{"$f":"IFERROR(OFFSET(業務!$M$5,MATCH(AE178,業務!$I$6:$I$59,0),0),\"\")","v":""},null,null,null,null,null,null,null,null,null,null,{"$f":"IFERROR(OFFSET(業務!$N$5,MATCH(AE178,業務!$I$6:$I$59,0),0),\"\")","v":""},null,null,null,null,null,null,null,null,null,null,null,44,null,null,null,null,null,null,{"$f":"IF(AE178<=$AE$5,1,0)","v":0}]
[null,null,"（実施時期）",null,null,null,null,"（誰が）",null,null,null,null,null,"（自由記入）",null,null,null,null,null,null,null,"（自由記入）",null,null,null,null,null,null,null,null,null,null,null,null,null,null,null,{"$f":"AL178","v":0}]
[null,null,{"$f":"IFERROR(OFFSET(業務!$AE$5,MATCH(AE178,業務!$I$6:$I$59,0),0),\"\")","v":""},null,null,null,null,{"$f":"IFERROR(OFFSET(業務!$AF$5,MATCH(AE178,業務!$I$6:$I$59,0),0),\"\")","v":""},null,null,null,null,null,{"$f":"IFERROR(OFFSET(業務!$AG$5,MATCH(AE178,業務!$I$6:$I$59,0),0),\"\")","v":""},null,null,null,null,null,null,null,{"$f":"IFERROR(OFFSET(業務!$AH$5,MATCH(AE178,業務!$I$6:$I$59,0),0),\"\")","v":""},null,null,null,null,null,null,null,null,null,null,null,null,null,null,null,0]
[null,null,null,null,null,null,null,null,null,null,null,null,null,null,null,null,null,null,null,null,null,null,null,null,null,null,null,null,null,null,null,null,null,null,null,null,null,0]
[null,null,{"$f":"IFERROR(OFFSET(業務!$K$5,MATCH(AE182,業務!$I$6:$I$59,0),0),\"\")","v":""},null,{"$f":"IFERROR(OFFSET(業務!$L$5,MATCH(AE182,業務!$I$6:$I$59,0),0),\"\")","v":""},null,null,{"$f":"IFERROR(OFFSET(業務!$M$5,MATCH(AE182,業務!$I$6:$I$59,0),0),\"\")","v":""},null,null,null,null,null,null,null,null,null,null,{"$f":"IFERROR(OFFSET(業務!$N$5,MATCH(AE182,業務!$I$6:$I$59,0),0),\"\")","v":""},null,null,null,null,null,null,null,null,null,null,null,45,null,null,null,null,null,null,{"$f":"IF(AE182<=$AE$5,1,0)","v":0}]
[null,null,"（実施時期）",null,null,null,null,"（誰が）",null,null,null,null,null,"（自由記入）",null,null,null,null,null,null,null,"（自由記入）",null,null,null,null,null,null,null,null,null,null,null,null,null,null,null,{"$f":"AL182","v":0}]
[null,null,{"$f":"IFERROR(OFFSET(業務!$AE$5,MATCH(AE182,業務!$I$6:$I$59,0),0),\"\")","v":""},null,null,null,null,{"$f":"IFERROR(OFFSET(業務!$AF$5,MATCH(AE182,業務!$I$6:$I$59,0),0),\"\")","v":""},null,null,null,null,null,{"$f":"IFERROR(OFFSET(業務!$AG$5,MATCH(AE182,業務!$I$6:$I$59,0),0),\"\")","v":""},null,null,null,null,null,null,null,{"$f":"IFERROR(OFFSET(業務!$AH$5,MATCH(AE182,業務!$I$6:$I$59,0),0),\"\")","v":""},null,null,null,null,null,null,null,null,null,null,null,null,null,null,null,0]
[null,null,null,null,null,null,null,null,null,null,null,null,null,null,null,null,null,null,null,null,null,null,null,null,null,null,null,null,null,null,null,null,null,null,null,null,null,0]
[null,null,{"$f":"IFERROR(OFFSET(業務!$K$5,MATCH(AE186,業務!$I$6:$I$59,0),0),\"\")","v":""},null,{"$f":"IFERROR(OFFSET(業務!$L$5,MATCH(AE186,業務!$I$6:$I$59,0),0),\"\")","v":""},null,null,{"$f":"IFERROR(OFFSET(業務!$M$5,MATCH(AE186,業務!$I$6:$I$59,0),0),\"\")","v":""},null,null,null,null,null,null,null,null,null,null,{"$f":"IFERROR(OFFSET(業務!$N$5,MATCH(AE186,業務!$I$6:$I$59,0),0),\"\")","v":""},null,null,null,null,null,null,null,null,null,null,null,46,null,null,null,null,null,null,{"$f":"IF(AE186<=$AE$5,1,0)","v":0}]
[null,null,"（実施時期）",null,null,null,null,"（誰が）",null,null,null,null,null,"（自由記入）",null,null,null,null,null,null,null,"（自由記入）",null,null,null,null,null,null,null,null,null,null,null,null,null,null,null,{"$f":"AL186","v":0}]
[null,null,{"$f":"IFERROR(OFFSET(業務!$AE$5,MATCH(AE186,業務!$I$6:$I$59,0),0),\"\")","v":""},null,null,null,null,{"$f":"IFERROR(OFFSET(業務!$AF$5,MATCH(AE186,業務!$I$6:$I$59,0),0),\"\")","v":""},null,null,null,null,null,{"$f":"IFERROR(OFFSET(業務!$AG$5,MATCH(AE186,業務!$I$6:$I$59,0),0),\"\")","v":""},null,null,null,null,null,null,null,{"$f":"IFERROR(OFFSET(業務!$AH$5,MATCH(AE186,業務!$I$6:$I$59,0),0),\"\")","v":""},null,null,null,null,null,null,null,null,null,null,null,null,null,null,null,0]
[null,null,null,null,null,null,null,null,null,null,null,null,null,null,null,null,null,null,null,null,null,null,null,null,null,null,null,null,null,null,null,null,null,null,null,null,null,0]
[null,null,{"$f":"IFERROR(OFFSET(業務!$K$5,MATCH(AE190,業務!$I$6:$I$59,0),0),\"\")","v":""},null,{"$f":"IFERROR(OFFSET(業務!$L$5,MATCH(AE190,業務!$I$6:$I$59,0),0),\"\")","v":""},null,null,{"$f":"IFERROR(OFFSET(業務!$M$5,MATCH(AE190,業務!$I$6:$I$59,0),0),\"\")","v":""},null,null,null,null,null,null,null,null,null,null,{"$f":"IFERROR(OFFSET(業務!$N$5,MATCH(AE190,業務!$I$6:$I$59,0),0),\"\")","v":""},null,null,null,null,null,null,null,null,null,null,null,47,null,null,null,null,null,null,{"$f":"IF(AE190<=$AE$5,1,0)","v":0}]
[null,null,"（実施時期）",null,null,null,null,"（誰が）",null,null,null,null,null,"（自由記入）",null,null,null,null,null,null,null,"（自由記入）",null,null,null,null,null,null,null,null,null,null,null,null,null,null,null,{"$f":"AL190","v":0}]
[null,null,{"$f":"IFERROR(OFFSET(業務!$AE$5,MATCH(AE190,業務!$I$6:$I$59,0),0),\"\")","v":""},null,null,null,null,{"$f":"IFERROR(OFFSET(業務!$AF$5,MATCH(AE190,業務!$I$6:$I$59,0),0),\"\")","v":""},null,null,null,null,null,{"$f":"IFERROR(OFFSET(業務!$AG$5,MATCH(AE190,業務!$I$6:$I$59,0),0),\"\")","v":""},null,null,null,null,null,null,null,{"$f":"IFERROR(OFFSET(業務!$AH$5,MATCH(AE190,業務!$I$6:$I$59,0),0),\"\")","v":""},null,null,null,null,null,null,null,null,null,null,null,null,null,null,null,0]
[null,null,null,null,null,null,null,null,null,null,null,null,null,null,null,null,null,null,null,null,null,null,null,null,null,null,null,null,null,null,null,null,null,null,null,null,null,0]
[null,null,{"$f":"IFERROR(OFFSET(業務!$K$5,MATCH(AE194,業務!$I$6:$I$59,0),0),\"\")","v":""},null,{"$f":"IFERROR(OFFSET(業務!$L$5,MATCH(AE194,業務!$I$6:$I$59,0),0),\"\")","v":""},null,null,{"$f":"IFERROR(OFFSET(業務!$M$5,MATCH(AE194,業務!$I$6:$I$59,0),0),\"\")","v":""},null,null,null,null,null,null,null,null,null,null,{"$f":"IFERROR(OFFSET(業務!$N$5,MATCH(AE194,業務!$I$6:$I$59,0),0),\"\")","v":""},null,null,null,null,null,null,null,null,null,null,null,48,null,null,null,null,null,null,{"$f":"IF(AE194<=$AE$5,1,0)","v":0}]
[null,null,"（実施時期）",null,null,null,null,"（誰が）",null,null,null,null,null,"（自由記入）",null,null,null,null,null,null,null,"（自由記入）",null,null,null,null,null,null,null,null,null,null,null,null,null,null,null,{"$f":"AL194","v":0}]
[null,null,{"$f":"IFERROR(OFFSET(業務!$AE$5,MATCH(AE194,業務!$I$6:$I$59,0),0),\"\")","v":""},null,null,null,null,{"$f":"IFERROR(OFFSET(業務!$AF$5,MATCH(AE194,業務!$I$6:$I$59,0),0),\"\")","v":""},null,null,null,null,null,{"$f":"IFERROR(OFFSET(業務!$AG$5,MATCH(AE194,業務!$I$6:$I$59,0),0),\"\")","v":""},null,null,null,null,null,null,null,{"$f":"IFERROR(OFFSET(業務!$AH$5,MATCH(AE194,業務!$I$6:$I$59,0),0),\"\")","v":""},null,null,null,null,null,null,null,null,null,null,null,null,null,null,null,0]
[null,null,null,null,null,null,null,null,null,null,null,null,null,null,null,null,null,null,null,null,null,null,null,null,null,null,null,null,null,null,null,null,null,null,null,null,null,0]
[null,null,{"$f":"IFERROR(OFFSET(業務!$K$5,MATCH(AE198,業務!$I$6:$I$59,0),0),\"\")","v":""},null,{"$f":"IFERROR(OFFSET(業務!$L$5,MATCH(AE198,業務!$I$6:$I$59,0),0),\"\")","v":""},null,null,{"$f":"IFERROR(OFFSET(業務!$M$5,MATCH(AE198,業務!$I$6:$I$59,0),0),\"\")","v":""},null,null,null,null,null,null,null,null,null,null,{"$f":"IFERROR(OFFSET(業務!$N$5,MATCH(AE198,業務!$I$6:$I$59,0),0),\"\")","v":""},null,null,null,null,null,null,null,null,null,null,null,49,null,null,null,null,null,null,{"$f":"IF(AE198<=$AE$5,1,0)","v":0}]
[null,null,"（実施時期）",null,null,null,null,"（誰が）",null,null,null,null,null,"（自由記入）",null,null,null,null,null,null,null,"（自由記入）",null,null,null,null,null,null,null,null,null,null,null,null,null,null,null,{"$f":"AL198","v":0}]
[null,null,{"$f":"IFERROR(OFFSET(業務!$AE$5,MATCH(AE198,業務!$I$6:$I$59,0),0),\"\")","v":""},null,null,null,null,{"$f":"IFERROR(OFFSET(業務!$AF$5,MATCH(AE198,業務!$I$6:$I$59,0),0),\"\")","v":""},null,null,null,null,null,{"$f":"IFERROR(OFFSET(業務!$AG$5,MATCH(AE198,業務!$I$6:$I$59,0),0),\"\")","v":""},null,null,null,null,null,null,null,{"$f":"IFERROR(OFFSET(業務!$AH$5,MATCH(AE198,業務!$I$6:$I$59,0),0),\"\")","v":""},null,null,null,null,null,null,null,null,null,null,null,null,null,null,null,0]
[null,null,null,null,null,null,null,null,null,null,null,null,null,null,null,null,null,null,null,null,null,null,null,null,null,null,null,null,null,null,null,null,null,null,null,null,null,0]
[null,null,{"$f":"IFERROR(OFFSET(業務!$K$5,MATCH(AE202,業務!$I$6:$I$59,0),0),\"\")","v":""},null,{"$f":"IFERROR(OFFSET(業務!$L$5,MATCH(AE202,業務!$I$6:$I$59,0),0),\"\")","v":""},null,null,{"$f":"IFERROR(OFFSET(業務!$M$5,MATCH(AE202,業務!$I$6:$I$59,0),0),\"\")","v":""},null,null,null,null,null,null,null,null,null,null,{"$f":"IFERROR(OFFSET(業務!$N$5,MATCH(AE202,業務!$I$6:$I$59,0),0),\"\")","v":""},null,null,null,null,null,null,null,null,null,null,null,50,null,null,null,null,null,null,{"$f":"IF(AE202<=$AE$5,1,0)","v":0}]
[null,null,"（実施時期）",null,null,null,null,"（誰が）",null,null,null,null,null,"（自由記入）",null,null,null,null,null,null,null,"（自由記入）",null,null,null,null,null,null,null,null,null,null,null,null,null,null,null,{"$f":"AL202","v":0}]
[null,null,{"$f":"IFERROR(OFFSET(業務!$AE$5,MATCH(AE202,業務!$I$6:$I$59,0),0),\"\")","v":""},null,null,null,null,{"$f":"IFERROR(OFFSET(業務!$AF$5,MATCH(AE202,業務!$I$6:$I$59,0),0),\"\")","v":""},null,null,null,null,null,{"$f":"IFERROR(OFFSET(業務!$AG$5,MATCH(AE202,業務!$I$6:$I$59,0),0),\"\")","v":""},null,null,null,null,null,null,null,{"$f":"IFERROR(OFFSET(業務!$AH$5,MATCH(AE202,業務!$I$6:$I$59,0),0),\"\")","v":""},null,null,null,null,null,null,null,null,null,null,null,null,null,null,null,0]
[null,null,null,null,null,null,null,null,null,null,null,null,null,null,null,null,null,null,null,null,null,null,null,null,null,null,null,null,null,null,null,null,null,null,null,null,null,0]
[null,null,{"$f":"IFERROR(OFFSET(業務!$K$5,MATCH(AE206,業務!$I$6:$I$59,0),0),\"\")","v":""},null,{"$f":"IFERROR(OFFSET(業務!$L$5,MATCH(AE206,業務!$I$6:$I$59,0),0),\"\")","v":""},null,null,{"$f":"IFERROR(OFFSET(業務!$M$5,MATCH(AE206,業務!$I$6:$I$59,0),0),\"\")","v":""},null,null,null,null,null,null,null,null,null,null,{"$f":"IFERROR(OFFSET(業務!$N$5,MATCH(AE206,業務!$I$6:$I$59,0),0),\"\")","v":""},null,null,null,null,null,null,null,null,null,null,null,51,null,null,null,null,null,null,{"$f":"IF(AE206<=$AE$5,1,0)","v":0}]
[null,null,"（実施時期）",null,null,null,null,"（誰が）",null,null,null,null,null,"（自由記入）",null,null,null,null,null,null,null,"（自由記入）",null,null,null,null,null,null,null,null,null,null,null,null,null,null,null,{"$f":"AL206","v":0}]
[null,null,{"$f":"IFERROR(OFFSET(業務!$AE$5,MATCH(AE206,業務!$I$6:$I$59,0),0),\"\")","v":""},null,null,null,null,{"$f":"IFERROR(OFFSET(業務!$AF$5,MATCH(AE206,業務!$I$6:$I$59,0),0),\"\")","v":""},null,null,null,null,null,{"$f":"IFERROR(OFFSET(業務!$AG$5,MATCH(AE206,業務!$I$6:$I$59,0),0),\"\")","v":""},null,null,null,null,null,null,null,{"$f":"IFERROR(OFFSET(業務!$AH$5,MATCH(AE206,業務!$I$6:$I$59,0),0),\"\")","v":""},null,null,null,null,null,null,null,null,null,null,null,null,null,null,null,0]
[null,null,null,null,null,null,null,null,null,null,null,null,null,null,null,null,null,null,null,null,null,null,null,null,null,null,null,null,null,null,null,null,null,null,null,null,null,0]
[null,null,{"$f":"IFERROR(OFFSET(業務!$K$5,MATCH(AE210,業務!$I$6:$I$59,0),0),\"\")","v":""},null,{"$f":"IFERROR(OFFSET(業務!$L$5,MATCH(AE210,業務!$I$6:$I$59,0),0),\"\")","v":""},null,null,{"$f":"IFERROR(OFFSET(業務!$M$5,MATCH(AE210,業務!$I$6:$I$59,0),0),\"\")","v":""},null,null,null,null,null,null,null,null,null,null,{"$f":"IFERROR(OFFSET(業務!$N$5,MATCH(AE210,業務!$I$6:$I$59,0),0),\"\")","v":""},null,null,null,null,null,null,null,null,null,null,null,52,null,null,null,null,null,null,{"$f":"IF(AE210<=$AE$5,1,0)","v":0}]
[null,null,"（実施時期）",null,null,null,null,"（誰が）",null,null,null,null,null,"（自由記入）",null,null,null,null,null,null,null,"（自由記入）",null,null,null,null,null,null,null,null,null,null,null,null,null,null,null,{"$f":"AL210","v":0}]
[null,null,{"$f":"IFERROR(OFFSET(業務!$AE$5,MATCH(AE210,業務!$I$6:$I$59,0),0),\"\")","v":""},null,null,null,null,{"$f":"IFERROR(OFFSET(業務!$AF$5,MATCH(AE210,業務!$I$6:$I$59,0),0),\"\")","v":""},null,null,null,null,null,{"$f":"IFERROR(OFFSET(業務!$AG$5,MATCH(AE210,業務!$I$6:$I$59,0),0),\"\")","v":""},null,null,null,null,null,null,null,{"$f":"IFERROR(OFFSET(業務!$AH$5,MATCH(AE210,業務!$I$6:$I$59,0),0),\"\")","v":""},null,null,null,null,null,null,null,null,null,null,null,null,null,null,null,0]
[null,null,null,null,null,null,null,null,null,null,null,null,null,null,null,null,null,null,null,null,null,null,null,null,null,null,null,null,null,null,null,null,null,null,null,null,null,0]
[null,null,{"$f":"IFERROR(OFFSET(業務!$K$5,MATCH(AE214,業務!$I$6:$I$59,0),0),\"\")","v":""},null,{"$f":"IFERROR(OFFSET(業務!$L$5,MATCH(AE214,業務!$I$6:$I$59,0),0),\"\")","v":""},null,null,{"$f":"IFERROR(OFFSET(業務!$M$5,MATCH(AE214,業務!$I$6:$I$59,0),0),\"\")","v":""},null,null,null,null,null,null,null,null,null,null,{"$f":"IFERROR(OFFSET(業務!$N$5,MATCH(AE214,業務!$I$6:$I$59,0),0),\"\")","v":""},null,null,null,null,null,null,null,null,null,null,null,53,null,null,null,null,null,null,{"$f":"IF(AE214<=$AE$5,1,0)","v":0}]
[null,null,"（実施時期）",null,null,null,null,"（誰が）",null,null,null,null,null,"（自由記入）",null,null,null,null,null,null,null,"（自由記入）",null,null,null,null,null,null,null,null,null,null,null,null,null,null,null,{"$f":"AL214","v":0}]
[null,null,{"$f":"IFERROR(OFFSET(業務!$AE$5,MATCH(AE214,業務!$I$6:$I$59,0),0),\"\")","v":""},null,null,null,null,{"$f":"IFERROR(OFFSET(業務!$AF$5,MATCH(AE214,業務!$I$6:$I$59,0),0),\"\")","v":""},null,null,null,null,null,{"$f":"IFERROR(OFFSET(業務!$AG$5,MATCH(AE214,業務!$I$6:$I$59,0),0),\"\")","v":""},null,null,null,null,null,null,null,{"$f":"IFERROR(OFFSET(業務!$AH$5,MATCH(AE214,業務!$I$6:$I$59,0),0),\"\")","v":""},null,null,null,null,null,null,null,null,null,null,null,null,null,null,null,0]
[null,null,null,null,null,null,null,null,null,null,null,null,null,null,null,null,null,null,null,null,null,null,null,null,null,null,null,null,null,null,null,null,null,null,null,null,null,0]
[null,null,{"$f":"IFERROR(OFFSET(業務!$K$5,MATCH(AE218,業務!$I$6:$I$59,0),0),\"\")","v":""},null,{"$f":"IFERROR(OFFSET(業務!$L$5,MATCH(AE218,業務!$I$6:$I$59,0),0),\"\")","v":""},null,null,{"$f":"IFERROR(OFFSET(業務!$M$5,MATCH(AE218,業務!$I$6:$I$59,0),0),\"\")","v":""},null,null,null,null,null,null,null,null,null,null,{"$f":"IFERROR(OFFSET(業務!$N$5,MATCH(AE218,業務!$I$6:$I$59,0),0),\"\")","v":""},null,null,null,null,null,null,null,null,null,null,null,54,null,null,null,null,null,null,{"$f":"IF(AE218<=$AE$5,1,0)","v":0}]
[null,null,"（実施時期）",null,null,null,null,"（誰が）",null,null,null,null,null,"（自由記入）",null,null,null,null,null,null,null,"（自由記入）",null,null,null,null,null,null,null,null,null,null,null,null,null,null,null,{"$f":"AL218","v":0}]
[null,null,{"$f":"IFERROR(OFFSET(業務!$AE$5,MATCH(AE218,業務!$I$6:$I$59,0),0),\"\")","v":""},null,null,null,null,{"$f":"IFERROR(OFFSET(業務!$AF$5,MATCH(AE218,業務!$I$6:$I$59,0),0),\"\")","v":""},null,null,null,null,null,{"$f":"IFERROR(OFFSET(業務!$AG$5,MATCH(AE218,業務!$I$6:$I$59,0),0),\"\")","v":""},null,null,null,null,null,null,null,{"$f":"IFERROR(OFFSET(業務!$AH$5,MATCH(AE218,業務!$I$6:$I$59,0),0),\"\")","v":""},null,null,null,null,null,null,null,null,null,null,null,null,null,null,null,0]
[null,null,null,null,null,null,null,null,null,null,null,null,null,null,null,null,null,null,null,null,null,null,null,null,null,null,null,null,null,null,null,null,null,null,null,null,null,0]