Workbook

Sheet 施工計画書
I1: 様式２
G2: 令和 年 月 日
A4: 道路損傷復旧工事に係る施工計画書
A6: 道路管理者
A7: 中部地方整備局長 殿
E8: （施工予定会社）
E9: 住 所
E10: 商号又は名称
E11: 代表者氏名
E12: 連絡先
A14: 下記の道路損傷復旧工事については、原因者（又は「原因者の使用者」）／原因者（又は「原因者の使用者」）が加入している保険会社からの依頼により、当社が施行することになったので、別添のとおり関係書類を提出します。 なお、当社は「暴力団員による不当な行為の防止等に関する法律（平成3年5月15日法律第77号）第32条第１項各号に該当する者ではないことを誓約します。 また、工事の施行にあたっては中部地方整備局土木工事特記仕様書を遵守し、貴局の指示に従います。
A20: 記
A22: １．施行予定の復旧工事
B23: 損傷番号
B24: 原因者の氏名
B25: 施工場所
B26: 復旧物件 | D26: 物 件 名 | H26: 数量 | I26: 単位
A33: ２．工事施行希望日（又は期間）
B34: 年 月 日 （又は 年 月 日～ 年 月 日の内○日間）
A36: ３．加入保険会社
B37: 保険会社名
B38: 担当者
B39: 連絡先
A41: ４．添付書類
B42: ◆主要資材図面＜品名、規格、数量等＞
B43: ◆交通規制図 ※交通規制を伴う場合
B44: ◆緊急時の連絡体制及び対応
B45: ◆その他（ ）

Sheet 着手届
I1: 様式６
G3: 令和 年 月 日
A5: 工 事 着 手 届
A7: ○○○○事務所
A8: ○○○○出張所長 殿
E9: （施工会社）
E10: 住 所 | F10: =施工計画書!F9 -> 0
E11: 商号又は名称 | F11: =施工計画書!F10 -> 0
E12: 代表者氏名 | F12: =施工計画書!F11 -> 0
D14: 付け | G14: で命令のあった道路損傷復旧
A15: 工事を下記のとおり着手するので届け出ます。
A17: 記
A19: １．命令を受けた復旧工事
B20: 損傷番号 | D20: =施工計画書!D23 -> 0
B21: 施工場所 | D21: =施工計画書!D25 -> 0
B22: 復旧物件 | D22: 物 件 名 | H22: 数量 | I22: 単位
D23: =施工計画書!D27 -> 0 | H23: =施工計画書!H27 -> 0 | I23: =施工計画書!I27 -> 0
D24: =施工計画書!D28 -> 0 | H24: =施工計画書!H28 -> 0 | I24: =施工計画書!I28 -> 0
D25: =施工計画書!D29 -> 0 | H25: =施工計画書!H29 -> 0 | I25: =施工計画書!I29 -> 0
D26: =施工計画書!D30 -> 0 | H26: =施工計画書!H30 -> 0 | I26: =施工計画書!I30 -> 0
D27: =施工計画書!D31 -> 0 | H27: =施工計画書!H31 -> 0 | I27: =施工計画書!I31 -> 0
A29: ２．着手等予定年月日
B30: 着手予定年月日 | D30: 令和 年 月 日
B31: 完了予定年月日 | D31: 令和 年 月 日
A33: ３．工事責任者
B34: 氏 名 | F34: 連絡先
A36: ４．添付書類
B37: ◆道路使用許可書写し ※交通規制を伴う場合

Sheet 完了届兼引渡書
I1: 様式７
G3: 令和 年 月 日
A5: 工 事 完 了 届 兼 引 渡 書
A7: =着手届!A7 -> ○○○○事務所
A8: =着手届!A8 -> ○○○○出張所長 殿
E10: （施工会社）
E11: 住 所 | F11: =着手届!F10 -> 0
E12: 商号又は名称 | F12: =着手届!F11 -> 0
E13: 代表者氏名 | F13: =着手届!F12 -> 0
D16: 付け | E16: =着手届!E14 -> 0 | G16: で命令のあった道路損傷復旧
A17: 工事が、下記のとおり完了したので届け出ます。
A18: また、検査合格日と同日付けをもって同工事の目的物を道路管理者に引き渡します。
A20: 記
A22: １．命令を受けた復旧工事（工事の目的物）
B23: 損傷番号 | D23: =着手届!D20 -> 0
B24: 施工場所 | D24: =着手届!D21 -> 0
B25: 復旧物件 | D25: 物 件 名 | H25: 数量 | I25: 単位
D26: =着手届!D23 -> 0 | H26: =着手届!H23 -> 0 | I26: =着手届!I23 -> 0
D27: =着手届!D24 -> 0 | H27: =着手届!H24 -> 0 | I27: =着手届!I24 -> 0
D28: =着手届!D25 -> 0 | H28: =着手届!H25 -> 0 | I28: =着手届!I25 -> 0
D29: =着手届!D26 -> 0 | H29: =着手届!H26 -> 0 | I29: =着手届!I26 -> 0
D30: =着手届!D27 -> 0 | H30: =着手届!H27 -> 0 | I30: =着手届!I27 -> 0
A32: ２．完了年月日 | D32: 令和 年 月 日
A34: ３．工事責任者
B35: 氏 名 | D35: =着手届!D34 -> 0 | F35: 連絡先 | G35: =着手届!G34 -> 0
A37: ４．添付書類
B38: ◆工事写真（着手前・完了後） 等

Sheet 現場発生品調書
O1: 様式１２
K3: 令和 年 月 日
A5: =完了届兼引渡書!A7 -> ○○○○事務所
A6: =完了届兼引渡書!A8 -> ○○○○出張所長 殿
F8: （施工会社）
F9: 住 所 | I9: =完了届兼引渡書!F11 -> 0
F10: 商号又は名称 | I10: =完了届兼引渡書!F12 -> 0
F11: 代表者氏名 | I11: =完了届兼引渡書!F13 -> 0
A13: 現 場 発 生 品 調 書
A15: 一般国道 | D15: 号 | E15: =完了届兼引渡書!D24 -> 0 | K15: 地内における道路損傷復旧工事に
A17: より下記の発生品があるので、届出します。
A19: 記
A21: 品 名 | E21: 規 格 | I21: 単位 | J21: 数 量 | K21: 保 管 場 所
