Workbook

Sheet 調査の目的等
B2: ＩＣＴ活用工事の活用効果等に関する調査の概要（共通編）
B4: １．調査の目的
B6: ・i-Constructionの定量的・定性的効果を把握するとともに、i-Construction関連基準類等に対する要望を聴取します。
B7: ２．調査時期・調査対象者 ・i-Construction活用工事期間中、ICT活用工事において下記①～⑤の各段階※を実施した時点で、適宜、施工者が回答を記入して下さい。提出時期は①～⑤まで完了した段階でかまいません。 ① 3次元起工測量 ② 3次元設計データ作成 ③ ICT建設機械による施工 ④ 3次元出来形管理等の施工管理 ⑤ 3次元データの納品 ※工種によって異なりますので、該当工種の実施要領でご確認下さい。
B9: ３．調査結果の集計により把握したい内容
B10: （１）工事概要・会社概要
B11: （２）上記①～⑤の各段階における定量的、定性的効果
B12: （３）基準・要領類やi-Constructionに対する要望
B15: ４．調査票の構成
B16: ＩＣＴ活用工事の活用効果等に関する調査記入様式
B17: 基本情報
B18: ＩＣＴ工事の適用範囲
... B36: メールアドレス：cbr-ict@mlit.go.jp

Sheet 調査票
A1: ＩＣＴ活用工事の活用効果等に関する調査記入様式（共通編） (様式:R8-01)
A2: （１）基本情報
A3: 工事名
A4: 発注機関の分類 | D4: ：国土交通省、地方公共団体（都道府県）を選択
A5: 発注機関の整備局名 | D5: ：工事発注者（整備局名）を選択（地方公共団体の場合は未入力）
A6: 発注機関の県名 | D6: ：工事発注者（県名）を入力（国土交通省の場合は未入力）
A7: 発注者名 | G7: 道路土工 | H7: 国土交通省 | I7: 北海道開発局 | J7: ICT土工
A8: 施工場所 | G8: 河川土工 | H8: 地方公共団体（都道府県） | I8: 東北地方整備局 | J8: ICT作業土工（床堀）
A9: 発注金額 | D9: ：発注者が記入（税込)
A10: 契約金額（当初） | D10: ：発注者が記入（税込)
A11: 契約金額（最終） | D11: ：発注者が記入（税込)
A12: 工期 | B12: 始 | D12: ：全体工期 | G12: 砂防土工 | I12: 関東地方整備局 | J12: ICT土工1,000㎥未満
B13: 終 | D13: ：全体工期（変更があった場合は最終） | E13: =C13-C12 -> 0 | F13: 日 | G13: 河川道路混在 | I13: 北陸地方整備局 | J13: ICT小規模土工
A14: 工期（ＩＣＴ） | B14: 始 | D14: ：ＩＣＴ建機が現場で稼働した時期 | G14: 舗装 | I14: 中部地方整備局 | J14: ICT法面工
B15: 終 | D15: ：ＩＣＴ建機が現場で稼働した時期 | E15: =C15-C14 -> 0 | F15: 日 | G15: その他 | I15: 近畿地方整備局 | J15: ICT付帯構造物設置工
A16: 工事種別 | D16: ：リストに該当が無ければ手入力 | I16: 中国地方整備局 | J16: ICT擁壁工
A17: 発注形態 | I17: 四国地方整備局 | J17: ICT地盤改良工
I18: 九州地方整備局 | J18: ICT基礎工
A19: 工事内容（全体数量） （各工種での総数量（通常施工＋ＩＣＴ施工）とする。） | B19: 土工（掘削） | D19: ｍ３ | I19: 沖縄総合事務局 | J19: ICT河川浚渫工
B20: 土工（河床等掘削） | D20: ｍ３ | J20: ICT舗装工
B21: 土工（盛土工） | D21: ｍ３ | J21: ICT舗装工（修繕工）
B22: 舗装工 | D22: ｍ２ | J22: ICT構造物工（橋梁上部）
B23: 舗装修繕工 | D23: ｍ２ | J23: ICT構造物工（橋脚・鏡台）
B24: 浚渫工 | D24: ｍ３
B25: 法面整形工 | D25: ｍ２
B26: 吹付法枠工 | D26: ｍ２
B27: 地盤改良工（表層安定処理工） | D27: ｍ３
B28: 地盤改良工（中層混合処理） | D28: ｍ３
B29: 地盤改良工（固結工(スラリー撹拌工)） | D29: 本
B30: 地盤改良工（ペーパードレーン工） | D30: 本
A31: 上記以外の工種・種別 ※プルダウンより選択 プルダウン工種がなければ手入力 | G31: 法面工（植生）
G32: 法面工（吹付） | I32: ｍ
G33: 吹付法枠工 | I33: ｍ２
G34: 擁壁工 | I34: ｍ３
G35: 補強土壁工 | I35: 式
A36: 工事全体延長 | D36: ｍ | G36: 防護柵工 | I36: ｔ
A37: 工事内容（ＩＣＴ施工対象数量） （上記工事内容と同じ数量の場合は割愛する） 「地盤改良工」（単独によるＩＣＴ施工の場合）については、別冊の調査票（地盤改良編）へ記入する | B37: 土工（掘削） | D37: ｍ３ | G37: 作業土工（床堀）
B38: 土工（河床等掘削） | D38: ｍ３ | G38: 付帯構造物設置工（各工種）
B39: 土工（盛土工） | D39: ｍ３ | G39: 法面整形工（1,000㎥未満）
B40: 舗装工 | D40: ｍ２ | G40: 側溝工（暗渠工）
...

Sheet 調査票 (記載例)
A1: ＩＣＴ活用工事の活用効果等に関する調査記入様式（共通編） (様式:R8-01)
A2: （１）基本情報
A3: 工事名 | C3: ○○改良工事
A4: 発注機関の分類 | C4: 国土交通省 | D4: ：国土交通省、地方公共団体（都道府県）を選択
A5: 発注機関の整備局名 | C5: 近畿地方整備局 | D5: ：工事発注者（整備局名）を選択（地方公共団体の場合は未入力）
A6: 発注機関の県名 | D6: ：工事発注者（県名）を入力（国土交通省の場合は未入力）
A7: 発注者名 | C7: ○○地方整備局 ○○河川国道事務所 | G7: 道路土工 | H7: 国土交通省 | I7: 北海道開発局 | J7: ICT土工
A8: 施工場所 | C8: 静岡県富士市大淵地先 | G8: 河川土工 | H8: 地方公共団体（都道府県） | I8: 東北地方整備局 | J8: ICT作業土工（床堀）
A9: 発注金額 | D9: ：発注者が記入（税込)
A10: 契約金額（当初） | D10: ：発注者が記入（税込)
A11: 契約金額（最終） | D11: ：発注者が記入（税込)
A12: 工期 | B12: 始 | C12: 46117 | D12: ：全体工期 | G12: 砂防土工 | I12: 関東地方整備局 | J12: ICT土工1,000㎥未満
B13: 終 | C13: 46433 | D13: ：全体工期（変更があった場合は最終） | E13: =C13-C12 -> 316 | F13: 日 | G13: 河川道路混在 | I13: 北陸地方整備局 | J13: ICT小規模土工
A14: 工期（ＩＣＴ） | B14: 始 | C14: 46193 | D14: ：ＩＣＴ建機が現場で稼働した時期 | G14: 舗装 | I14: 中部地方整備局 | J14: ICT法面工
B15: 終 | C15: 46366 | D15: ：ＩＣＴ建機が現場で稼働した時期 | E15: =C15-C14 -> 173 | F15: 日 | G15: その他 | I15: 近畿地方整備局 | J15: ICT付帯構造物設置工
A16: 工事種別 | C16: 道路土工 | D16: ：リストに該当が無ければ手入力 | I16: 中国地方整備局 | J16: ICT擁壁工
A17: 発注形態 | I17: 四国地方整備局 | J17: ICT地盤改良工
I18: 九州地方整備局 | J18: ICT基礎工
A19: 工事内容（全体数量） （各工種での総数量（通常施工＋ＩＣＴ施工）とする。） | B19: 土工（掘削） | C19: 12000 | D19: ｍ３ | I19: 沖縄総合事務局 | J19: ICT河川浚渫工
B20: 土工（河床等掘削） | D20: ｍ３ | J20: ICT舗装工
B21: 土工（盛土工） | C21: 5000 | D21: ｍ３ | J21: ICT舗装工（修繕工）
B22: 舗装工 | D22: ｍ２ | J22: ICT構造物工（橋梁上部）
B23: 舗装修繕工 | D23: ｍ２ | J23: ICT構造物工（橋脚・鏡台）
B24: 浚渫工 | D24: ｍ３
B25: 法面整形工 | C25: 2000 | D25: ｍ２
B26: 吹付法枠工 | D26: ｍ２
B27: 地盤改良工（表層安定処理工） | D27: ｍ３
B28: 地盤改良工（中層混合処理） | D28: ｍ３
B29: 地盤改良工（固結工(スラリー撹拌工)） | D29: 本
B30: 地盤改良工（ペーパードレーン工） | D30: 本
A31: 上記以外の工種・種別 ※プルダウンより選択 プルダウン工種がなければ手入力 | G31: 法面工（植生）
G32: 法面工（吹付） | I32: ｍ
G33: 吹付法枠工 | I33: ｍ２
G34: 擁壁工 | I34: ｍ３
G35: 補強土壁工 | I35: 式
A36: 工事全体延長 | G36: 防護柵工 | I36: ｔ
A37: 工事内容（ＩＣＴ施工対象数量） （上記工事内容と同じ数量の場合は割愛する） 「地盤改良工」（単独によるＩＣＴ施工の場合）については、別冊の調査票（地盤改良編）へ記入する | B37: 土工（掘削） | C37: 12000 | D37: ｍ３ | G37: 作業土工（床堀）
B38: 土工（河床等掘削） | D38: ｍ３ | G38: 付帯構造物設置工（各工種）
B39: 土工（盛土工） | C39: 5000 | D39: ｍ３ | G39: 法面整形工（1,000㎥未満）
B40: 舗装工 | D40: ｍ２ | G40: 側溝工（暗渠工）
...

Sheet リスト
A1: 活用が部分的にとどまった理由
A3: 出来形管理の検査は施工プロセス検査として断面毎に行うことから、1度の計測が○m3とTSの方が効率的であったため。
A4: 隣接工区の施工後高さに応じて擦り付けるため。
A5: 橋脚・支柱・基礎コンなどの構造物があるため。
A6: 当該工事区域上部に障害物（○○橋、電力鉄塔等）があり、ＧＰＳの測位に支障があったため。
A7: 出来形が水没する箇所、または水中部であったため。
A8: 工事箇所が点在しており、ＩＣＴ施工の部分と従来施工の部分が混在していたため。
A9: まだＩＣＴ施工に慣れていないことから工種を限定したため。
A11: ①3次元起工測量（ICT手法、従来手法双方に必要となる基準点測量はのぞく）
A13: ○日程度の講習ですぐに理解できて、実際にやってみたら思いのほか簡単だった。
A14: 従来の測量では○日程度かかる測量も○日で完了したことで施工開始時期を早めることができた。
A15: 測量器械の据え替え回数が減少し、作業効率が上がった。
... A139: 点群データのデータ容量が大きく、DVDに収まらないなど納品方法に困ったため。

Sheet 集計シート
A1: （１）基本情報
A2: 発注形態 | D2: 1 | E2: (発注者指定型=1, 施工者希望Ⅰ型=2, 施工者希望Ⅱ型=3, 既発注工事=4)
A3: （２）ＩＣＴ工事の適用範囲 | F3: チェックボックスチェック済色
A4: 工事範囲に対して部分的な活用にとどまった場合はその理由 | B4: 出来形検査を段階的に行うことから、一度に計測できる面積がごく小さいため。 | D4: FALSE
B5: ICT建機が効力を発揮する作業（法面整形、切土整形等）が連続的に発生する期間が少なく、 ICTの調達コストに見合った時間短縮効果が得られないため。 | D5: FALSE
B6: ３次元設計の修正が発生する可能性があるため、施工範囲から除外した。 | D6: FALSE
B7: 施工エリア内に構造物があり、ＩＣＴ建機での施工や、 ３次元計測が煩雑になることから施工範囲から除外した。 | D7: FALSE
B8: 施工幅が狭く、ＩＣＴ建機が入らない場所があったため、施工範囲から除外した。 | D8: FALSE
B9: 出来形管理の検査は施工プロセス検査として断面毎に行うことから、1度の計測が○m3とTSの方が効率的であったため。 | D9: FALSE
B10: 隣接工区の施工後高さに応じて擦り付けるため。 | D10: FALSE
B11: 橋脚・支柱・基礎コンなどの構造物があるため。 | D11: FALSE
B12: 当該工事区域上部に障害物（○○橋、電力鉄塔等）があり、ＧＰＳの測位に支障があったため。 | D12: FALSE
B13: 出来形が水没する箇所、または水中部であったため。 | D13: FALSE
B14: 工事箇所が点在しており、ＩＣＴ施工の部分と従来施工の部分が混在していたため。 | D14: FALSE
B15: まだＩＣＴ施工に慣れていないことから工種を限定したため。 | D15: FALSE
A16: 「簡易型ＩＣＴ活用工事」を実施した場合はその理由
A17: ICT活用工事の実施プロセス | B17: 3次元起工測量 | D17: FALSE
B18: ３次元設計データ作成 | D18: FALSE
B19: ICT建設機械を用いた施工 | D19: FALSE
B20: 3次元出来形管理等 | D20: FALSE
B21: 3次元データ納品 | D21: FALSE
A22: （３）使用機器の調査
A23: 起工測量
A24: 従来の起工測量について | C24: ３Dでない通常の起工測量は自社で行っていた | D24: FALSE
C25: ３Dでない通常の起工測量は外注していた | D25: FALSE
A26: 本工事の３次元起工測量について | C26: 自社 | D26: FALSE
C27: 外注（一部または全部） | D27: FALSE
A28: ３Ｄ起工測量 | B28: 実施者 | C28: 自社 | D28: FALSE
C29: 協力会社 | D29: FALSE
C30: レンタル会社 | D30: FALSE
C31: 測量会社 | D31: FALSE
C32: コンサル会社 | D32: FALSE
A33: ３Ｄ起工測量データの処理 | B33: 実施者 | C33: 自社 | D33: FALSE
C34: 協力会社 | D34: FALSE
C35: レンタル会社 | D35: FALSE
C36: 測量会社 | D36: FALSE
C37: コンサル会社 | D37: FALSE
A38: ３Ｄ設計データの作成
A39: 平均横断構成点数 | C39: 無し～30を超える | D39: 1
A40: ３Ｄ設計データ作成 | B40: 実施者 | C40: 自社 | D40: FALSE
...

Sheet 計算用シート
B3: 起工測量 | C3: ３次元設計(測量設計) | D3: 施工 | E3: 出来形管理 | F3: 出来形検査 | G3: 電子納品
A4: 従来 | B4: =調査票!C192 -> 0 | C4: =調査票!C199+調査票!C202 -> 0 | D4: =調査票!C213+調査票!C216 -> 0 | E4: =調査票!C231 -> 0 | F4: =調査票!C238 -> 0 | G4: =調査票!C245 -> 0
A5: ＩＣＴ | B5: =調査票!C195 -> 0 | C5: =調査票!C205+調査票!C208 -> 0 | D5: =調査票!C220+調査票!C223 -> 0 | E5: =調査票!C234 -> 0 | F5: =調査票!C241 -> 0 | G5: =調査票!C248 -> 0
A8: 調査票 (記載例)
B9: 起工測量 | C9: ３次元設計(測量設計) | D9: 施工 | E9: 出来形管理 | F9: 出来形検査 | G9: 電子納品
A10: 従来 | B10: ='調査票 (記載例)'!C194 -> 3 | C10: ='調査票 (記載例)'!C201+'調査票 (記載例)'!C204 -> 4 | D10: ='調査票 (記載例)'!C215+'調査票 (記載例)'!C218 -> 8 | E10: ='調査票 (記載例)'!C233 -> 4 | F10: ='調査票 (記載例)'!C240 -> 1.5 | G10: ='調査票 (記載例)'!C247 -> 3.5
A11: ＩＣＴ | B11: ='調査票 (記載例)'!C197 -> 1 | C11: ='調査票 (記載例)'!C207+'調査票 (記載例)'!C210 -> 4 | D11: ='調査票 (記載例)'!C222+'調査票 (記載例)'!C225+'調査票 (記載例)'!C228 -> 4.5 | E11: ='調査票 (記載例)'!C236 -> 3 | F11: ='調査票 (記載例)'!C243 -> 3.5 | G11: ='調査票 (記載例)'!C250 -> 3
B15: 調査票 (記載例)
