Workbook

Sheet 調査の目的等
B2: ＩＣＴ活用工事の活用効果等に関する調査の概要（共通編）
B4: １．調査の目的
B6: ・i-Constructionの定量的・定性的効果を把握するとともに、i-Construction関連基準類等に対する要望を聴取します。
B7: ２．調査時期・調査対象者 ・i-Construction活用工事期間中、ICT活用工事において下記①～⑤の各段階※を実施した時点で、適宜、施工者が回答を記入して下さい。提出時期は①～⑤まで完了した段階でかまいません。 ① 3次元起工測量 ② 3次元設計データ作成 ③ ICT建設機械による施工 ④ 3次元出来形管理等の施工管理 ⑤ 3次元データの納品 ※工種によって異なりますので、該当工種の実施要領でご確認下さい。
B9: ３．調査結果の集計により把握したい内容
B10: （１）工事概要・会社概要
B11: （２）上記①～⑤の各段階における定量的、定性的効果
B12: （３）基準・要領類やi-Constructionに対する要望
B15: ４．調査票の構成
B16: ＩＣＴ活用工事の活用効果等に関する調査記入様式
B17: 基本情報
B18: ＩＣＴ工事の適用範囲
... B36: メールアドレス：cbr-ict@mlit.go.jp

Sheet 調査票
A1: ＩＣＴ活用工事の活用効果等に関する調査記入様式（共通編） (様式:R8-01)
A2: （１）基本情報
A3: 工事名
A4: 発注機関の分類 | D4: ：国土交通省、地方公共団体（都道府県）を選択
A5: 発注機関の整備局名 | D5: ：工事発注者（整備局名）を選択（地方公共団体の場合は未入力）
A6: 発注機関の県名 | D6: ：工事発注者（県名）を入力（国土交通省の場合は未入力）
A7: 発注者名 | G7: 道路土工 | H7: 国土交通省 | I7: 北海道開発局 | J7: ICT土工
A8: 施工場所 | G8: 河川土工 | H8: 地方公共団体（都道府県） | I8: 東北地方整備局 | J8: ICT作業土工（床堀）
A9: 発注金額 | D9: ：発注者が記入（税込)
A10: 契約金額（当初） | D10: ：発注者が記入（税込)
A11: 契約金額（最終） | D11: ：発注者が記入（税込)
A12: 工期 | B12: 始 | D12: ：全体工期 | G12: 砂防土工 | I12: 関東地方整備局 | J12: ICT土工1,000㎥未満
B13: 終 | D13: ：全体工期（変更があった場合は最終） | E13: =C13-C12 -> 0 | F13: 日 | G13: 河川道路混在 | I13: 北陸地方整備局 | J13: ICT小規模土工
A14: 工期（ＩＣＴ） | B14: 始 | D14: ：ＩＣＴ建機が現場で稼働した時期 | G14: 舗装 | I14: 中部地方整備局 | J14: ICT法面工
B15: 終 | D15: ：ＩＣＴ建機が現場で稼働した時期 | E15: =C15-C14 -> 0 | F15: 日 | G15: その他 | I15: 近畿地方整備局 | J15: ICT付帯構造物設置工
A16: 工事種別 | D16: ：リストに該当が無ければ手入力 | I16: 中国地方整備局 | J16: ICT擁壁工
A17: 発注形態 | I17: 四国地方整備局 | J17: ICT地盤改良工
I18: 九州地方整備局 | J18: ICT基礎工
A19: 工事内容（全体数量） （各工種での総数量（通常施工＋ＩＣＴ施工）とする。） | B19: 土工（掘削） | D19: ｍ３ | I19: 沖縄総合事務局 | J19: ICT河川浚渫工
B20: 土工（河床等掘削） | D20: ｍ３ | J20: ICT舗装工
B21: 土工（盛土工） | D21: ｍ３ | J21: ICT舗装工（修繕工）
B22: 舗装工 | D22: ｍ２ | J22: ICT構造物工（橋梁上部）
B23: 舗装修繕工 | D23: ｍ２ | J23: ICT構造物工（橋脚・鏡台）
B24: 浚渫工 | D24: ｍ３
B25: 法面整形工 | D25: ｍ２
B26: 吹付法枠工 | D26: ｍ２
B27: 地盤改良工（表層安定処理工） | D27: ｍ３
B28: 地盤改良工（中層混合処理） | D28: ｍ３
B29: 地盤改良工（固結工(スラリー撹拌工)） | D29: 本
B30: 地盤改良工（ペーパードレーン工） | D30: 本
A31: 上記以外の工種・種別 ※プルダウンより選択 プルダウン工種がなければ手入力 | G31: 法面工（植生）
G32: 法面工（吹付） | I32: ｍ
G33: 吹付法枠工 | I33: ｍ２
G34: 擁壁工 | I34: ｍ３
G35: 補強土壁工 | I35: 式
A36: 工事全体延長 | D36: ｍ | G36: 防護柵工 | I36: ｔ
A37: 工事内容（ＩＣＴ施工対象数量） （上記工事内容と同じ数量の場合は割愛する） 「地盤改良工」（単独によるＩＣＴ施工の場合）については、別冊の調査票（地盤改良編）へ記入する | B37: 土工（掘削） | D37: ｍ３ | G37: 作業土工（床堀）
B38: 土工（河床等掘削） | D38: ｍ３ | G38: 付帯構造物設置工（各工種）
B39: 土工（盛土工） | D39: ｍ３ | G39: 法面整形工（1,000㎥未満）
B40: 舗装工 | D40: ｍ２ | G40: 側溝工（暗渠工）
B41: 舗装修繕工 | D41: ｍ２ | G41: 暗渠工
B42: 浚渫工 | D42: ｍ３ | G42: 基礎工（矢板工）
B43: 法面整形工 | D43: ｍ２ | G43: 基礎工（既製杭工）
B44: 吹付法枠工 | D44: ｍ２ | G44: 基礎工（場所打杭工）
B45: 地盤改良工（表層安定処理工） | D45: ｍ３ | G45: 構造物工（橋梁上部）
B46: 地盤改良工（中層地盤改良） | D46: ｍ３ | G46: 構造物工（橋脚・橋台）
B47: 地盤改良工（固結工(スラリー撹拌工)） | D47: 本 | G47: コンクリート堰堤工
B48: 地盤改良工（ペーパードレーン工） | D48: 本
A49: 上記以外のＩＣＴ工種・種別 ※プルダウンより選択 プルダウン工種がなければ手入力
A54: ＩＣＴ施工対象範囲の延長 | D54: ｍ
A55: 施工者情報 | B55: 御社名
B56: 担当者氏名
B57: 役職
B58: 電話番号
B59: メールアドレス
B60: 所在地
A61: （２）ＩＣＴ工事の適用範囲 （「地盤改良工」（単独によるＩＣＴ施工の場合）については、別冊の調査票（地盤改良編）へ記入してください）
A62: ＩＣＴを活用する範囲が部分的な活用に留まった場合はその理由 | B62: 該当する項目にチェックを入れてください。（複数回答可） | C62: ※一度の作業面積がどのくらい以上でなければならないと考えるかその他欄に具体的に記載願います。 ※どのような作業が連続的にどのくらいの期間発生することが必要かその他欄に具体的に記載願います。
C63: 上記以外の理由があれば記載してください。（自由回答欄）：
A65: ICT活用工事の実施プロセス | B65: 該当する項目にチェックを入れてください。（複数回答可） | C65: 実施しなかったプロセスがある場合、その理由を記載してください。（自由回答欄）：
A67: （３）使用機器の調査 （「地盤改良工」（単独によるＩＣＴ施工の場合）については、別冊の調査票（地盤改良編）へ記入してください）
A68: Ｑ 使用したＩＣＴ機器・ソフトウェアを教えてください。
A69: 起工測量
A70: 従来の起工測量について | G70: UAV | I70: ３Dソフトウェア | J70: 機器
A71: 本工事の３次元起工測量について | G71: SkyCatch UAV | I71: Agisoft Photoscan | J71: 地上型レーザースキャナー
A72: ３次元起工測量にかかった費用（機材費）（発注者に提出した見積額） | D72: 万円（税込)：金額を手入力 | G72: DJI UAV | I72: AutoDesk Civil3D | J72: 空中写真測量（無人航空機）
A73: ３次元起工測量にかかった費用（労務費）（発注者に提出した見積額） | D73: 万円（税込)：金額を手入力 | G73: ｺﾏﾂ UAV | I73: 福井ｺﾝﾋﾟｭｰﾀ TREND POINT | J73: ＴＳ等光波方式
A74: ３次元起工測量にかかった費用 | C74: =IF(OR(C72<>"", C73<>""),C72+C73, "0") -> 0 | D74: 万円（税込)：（自動入力） | G74: ﾄﾌﾟｺﾝ 3次元ﾚｰｻﾞｰｽｷｬﾅ | I74: 福井ｺﾝﾋﾟｭｰﾀ Ex-trend武蔵 | J74: ＴＳ（ノンプリ）
A75: ３次元起工測量にかかった費用が、500万円を超えた場合その理由 | D75: ：自由記入 | G75: ﾗｲｶ 3次元ﾚｰｻﾞｰｽｷｬﾅ | I75: ｺﾏﾂ KomConnect | J75: 地上移動体搭載型レーザースキャナー
A76: ３次元起工測量 | B76: 実施者： | G76: ﾆｺﾝ・ﾄﾘﾝﾌﾞﾙ 3次元ﾚｰｻﾞｰｽｷｬﾅ | I76: Pix4 Dmapper | J76: ＲＴＫ-ＧＮＳＳ
B77: 使用した機器： | D77: ：利用技術を選択 | I77: 建設ｼｽﾃﾑ デキスパート | J77: 無人航空機搭載型レーザースキャナー
B78: 機器名 | D78: ：機器名を選択、または手入力 | I78: ﾆｺﾝ・ﾄﾘﾝﾌﾞﾙ ﾋﾞｼﾞﾈｽｾﾝﾀｰ | J78: 音響測深機器
A79: ３次元起工測量 計測面積 | D79: ｍ２：３次元起工測量の計測面積を手入力 | I79: ﾄﾌﾟｺﾝ Scan Master | J79: 施工履歴データ
A80: ３次元起工測量データの処理 | B80: 実施者：
A81: ３次元設計データの作成
A82: 主として作成した３次元設計データの作成方法 | D82: ： 3次元設計データの作成方法を選択
A83: 設計段階で作成された３次元データ（J-LandXML形式の線形データ等）を活用して３次元設計データを作成しましたか？
A84: 設計段階で作成された３次元データを活用しなかった場合、その理由 | B84: 該当する項目にチェックを入れてください。 （複数回答可）
C85: 上記以外の理由があれば記載してください。（自由回答欄）：
A87: ３次元設計データを作成した数 | D87: 本：線形数、ＴＩＮのグループ数を手入力 （本線、ランプ、構造物 等）
A88: 管理断面数 | D88: 断面：管理断面数を手入力
A89: １横断の平均横断構成点数 | B89: 該当する項目にチェックを入れてください。
A90: ３次元設計データ作成にかかった費用 （発注者に提出した見積額） | D90: 万円（税込)：金額を手入力
A91: ３次元設計データ作成にかかった費用が、500万円を超えた場合その理由 | D91: ：自由記入
A92: ３次元設計データ作成 | B92: 実施者：
A93: ＩＣＴ建設機械による施工
A94: ＩＣＴ建設機械による施工 ※１ システム初期費とは、ICT機器のセットアップ・調整等の運用支援などの現場導入時の立会費用を含むシステム操作指導に係る費用であり、重機のリース料金や重機の購入費用ではありません。 ※２ レンタル費用とは、「ＩＣＴ建設機械」又は「通常の建設機械に後付けするＩＣＴ装置」のレンタル費用（システム初期費を除く）を記載する。 ※３ ＩＣＴ建機が自社保有の場合は記載しない | B94: 使用機械 バックホウ ※代表機種１台のみ記載 利用しなかった場合は記載しない | G94: ICT重機メーカー | H94: システムメーカー | I94: MC MG | J94: 機種 | K94: 規格 | L94: 3次元設計データ | M94: ICT種類
D95: ：メーカー名を選択、または手入力
D96: ：機種を選択 | G96: キャタピラージャパン | H96: トプコン | I96: ノーマル | J96: ブルドーザ | K96: ｸﾛｰﾗ .0.45m3 | L96: 路線 | M96: ３D
D97: ：規格を選択、または手入力 | G97: コマツ | H97: ニコン・トリンブル | I97: MC（マシンコントロール） | J97: バックホウ | K97: ｸﾛｰﾗ .0.5m3 | L97: TIN | M97: ２D
B98: バックホウに搭載された ＩＣＴシステム | G98: コベルコ建機 | H98: ライカ | I98: MG（マシンガイダンス） | J98: グレーダ | K98: ｸﾛｰﾗ .0.8m3
D99: ：MC,MGを選択 | G99: 日立建機 | J99: 路面切削機 | K99: ｸﾛｰﾗ .1.4m3
D100: ：メーカー名を選択、または手入力 | G100: 住友建機 | K100: 普通 3t
D101: ：２D、３Dを選択 （BHのみ） | K101: 普通 18t
B102: システム初期費※１ ： (単位：万円)
D103: 万円（税込)：金額を手入力
B104: システム初期費に含まれる実施内容 | D104: ：自由記入
D105: ：自由記入
D106: ：自由記入
D107: ：自由記入
...

Sheet 調査票 (記載例)
A1: ＩＣＴ活用工事の活用効果等に関する調査記入様式（共通編） (様式:R8-01)
A2: （１）基本情報
A3: 工事名 | C3: ○○改良工事
A4: 発注機関の分類 | C4: 国土交通省 | D4: ：国土交通省、地方公共団体（都道府県）を選択
A5: 発注機関の整備局名 | C5: 近畿地方整備局 | D5: ：工事発注者（整備局名）を選択（地方公共団体の場合は未入力）
A6: 発注機関の県名 | D6: ：工事発注者（県名）を入力（国土交通省の場合は未入力）
A7: 発注者名 | C7: ○○地方整備局 ○○河川国道事務所 | G7: 道路土工 | H7: 国土交通省 | I7: 北海道開発局 | J7: ICT土工
A8: 施工場所 | C8: 静岡県富士市大淵地先 | G8: 河川土工 | H8: 地方公共団体（都道府県） | I8: 東北地方整備局 | J8: ICT作業土工（床堀）
A9: 発注金額 | D9: ：発注者が記入（税込)
A10: 契約金額（当初） | D10: ：発注者が記入（税込)
A11: 契約金額（最終） | D11: ：発注者が記入（税込)
A12: 工期 | B12: 始 | C12: 46117 | D12: ：全体工期 | G12: 砂防土工 | I12: 関東地方整備局 | J12: ICT土工1,000㎥未満
B13: 終 | C13: 46433 | D13: ：全体工期（変更があった場合は最終） | E13: =C13-C12 -> 316 | F13: 日 | G13: 河川道路混在 | I13: 北陸地方整備局 | J13: ICT小規模土工
A14: 工期（ＩＣＴ） | B14: 始 | C14: 46193 | D14: ：ＩＣＴ建機が現場で稼働した時期 | G14: 舗装 | I14: 中部地方整備局 | J14: ICT法面工
B15: 終 | C15: 46366 | D15: ：ＩＣＴ建機が現場で稼働した時期 | E15: =C15-C14 -> 173 | F15: 日 | G15: その他 | I15: 近畿地方整備局 | J15: ICT付帯構造物設置工
A16: 工事種別 | C16: 道路土工 | D16: ：リストに該当が無ければ手入力 | I16: 中国地方整備局 | J16: ICT擁壁工
A17: 発注形態 | I17: 四国地方整備局 | J17: ICT地盤改良工
I18: 九州地方整備局 | J18: ICT基礎工
A19: 工事内容（全体数量） （各工種での総数量（通常施工＋ＩＣＴ施工）とする。） | B19: 土工（掘削） | C19: 12000 | D19: ｍ３ | I19: 沖縄総合事務局 | J19: ICT河川浚渫工
B20: 土工（河床等掘削） | D20: ｍ３ | J20: ICT舗装工
B21: 土工（盛土工） | C21: 5000 | D21: ｍ３ | J21: ICT舗装工（修繕工）
B22: 舗装工 | D22: ｍ２ | J22: ICT構造物工（橋梁上部）
B23: 舗装修繕工 | D23: ｍ２ | J23: ICT構造物工（橋脚・鏡台）
B24: 浚渫工 | D24: ｍ３
B25: 法面整形工 | C25: 2000 | D25: ｍ２
B26: 吹付法枠工 | D26: ｍ２
B27: 地盤改良工（表層安定処理工） | D27: ｍ３
B28: 地盤改良工（中層混合処理） | D28: ｍ３
B29: 地盤改良工（固結工(スラリー撹拌工)） | D29: 本
B30: 地盤改良工（ペーパードレーン工） | D30: 本
A31: 上記以外の工種・種別 ※プルダウンより選択 プルダウン工種がなければ手入力 | G31: 法面工（植生）
G32: 法面工（吹付） | I32: ｍ
G33: 吹付法枠工 | I33: ｍ２
G34: 擁壁工 | I34: ｍ３
G35: 補強土壁工 | I35: 式
A36: 工事全体延長 | G36: 防護柵工 | I36: ｔ
A37: 工事内容（ＩＣＴ施工対象数量） （上記工事内容と同じ数量の場合は割愛する） 「地盤改良工」（単独によるＩＣＴ施工の場合）については、別冊の調査票（地盤改良編）へ記入する | B37: 土工（掘削） | C37: 12000 | D37: ｍ３ | G37: 作業土工（床堀）
B38: 土工（河床等掘削） | D38: ｍ３ | G38: 付帯構造物設置工（各工種）
B39: 土工（盛土工） | C39: 5000 | D39: ｍ３ | G39: 法面整形工（1,000㎥未満）
B40: 舗装工 | D40: ｍ２ | G40: 側溝工（暗渠工）
B41: 舗装修繕工 | D41: ｍ２ | G41: 暗渠工
B42: 浚渫工 | D42: ｍ３ | G42: 基礎工（矢板工）
B43: 法面整形工 | C43: 2000 | D43: ｍ２ | G43: 基礎工（既製杭工）
B44: 吹付法枠工 | D44: ｍ２ | G44: 基礎工（場所打杭工）
B45: 地盤改良工（表層安定処理工） | D45: ｍ３ | G45: 構造物工（橋梁上部）
B46: 地盤改良工（中層地盤改良） | D46: ｍ３ | G46: 構造物工（橋脚・橋台）
B47: 地盤改良工（固結工(スラリー撹拌工)） | D47: 本 | G47: コンクリート堰堤工
B48: 地盤改良工（ペーパードレーン工） | D48: 本
A49: 上記以外のＩＣＴ工種・種別 ※プルダウンより選択 プルダウン工種がなければ手入力
A54: ＩＣＴ施工対象範囲の延長 | C54: 380 | D54: ｍ
A55: 施工者情報 | B55: 御社名 | C55: 株式会社 ○○建設
B56: 担当者氏名 | C56: 山田 太郎
B57: 役職 | C57: 現場代理人
B58: 電話番号 | C58: ０３－５２５３－８１１１
B59: メールアドレス | C59: taro_yamada@○○kensetu.co.jp
B60: 所在地 | C60: 東京都千代田区霞が関２－１－３
A61: （２）ＩＣＴ工事の適用範囲 （「地盤改良工」（単独によるＩＣＴ施工の場合）については、別冊の調査票（地盤改良編）へ記入してください）
A62: ＩＣＴを活用する範囲が部分的な活用に留まった場合はその理由 | B62: 該当する項目にチェックを入れてください。（複数回答可） | C62: ※一度の作業面積がどのくらい以上でなければならないと考えるかその他欄に具体的に記載願います。 ※どのような作業が連続的にどのくらいの期間発生することが必要かその他欄に具体的に記載願います。
C63: 上記以外の理由があれば記載してください。（自由回答欄）：
C64: 例）出来形管理の検査は施工プロセス検査として断面毎に行うことから、1度の計測が○m3とTSの方が効率的であったため。 例）隣接工区の施工後高さに応じて擦り付けるため。 例）橋脚・支柱・基礎コンなどの構造物があるため。 例）当該工事区域上部に障害物（○○橋、電力鉄塔等）があり、ＧＰＳの測位に支障があったため。
A65: ICT活用工事の実施プロセス | B65: 該当する項目にチェックを入れてください。（複数回答可） | C65: 実施しなかったプロセスがある場合、その理由を記載してください。（自由回答欄）：
A67: （３）使用機器の調査 （「地盤改良工」（単独によるＩＣＴ施工の場合）については、別冊の調査票（地盤改良編）へ記入してください）
A68: Ｑ 使用したＩＣＴ機器・ソフトウェアを教えてください。
A69: 起工測量
A70: 従来の起工測量について | G70: UAV | I70: ３Dソフトウェア | J70: 機器
A71: 本工事の３次元起工測量について | G71: SkyCatch UAV | I71: Agisoft Photoscan | J71: 地上型レーザースキャナー
A72: ３次元起工測量にかかった費用（機材費）（発注者に提出した見積額） | C72: 30 | D72: 万円（税込)：金額を手入力 | G72: DJI UAV | I72: AutoDesk Civil3D | J72: 空中写真測量（無人航空機）
A73: ３次元起工測量にかかった費用（労務費）（発注者に提出した見積額） | C73: 60 | D73: 万円（税込)：金額を手入力 | G73: ｺﾏﾂ UAV | I73: 福井ｺﾝﾋﾟｭｰﾀ TREND POINT | J73: ＴＳ等光波方式
A74: ３次元起工測量にかかった費用 | C74: =IF(OR(C72<>"", C73<>""),C72+C73, "0") -> 90 | D74: 万円（税込)：（自動入力） | G74: ﾄﾌﾟｺﾝ 3次元ﾚｰｻﾞｰｽｷｬﾅ | I74: 福井ｺﾝﾋﾟｭｰﾀ Ex-trend武蔵 | J74: ＴＳ（ノンプリ）
A75: ３次元起工測量にかかった費用が、500万円を超えた場合その理由 | D75: ：自由記入 | G75: ﾗｲｶ 3次元ﾚｰｻﾞｰｽｷｬﾅ | I75: ｺﾏﾂ KomConnect | J75: 地上移動体搭載型レーザースキャナー
A76: ３次元起工測量 | B76: 実施者： | G76: ﾆｺﾝ・ﾄﾘﾝﾌﾞﾙ 3次元ﾚｰｻﾞｰｽｷｬﾅ | I76: Pix4 Dmapper | J76: ＲＴＫ-ＧＮＳＳ
B77: 使用した機器： | C77: 空中写真測量（無人航空機） | D77: ：利用技術を選択 | I77: 建設ｼｽﾃﾑ デキスパート | J77: 無人航空機搭載型レーザースキャナー
B78: 機器名 | C78: DJI UAV | D78: ：機器名を選択、または手入力 | I78: ﾆｺﾝ・ﾄﾘﾝﾌﾞﾙ ﾋﾞｼﾞﾈｽｾﾝﾀｰ | J78: 音響測深機器
A79: ３次元起工測量 計測面積 | C79: 3000 | D79: ｍ２：３次元起工測量の計測面積を手入力 | I79: ﾄﾌﾟｺﾝ Scan Master | J79: 施工履歴データ
A80: ３次元起工測量データの処理 | B80: 実施者：
A81: ３次元設計データの作成
A82: 主として作成した３次元設計データの作成方法 | C82: 路線 | D82: ： 3次元設計データの作成方法を選択
A83: 設計段階で作成された３次元データ（J-LandXML形式の線形データ等）を活用して３次元設計データを作成しましたか？
A84: 設計段階で作成された３次元データを活用しなかった場合、その理由 | B84: 該当する項目にチェックを入れてください。 （複数回答可）
C85: 上記以外の理由があれば記載してください。（自由回答欄）：
A87: ３次元設計データを作成した数 | C87: 2 | D87: 本：線形数、ＴＩＮのグループ数を手入力 （本線、ランプ、構造物 等）
A88: 管理断面数 | C88: 10 | D88: 断面：管理断面数を手入力
A89: １横断の平均横断構成点数 | B89: 該当する項目にチェックを入れてください。 | H89: 2
A90: ３次元設計データ作成にかかった費用 （発注者に提出した見積額） | C90: 120 | D90: 万円（税込)：金額を手入力 | G90: ２D
A91: ３次元設計データ作成にかかった費用が、500万円を超えた場合その理由 | D91: ：自由記入
A92: ３次元設計データ作成 | B92: 実施者： | G92: ３D
A93: ＩＣＴ建設機械による施工
A94: ＩＣＴ建設機械による施工 ※１ システム初期費とは、ICT機器のセットアップ・調整等の運用支援などの現場導入時の立会費用を含むシステム操作指導に係る費用であり、重機のリース料金や重機の購入費用ではありません。 ※２ レンタル費用とは、「ＩＣＴ建設機械」又は「通常の建設機械に後付けするＩＣＴ装置」のレンタル費用（システム初期費を除く）を記載する。 ※３ ＩＣＴ建機が自社保有の場合は記載しない | B94: 使用機械 バックホウ ※代表機種１台のみ記載 利用しなかった場合は記載しない | G94: ICT重機メーカー | H94: システムメーカー | I94: MC MG | J94: 機種 | K94: 規格 | L94: 3次元設計データ
C95: コマツ | D95: ：メーカー名を選択、または手入力
C96: バックホウ | D96: ：機種を選択 | G96: キャタピラージャパン | H96: トプコン | I96: ノーマル | J96: ブルドーザ | K96: ｸﾛｰﾗ .0.45m3 | L96: 路線
C97: ｸﾛｰﾗ .0.8m3 | D97: ：規格を選択、または手入力 | G97: コマツ | H97: ニコン・トリンブル | I97: MC（マシンコントロール） | J97: バックホウ | K97: ｸﾛｰﾗ .0.5m3 | L97: TIN
B98: バックホウに搭載された ＩＣＴシステム | G98: コベルコ建機 | H98: ライカ | I98: MG（マシンガイダンス） | J98: グレーダ | K98: ｸﾛｰﾗ .0.8m3
C99: MC（マシンコントロール） | D99: ：MC,MGを選択 | G99: 日立建機 | J99: 路面切削機 | K99: ｸﾛｰﾗ .1.4m3
C100: トプコン | D100: ：メーカー名を選択、または手入力 | G100: 住友建機 | K100: 普通 3t
C101: ３D | D101: ：２D、３Dを選択 （BHのみ） | K101: 普通 18t
B102: システム初期費※１ ： (単位：万円)
C103: 60 | D103: 万円（税込)：金額を手入力
B104: システム初期費に含まれる実施内容 | C104: キャリブレーション | D104: ：自由記入
C105: ローカライゼーション | D105: ：自由記入
D106: ：自由記入
...

Sheet リスト
A1: 活用が部分的にとどまった理由
A3: 出来形管理の検査は施工プロセス検査として断面毎に行うことから、1度の計測が○m3とTSの方が効率的であったため。
A4: 隣接工区の施工後高さに応じて擦り付けるため。
A5: 橋脚・支柱・基礎コンなどの構造物があるため。
A6: 当該工事区域上部に障害物（○○橋、電力鉄塔等）があり、ＧＰＳの測位に支障があったため。
A7: 出来形が水没する箇所、または水中部であったため。
A8: 工事箇所が点在しており、ＩＣＴ施工の部分と従来施工の部分が混在していたため。
A9: まだＩＣＴ施工に慣れていないことから工種を限定したため。
A11: ①3次元起工測量（ICT手法、従来手法双方に必要となる基準点測量はのぞく）
A13: ○日程度の講習ですぐに理解できて、実際にやってみたら思いのほか簡単だった。
A14: 従来の測量では○日程度かかる測量も○日で完了したことで施工開始時期を早めることができた。
A15: 測量器械の据え替え回数が減少し、作業効率が上がった。
... A139: 点群データのデータ容量が大きく、DVDに収まらないなど納品方法に困ったため。

Sheet 集計シート
A1: （１）基本情報
A2: 発注形態 | D2: 1 | E2: (発注者指定型=1, 施工者希望Ⅰ型=2, 施工者希望Ⅱ型=3, 既発注工事=4)
A3: （２）ＩＣＴ工事の適用範囲 | F3: チェックボックスチェック済色
A4: 工事範囲に対して部分的な活用にとどまった場合はその理由 | B4: 出来形検査を段階的に行うことから、一度に計測できる面積がごく小さいため。 | D4: FALSE
B5: ICT建機が効力を発揮する作業（法面整形、切土整形等）が連続的に発生する期間が少なく、 ICTの調達コストに見合った時間短縮効果が得られないため。 | D5: FALSE
B6: ３次元設計の修正が発生する可能性があるため、施工範囲から除外した。 | D6: FALSE
B7: 施工エリア内に構造物があり、ＩＣＴ建機での施工や、 ３次元計測が煩雑になることから施工範囲から除外した。 | D7: FALSE
B8: 施工幅が狭く、ＩＣＴ建機が入らない場所があったため、施工範囲から除外した。 | D8: FALSE
B9: 出来形管理の検査は施工プロセス検査として断面毎に行うことから、1度の計測が○m3とTSの方が効率的であったため。 | D9: FALSE
B10: 隣接工区の施工後高さに応じて擦り付けるため。 | D10: FALSE
B11: 橋脚・支柱・基礎コンなどの構造物があるため。 | D11: FALSE
B12: 当該工事区域上部に障害物（○○橋、電力鉄塔等）があり、ＧＰＳの測位に支障があったため。 | D12: FALSE
B13: 出来形が水没する箇所、または水中部であったため。 | D13: FALSE
B14: 工事箇所が点在しており、ＩＣＴ施工の部分と従来施工の部分が混在していたため。 | D14: FALSE
B15: まだＩＣＴ施工に慣れていないことから工種を限定したため。 | D15: FALSE
A16: 「簡易型ＩＣＴ活用工事」を実施した場合はその理由
A17: ICT活用工事の実施プロセス | B17: 3次元起工測量 | D17: FALSE
B18: ３次元設計データ作成 | D18: FALSE
B19: ICT建設機械を用いた施工 | D19: FALSE
B20: 3次元出来形管理等 | D20: FALSE
B21: 3次元データ納品 | D21: FALSE
A22: （３）使用機器の調査
A23: 起工測量
A24: 従来の起工測量について | C24: ３Dでない通常の起工測量は自社で行っていた | D24: FALSE
C25: ３Dでない通常の起工測量は外注していた | D25: FALSE
A26: 本工事の３次元起工測量について | C26: 自社 | D26: FALSE
C27: 外注（一部または全部） | D27: FALSE
A28: ３Ｄ起工測量 | B28: 実施者 | C28: 自社 | D28: FALSE
C29: 協力会社 | D29: FALSE
C30: レンタル会社 | D30: FALSE
C31: 測量会社 | D31: FALSE
C32: コンサル会社 | D32: FALSE
A33: ３Ｄ起工測量データの処理 | B33: 実施者 | C33: 自社 | D33: FALSE
C34: 協力会社 | D34: FALSE
C35: レンタル会社 | D35: FALSE
C36: 測量会社 | D36: FALSE
C37: コンサル会社 | D37: FALSE
A38: ３Ｄ設計データの作成
A39: 平均横断構成点数 | C39: 無し～30を超える | D39: 1
A40: ３Ｄ設計データ作成 | B40: 実施者 | C40: 自社 | D40: FALSE
C41: 協力会社 | D41: FALSE
C42: レンタル会社 | D42: FALSE
C43: 測量会社 | D43: FALSE
C44: コンサル会社 | D44: FALSE
A45: 設計段階で作成された３次元データ（J-LandXML形式の線形データ等）を活用して３次元設計データを作成したか | C45: 活用しなかった | D45: 1 | E45: （１：活用しなかった ２：活用した）
A46: 設計段階で作成された３次元データを活用しなかった場合、その理由 | C46: 該当するデータが貸与されなかったため | D46: FALSE
C47: 自社で図面からデータ作成する手順が確立されているため | D47: FALSE
C48: データの精度に問題があるため | D48: FALSE
A49: ＩＣＴ建設機械による施工
A50: ＩＣＴ建設機械による施工 | B50: 使用機械 バックホウ | C50: 自社保有 | D50: FALSE
C51: 協力会社 | D51: FALSE
C52: レンタル | D52: FALSE
B53: 使用機械 1 台目に搭載された ＩＣＴシステム | C53: 自社保有 | D53: FALSE
C54: 協力会社 | D54: FALSE
C55: レンタル | D55: FALSE
B56: システム初期費 | C56: 自社 | D56: FALSE
C57: 外注 | D57: FALSE
B58: レンタル費用 | C58: ＩＣＴシステムのみ | D58: FALSE
C59: 重機込み | D59: FALSE
B60: 料金体系 | D60: 1 | E60: （１：無し ２：月極料金 ３：日極料金）
B61: 使用機械 ブルドーザー | C61: 自社保有 | D61: FALSE
C62: 協力会社 | D62: FALSE
C63: レンタル | D63: FALSE
B64: 使用機械 2 台目に搭載された ＩＣＴシステム | C64: 自社保有 | D64: FALSE
C65: 協力会社 | D65: FALSE
C66: レンタル | D66: FALSE
B67: システム初期費 | C67: 自社 | D67: FALSE
C68: 外注 | D68: FALSE
B69: レンタル費用 | C69: ＩＣＴシステムのみ | D69: FALSE
C70: 重機込み | D70: FALSE
B71: 料金体系 | D71: 1 | E71: （１：無し ２：月極料金 ３：日極料金）
B72: 使用機械 モーターグレーダー | C72: 自社保有 | D72: FALSE
C73: 協力会社 | D73: FALSE
C74: レンタル | D74: FALSE
B75: 使用機械 3 台目に搭載された ＩＣＴシステム | C75: 自社保有 | D75: FALSE
C76: 協力会社 | D76: FALSE
C77: レンタル | D77: FALSE
B78: システム初期費 | C78: 自社 | D78: FALSE
C79: 外注 | D79: FALSE
B80: システム費用 | C80: ＩＣＴシステムのみ | D80: FALSE
C81: 重機込み | D81: FALSE
B82: 料金体系 | D82: 1 | E82: （１：無し ２：月極料金 ３：日極料金）
B83: 使用機械バックホウ浚渫船 | C83: 自社保有 | D83: FALSE
C84: 協力会社 | D84: FALSE
C85: レンタル | D85: FALSE
B86: 使用機械 4 台目に搭載された ＩＣＴシステム | C86: 自社保有 | D86: FALSE
C87: 協力会社 | D87: FALSE
C88: レンタル | D88: FALSE
B89: システム初期費 | C89: 自社 | D89: FALSE
C90: 外注 | D90: FALSE
B91: レンタル費用 | C91: ＩＣＴシステムのみ | D91: FALSE
C92: 重機込み | D92: FALSE
B93: 料金体系 | D93: 1 | E93: （１：無し ２：月極料金 ３：日極料金）
B94: 使用機械 路面切削機 | C94: 自社保有 | D94: FALSE
C95: 協力会社 | D95: FALSE
C96: レンタル | D96: FALSE
B97: 使用機械 5台目に搭載された ＩＣＴシステム | C97: 自社保有 | D97: FALSE
C98: 協力会社 | D98: FALSE
C99: レンタル | D99: FALSE
B100: システム初期費 | C100: 自社 | D100: FALSE
...

Sheet 計算用シート
B3: 起工測量 | C3: ３次元設計(測量設計) | D3: 施工 | E3: 出来形管理 | F3: 出来形検査 | G3: 電子納品
A4: 従来 | B4: =調査票!C192 -> 0 | C4: =調査票!C199+調査票!C202 -> 0 | D4: =調査票!C213+調査票!C216 -> 0 | E4: =調査票!C231 -> 0 | F4: =調査票!C238 -> 0 | G4: =調査票!C245 -> 0
A5: ＩＣＴ | B5: =調査票!C195 -> 0 | C5: =調査票!C205+調査票!C208 -> 0 | D5: =調査票!C220+調査票!C223 -> 0 | E5: =調査票!C234 -> 0 | F5: =調査票!C241 -> 0 | G5: =調査票!C248 -> 0
A8: 調査票 (記載例)
B9: 起工測量 | C9: ３次元設計(測量設計) | D9: 施工 | E9: 出来形管理 | F9: 出来形検査 | G9: 電子納品
A10: 従来 | B10: ='調査票 (記載例)'!C194 -> 3 | C10: ='調査票 (記載例)'!C201+'調査票 (記載例)'!C204 -> 4 | D10: ='調査票 (記載例)'!C215+'調査票 (記載例)'!C218 -> 8 | E10: ='調査票 (記載例)'!C233 -> 4 | F10: ='調査票 (記載例)'!C240 -> 1.5 | G10: ='調査票 (記載例)'!C247 -> 3.5
A11: ＩＣＴ | B11: ='調査票 (記載例)'!C197 -> 1 | C11: ='調査票 (記載例)'!C207+'調査票 (記載例)'!C210 -> 4 | D11: ='調査票 (記載例)'!C222+'調査票 (記載例)'!C225+'調査票 (記載例)'!C228 -> 4.5 | E11: ='調査票 (記載例)'!C236 -> 3 | F11: ='調査票 (記載例)'!C243 -> 3.5 | G11: ='調査票 (記載例)'!C250 -> 3
B15: 調査票 (記載例)
