Workbook

Sheet 調査の目的等
B2: ＩＣＴ活用工事の活用効果等に関する調査の概要（地盤改良編）
B4: １．調査の目的
B6: ・i-Constructionの定量的・定性的効果を把握するとともに、i-Construction関連基準類等に対する要望を聴取します。
B7: ２．調査時期・調査対象者 ・i-Construction活用工事期間中、ICT活用工事において下記①～⑤の各段階を実施した時点で、適宜、施工者が回答を記入して下さい。提出時期は①～⑤まで完了した段階でかまいません。 ① 3次元起工測量 ② 地盤改良設計データ作成 ③ ICT建設機械による施工 ④ 出来形管理等の施工管理 ⑤ 帳票作成・電子納品
B9: ３．調査結果の集計により把握したい内容
B10: （１）工事概要・会社概要
B11: （２）上記①～⑤の各段階における定量的、定性的効果
B12: （３）基準・要領類やi-Constructionに対する要望
B15: ４．調査票の構成
B16: ＩＣＴ活用工事の活用効果等に関する調査記入様式
B17: 基本情報
B18: ＩＣＴ工事の適用範囲
... B36: メールアドレス：cbr-ict@mlit.go.jp

Sheet 調査票
A1: ＩＣＴ活用工事の活用効果等に関する調査記入様式（地盤改良編） (様式:R8-01)
A2: （１）基本情報 ① ※「地盤改良工単独でのＩＣＴ施工を行う場合」のみ記入してください。（「土工と併せてＩＣＴ施工を行う場合」は共通編へ記入して下さい。）
A3: 工事名
A4: 発注機関の分類 | D4: ：国土交通省、地方公共団体（都道府県）を選択
A5: 発注機関の整備局名 | D5: ：工事発注者（整備局名）を選択（地方公共団体の場合は未入力） | G5: 浅層改良 | H5: 国直轄工事 | I5: 北海道開発局
A6: 発注機関の県名 | D6: ：工事発注者（県名）を入力（国土交通省の場合は未入力） | G6: 中層改良 | H6: 地方自治体（都道府県） | I6: 東北地方整備局
A7: 発注者名 | G7: 深層改良（概ね13m以深） | I7: 関東地方整備局
A8: 施工場所 | G8: その他 | I8: 北陸地方整備局
A9: 発注金額 | D9: ：発注者が記入
A10: 契約金額（当初） | D10: ：発注者が記入
A11: 契約金額（最終） | D11: ：発注者が記入
A12: 工期 | B12: 始 | D12: ：全体工期 | I12: 中部地方整備局
B13: 終 | D13: ：全体工期（変更があった場合は最終） | E13: =C13-C12 -> 0 | F13: 日 | I13: 近畿地方整備局
A14: 工期（ＩＣＴ） | B14: 始 | D14: ：ＩＣＴ建機が現場で稼働した時期 | I14: 中国地方整備局
B15: 終 | D15: ：ＩＣＴ建機が現場で稼働した時期 | E15: =C15-C14 -> 0 | F15: 日 | I15: 四国地方整備局
A16: 工事種別 | D16: ：リストに該当が無ければ手入力 | I16: 九州地方整備局
A17: 発注形態 | I17: 沖縄総合事務局
A18: 工事内容（全体数量） | B18: 地盤改良工（表層安定処理工） | D18: ｍ３
A19: （各工種での総数量（通常 | B19: 地盤改良工（中層混合処理） | D19: ｍ３
A20: 施工＋ＩＣＴ施工）とする。） | B20: 地盤改良工（固結工(スラリー撹拌工)） | D20: ｍ３
B21: 地盤改良工（ペーパードレーン工） | D21: ｍ３
A25: 工事内容（ＩＣＴ施工対象数量） | B25: 地盤改良工（表層安定処理工） | D25: ｍ３
A26: （上記工事内容と同じ数量の | B26: 地盤改良工（中層混合処理） | D26: ｍ３ | G26: 掘削工 | I26: ｍ
A27: 場合は割愛する） | B27: 地盤改良工（固結工(スラリー撹拌工)） | D27: ｍ３ | G27: 盛土工 | I27: ｍ２
B28: 地盤改良工（ペーパードレーン工） | D28: ｍ３
G29: 舗装工 | I29: 式
A30: （１）基本情報 ② ※以降の調査項目は「地盤改良工単独でのＩＣＴ施工を行う場合」及び「土工と併せてＩＣＴ施工を行う場合」の地盤改良工についてのみ記入して下さい。 （「地盤改良工」以外の工種は共通編へ記入して下さい。） | G30: 排水構造物工 | I30: ｔ
A31: ＩＣＴ地盤改良範囲の面積 | D31: ｍ２ | G31: 排水構造物工 | I31: ｔ
A32: 浅層・中層地盤改良工の場合 | G32: 排水構造物工 | I32: ｔ
B33: ＩＣＴ地盤改良範囲の深さ | D33: ｍ | G33: 排水構造物工 | I33: ｔ
A34: スラリー撹拌工の場合 | G34: 排水構造物工 | I34: ｔ
B35: 改良体の本数 | D35: 本 | G35: 排水構造物工 | I35: ｔ
B36: 改良体の平均深さ | D36: ｍ | G36: 排水構造物工 | I36: ｔ
A37: 施工者情報 | B37: 御社名 | G37: 法面整形工
B38: 担当者氏名 | G38: 地盤改良工（安定処理）
B39: 役職 | G39: 地盤改良工（中層混合処理）
B40: 電話番号 | G40: 補強土壁工
B41: メールアドレス | G41: 防護柵工
B42: 所在地 | G42: 河床等掘削
A43: （２）ＩＣＴ工事の適用範囲 | G43: 作業土工（床堀）
...

Sheet 調査票 (記載例)
A1: ＩＣＴ活用工事の活用効果等に関する調査記入様式（地盤改良編） (様式:R8-01)
A2: （１）基本情報 ① ※「地盤改良工単独でのＩＣＴ施工を行う場合」のみ記入してください。（「土工と併せてＩＣＴ施工を行う場合」は共通編へ記入して下さい。）
A3: 工事名 | C3: ○○改良工
A4: 発注機関の分類 | C4: 国土交通省 | D4: ：国土交通省、地方公共団体（都道府県）を選択
A5: 発注機関の整備局名 | C5: 中部地方整備局 | D5: ：工事発注者（整備局名）を選択（地方公共団体の場合は未入力） | G5: 浅層改良 | H5: 国直轄工事 | I5: 北海道開発局
A6: 発注機関の県名 | D6: ：工事発注者（県名）を入力（国土交通省の場合は未入力） | G6: 中層改良 | H6: 地方自治体（都道府県） | I6: 東北地方整備局
A7: 発注者名 | C7: ○○地方整備局 ○○河川国道事務所 | G7: 深層改良（概ね13m以深） | I7: 関東地方整備局
A8: 施工場所 | C8: 静岡県富士市大淵地先 | G8: その他 | I8: 北陸地方整備局
A9: 発注金額 | D9: ：発注者が記入
A10: 契約金額（当初） | D10: ：発注者が記入
A11: 契約金額（最終） | D11: ：発注者が記入
A12: 工期 | B12: 始 | C12: 46117 | D12: ：全体工期 | I12: 中部地方整備局
B13: 終 | C13: 46736 | D13: ：全体工期（変更があった場合は最終） | E13: =C13-C12 -> 619 | F13: 日 | I13: 近畿地方整備局
A14: 工期（ＩＣＴ） | B14: 始 | C14: 46193 | D14: ：ＩＣＴ建機が現場で稼働した時期 | I14: 中国地方整備局
B15: 終 | C15: 46731 | D15: ：ＩＣＴ建機が現場で稼働した時期 | E15: =C15-C14 -> 538 | F15: 日 | I15: 四国地方整備局
A16: 工事種別 | C16: 浅層改良 | D16: ：リストに該当が無ければ手入力 | I16: 九州地方整備局
A17: 発注形態 | I17: 沖縄総合事務局
A18: 工事内容（全体数量） | B18: 地盤改良工（表層安定処理工） | C18: 10000 | D18: ｍ３
A19: （各工種での総数量（通常 | B19: 地盤改良工（中層混合処理） | D19: ｍ３
A20: 施工＋ＩＣＴ施工）とする。） | B20: 地盤改良工（固結工(スラリー撹拌工)） | D20: ｍ３
B21: 地盤改良工（ペーパードレーン工） | D21: ｍ３
A25: 工事内容（ＩＣＴ施工対象数量） | B25: 地盤改良工（表層安定処理工） | D25: ｍ３
A26: （上記工事内容と同じ数量の | B26: 地盤改良工（中層混合処理） | D26: ｍ３ | G26: 掘削工 | I26: ｍ
A27: 場合は割愛する） | B27: 地盤改良工（固結工(スラリー撹拌工)） | D27: ｍ３ | G27: 盛土工 | I27: ｍ２
B28: 地盤改良工（ペーパードレーン工） | D28: ｍ３
G29: 舗装工 | I29: 式
A30: （１）基本情報 ② ※以降の調査項目は「地盤改良工単独でのＩＣＴ施工を行う場合」及び「土工と併せてＩＣＴ施工を行う場合」の地盤改良工についてのみ記入して下さい。 （「地盤改良工」以外の工種は共通編へ記入して下さい。） | G30: 排水構造物工 | I30: ｔ
A31: ＩＣＴ地盤改良範囲の面積 | C31: 5000 | D31: ｍ２ | G31: 排水構造物工 | I31: ｔ
A32: 浅層・中層地盤改良工の場合 | G32: 排水構造物工 | I32: ｔ
B33: ＩＣＴ地盤改良範囲の深さ | C33: 2 | D33: ｍ | G33: 排水構造物工 | I33: ｔ
A34: スラリー撹拌工の場合 | G34: 排水構造物工 | I34: ｔ
B35: 改良体の本数 | D35: 本 | G35: 排水構造物工 | I35: ｔ
B36: 改良体の平均深さ | D36: ｍ | G36: 排水構造物工 | I36: ｔ
A37: 施工者情報 | B37: 御社名 | C37: 株式会社 ○○建設 | G37: 法面整形工
B38: 担当者氏名 | C38: 山田 太郎 | G38: 地盤改良工（安定処理）
B39: 役職 | C39: 現場代理人 | G39: 地盤改良工（中層混合処理）
B40: 電話番号 | C40: ０３－５２５３－８１１１ | G40: 補強土壁工
B41: メールアドレス | C41: taro_yamada@○○kensetu.co.jp | G41: 防護柵工
B42: 所在地 | C42: 東京都千代田区霞が関２－１－３ | G42: 河床等掘削
A43: （２）ＩＣＴ工事の適用範囲 | G43: 作業土工（床堀）
...

Sheet リスト
A1: 活用が部分的にとどまった理由
A3: 出来形管理の検査は施工プロセス検査として断面毎に行うことから、1度の計測が○m3とTSの方が効率的であったため。
A4: 隣接工区の施工後高さに応じて擦り付けるため。
A5: 橋脚・支柱・基礎コンなどの構造物があるため。
A6: 当該工事区域上部に障害物（○○橋、電力鉄塔等）があり、ＧＰＳの測位に支障があったため。
A7: 出来形が水没する箇所、または水中部であったため。
A8: 工事箇所が点在しており、ＩＣＴ施工の部分と従来施工の部分が混在していたため。
A9: まだＩＣＴ施工に慣れていないことから工種を限定したため。
A11: ①3次元起工測量（ICT手法、従来手法双方に必要となる基準点測量はのぞく）
A13: ○日程度の講習ですぐに理解できて、実際にやってみたら思いのほか簡単だった。
A14: 従来の測量では○日程度かかる測量も○日で完了したことで施工開始時期を早めることができた。
A15: 測量器械の据え替え回数が減少し、作業効率が上がった。
... A139: 施工履歴データの納品が困難。

Sheet 集計シート
A1: （１）基本情報
A2: 発注形態 | D2: 1 | E2: (発注者指定型=1, 施工者希望Ⅰ型=2, 施工者希望Ⅱ型=3, 既発注工事=4)
A3: （２）ＩＣＴ工事の適用範囲 | F3: チェックボックスチェック済色
A4: 工事範囲に対して部分的な活用にとどまった場合はその理由 | B4: 改良土量が少なく、ＩＣＴ導入以外に見合う生産性向上が見込めないため。 | D4: FALSE
B5: ＩＣＴ地盤改良機効力を発揮する施工が連続的ではなく、中断期間が長いため。 | D5: FALSE
B6: 地盤改良範囲の形状が複雑であるため施工範囲から除外した。 | D6: FALSE
B7: 施工エリア内に構造物があり、ＩＣＴ建機での施工が煩雑になることから施工範囲から除外した。 | D7: FALSE
B8: 施工幅が狭く、ＩＣＴ建機が入らない場所があったため、施工範囲から除外した。 | D8: FALSE
B9: トルクや電流値を用いた着底管理が必要であったため、設計上の改良深度に対して施工すべき深度に変動があるため、地盤改良設計データの修正に手間がかかるため。 | D9: FALSE
B10: 低空等である等の理由でロードの継ぎ足しが発生するが、ロードの継ぎ足し本数をカウントする等により、深度を自動記録するシステムが調達できなかったため。 | D10: FALSE
B11: ＧＮＳＳの受信状態が悪い現場であったため、使用を断念。 | D11: FALSE
B12: 発注者より、従来管理手法の適用を求められたため。 | D12: FALSE
B13: 出来形管理の検査は施工プロセス検査として断面毎に行うことから、TSの方が効率的であったため。 | D13: FALSE
B14: 隣接工区の施工後高さに応じて擦り付けるため。 | D14: FALSE
B15: 橋脚・支柱・基礎コンなどの構造物があるため。 | D15: FALSE
B16: 当該工事区域上部に障害物（橋、電力鉄塔等）があり、ＧＰＳの測位に支障があったため。 | D16: FALSE
... B19: まだＩＣＴ施工に慣れていないことから工種を限定したため。 | D19: FALSE
A20: ICT活用工事の実施プロセス | B20: ３次元起工測量 | D20: TRUE
B21: ３次元設計データ作成 | D21: TRUE
B22: ＩＣＴ建設機械を用いた施工 | D22: TRUE
B23: 3次元出来形管理等 | D23: TRUE
B24: ３次元データの納品 | D24: TRUE
A25: （３）使用機器の調査
A26: 起工測量
A27: 地盤改良工実施前に地盤改良範囲の起工測量を行いましたか？ | C27: 実施した | D27: FALSE
C28: 実施していない | D28: FALSE
A29: 本工事の３次元起工測量について | C29: 自社 | D29: FALSE
C30: 外注（一部または全部） | D30: FALSE
A31: ３Ｄ起工測量 | B31: 実施者 | C31: 自社 | D31: FALSE
C32: 協力会社 | D32: FALSE
C33: レンタル会社 | D33: FALSE
C34: 測量会社 | D34: FALSE
C35: コンサル会社 | D35: FALSE
B36: 保有区分 | C36: 自社保有 | D36: FALSE
C37: レンタル | D37: FALSE
B38: 実施者 | C38: 自社 | D38: FALSE
C39: 協力会社 | D39: FALSE
C40: レンタル会社 | D40: FALSE
C41: 測量会社 | D41: FALSE
C42: コンサル会社 | D42: FALSE
...

Sheet 計算用シート
B3: 起工測量 | C3: 準備工・施工管理 | D3: 施工 | E3: 出来形計測 | F3: 帳票作成・電子納品
A4: 従来 | B4: =調査票!C202 -> 0 | C4: =調査票!C209+調査票!C212+調査票!C215+調査票!C218+調査票!C221 -> 0 | D4: =調査票!C232+調査票!C235 -> 0 | E4: =調査票!C246 -> 0 | F4: =調査票!C265 -> 0
A5: ＩＣＴ | B5: =調査票!C205 -> 0 | C5: =調査票!C224+調査票!C227 -> 0 | D5: =調査票!C239+調査票!C242 -> 0 | E5: =調査票!C249 -> 0 | F5: =調査票!C268 -> 0
A8: 調査票 (記載例)
B9: 起工測量 | C9: 準備工・施工管理 | D9: 施工 | E9: 出来形計測 | F9: 帳票作成・電子納品
A10: 従来 | B10: =#REF! -> #REF! | C10: =#REF!+#REF!+#REF!+#REF!+#REF! -> #REF! | D10: =#REF!+#REF! -> #REF! | E10: =#REF! -> #REF! | F10: =#REF! -> #REF!
A11: ＩＣＴ | B11: =#REF! -> #REF! | C11: =#REF!+#REF! -> #REF! | D11: =#REF!+#REF! -> #REF! | E11: =#REF! -> #REF! | F11: =#REF! -> #REF!
