Workbook

Sheet 調査の目的等
B2: ＩＣＴ活用工事の活用効果等に関する調査の概要（共通編）
B4: １．調査の目的
B6: ・i-Constructionの定量的・定性的効果を把握するとともに、i-Construction関連基準類等に対する要望を聴取します。
B7: ２．調査時期・調査対象者 ・i-Construction活用工事期間中、ICT活用工事において下記①～⑤の各段階※を実施した時点で、適宜、施工者が回答を記入して下さい。提出時期は①～⑤まで完了した段階でかまいません。 ① 3次元起工測量 ② 3次元設計データ作成 ③ ICT建設機械による施工 ④ 3次元出来形管理等の施工管理 ⑤ 3次元データの納品 ※工種によって異なりますので、該当工種の実施要領でご確認下さい。
B9: ３．調査結果の集計により把握したい内容
B10: （１）工事概要・会社概要
B11: （２）上記①～⑤の各段階における定量的、定性的効果
B12: （３）基準・要領類やi-Constructionに対する要望
B15: ４．調査票の構成
B16: ＩＣＴ活用工事の活用効果等に関する調査記入様式
B17: 基本情報
B18: ＩＣＴ工事の適用範囲
... B33: メールアドレス：mlit-ict-r01@cmi.or.jp

Sheet 調査票
A1: ＩＣＴ活用工事の活用効果等に関する調査記入様式（共通編） (様式:R7-01)
A2: （１）基本情報
A3: 工事名 | H3: ｒ
A4: 発注機関の分類 | D4: ：国土交通省、地方公共団体（都道府県）を選択
A5: 発注機関の整備局名 | D5: ：工事発注者（整備局名）を選択（地方公共団体の場合は未入力）
A6: 発注機関の県名 | D6: ：工事発注者（県名）を入力（国土交通省の場合は未入力）
A7: 発注者名 | G7: 道路土工 | H7: 国土交通省 | I7: 北海道開発局 | J7: ICT土工
A8: 施工場所 | G8: 河川土工 | H8: 地方公共団体（都道府県） | I8: 東北地方整備局 | J8: ICT作業土工（床堀）
A9: 発注金額 | D9: ：発注者が記入
A10: 契約金額（当初） | D10: ：発注者が記入
A11: 契約金額（最終） | D11: ：発注者が記入
A12: 工期 | B12: 始 | D12: ：全体工期 | G12: 砂防土工 | I12: 関東地方整備局 | J12: ICT土工1,000㎥未満
B13: 終 | D13: ：全体工期（変更があった場合は最終） | E13: =C13-C12 -> 0 | F13: 日 | G13: 河川道路混在 | I13: 北陸地方整備局 | J13: ICT小規模土工
A14: 工期（ＩＣＴ） | B14: 始 | D14: ：ＩＣＴ建機が現場で稼働した時期 | G14: 舗装 | I14: 中部地方整備局 | J14: ICT法面工
B15: 終 | D15: ：ＩＣＴ建機が現場で稼働した時期 | E15: =C15-C14 -> 0 | F15: 日 | G15: その他 | I15: 近畿地方整備局 | J15: ICT付帯構造物設置工
A16: 工事種別 | D16: ：リストに該当が無ければ手入力 | I16: 中国地方整備局 | J16: ICT擁壁工
A17: 発注形態 | I17: 四国地方整備局 | J17: ICT地盤改良工
I18: 九州地方整備局 | J18: ICT基礎工
A19: 工事内容（全体数量） （各工種での総数量（通常施工＋ＩＣＴ施工）とする。） | B19: 土工（掘削） | D19: ｍ３ | I19: 沖縄総合事務局 | J19: ICT河川浚渫工
B20: 土工（河床等掘削） | D20: ｍ３ | J20: ICT舗装工
B21: 土工（盛土工） | D21: ｍ３ | J21: ICT舗装工（修繕工）
B22: 舗装工 | D22: ｍ２ | J22: ICT構造物工（橋梁上部）
B23: 舗装修繕工 | D23: ｍ２ | J23: ICT構造物工（橋脚・鏡台）
B24: 浚渫工 | D24: ｍ３
B25: 法面整形工 | D25: ｍ２
B26: 吹付法枠工 | D26: ｍ２
B27: 地盤改良工（表層安定処理工） | D27: ｍ３
B28: 地盤改良工（中層混合処理） | D28: ｍ３
B29: 地盤改良工（固結工(スラリー撹拌工)） | D29: 本
B30: 地盤改良工（ペーパードレーン工） | D30: 本
A31: 上記以外の工種・種別 ※プルダウンより選択 プルダウン工種がなければ手入力 | G31: 法面工（植生）
G32: 法面工（吹付） | I32: ｍ
G33: 吹付法枠工 | I33: ｍ２
G34: 擁壁工 | I34: ｍ３
G35: 補強土壁工 | I35: 式
A36: 工事全体延長 | G36: 防護柵工 | I36: ｔ
A37: 工事内容（ＩＣＴ施工対象数量） （上記工事内容と同じ数量の場合は割愛する） 「地盤改良工」（単独によるＩＣＴ施工の場合）については、別冊の調査票（地盤改良編）へ記入する | B37: 土工（掘削） | D37: ｍ３ | G37: 作業土工（床堀）
B38: 土工（河床等掘削） | D38: ｍ３ | G38: 付帯構造物設置工（各工種）
B39: 土工（盛土工） | D39: ｍ３ | G39: 法面整形工（1,000㎥未満）
B40: 舗装工 | D40: ｍ２ | G40: 側溝工（暗渠工）
B41: 舗装修繕工 | D41: ｍ２ | G41: 暗渠工
B42: 浚渫工 | D42: ｍ３ | G42: 基礎工（矢板工）
B43: 法面整形工 | D43: ｍ２ | G43: 基礎工（既製杭工）
B44: 吹付法枠工 | D44: ｍ２ | G44: 基礎工（場所打杭工）
B45: 地盤改良工（表層安定処理工） | D45: ｍ３ | G45: 構造物工（橋梁上部）
B46: 地盤改良工（中層地盤改良） | D46: ｍ３ | G46: 構造物工（橋脚・橋台）
B47: 地盤改良工（固結工(スラリー撹拌工)） | D47: 本 | G47: コンクリート堰堤工
B48: 地盤改良工（ペーパードレーン工） | D48: 本
A49: 上記以外のＩＣＴ工種・種別 ※プルダウンより選択 プルダウン工種がなければ手入力
A54: ＩＣＴ施工対象範囲の延長 | D54: ｍ
A55: 施工者情報 | B55: 御社名
B56: 担当者氏名
B57: 役職
B58: 電話番号
B59: メールアドレス
B60: 所在地
A61: （２）ＩＣＴ工事の適用範囲 （「地盤改良工」（単独によるＩＣＴ施工の場合）については、別冊の調査票（地盤改良編）へ記入してください）
A62: ＩＣＴを活用する範囲が部分的な活用に留まった場合はその理由 | B62: 該当する項目にチェックを入れてください。（複数回答可） | C62: ※一度の作業面積がどのくらい以上でなければならないと考えるかその他欄に具体的に記載願います。 ※どのような作業が連続的にどのくらいの期間発生することが必要かその他欄に具体的に記載願います。
C63: 上記以外の理由があれば記載してください。（自由回答欄）：
A65: 「簡易型ＩＣＴ活用工事」を実施した場合はその理由 | B65: 該当する項目にチェックを入れてください。（複数回答可） | C65: 簡易型ＩＣＴを選択した理由を記載してください。（自由回答欄）：
A67: （３）使用機器の調査 （「地盤改良工」（単独によるＩＣＴ施工の場合）については、別冊の調査票（地盤改良編）へ記入してください）
A68: Ｑ 使用したＩＣＴ機器・ソフトウェアを教えてください。
A69: 起工測量
A70: 従来の起工測量について | G70: UAV | I70: ３Dソフトウェア | J70: 機器
A71: 本工事の３次元起工測量について
A72: ３次元起工測量にかかった費用（発注者に提出した見積額） | D72: 万円：金額を手入力 | G72: SkyCatch UAV | I72: Agisoft Photoscan | J72: 地上型レーザースキャナー
A73: ３次元起工測量 | B73: 実施者： | G73: DJI UAV | I73: AutoDesk Civil3D | J73: 空中写真測量（無人航空機）
B74: 会社名 | D74: ：外注した場合は会社名を手入力 | G74: ｺﾏﾂ UAV | I74: 福井ｺﾝﾋﾟｭｰﾀ TREND POINT | J74: ＴＳ等光波方式
B75: 使用した機器： | D75: ：利用技術を選択 | G75: ﾄﾌﾟｺﾝ 3次元ﾚｰｻﾞｰｽｷｬﾅ | I75: 福井ｺﾝﾋﾟｭｰﾀ Ex-trend武蔵 | J75: ＴＳ（ノンプリ）
B76: 保有区分 上記実施者 | G76: ﾗｲｶ 3次元ﾚｰｻﾞｰｽｷｬﾅ | I76: ｺﾏﾂ KomConnect | J76: 地上移動体搭載型レーザースキャナー
B77: 機器名 | D77: ：機器名を選択、または手入力 | G77: ﾆｺﾝ・ﾄﾘﾝﾌﾞﾙ 3次元ﾚｰｻﾞｰｽｷｬﾅ | I77: Pix4 Dmapper | J77: ＲＴＫ-ＧＮＳＳ
B78: 実施者： （補間または２機種以上利用した場合）： | I78: 建設ｼｽﾃﾑ デキスパート | J78: 無人航空機搭載型レーザースキャナー
B79: 会社名 | D79: ：外注した場合は会社名を手入力 | I79: ﾆｺﾝ・ﾄﾘﾝﾌﾞﾙ ﾋﾞｼﾞﾈｽｾﾝﾀｰ | J79: 音響測深機器
B80: 使用した機器： | D80: ：利用技術を選択 | I80: ﾄﾌﾟｺﾝ Scan Master | J80: 施工履歴データ
B81: 保有区分 上記実施者
B82: 機器名 | D82: ：機器名を選択、または手入力
A83: ３次元起工測量データの処理 | B83: 実施者：
B84: 保有区分 上記実施者
A85: ３次元設計データの作成
A86: 従来の３次元設計データ作成
A87: 主として作成した３次元設計データの作成方法 | D87: ： 3次元設計データの作成方法を選択
A88: ３次元設計データを作成した線形数 （路線データを使わず、ＴＩＮ形式を利用した場合はＴＩＮのグループ数） | D88: 本：線形数、ＴＩＮのグループ数を手入力（本線、ランプ、構造物 等）
A89: 作成した３次元設計データの平均測点数 （路線データを使わず、ＴＩＮ形式を利用した場合は延長） | D89: 測点数（延長）：測点数または延長を手入力
A90: 作成した３次元設計データの平均横断構成点数 （路線データを使わず、ＴＩＮ形式を利用した場合は３次元座標点数） | D90: 点：平均横断構成点数または３次元座標点数を手入力
A91: ３次元設計データ作成にかかった費用 （発注者に提出した見積額） | D91: 万円：金額を手入力
A92: ３次元設計データ作成 | B92: 実施者：
B93: ソフトウェア保有者
A94: ３次元設計データの照査
A95: 設計照査 （３次元設計データの修正・数量算出） | B95: 実施者：
B96: ソフトウェア保有者
A97: ＩＣＴ建設機械による施工
A98: ＩＣＴ建設機械による施工 ※１ システム初期費とは、ICT機器のセットアップ・調整等の運用支援などの現場導入時の立会費用を含むシステム操作指導に係る費用であり、重機のリース料金や重機の購入費用ではありません。 ※２ レンタル費用とは、「ＩＣＴ建設機械」又は「通常の建設機械に後付けするＩＣＴ装置」のレンタル費用（システム初期費を除く）を記載する。 ※３ ＩＣＴ建機が自社保有の場合は記載しない | B98: 使用機械 1 台目 | G98: ICT重機メーカー | H98: システムメーカー | I98: MC MG | J98: 機種 | K98: 規格 | L98: 3次元設計データ
D99: ：メーカー名を選択、または手入力
D100: ：機種を選択 | G100: キャタピラージャパン | H100: トプコン | I100: ノーマル | J100: ブルドーザ | K100: ｸﾛｰﾗ .0.45m3 | L100: 路線
D101: ：規格を選択、または手入力 | G101: コマツ | H101: ニコン・トリンブル | I101: MC（マシンコントロール） | J101: バックホウ | K101: ｸﾛｰﾗ .0.5m3 | L101: TIN
B102: 使用機械 1 台目に搭載された ＩＣＴシステム | G102: コベルコ建機 | H102: ライカ | I102: MG（マシンガイダンス） | J102: グレーダ | K102: ｸﾛｰﾗ .0.8m3
D103: ：ノーマルかMC,MGを選択 | G103: 日立建機 | J103: 路面切削機 | K103: ｸﾛｰﾗ .1.4m3
D104: ：メーカー名を選択、または手入力 | G104: 住友建機 | K104: 普通 3t
B105: システム初期費※１ ： (単位：万円)
D106: 万円：金額を手入力（自社で実施する場合は記入しない） | K106: 普通 18t
...

Sheet 調査票 (記載例)
A1: ＩＣＴ活用工事の活用効果等に関する調査記入様式（共通編） (様式:R7-01)
A2: （１）基本情報
A3: 工事名 | C3: ○○改良工事
A4: 発注機関の分類 | C4: 国土交通省 | D4: ：国土交通省、地方公共団体（都道府県）を選択
A5: 発注機関の整備局名 | C5: 近畿地方整備局 | D5: ：工事発注者（整備局名）を選択（地方公共団体の場合は未入力）
A6: 発注機関の県名 | D6: ：工事発注者（県名）を入力（国土交通省の場合は未入力）
A7: 発注者名 | C7: ○○地方整備局 ○○河川国道事務所 | G7: 道路土工 | H7: 国土交通省 | I7: 北海道開発局
A8: 施工場所 | C8: 静岡県富士市大淵地先 | G8: 河川土工 | H8: 地方公共団体（都道府県） | I8: 東北地方整備局
A9: 発注金額 | D9: ：発注者が記入
A10: 契約金額（当初） | D10: ：発注者が記入
A11: 契約金額（最終） | D11: ：発注者が記入
A12: 工期 | B12: 始 | C12: 42465 | D12: ：全体工期 | G12: 砂防土工 | I12: 関東地方整備局
B13: 終 | C13: 42781 | D13: ：全体工期（変更があった場合は最終） | E13: =C13-C12 -> 316 | F13: 日 | G13: 河川道路混在 | I13: 北陸地方整備局
A14: 工期（ＩＣＴ） | B14: 始 | C14: 42541 | D14: ：ＩＣＴ建機が現場で稼働した時期 | G14: 舗装 | I14: 中部地方整備局
B15: 終 | C15: 42714 | D15: ：ＩＣＴ建機が現場で稼働した時期 | E15: =C15-C14 -> 173 | F15: 日 | G15: その他 | I15: 近畿地方整備局
A16: 工事種別 | C16: 道路土工 | D16: ：リストに該当が無ければ手入力 | I16: 中国地方整備局
A17: 発注形態 | I17: 四国地方整備局
A19: 工事内容（全体数量） （各工種での総数量（通常施工＋ＩＣＴ施工）とする。） | B19: 土工（掘削） | C19: 12000 | D19: ｍ３ | I19: 九州地方整備局
B20: 土工（河床等掘削） | D20: ｍ３ | I20: 沖縄総合事務局
B21: 土工（盛土工） | C21: 5000 | D21: ｍ３
B22: 舗装工 | D22: ｍ２
B23: 舗装修繕工 | D23: ｍ２
B24: 浚渫工 | D24: ｍ３
B25: 法面整形工 | C25: 2000 | D25: ｍ２
B26: 吹付法枠工 | D26: ｍ２
B27: 地盤改良工（表層安定処理工） | D27: ｍ３
B28: 地盤改良工（中層混合処理） | D28: ｍ３
B29: 地盤改良工（固結工(スラリー撹拌工)） | D29: 本
B30: 地盤改良工（ペーパードレーン工） | D30: 本
A31: 上記以外の工種 ※プルダウンより選択 プルダウン工種がなければ手入力 | G31: 法面工（植生）
G32: 法面工（吹付） | I32: ｍ
G33: 吹付法枠工 | I33: ｍ２
G34: 擁壁工 | I34: ｍ３
G35: 補強土壁工 | I35: 式
A36: 工事全体延長 | D36: ｍ | G36: 防護柵工 | I36: ｔ
A37: 工事内容（ＩＣＴ施工対象数量） （上記工事内容と同じ数量の場合は割愛する） | B37: 土工（掘削） | C37: 12000 | D37: ｍ３ | G37: 作業土工（床堀）
B38: 土工（河床等掘削） | D38: ｍ３ | G38: 付帯構造物設置工（各工種）
B39: 土工（盛土工） | C39: 5000 | D39: ｍ３ | G39: 法面整形工（1,000㎥未満）
B40: 舗装工 | D40: ｍ２ | G40: 側溝工（暗渠工）
B41: 舗装修繕工 | D41: ｍ２ | G41: 暗渠工
B42: 浚渫工 | D42: ｍ３ | G42: 基礎工（矢板工）
B43: 法面整形工 | C43: 2000 | D43: ｍ２ | G43: 基礎工（既製杭工）
B44: 吹付法枠工 | D44: ｍ２ | G44: 基礎工（場所打杭工）
B45: 地盤改良工（表層安定処理工） | D45: ｍ３ | G45: 構造物工（橋梁上部）
B46: 地盤改良工（中層地盤改良） | D46: ｍ３ | G46: 構造物工（橋脚・橋台）
B47: 地盤改良工（固結工(スラリー撹拌工)） | D47: 本 | G47: コンクリート堰堤工
B48: 地盤改良工（ペーパードレーン工） | D48: 本
A49: 上記以外のＩＣＴ工種 ※プルダウンより選択 プルダウン工種がなければ手入力
A54: ＩＣＴ施工対象範囲の延長 | C54: 380 | D54: ｍ
A55: 施工者情報 | B55: 御社名 | C55: 株式会社 ○○建設
B56: 担当者氏名 | C56: 山田 太郎
B57: 役職 | C57: 現場代理人
B58: 電話番号 | C58: ０３－５２５３－８１１１
B59: メールアドレス | C59: taro_yamada@○○kensetu.co.jp
B60: 所在地 | C60: 東京都千代田区霞が関２－１－３
A61: （２）ＩＣＴ工事の適用範囲 （「地盤改良工」（単独によるＩＣＴ施工の場合）については、別冊の調査票（地盤改良編）へ記入してください）
A62: ＩＣＴを活用する範囲が部分的な活用に留まった場合はその理由 | B62: 該当する項目にチェックを入れてください。（複数回答可） | C62: ※一度の作業面積がどのくらい以上でなければならないと考えるかその他欄に具体的に記載願います。 ※どのような作業が連続的にどのくらいの期間発生することが必要かその他欄に具体的に記載願います。
C63: その他（詳細にご記入下さい）：
C64: 例）出来形管理の検査は施工プロセス検査として断面毎に行うことから、1度の計測が○m3とTSの方が効率的であったため。 例）隣接工区の施工後高さに応じて擦り付けるため。 例）橋脚・支柱・基礎コンなどの構造物があるため。 例）当該工事区域上部に障害物（○○橋、電力鉄塔等）があり、ＧＰＳの測位に支障があったため。
A65: 「簡易型ＩＣＴ活用工事」を実施した場合はその理由 | B65: 該当する項目にチェックを入れてください。（複数回答可） | C65: 簡易型ＩＣＴを選択した理由を記載してください。（自由回答欄）：
A67: （３）使用機器の調査 （「地盤改良工」（単独によるＩＣＴ施工の場合）については、別冊の調査票（地盤改良編）へ記入してください）
A68: Ｑ 使用したＩＣＴ機器・ソフトウェアを教えてください。
A69: 起工測量
A70: 従来の起工測量について | G70: UAV | I70: ３Dソフトウェア | J70: 機器
A71: 本工事の３次元起工測量について
A72: ３次元起工測量にかかった費用（発注者に提出した見積額） | C72: 100 | D72: 万円：金額を手入力 | G72: SkyCatch UAV | I72: Agisoft Photoscan | J72: 地上型レーザースキャナー
A73: ３次元起工測量 | B73: 実施者： | G73: DJI UAV | I73: AutoDesk Civil3D | J73: 空中写真測量（無人航空機）
B74: 会社名 | C74: ○○レンタル株式会社 | D74: ：外注した場合は会社名を手入力 | G74: ｺﾏﾂ UAV | I74: 福井ｺﾝﾋﾟｭｰﾀ TREND POINT | J74: ＴＳ等光波方式
B75: 使用した機器： | C75: 空中写真測量（無人航空機） | D75: ：利用技術を選択 | G75: ﾄﾌﾟｺﾝ 3次元ﾚｰｻﾞｰｽｷｬﾅ | I75: 福井ｺﾝﾋﾟｭｰﾀ Ex-trend武蔵 | J75: ＴＳ（ノンプリ）
B76: 保有区分 上記実施者 | G76: ﾗｲｶ 3次元ﾚｰｻﾞｰｽｷｬﾅ | I76: ｺﾏﾂ KomConnect | J76: 地上移動体搭載型レーザースキャナー
B77: 機器名 | C77: SkyCatch UAV | D77: ：機器名を選択、または手入力 | G77: ﾆｺﾝ・ﾄﾘﾝﾌﾞﾙ 3次元ﾚｰｻﾞｰｽｷｬﾅ | I77: Pix4 Dmapper | J77: ＲＴＫ-ＧＮＳＳ
B78: 実施者： （補間または２機種以上利用した場合）： | I78: 建設ｼｽﾃﾑ デキスパート | J78: 無人航空機搭載型レーザースキャナー
B79: 会社名 | D79: ：外注した場合は会社名を手入力 | I79: ﾆｺﾝ・ﾄﾘﾝﾌﾞﾙ ﾋﾞｼﾞﾈｽｾﾝﾀｰ | J79: 音響測深機器
B80: 使用した機器： | D80: ：利用技術を選択 | I80: ﾄﾌﾟｺﾝ Scan Master | J80: 施工履歴データ
B81: 保有区分 上記実施者
B82: 機器名 | D82: ：機器名を選択、または手入力
A83: ３次元起工測量データの処理 | B83: 実施者：
B84: 保有区分 上記実施者
A85: ３次元設計データの作成
A86: 従来の３次元設計データ作成
A87: 主として作成した３次元設計データの作成方法 | C87: 路線 | D87: ： 3次元設計データの作成方法を選択
A88: ３次元設計データを作成した線形数 （路線データを使わず、ＴＩＮ形式を利用した場合はＴＩＮのグループ数） | C88: 1 | D88: 本：線形数、ＴＩＮのグループ数を手入力（本線、ランプ、構造物 等）
A89: 作成した３次元設計データの平均測点数 （路線データを使わず、ＴＩＮ形式を利用した場合は延長） | C89: 10 | D89: 測点数（延長）：測点数または延長を手入力
A90: 作成した３次元設計データの平均横断構成点数 （路線データを使わず、ＴＩＮ形式を利用した場合は３次元座標点数） | C90: 9 | D90: 点：平均横断構成点数または３次元座標点数を手入力
A91: ３次元設計データ作成にかかった費用 （発注者に提出した見積額） | D91: 万円：金額を手入力
A92: ３次元設計データ作成 | B92: 実施者：
B93: ソフトウェア保有者
A94: ３次元設計データの照査
A95: 設計照査 （3D設計データの修正・数量算出） | B95: 実施者：
B96: ソフトウェア保有者
A97: ＩＣＴ建設機械による施工
A98: ＩＣＴ建設機械による施工 ※１ システム初期費とは、ICT機器のセットアップ・調整等の運用支援などの現場導入時の立会費用を含むシステム操作指導に係る費用であり、重機のリース料金や重機の購入費用ではありません。 ※２ レンタル費用とは、「ＩＣＴ建設機械」又は「通常の建設機械に後付けするＩＣＴ装置」のレンタル費用（システム初期費を除く）を記載する。 ※３ ＩＣＴ建機が自社保有の場合は記載しない | B98: 使用機械 1 台目 | G98: ICT重機メーカー | H98: システムメーカー | I98: MC MG | J98: 機種 | K98: 規格 | L98: 3次元設計データ
C99: コマツ | D99: ：メーカー名を選択、または手入力
C100: バックホウ | D100: ：機種を選択 | G100: キャタピラージャパン | H100: トプコン | I100: ノーマル | J100: ブルドーザ | K100: ｸﾛｰﾗ .0.45m3 | L100: 路線
C101: ｸﾛｰﾗ .0.8m3 | D101: ：規格を選択、または手入力 | G101: コマツ | H101: ニコン・トリンブル | I101: MC（マシンコントロール） | J101: バックホウ | K101: ｸﾛｰﾗ .0.5m3 | L101: TIN
B102: 使用機械 1 台目に搭載された ＩＣＴシステム | G102: コベルコ建機 | H102: ライカ | I102: MG（マシンガイダンス） | J102: グレーダ | K102: ｸﾛｰﾗ .0.8m3
C103: MC（マシンコントロール） | D103: ：ノーマルかMC,MGを選択 | G103: 日立建機 | K103: ｸﾛｰﾗ .1.4m3
C104: トプコン | D104: ：メーカー名を選択、または手入力 | G104: 住友建機 | K104: 普通 3t
B105: システム初期費※１ ： (単位：万円)
C106: 60 | D106: 万円：金額を手入力（自社で実施する場合は記入しない） | K106: 普通 18t
...

Sheet リスト
A1: 活用が部分的にとどまった理由
A3: 出来形管理の検査は施工プロセス検査として断面毎に行うことから、1度の計測が○m3とTSの方が効率的であったため。
A4: 隣接工区の施工後高さに応じて擦り付けるため。
A5: 橋脚・支柱・基礎コンなどの構造物があるため。
A6: 当該工事区域上部に障害物（○○橋、電力鉄塔等）があり、ＧＰＳの測位に支障があったため。
A7: 出来形が水没する箇所、または水中部であったため。
A8: 工事箇所が点在しており、ＩＣＴ施工の部分と従来施工の部分が混在していたため。
A9: まだＩＣＴ施工に慣れていないことから工種を限定したため。
A11: ①3次元起工測量（ICT手法、従来手法双方に必要となる基準点測量はのぞく）
A13: ○日程度の講習ですぐに理解できて、実際にやってみたら思いのほか簡単だった。
A14: 従来の測量では○日程度かかる測量も○日で完了したことで施工開始時期を早めることができた。
A15: 測量器械の据え替え回数が減少し、作業効率が上がった。
... A139: 点群データのデータ容量が大きく、DVDに収まらないなど納品方法に困ったため。

Sheet 集計シート
A1: （１）基本情報
A2: 発注形態 | D2: 1 | E2: (発注者指定型=1, 施工者希望Ⅰ型=2, 施工者希望Ⅱ型=3, 既発注工事=4)
A3: （２）ＩＣＴ工事の適用範囲
A4: 工事範囲に対して部分的な活用にとどまった場合はその理由 | B4: 出来形検査を段階的に行うことから、一度に計測できる面積がごく小さいため。 | D4: FALSE
B5: ICT建機が効力を発揮する作業（法面整形、切土整形等）が連続的に発生する期間が少なく、 ICTの調達コストに見合った時間短縮効果が得られないため。 | D5: FALSE
B6: ３次元設計の修正が発生する可能性があるため、施工範囲から除外した。 | D6: FALSE
B7: 施工エリア内に構造物があり、ＩＣＴ建機での施工や、 ３次元計測が煩雑になることから施工範囲から除外した。 | D7: FALSE
B8: 施工幅が狭く、ＩＣＴ建機が入らない場所があったため、施工範囲から除外した。 | D8: FALSE
B9: 出来形管理の検査は施工プロセス検査として断面毎に行うことから、1度の計測が○m3とTSの方が効率的であったため。 | D9: FALSE
B10: 隣接工区の施工後高さに応じて擦り付けるため。 | D10: FALSE
B11: 橋脚・支柱・基礎コンなどの構造物があるため。 | D11: FALSE
B12: 当該工事区域上部に障害物（○○橋、電力鉄塔等）があり、ＧＰＳの測位に支障があったため。 | D12: FALSE
B13: 出来形が水没する箇所、または水中部であったため。 | D13: FALSE
B14: 工事箇所が点在しており、ＩＣＴ施工の部分と従来施工の部分が混在していたため。 | D14: FALSE
B15: まだＩＣＴ施工に慣れていないことから工種を限定したため。 | D15: FALSE
A16: 「簡易型ＩＣＴ活用工事」を実施した場合はその理由
B17: 「３次元起工測量の未実施」 | D17: FALSE
B18: 「ＩＣＴ建設機械の未使用」 | D18: FALSE
A19: （３）使用機器の調査
A20: 起工測量
A21: 従来の起工測量について | C21: ３Dでない通常の起工測量は自社で行っていた | D21: FALSE
C22: ３Dでない通常の起工測量は外注していた | D22: FALSE
A23: 本工事のICT起工測量について | C23: 自社 | D23: FALSE
C24: 外注（一部または全部） | D24: FALSE
A25: ３Ｄ起工測量 | B25: 実施者 | C25: 自社 | D25: FALSE
C26: レンタル会社 | D26: FALSE
C27: 測量会社 | D27: FALSE
C28: コンサル会社 | D28: FALSE
B29: 保有区分 | C29: 自社保有 | D29: FALSE
C30: レンタル | D30: FALSE
B31: 実施者 | C31: 自社 | D31: FALSE
C32: レンタル会社 | D32: FALSE
C33: 測量会社 | D33: FALSE
C34: コンサル会社 | D34: FALSE
B35: 保有区分 | C35: 自社保有 | D35: FALSE
C36: レンタル | D36: FALSE
A37: ３Ｄ起工測量データの処理 | B37: 実施者 | C37: 自社 | D37: FALSE
C38: レンタル会社 | D38: FALSE
C39: 測量会社 | D39: FALSE
C40: コンサル会社 | D40: FALSE
B41: 保有区分 | C41: 自社保有 | D41: FALSE
C42: 自社以外 | D42: FALSE
A43: ３Ｄ設計データの作成
A44: 従来の３Ｄ設計データ作成 | C44: TSを用いた出来形管理の時は自社で行っていた | D44: FALSE
C45: TSを用いた出来形管理の時は外注していた | D45: FALSE
A46: ３Ｄ設計データ作成 | B46: 実施者 | C46: 自社 | D46: FALSE
C47: レンタル会社 | D47: FALSE
C48: 測量会社 | D48: FALSE
C49: コンサル会社 | D49: FALSE
B50: ソフトウェア保有者 | C50: 自社保有 | D50: FALSE
C51: 自社以外 | D51: FALSE
A52: 3D設計データの参照
A53: 設計照査（3D設計データの修正・数量算出） | B53: 実施者 | C53: 自社 | D53: FALSE
C54: レンタル会社 | D54: FALSE
C55: 測量会社 | D55: FALSE
C56: コンサル会社 | D56: FALSE
B57: ソフトウェア保有者 | C57: 自社保有 | D57: FALSE
C58: 自社以外 | D58: FALSE
A59: ＩＣＴ建設機械による施工
A60: ＩＣＴ建設機械による施工 | B60: 使用機械 1 台目 | C60: 自社保有 | D60: FALSE
C61: レンタル | D61: FALSE
B62: 使用機械 1 台目に搭載された ＩＣＴシステム | C62: 自社保有 | D62: FALSE
C63: レンタル | D63: FALSE
B64: システム初期費 | C64: 自社 | D64: FALSE
C65: レンタル会社 | D65: FALSE
C66: 機器メーカー | D66: FALSE
B67: システム費用 | C67: ＩＣＴシステムのみ | D67: FALSE
C68: 重機込み | D68: TRUE
B69: 料金体系 | D69: 3
B70: 使用機械 2 台目 | C70: 自社保有 | D70: FALSE
C71: レンタル | D71: FALSE
B72: 使用機械 2 台目に搭載された ＩＣＴシステム | C72: 自社保有 | D72: FALSE
C73: レンタル | D73: FALSE
B74: システム初期費 | C74: 自社 | D74: FALSE
C75: レンタル会社 | D75: FALSE
C76: 機器メーカー | D76: FALSE
B77: システム費用 | C77: ＩＣＴシステムのみ | D77: FALSE
C78: 重機込み | D78: FALSE
B79: 料金体系
B80: 使用機械 3 台目 | C80: 自社保有 | D80: FALSE
C81: レンタル | D81: FALSE
B82: 使用機械 3 台目に搭載された ＩＣＴシステム | C82: 自社保有 | D82: FALSE
C83: レンタル | D83: FALSE
B84: システム初期費 | C84: 自社 | D84: FALSE
C85: レンタル会社 | D85: FALSE
C86: 機器メーカー | D86: FALSE
B87: システム費用 | C87: ＩＣＴシステムのみ | D87: FALSE
C88: 重機込み | D88: FALSE
B89: 料金体系
B90: 使用機械 4 台目 | C90: 自社保有 | D90: FALSE
C91: レンタル | D91: FALSE
B92: 使用機械 4 台目に搭載された ＩＣＴシステム | C92: 自社保有 | D92: FALSE
C93: レンタル | D93: FALSE
B94: システム初期費 | C94: 自社 | D94: FALSE
C95: レンタル会社 | D95: FALSE
C96: 機器メーカー | D96: FALSE
B97: システム費用 | C97: ＩＣＴシステムのみ | D97: FALSE
C98: 重機込み | D98: FALSE
B99: 料金体系
A100: 出来形計測
...

Sheet 計算用シート
B3: 起工測量 | C3: ３次元設計(測量設計) | D3: 施工 | E3: 出来形管理 | F3: 出来形検査 | G3: 電子納品
A4: 従来 | B4: =調査票!C170 -> 0 | C4: =調査票!C177+調査票!C180 -> 0 | D4: =調査票!C191+調査票!C194 -> 0 | E4: =調査票!C209 -> 0 | F4: =調査票!C216 -> 0 | G4: =調査票!C223 -> 0
A5: ＩＣＴ | B5: =調査票!C173 -> 0 | C5: =調査票!C183+調査票!C186 -> 0 | D5: =調査票!C198+調査票!C201+調査票!C204 -> 0 | E5: =調査票!C212 -> 0 | F5: =調査票!C219 -> 0 | G5: =調査票!C226 -> 0
A8: 調査票 (記載例)
B9: 起工測量 | C9: ３次元設計(測量設計) | D9: 施工 | E9: 出来形管理 | F9: 出来形検査 | G9: 電子納品
A10: 従来 | B10: =#REF! -> #REF! | C10: =#REF!+#REF! -> #REF! | D10: =#REF!+#REF! -> #REF! | E10: =#REF! -> #REF! | F10: =#REF! -> #REF! | G10: =#REF! -> #REF!
A11: ＩＣＴ | B11: =#REF! -> #REF! | C11: =#REF!+#REF! -> #REF! | D11: =#REF!+#REF!+#REF! -> #REF! | E11: =#REF! -> #REF! | F11: =#REF! -> #REF! | G11: =#REF! -> #REF!
